{"text_format":"1","workbook":"xlsx","n_sheets":35,"sheets":["Example Data","Data_Input","Sheet5","Outliers","Trend-Normal","Trend-NP","UCL-Normal","UCL-NP","UCL-NP-ND","Version Notes","Normality","DataTransforms","HiddenInput","HiddenOutliers","HiddenBoxPlots","HiddenNormal1","HiddenNormal2","HiddenTrend","HiddenTrendBS","HiddenTSBootstrap","KMStats14","Sheet2","Sheet3","KMStats14Sqr","Summary-UCLNormal-TrendNormal","Summary-UCLNormal-TrendNP","Summary-UCLNormal","Summary-UCLNP-TrendNormal","Summary-UCLNP-TrendNP","Summary-UCLNP","Summary-UCLNPND-TrendNormal","Summary-UCLNPND-TrendNP","Summary-UCLNPND","Sheet4","Sheet1"],"not_rendered":{"charts":31,"images":47,"macros":1,"external_links":1,"defined_names":56,"comments":0,"pivot_tables":0},"unopened":[],"bounds":{"document_bytes":16777216,"sheet_cells":100000,"rows_first":2000,"rows_last":500,"rows_between":2000,"halvings":0,"cell_chars":16384,"cell_head_chars":4096},"cells_cut":0,"cells_raw":0,"read":"whole","date_system":"1900"}

{"sheet":"Example Data","index":0,"n_rows":65,"n_cols":15,"rows_kept":65,"cut":false,"hidden":false,"merged":[[2,0,2,14],[28,12,28,14],[52,4,52,6],[52,0,52,2],[4,12,4,14],[28,0,28,2],[28,4,28,6],[4,0,4,2],[4,4,4,6],[4,8,4,10],[28,8,28,10]]}
[{"$f":"Data_Input!A1","v":"Groundwater Statistics Tool"}]
["Example data worksheet"]
["This worksheet contains example data sets.  Users may want to use the example data sets for practice, or to illustrate how the tool works in different situations.  See the User Guide for additional discussion."]
[]
["Example Data Set 1: \nRemediation example (trichloroethene data set from EPA 2013b).",null,null,null,"Example Data Set 2: \nAttenuation example (trichlorethene data set from EPA 2013b).",null,null,null,"Example Data Set 3: \nRemediation example (vinyl chloride data set from EPA 2013b).",null,null,null,"Example Data Set 4:\n Data set with high outlier\n (Example 12-3 of EPA 2009)."]
["Date","Concentration","Data Qualifier",null,"Date","Concentration","Data Qualifier",null,"Date","Concentration","Data Qualifier",null,"Date","Concentration","Data Qualifier"]
[1,93,null,null,9,4.3,null,null,1,0.15,null,null,1,0.53100000000000003]
[2,82,null,null,10,6.1,null,null,2,0.21,null,null,2,1.163]
[3,52,null,null,11,4.5999999999999996,null,null,3,0.41,null,null,3,1.8720000000000001]
[4,19,null,null,12,4.5,null,null,4,0.82,null,null,4,1.988]
[5,6.1,null,null,13,5.3,null,null,5,1.1000000000000001,null,null,5,2.4929999999999999]
[6,4.2,null,null,14,3.9,null,null,6,1.3,null,null,6,2.617]
[7,2.8,null,null,15,3.3,null,null,7,2.1,null,null,7,2.7469999999999999]
[8,1.8,null,null,16,2.1,null,null,8,1.7,null,null,8,2.7850000000000001]
[null,null,null,null,17,1.4,null,null,null,null,null,null,9,3.5579999999999998]
[null,null,null,null,18,0.85,null,null,null,null,null,null,10,3.7280000000000002]
[null,null,null,null,null,null,null,null,null,null,null,null,11,4.0590000000000002]
[null,null,null,null,null,null,null,null,null,null,null,null,12,4.0890000000000004]
[null,null,null,null,null,null,null,null,null,null,null,null,13,4.2249999999999996]
[null,null,null,null,null,null,null,null,null,null,null,null,14,4.25]
[null,null,null,null,null,null,null,null,null,null,null,null,15,4.3230000000000004]
[null,null,null,null,null,null,null,null,null,null,null,null,16,5.2930000000000001]
[null,null,null,null,null,null,null,null,null,null,null,null,17,5.617]
[null,null,null,null,null,null,null,null,null,null,null,null,18,5.71]
[null,null,null,null,null,null,null,null,null,null,null,null,19,5.8579999999999997]
[null,null,null,null,null,null,null,null,null,null,null,null,20,8.8629999999999995]
[]
[]
["Example Data Set 5: \nData set with low outlier \n(modified Example 12-3 of EPA 2009).",null,null,null,"Example Data Set 6:  \nNon-normal data set \n(Example 10-2 of EPA 2009).",null,null,null,"Example Data Set 7:  \nData set illustrating linear regression\n (Example 17-5 of EPA 2009).",null,null,null,"Example Data Set 8: \nNormal data set used for confidence band example (Example 21-7 of EPA 2009)."]
["Date","Concentration","Data Qualifier",null,"Date","Concentration","Data Qualifier",null,"Date","Concentration","Data Qualifier",null,"Date","Concentration","Data Qualifier"]
[1,9.4689999999999994,null,null,1,1,null,null,76,11.5,null,null,2,54.2]
[2,8.8369999999999997,null,null,2,3.1,null,null,133,12.6,null,null,4,44.3]
[3,8.1280000000000001,null,null,3,8.6999999999999993,null,null,233,13.8,null,null,8,45.4]
[4,8.0120000000000005,null,null,4,10,null,null,407,12.3,null,null,11,38.299999999999997]
[5,7.5069999999999997,null,null,5,14,null,null,513,12.8,null,null,13,27.1]
[6,7.383,null,null,6,19,null,null,594,13.2,null,null,16,30.2]
[7,7.2530000000000001,null,null,7,21.4,null,null,688,14.1,null,null,20,28.3]
[8,7.2149999999999999,null,null,8,27,null,null,779,13.3,null,null,23,17.600000000000001]
[9,6.4420000000000002,null,null,9,39,null,null,846,13.1,null,null,26,14.7]
[10,6.2720000000000002,null,null,10,56,null,null,940,13.2,null,null,30,4.0999999999999996]
[11,5.9409999999999998,null,null,11,58.8,null,null,1043,15.3]
[12,5.9109999999999996,null,null,12,64.400000000000006,null,null,1150,15]
[13,5.7750000000000004,null,null,13,81.5,null,null,1260,15.2]
[14,5.75,null,null,14,85.6,null,null,1330,15.8]
[15,5.6769999999999996,null,null,15,151,null,null,1385,16.100000000000001]
[16,4.7069999999999999,null,null,16,262,null,null,1499,15.1]
[17,4.383,null,null,17,331,null,null,1577,16.399999999999999]
[18,4.29,null,null,18,578,null,null,1682,17.7]
[19,4.1420000000000003,null,null,19,637,null,null,1759,17.7]
[20,1.1370000000000005,null,null,20,942]
[]
[]
["Example Data Set 9:\nExample data set 9 with one nondetect result added",null,null,null,"Example Data Set 10: \nNormal data set without a statistically significant trend."]
["Date","Concentration","Data Qualifier",null,"Date","Concentration","Data Qualifier"]
[2,54.2,null,null,89.6,56]
[4,44.3,null,null,90.1,53]
[8,45.4,null,null,90.8,51]
[11,38.299999999999997,null,null,91.1,55]
[13,27.1,null,null,92.1,52]
[16,30.2,null,null,93.1,60]
[20,28.3,null,null,94.1,51]
[23,17.600000000000001,null,null,95.6,53]
[26,14.7,null,null,96.1,61]
[30,4.0999999999999996,null,null,96.3,56]
[33,2,"U"]

{"sheet":"Data_Input","index":1,"n_rows":37,"n_cols":13,"rows_kept":37,"cut":false,"hidden":false,"merged":[[3,3,5,3],[3,4,5,4],[3,6,5,6],[3,5,5,5],[31,9,32,12],[27,9,27,12],[28,11,28,12],[28,9,28,10],[33,0,33,6],[30,0,30,1],[30,3,30,6],[27,0,27,2],[16,0,17,0],[16,1,17,1],[27,3,27,6],[29,0,29,1],[31,0,31,1],[32,0,32,1],[28,0,28,1],[28,3,28,6],[29,3,29,6],[31,3,31,6],[32,3,32,6]]}
["Groundwater Statistics Tool"]
["Data input worksheet"]
[]
["Site Name","Test",null,{"$f":"\"Date (\" & B12 & \")\"","v":"Date (Date)"},{"$f":"B10 & \" Conc. \n(\" & B13 & \")\"","v":"VC Conc. \n(ug/L)"},"Data Qualifier","Detected? (Yes or No)"]
["Operable Unit (OU)","Test"]
["Type of Evaluation","Attainment"]
["Date of Evaluation","2018-03-26",null,"2018-01-01",4.3,null,{"$f":"IF(D7=\"\",\"\",IF(F7=\"\",\"Yes\",IF(ISERROR(FIND(\"ND\",UPPER(F7))),IF(ISERROR(FIND(\"U\",UPPER(F7))),\"Yes\",\"No\"),\"No\")))","v":"Yes"}]
["Person performing analysis","DW",null,"2018-02-01",6.1,null,{"$f":"IF(D8=\"\",\"\",IF(F8=\"\",\"Yes\",IF(ISERROR(FIND(\"ND\",UPPER(F8))),IF(ISERROR(FIND(\"U\",UPPER(F8))),\"Yes\",\"No\"),\"No\")))","v":"Yes"}]
[null,null,null,"2018-03-01",4.5999999999999996,null,"Yes"]
["Chemical of Concern","VC",null,"2018-04-01",4.5,null,"Yes"]
["Well Name/Number",1,null,"2018-05-01",5.3,null,"Yes"]
["Date Units","Date",null,"2018-06-01",3.9,null,"Yes"]
["Concentration Units","ug/L",null,"2018-07-01",4,null,"Yes"]
[null,null,null,null,null,null,""]
["Confidence Level Desired",0.95,null,null,null,null,""]
["Cleanup Level",5,null,null,null,null,""]
["Source of cleanup level (e.g. MCL or risk-based concentration)","MCL",null,null,null,null,""]
[null,null,null,null,null,null,""]
["Risk of False Outlier Rejection",0.01,null,null,null,null,""]
["Random Seed (may be left blank)",62311.421880000002,null,null,null,null,""]
["Significant figures to use",3,null,null,null,null,""]
[null,null,null,null,null,null,""]
["Number of data points:",{"$f":"COUNT(E7:E26)","v":7},null,null,null,null,""]
["Number of detected results:",{"$f":"COUNTIF(DetInput,\"=Yes\")","v":7},null,null,null,null,""]
["Number of nondetect results:",{"$f":"B23-B24","v":0},null,null,null,null,""]
["Detection frequency:",{"$f":"IF(NPoints=0,\"NA\",B24/B23)","v":1},null,null,null,null,""]
[]
["Data Review",null,null,"Recommendations",null,null,null,null,null,"Axis Values"]
["Are all necessary data fields entered, and in proper format?",null,{"$f":"IF(SUM(Check_Input)=0,\"Yes\",\"No\")","v":"Yes"},{"$f":"IF(C29=\"Yes\",\"None\",\"Fill in date, concentration, and detected fields for each data point, in chronological order with no duplicate dates\")","v":"None"},null,null,null,null,null,"Time",null,"Concentration"]
[{"$f":"\"Are at least 4 data points present for statistical analysis?\"","v":"Are at least 4 data points present for statistical analysis?"},null,{"$f":"IF(AND(B23>3,B24>3),\"Yes\",\"No\")","v":"Yes"},{"$f":"IF(C30=\"Yes\",IF(AND(Eval_Type=\"Attainment\", NPoints>3,NPoints<8),\"Eight data points are recommended for the attainment evaluation.\",\"None\"),\"This tool cannot be used with fewer than 4 data points, and 4 detected data points.\")","v":"Eight data points are recommended for the attainment evaluation."},null,null,null,null,null,"Min","Max","Min","Max"]
["Are at least 8 data points present for an attainment evaluation?",null,{"$f":"IF(OR(B23>7,B6=\"Remediation\"),\"Yes\",\"No\")","v":"No"},{"$f":"IF(C31=\"No\",\"Eight data points are recommended for the attainment evaluation.\",\"None\")","v":"Eight data points are recommended for the attainment evaluation."},null,null,null,null,null,"Auto","Auto","Auto","Auto"]
["Are detection limits for nondetects ≤ maximum detected value?",null,{"$f":"IF(MAX(HiddenInput!S7:S26)<=MAX(HiddenInput!N7:N26),\"Yes\",\"No\")","v":"Yes"},{"$f":"IF(C32=\"Yes\",\"None\",\"Remove all nondetected results with detection limits above \" & MAX(HiddenInput!N7:N26) & \".\")","v":"None"}]
["Are all data within chart axis limits?",null,{"$f":"IF(OR(AND(J31<>\"Auto\",MIN(DateInput)<J31),MAX(DateInput)>K31,AND(L31<>\"Auto\",MIN(ConcInput)<L31),MAX(ConcInput)>M31),\"No\",\"Yes\")","v":"Yes"},{"$f":"IF(C33=\"Yes\",\"None\",\"Check Axis Value Settings\")","v":"None"}]
["Select Axis Values and Press \"Reset Axes\" after entering data."]
[]
[]
["Pressing the \"Check for Outliers\" button to the right will open a worksheet that shows the results of a Dixons's test for outliers."]

{"sheet":"Sheet5","index":2,"n_rows":0,"n_cols":0,"rows_kept":0,"cut":false,"hidden":true,"merged":[]}

{"sheet":"Outliers","index":3,"n_rows":11,"n_cols":3,"rows_kept":11,"cut":false,"hidden":true,"merged":[[10,1,10,2],[3,0,3,2],[5,1,5,2],[6,1,6,2],[4,1,4,2]]}
[{"$f":"Data_Input!A1","v":"Groundwater Statistics Tool"}]
["Outlier testing worksheet"]
[]
["Dixon's Outlier Test Results"]
["Number of data points",{"$f":"Data_Input!B23","v":7}]
["Risk of false rejection",{"$f":"Data_Input!B19","v":0.01}]
["Critical value",{"$f":"OFFSET(HiddenOutliers!T3,HiddenNormal2!J10-3,MATCH(B6,HiddenOutliers!T2:W2,0)-1,1,1)","v":0.63700000000000001}]
["Outlier type","Low","High"]
["Test statistic",{"$f":"VLOOKUP(HiddenNormal2!J10,HiddenOutliers!A3:J20,10,0)","v":4.5454545454545497E-2},{"$f":"VLOOKUP(HiddenNormal2!J10,HiddenOutliers!A3:S20,19,0)","v":0.36363636363636359}]
["Potential outlier?",{"$f":"IF(ISERROR(OFFSET(HiddenOutliers!X3,HiddenNormal2!J10-3,MATCH(B6,HiddenOutliers!T2:W2,0)-1,1,1)),\"No\",OFFSET(HiddenOutliers!X3,HiddenNormal2!J10-3,MATCH(B6,HiddenOutliers!T2:W2,0)-1,1,1))","v":"No"},{"$f":"IF(ISERROR(OFFSET(HiddenOutliers!AB3,HiddenNormal2!J10-3,MATCH(B6,HiddenOutliers!T2:W2,0)-1,1,1)),\"No\",OFFSET(HiddenOutliers!AB3,HiddenNormal2!J10-3,MATCH(B6,HiddenOutliers!T2:W2,0)-1,1,1))","v":"No"}]
["Validity of Dixon's Test",{"$f":"IF(AND(B10=\"No\",C10=\"No\"),\"Valid\",IF(Normality!C14=\"Appears normal\",\"Valid\",\"Not Valid - data do not appear normal after removal of outlier.\"))","v":"Valid"}]

{"sheet":"Trend-Normal","index":4,"n_rows":34,"n_cols":9,"rows_kept":34,"cut":false,"hidden":true,"merged":[[30,1,30,4],[31,1,31,2],[31,3,31,4],[34,1,35,4],[10,8,10,10],[11,8,11,10],[12,8,12,10],[14,8,14,10],[26,4,26,5],[13,8,13,10],[28,1,28,4],[5,7,5,10],[6,8,6,10],[7,8,7,10],[8,8,8,10],[9,8,9,10]]}
[{"$f":"Data_Input!A1","v":"Groundwater Statistics Tool"}]
["Trend test results for datasets with normally distributed residuals"]
[]
[]
[]
["i",{"$f":"\"t ( \" & Data_Input!B12 & \")\"","v":"t ( Date)"},{"$f":"\"C (\"\n&Data_Input!B13 & \")\"","v":"C (ug/L)"},"C\nPredicted","Fit residual","Upper Confidence Band",null,"Ordinary Least Squares"]
[1,{"$f":"IF(Data_Input!D7=0,NA(),Data_Input!D7)","v":"2018-01-01"},{"$f":"IF(ConcInput=0,NA(),ConcImputeds)","v":4.3},{"$f":"IF(B7=\"\",NA(),ROUND(DataTransforms!O3,SigFigs-1-INT(LOG(ABS(DataTransforms!O3)))))","v":5.16},{"$f":"IF(ISNA(B7),NA(),C7-D7)","v":-0.86000000000000032},{"$f":"IF(ISNA(B7),NA(),ROUND(DataTransforms!P3,SigFigs-1-INT(LOG(ABS(DataTransforms!P3)))))","v":6.59},null,"Slope",{"$f":"ROUND(DataTransforms!AM18,SigFigs-1-INT(LOG(ABS(DataTransforms!AM18))))","v":-5.4200000000000003E-3}]
[2,{"$f":"IF(Data_Input!D8=0,NA(),Data_Input!D8)","v":"2018-02-01"},6.1,{"$f":"IF(B8=\"\",NA(),ROUND(DataTransforms!O4,SigFigs-1-INT(LOG(ABS(DataTransforms!O4)))))","v":4.99},{"$f":"IF(ISNA(B8),NA(),C8-D8)","v":1.1099999999999994},{"$f":"IF(ISNA(B8),NA(),ROUND(DataTransforms!P4,SigFigs-1-INT(LOG(ABS(DataTransforms!P4)))))","v":6.1},null,"Intercept",{"$f":"ROUND(DataTransforms!AM19,SigFigs-1-INT(LOG(ABS(DataTransforms!AM19))))","v":239}]
[3,{"$f":"IF(Data_Input!D9=0,NA(),Data_Input!D9)","v":"2018-03-01"},4.5999999999999996,{"$f":"IF(B9=\"\",NA(),ROUND(DataTransforms!O5,SigFigs-1-INT(LOG(ABS(DataTransforms!O5)))))","v":4.84},-0.24000000000000021,{"$f":"IF(ISNA(B9),NA(),ROUND(DataTransforms!P5,SigFigs-1-INT(LOG(ABS(DataTransforms!P5)))))","v":5.73},null,"R2",{"$f":"CORREL(ConcImputeds,HiddenInput!M7:M26)^2","v":0.20465402983180278}]
[4,{"$f":"IF(Data_Input!D10=0,NA(),Data_Input!D10)","v":"2018-04-01"},4.5,{"$f":"IF(B10=\"\",NA(),ROUND(DataTransforms!O6,SigFigs-1-INT(LOG(ABS(DataTransforms!O6)))))","v":4.67},-0.16999999999999993,{"$f":"IF(ISNA(B10),NA(),ROUND(DataTransforms!P6,SigFigs-1-INT(LOG(ABS(DataTransforms!P6)))))","v":5.47},null,"Test result",{"$f":"IF(I11<-I12,\"Decreasing\",IF(I11>I12,\"Increasing\",\"No trend\"))","v":"No trend"}]
[5,{"$f":"IF(Data_Input!D11=0,NA(),Data_Input!D11)","v":"2018-05-01"},5.3,{"$f":"IF(B11=\"\",NA(),ROUND(DataTransforms!O7,SigFigs-1-INT(LOG(ABS(DataTransforms!O7)))))","v":4.51},0.79,{"$f":"IF(ISNA(B11),NA(),ROUND(DataTransforms!P7,SigFigs-1-INT(LOG(ABS(DataTransforms!P7)))))","v":5.39},null,"Test statistic",{"$f":"DataTransforms!AM22","v":-1.1342717351655234}]
[6,{"$f":"IF(Data_Input!D12=0,NA(),Data_Input!D12)","v":"2018-06-01"},3.9,{"$f":"IF(B12=\"\",NA(),ROUND(DataTransforms!O8,SigFigs-1-INT(LOG(ABS(DataTransforms!O8)))))","v":4.34},-0.43999999999999995,{"$f":"IF(ISNA(B12),NA(),ROUND(DataTransforms!P8,SigFigs-1-INT(LOG(ABS(DataTransforms!P8)))))","v":5.47},null,"Critical value",{"$f":"TINV((1-Data_Input!B15)*2,DataTransforms!AI4-2)","v":2.0150483733330233}]
[7,{"$f":"IF(Data_Input!D13=0,NA(),Data_Input!D13)","v":"2018-07-01"},4,{"$f":"IF(B13=\"\",NA(),ROUND(DataTransforms!O9,SigFigs-1-INT(LOG(ABS(DataTransforms!O9)))))","v":4.18},-0.17999999999999972,{"$f":"IF(ISNA(B13),NA(),ROUND(DataTransforms!P9,SigFigs-1-INT(LOG(ABS(DataTransforms!P9)))))","v":5.61},null,"Trend type","Normal"]
[8,{"$f":"IF(Data_Input!D14=0,NA(),Data_Input!D14)","v":{"$error":"#N/A"}},{"$error":"#N/A"},{"$f":"IF(B14=\"\",NA(),ROUND(DataTransforms!O10,SigFigs-1-INT(LOG(ABS(DataTransforms!O10)))))","v":{"$error":"#N/A"}},{"$error":"#N/A"},{"$f":"IF(ISNA(B14),NA(),ROUND(DataTransforms!P10,SigFigs-1-INT(LOG(ABS(DataTransforms!P10)))))","v":{"$error":"#N/A"}},null,"When concentration is predicted to achieve the cleanup level",{"$f":"IF(DataTransforms!AM18=0,\"NA\",IF(AND(DataTransforms!AM18 < 0,(Data_Input!B16-DataTransforms!AM19)/DataTransforms!AM18 > MAX(Data_Input!D7:D26)),(Data_Input!B16-DataTransforms!AM19)/DataTransforms!AM18,\"NA\"))","v":"NA"}]
[9,{"$f":"IF(Data_Input!D15=0,NA(),Data_Input!D15)","v":{"$error":"#N/A"}},{"$error":"#N/A"},{"$f":"IF(B15=\"\",NA(),ROUND(DataTransforms!O11,SigFigs-1-INT(LOG(ABS(DataTransforms!O11)))))","v":{"$error":"#N/A"}},{"$error":"#N/A"},{"$f":"IF(ISNA(B15),NA(),ROUND(DataTransforms!P11,SigFigs-1-INT(LOG(ABS(DataTransforms!P11)))))","v":{"$error":"#N/A"}},null,"When concentration is predicted to exceed the cleanup level",{"$f":"IF(DataTransforms!AM18=0,\"NA\",IF(AND(DataTransforms!AM18 > 0,(Data_Input!B16-DataTransforms!AM19)/DataTransforms!AM18 > MAX(Data_Input!D7:D26)),(Data_Input!B16-DataTransforms!AM19)/DataTransforms!AM18,\"NA\"))","v":"NA"}]
[10,{"$f":"IF(Data_Input!D16=0,NA(),Data_Input!D16)","v":{"$error":"#N/A"}},{"$error":"#N/A"},{"$f":"IF(B16=\"\",NA(),ROUND(DataTransforms!O12,SigFigs-1-INT(LOG(ABS(DataTransforms!O12)))))","v":{"$error":"#N/A"}},{"$error":"#N/A"},{"$f":"IF(ISNA(B16),NA(),ROUND(DataTransforms!P12,SigFigs-1-INT(LOG(ABS(DataTransforms!P12)))))","v":{"$error":"#N/A"}}]
[11,{"$f":"IF(Data_Input!D17=0,NA(),Data_Input!D17)","v":{"$error":"#N/A"}},{"$error":"#N/A"},{"$f":"IF(B17=\"\",NA(),ROUND(DataTransforms!O13,SigFigs-1-INT(LOG(ABS(DataTransforms!O13)))))","v":{"$error":"#N/A"}},{"$error":"#N/A"},{"$f":"IF(ISNA(B17),NA(),ROUND(DataTransforms!P13,SigFigs-1-INT(LOG(ABS(DataTransforms!P13)))))","v":{"$error":"#N/A"}}]
[12,{"$f":"IF(Data_Input!D18=0,NA(),Data_Input!D18)","v":{"$error":"#N/A"}},{"$error":"#N/A"},{"$f":"IF(B18=\"\",NA(),ROUND(DataTransforms!O14,SigFigs-1-INT(LOG(ABS(DataTransforms!O14)))))","v":{"$error":"#N/A"}},{"$error":"#N/A"},{"$f":"IF(ISNA(B18),NA(),ROUND(DataTransforms!P14,SigFigs-1-INT(LOG(ABS(DataTransforms!P14)))))","v":{"$error":"#N/A"}}]
[13,{"$f":"IF(Data_Input!D19=0,NA(),Data_Input!D19)","v":{"$error":"#N/A"}},{"$error":"#N/A"},{"$f":"IF(B19=\"\",NA(),ROUND(DataTransforms!O15,SigFigs-1-INT(LOG(ABS(DataTransforms!O15)))))","v":{"$error":"#N/A"}},{"$error":"#N/A"},{"$f":"IF(ISNA(B19),NA(),ROUND(DataTransforms!P15,SigFigs-1-INT(LOG(ABS(DataTransforms!P15)))))","v":{"$error":"#N/A"}}]
[14,{"$f":"IF(Data_Input!D20=0,NA(),Data_Input!D20)","v":{"$error":"#N/A"}},{"$error":"#N/A"},{"$f":"IF(B20=\"\",NA(),ROUND(DataTransforms!O16,SigFigs-1-INT(LOG(ABS(DataTransforms!O16)))))","v":{"$error":"#N/A"}},{"$error":"#N/A"},{"$f":"IF(ISNA(B20),NA(),ROUND(DataTransforms!P16,SigFigs-1-INT(LOG(ABS(DataTransforms!P16)))))","v":{"$error":"#N/A"}}]
[15,{"$f":"IF(Data_Input!D21=0,NA(),Data_Input!D21)","v":{"$error":"#N/A"}},{"$error":"#N/A"},{"$f":"IF(B21=\"\",NA(),ROUND(DataTransforms!O17,SigFigs-1-INT(LOG(ABS(DataTransforms!O17)))))","v":{"$error":"#N/A"}},{"$error":"#N/A"},{"$f":"IF(ISNA(B21),NA(),ROUND(DataTransforms!P17,SigFigs-1-INT(LOG(ABS(DataTransforms!P17)))))","v":{"$error":"#N/A"}}]
[16,{"$f":"IF(Data_Input!D22=0,NA(),Data_Input!D22)","v":{"$error":"#N/A"}},{"$error":"#N/A"},{"$f":"IF(B22=\"\",NA(),ROUND(DataTransforms!O18,SigFigs-1-INT(LOG(ABS(DataTransforms!O18)))))","v":{"$error":"#N/A"}},{"$error":"#N/A"},{"$f":"IF(ISNA(B22),NA(),ROUND(DataTransforms!P18,SigFigs-1-INT(LOG(ABS(DataTransforms!P18)))))","v":{"$error":"#N/A"}}]
[17,{"$f":"IF(Data_Input!D23=0,NA(),Data_Input!D23)","v":{"$error":"#N/A"}},{"$error":"#N/A"},{"$f":"IF(B23=\"\",NA(),ROUND(DataTransforms!O19,SigFigs-1-INT(LOG(ABS(DataTransforms!O19)))))","v":{"$error":"#N/A"}},{"$error":"#N/A"},{"$f":"IF(ISNA(B23),NA(),ROUND(DataTransforms!P19,SigFigs-1-INT(LOG(ABS(DataTransforms!P19)))))","v":{"$error":"#N/A"}}]
[18,{"$f":"IF(Data_Input!D24=0,NA(),Data_Input!D24)","v":{"$error":"#N/A"}},{"$error":"#N/A"},{"$f":"IF(B24=\"\",NA(),ROUND(DataTransforms!O20,SigFigs-1-INT(LOG(ABS(DataTransforms!O20)))))","v":{"$error":"#N/A"}},{"$error":"#N/A"},{"$f":"IF(ISNA(B24),NA(),ROUND(DataTransforms!P20,SigFigs-1-INT(LOG(ABS(DataTransforms!P20)))))","v":{"$error":"#N/A"}}]
[19,{"$f":"IF(Data_Input!D25=0,NA(),Data_Input!D25)","v":{"$error":"#N/A"}},{"$error":"#N/A"},{"$f":"IF(B25=\"\",NA(),ROUND(DataTransforms!O21,SigFigs-1-INT(LOG(ABS(DataTransforms!O21)))))","v":{"$error":"#N/A"}},{"$error":"#N/A"},{"$f":"IF(ISNA(B25),NA(),ROUND(DataTransforms!P21,SigFigs-1-INT(LOG(ABS(DataTransforms!P21)))))","v":{"$error":"#N/A"}}]
[20,{"$f":"IF(Data_Input!D26=0,NA(),Data_Input!D26)","v":{"$error":"#N/A"}},{"$error":"#N/A"},{"$f":"IF(B26=\"\",NA(),ROUND(DataTransforms!O22,SigFigs-1-INT(LOG(ABS(DataTransforms!O22)))))","v":{"$error":"#N/A"}},{"$error":"#N/A"},{"$f":"IF(ISNA(B26),NA(),ROUND(DataTransforms!P22,SigFigs-1-INT(LOG(ABS(DataTransforms!P22)))))","v":{"$error":"#N/A"}}]
[null,{"$f":"IF(AND(I14=\"NA\",I15=\"NA\"),NA(),IF(I14=\"NA\",I15,I14))","v":{"$error":"#N/A"}},null,{"$f":"IF(B27=\"\",NA(),Data_Input!B16)","v":{"$error":"#N/A"}},"Cleanup"]
[]
[null,"Select Axis Values and press \"Reset Axes\" to see future trends."]
[]
[null,"Axis Values"]
[null,"Time",null,"Concentration"]
[null,"Min","Max","Min","Max"]
[null,"AUTO","AUTO","AUTO","AUTO"]

{"sheet":"Trend-NP","index":5,"n_rows":34,"n_cols":12,"rows_kept":34,"cut":false,"hidden":true,"merged":[[5,10,5,11],[30,1,30,4],[31,1,31,2],[31,3,31,4],[34,1,35,4],[5,7,5,8],[26,4,26,5],[28,1,28,4]]}
[{"$f":"Data_Input!A1","v":"Groundwater Statistics Tool"}]
["Trend test results for datasets with nonparametrically distributed residuals"]
[]
[]
[]
["i",{"$f":"\"t ( \" & Data_Input!B12 & \")\"","v":"t ( Date)"},{"$f":"\"C (\"\n&Data_Input!B13 & \")\"","v":"C (ug/L)"},"C\nPredicted","Residual","Upper Confidence Band",null,"Mann-Kendall",null,null,"Theil-Sen"]
[1,{"$f":"IF(DateInput=0,NA(),DateInput)","v":"2018-01-01"},{"$f":"IF(ConcInput=0,NA(),ConcImputeds)","v":4.3},{"$f":"IF(B7=\"\",NA(),IF(B7*HiddenTrend!$E$27+HiddenTrend!$E$30=0,0,ROUND(B7*HiddenTrend!$E$27+HiddenTrend!$E$30,SigFigs-1-INT(LOG(ABS(B7*HiddenTrend!$E$27+HiddenTrend!$E$30))))))","v":4.9400000000000004},{"$f":"IF(ISNA(B7),NA(),C7-D7)","v":-0.64000000000000057},{"$f":"IF(B7=\"\",NA(),HLOOKUP(A7,HiddenTSBootstrap!$CL$3:$DE$6,4,0))","v":1.32},null,"Test result",{"$f":"IF(I9>I10,\"Increasing\",IF(I9<-I10,\"Decreasing\",\"No trend\"))","v":"No trend"},null,"Slope",{"$f":"IF(HiddenTrend!E27=0,0,ROUND(HiddenTrend!E27,SigFigs-1-INT(LOG(ABS(HiddenTrend!E27)))))","v":-4.9199999999999999E-3}]
[2,"2018-02-01",6.1,{"$f":"IF(B8=\"\",NA(),IF(B8*HiddenTrend!$E$27+HiddenTrend!$E$30=0,0,ROUND(B8*HiddenTrend!$E$27+HiddenTrend!$E$30,SigFigs-1-INT(LOG(ABS(B8*HiddenTrend!$E$27+HiddenTrend!$E$30))))))","v":4.79},{"$f":"IF(ISNA(B8),NA(),C8-D8)","v":1.3099999999999996},{"$f":"IF(B8=\"\",NA(),HLOOKUP(A8,HiddenTSBootstrap!$CL$3:$DE$6,4,0))","v":1.25},null,"Test statistic (S)",{"$f":"HiddenTrend!E25","v":-7},null,"Intercept",{"$f":"IF(HiddenTrend!E30=0,0,ROUND(HiddenTrend!E30,SigFigs-1-INT(LOG(ABS(HiddenTrend!E30)))))","v":217}]
[3,"2018-03-01",4.5999999999999996,{"$f":"IF(B9=\"\",NA(),IF(B9*HiddenTrend!$E$27+HiddenTrend!$E$30=0,0,ROUND(B9*HiddenTrend!$E$27+HiddenTrend!$E$30,SigFigs-1-INT(LOG(ABS(B9*HiddenTrend!$E$27+HiddenTrend!$E$30))))))","v":4.6500000000000004},-5.0000000000000711E-2,{"$f":"IF(B9=\"\",NA(),HLOOKUP(A9,HiddenTSBootstrap!$CL$3:$DE$6,4,0))","v":1.1499999999999999},null,"Normalized S",{"$f":"HiddenTrend!E32","v":-0.90112711377916588},null,"When concentration is predicted to achieve the cleanup level",{"$f":"IF(HiddenTrend!E27=0,\"NA\",IF(AND(HiddenTrend!E27 < 0,(Data_Input!B16-HiddenTrend!E30)/HiddenTrend!E27 > MAX(Data_Input!D7:'Data_Input'!D26)),(Data_Input!B16-HiddenTrend!E30)/HiddenTrend!E27,\"NA\"))","v":"NA"}]
[4,"2018-04-01",4.5,{"$f":"IF(B10=\"\",NA(),IF(B10*HiddenTrend!$E$27+HiddenTrend!$E$30=0,0,ROUND(B10*HiddenTrend!$E$27+HiddenTrend!$E$30,SigFigs-1-INT(LOG(ABS(B10*HiddenTrend!$E$27+HiddenTrend!$E$30))))))","v":4.5},0,{"$f":"IF(B10=\"\",NA(),HLOOKUP(A10,HiddenTSBootstrap!$CL$3:$DE$6,4,0))","v":1.08},null,"Critical value",{"$f":"_xlfn.NORM.INV(Data_Input!B15,0,1)","v":1.6448536269514715},null,"When concentration is predicted to exceed the cleanup level",{"$f":"IF(HiddenTrend!E27=0,\"NA\",IF(AND(HiddenTrend!E27 > 0,(Data_Input!B16-HiddenTrend!E30)/HiddenTrend!E27 > MAX(Data_Input!D7:'Data_Input'!D26)),(Data_Input!B16-HiddenTrend!E30)/HiddenTrend!E27,\"NA\"))","v":"NA"}]
[5,"2018-05-01",5.3,{"$f":"IF(B11=\"\",NA(),IF(B11*HiddenTrend!$E$27+HiddenTrend!$E$30=0,0,ROUND(B11*HiddenTrend!$E$27+HiddenTrend!$E$30,SigFigs-1-INT(LOG(ABS(B11*HiddenTrend!$E$27+HiddenTrend!$E$30))))))","v":4.3499999999999996},0.95000000000000018,{"$f":"IF(B11=\"\",NA(),HLOOKUP(A11,HiddenTSBootstrap!$CL$3:$DE$6,4,0))","v":1},null,"Trend type","Nonparametric"]
[6,"2018-06-01",3.9,{"$f":"IF(B12=\"\",NA(),IF(B12*HiddenTrend!$E$27+HiddenTrend!$E$30=0,0,ROUND(B12*HiddenTrend!$E$27+HiddenTrend!$E$30,SigFigs-1-INT(LOG(ABS(B12*HiddenTrend!$E$27+HiddenTrend!$E$30))))))","v":4.2},-0.30000000000000027,{"$f":"IF(B12=\"\",NA(),HLOOKUP(A12,HiddenTSBootstrap!$CL$3:$DE$6,4,0))","v":1}]
[7,{"$f":"IF(DateInput=0,NA(),DateInput)","v":"2018-07-01"},4,{"$f":"IF(B13=\"\",NA(),IF(B13*HiddenTrend!$E$27+HiddenTrend!$E$30=0,0,ROUND(B13*HiddenTrend!$E$27+HiddenTrend!$E$30,SigFigs-1-INT(LOG(ABS(B13*HiddenTrend!$E$27+HiddenTrend!$E$30))))))","v":4.05},-4.9999999999999822E-2,{"$f":"IF(B13=\"\",NA(),HLOOKUP(A13,HiddenTSBootstrap!$CL$3:$DE$6,4,0))","v":1}]
[8,{"$error":"#N/A"},{"$error":"#N/A"},{"$f":"IF(B14=\"\",NA(),IF(B14*HiddenTrend!$E$27+HiddenTrend!$E$30=0,0,ROUND(B14*HiddenTrend!$E$27+HiddenTrend!$E$30,SigFigs-1-INT(LOG(ABS(B14*HiddenTrend!$E$27+HiddenTrend!$E$30))))))","v":{"$error":"#N/A"}},{"$error":"#N/A"},{"$f":"IF(B14=\"\",NA(),HLOOKUP(A14,HiddenTSBootstrap!$CL$3:$DE$6,4,0))","v":{"$error":"#N/A"}}]
[9,{"$error":"#N/A"},{"$error":"#N/A"},{"$f":"IF(B15=\"\",NA(),IF(B15*HiddenTrend!$E$27+HiddenTrend!$E$30=0,0,ROUND(B15*HiddenTrend!$E$27+HiddenTrend!$E$30,SigFigs-1-INT(LOG(ABS(B15*HiddenTrend!$E$27+HiddenTrend!$E$30))))))","v":{"$error":"#N/A"}},{"$error":"#N/A"},{"$f":"IF(B15=\"\",NA(),HLOOKUP(A15,HiddenTSBootstrap!$CL$3:$DE$6,4,0))","v":{"$error":"#N/A"}}]
[10,{"$error":"#N/A"},{"$error":"#N/A"},{"$f":"IF(B16=\"\",NA(),IF(B16*HiddenTrend!$E$27+HiddenTrend!$E$30=0,0,ROUND(B16*HiddenTrend!$E$27+HiddenTrend!$E$30,SigFigs-1-INT(LOG(ABS(B16*HiddenTrend!$E$27+HiddenTrend!$E$30))))))","v":{"$error":"#N/A"}},{"$error":"#N/A"},{"$f":"IF(B16=\"\",NA(),HLOOKUP(A16,HiddenTSBootstrap!$CL$3:$DE$6,4,0))","v":{"$error":"#N/A"}}]
[11,{"$error":"#N/A"},{"$error":"#N/A"},{"$f":"IF(B17=\"\",NA(),IF(B17*HiddenTrend!$E$27+HiddenTrend!$E$30=0,0,ROUND(B17*HiddenTrend!$E$27+HiddenTrend!$E$30,SigFigs-1-INT(LOG(ABS(B17*HiddenTrend!$E$27+HiddenTrend!$E$30))))))","v":{"$error":"#N/A"}},{"$error":"#N/A"},{"$f":"IF(B17=\"\",NA(),HLOOKUP(A17,HiddenTSBootstrap!$CL$3:$DE$6,4,0))","v":{"$error":"#N/A"}}]
[12,{"$error":"#N/A"},{"$error":"#N/A"},{"$f":"IF(B18=\"\",NA(),IF(B18*HiddenTrend!$E$27+HiddenTrend!$E$30=0,0,ROUND(B18*HiddenTrend!$E$27+HiddenTrend!$E$30,SigFigs-1-INT(LOG(ABS(B18*HiddenTrend!$E$27+HiddenTrend!$E$30))))))","v":{"$error":"#N/A"}},{"$error":"#N/A"},{"$f":"IF(B18=\"\",NA(),HLOOKUP(A18,HiddenTSBootstrap!$CL$3:$DE$6,4,0))","v":{"$error":"#N/A"}}]
[13,{"$error":"#N/A"},{"$error":"#N/A"},{"$f":"IF(B19=\"\",NA(),IF(B19*HiddenTrend!$E$27+HiddenTrend!$E$30=0,0,ROUND(B19*HiddenTrend!$E$27+HiddenTrend!$E$30,SigFigs-1-INT(LOG(ABS(B19*HiddenTrend!$E$27+HiddenTrend!$E$30))))))","v":{"$error":"#N/A"}},{"$error":"#N/A"},{"$f":"IF(B19=\"\",NA(),HLOOKUP(A19,HiddenTSBootstrap!$CL$3:$DE$6,4,0))","v":{"$error":"#N/A"}}]
[14,{"$error":"#N/A"},{"$error":"#N/A"},{"$f":"IF(B20=\"\",NA(),IF(B20*HiddenTrend!$E$27+HiddenTrend!$E$30=0,0,ROUND(B20*HiddenTrend!$E$27+HiddenTrend!$E$30,SigFigs-1-INT(LOG(ABS(B20*HiddenTrend!$E$27+HiddenTrend!$E$30))))))","v":{"$error":"#N/A"}},{"$error":"#N/A"},{"$f":"IF(B20=\"\",NA(),HLOOKUP(A20,HiddenTSBootstrap!$CL$3:$DE$6,4,0))","v":{"$error":"#N/A"}}]
[15,{"$error":"#N/A"},{"$error":"#N/A"},{"$f":"IF(B21=\"\",NA(),IF(B21*HiddenTrend!$E$27+HiddenTrend!$E$30=0,0,ROUND(B21*HiddenTrend!$E$27+HiddenTrend!$E$30,SigFigs-1-INT(LOG(ABS(B21*HiddenTrend!$E$27+HiddenTrend!$E$30))))))","v":{"$error":"#N/A"}},{"$error":"#N/A"},{"$f":"IF(B21=\"\",NA(),HLOOKUP(A21,HiddenTSBootstrap!$CL$3:$DE$6,4,0))","v":{"$error":"#N/A"}}]
[16,{"$error":"#N/A"},{"$error":"#N/A"},{"$f":"IF(B22=\"\",NA(),IF(B22*HiddenTrend!$E$27+HiddenTrend!$E$30=0,0,ROUND(B22*HiddenTrend!$E$27+HiddenTrend!$E$30,SigFigs-1-INT(LOG(ABS(B22*HiddenTrend!$E$27+HiddenTrend!$E$30))))))","v":{"$error":"#N/A"}},{"$error":"#N/A"},{"$f":"IF(B22=\"\",NA(),HLOOKUP(A22,HiddenTSBootstrap!$CL$3:$DE$6,4,0))","v":{"$error":"#N/A"}}]
[17,{"$error":"#N/A"},{"$error":"#N/A"},{"$f":"IF(B23=\"\",NA(),IF(B23*HiddenTrend!$E$27+HiddenTrend!$E$30=0,0,ROUND(B23*HiddenTrend!$E$27+HiddenTrend!$E$30,SigFigs-1-INT(LOG(ABS(B23*HiddenTrend!$E$27+HiddenTrend!$E$30))))))","v":{"$error":"#N/A"}},{"$error":"#N/A"},{"$f":"IF(B23=\"\",NA(),HLOOKUP(A23,HiddenTSBootstrap!$CL$3:$DE$6,4,0))","v":{"$error":"#N/A"}}]
[18,{"$error":"#N/A"},{"$error":"#N/A"},{"$f":"IF(B24=\"\",NA(),IF(B24*HiddenTrend!$E$27+HiddenTrend!$E$30=0,0,ROUND(B24*HiddenTrend!$E$27+HiddenTrend!$E$30,SigFigs-1-INT(LOG(ABS(B24*HiddenTrend!$E$27+HiddenTrend!$E$30))))))","v":{"$error":"#N/A"}},{"$error":"#N/A"},{"$f":"IF(B24=\"\",NA(),HLOOKUP(A24,HiddenTSBootstrap!$CL$3:$DE$6,4,0))","v":{"$error":"#N/A"}}]
[19,{"$error":"#N/A"},{"$error":"#N/A"},{"$f":"IF(B25=\"\",NA(),IF(B25*HiddenTrend!$E$27+HiddenTrend!$E$30=0,0,ROUND(B25*HiddenTrend!$E$27+HiddenTrend!$E$30,SigFigs-1-INT(LOG(ABS(B25*HiddenTrend!$E$27+HiddenTrend!$E$30))))))","v":{"$error":"#N/A"}},{"$error":"#N/A"},{"$f":"IF(B25=\"\",NA(),HLOOKUP(A25,HiddenTSBootstrap!$CL$3:$DE$6,4,0))","v":{"$error":"#N/A"}}]
[20,{"$error":"#N/A"},{"$error":"#N/A"},{"$f":"IF(B26=\"\",NA(),IF(B26*HiddenTrend!$E$27+HiddenTrend!$E$30=0,0,ROUND(B26*HiddenTrend!$E$27+HiddenTrend!$E$30,SigFigs-1-INT(LOG(ABS(B26*HiddenTrend!$E$27+HiddenTrend!$E$30))))))","v":{"$error":"#N/A"}},{"$error":"#N/A"},{"$f":"IF(B26=\"\",NA(),HLOOKUP(A26,HiddenTSBootstrap!$CL$3:$DE$6,4,0))","v":{"$error":"#N/A"}}]
[null,{"$f":"IF(AND(L9=\"NA\",L10=\"NA\"),NA(),IF(L9=\"NA\",L10,L9))","v":{"$error":"#N/A"}},null,{"$f":"IF(B27=\"\",NA(),Data_Input!B16)","v":{"$error":"#N/A"}},"Cleanup"]
[]
[null,"Select Axis Values and press \"Reset Axes\" to see future trends."]
[]
[null,"Axis Values"]
[null,"Time",null,"Concentration"]
[null,"Min","Max","Min","Max"]
[null,"AUTO","AUTO","AUTO","AUTO"]

{"sheet":"UCL-Normal","index":6,"n_rows":18,"n_cols":2,"rows_kept":18,"cut":false,"hidden":true,"merged":[]}
[{"$f":"Data_Input!A1","v":"Groundwater Statistics Tool"}]
["UCL calculations for normal data sets"]
[]
["Confidence Level",{"$f":"Data_Input!B15","v":0.95}]
["Cleanup level",{"$f":"Data_Input!B16","v":5}]
["Source of cleanup level",{"$f":"Data_Input!B17","v":"MCL"}]
["Number of results",{"$f":"DataTransforms!AI4","v":7}]
["Number < cleanup level",{"$f":"COUNTIF(ConcInput,\"<\"&Data_Input!B16)","v":5}]
["Number of non-detects present",{"$f":"Data_Input!B25","v":0}]
["Are any potential outliers present?",{"$f":"IF(OR(Outliers!B10=\"Yes\",Outliers!C10=\"Yes\"),\"Yes\",\"No\")","v":"No"}]
["Distribution Type","Normal"]
["Method for calculating UCL","Student's t UCL"]
[]
["Mean of concentration",{"$f":"ROUND(DataTransforms!AJ32,SigFigs-1-INT(LOG(DataTransforms!AJ32)))","v":4.67}]
["Standard deviation of concentration",{"$f":"ROUND(DataTransforms!AJ33,SigFigs-1-INT(LOG(DataTransforms!AJ33)))","v":0.78}]
["t-value for UCL calculation",{"$f":"TINV((1-B4)*2,B7-1)","v":1.9431802805153022}]
[{"$f":"TEXT(B4,\"0%\") & \" Upper Confidence Limit (UCL)\"","v":"95% Upper Confidence Limit (UCL)"},{"$f":"ROUND(B14+B16*B15/SQRT(B7),SigFigs-1-INT(LOG(B14+B16*B15/SQRT(B7))))","v":5.24}]
[{"$f":"\"Is the \" &  TEXT(B4, \"0%\") & \" UCL greater than the cleanup level?\"","v":"Is the 95% UCL greater than the cleanup level?"},{"$f":"IF(B17>B5, \"Yes\", \"No\")","v":"Yes"}]

{"sheet":"UCL-NP","index":7,"n_rows":17,"n_cols":2,"rows_kept":17,"cut":false,"hidden":true,"merged":[]}
[{"$f":"Data_Input!A1","v":"Groundwater Statistics Tool"}]
["UCL calculations for nonparametric data sets"]
[]
["Confidence Level",{"$f":"Data_Input!B15","v":0.95}]
["Cleanup level",{"$f":"Data_Input!B16","v":5}]
["Source of cleanup level",{"$f":"Data_Input!B17","v":"MCL"}]
["Number of results",{"$f":"DataTransforms!AI4","v":7}]
["Number < cleanup level",{"$f":"COUNTIF(ConcInput,\"<\"&Data_Input!B16)","v":5}]
["Number of non-detects",{"$f":"Data_Input!B25","v":0}]
["Are any potential outliers present?",{"$f":"IF(OR(Outliers!B10=\"Yes\",Outliers!C10=\"Yes\"),\"Yes\",\"No\")","v":"No"}]
["Distrbution Type","Nonparametric"]
["Method for calculating UCL","Chebyshev UCL"]
[]
["Mean of concentration",{"$f":"ROUND(DataTransforms!AJ32,SigFigs-1-INT(LOG(DataTransforms!AJ32)))","v":4.67}]
["Standard deviation of concentration",{"$f":"ROUND(DataTransforms!AJ33,SigFigs-1-INT(LOG(DataTransforms!AJ33)))","v":0.78}]
[{"$f":"TEXT(B4,\"0%\") & \" Upper Confidence Limit (UCL)\"","v":"95% Upper Confidence Limit (UCL)"},{"$f":"ROUND(B14+SQRT(1/(1-B4)-1)*B15/SQRT(B7),SigFigs-1-INT(LOG(B14+SQRT(1/(1-B4)-1)*B15/SQRT(B7))))","v":5.96}]
[{"$f":"\"Is the \" &  TEXT(B4, \"0%\") & \" UCL greater than the cleanup level?\"","v":"Is the 95% UCL greater than the cleanup level?"},{"$f":"IF(B16>B5, \"Yes\", \"No\")","v":"Yes"}]

{"sheet":"UCL-NP-ND","index":8,"n_rows":29,"n_cols":12,"rows_kept":29,"cut":false,"hidden":true,"merged":[[3,8,5,8],[3,9,5,9],[3,10,5,10],[3,11,5,11],[28,10,28,11],[28,8,28,9],[26,8,27,11]]}
[{"$f":"Data_Input!A1","v":"Groundwater Statistics Tool"}]
["UCL calculations data sets with non-detects",null,null,null,null,null,null,null,"Data, including imputed values"]
[]
["Confidence Level",{"$f":"Data_Input!B15","v":0.95},null,null,null,null,null,null,{"$f":"Data_Input!D4","v":"Date (Date)"},{"$f":"Data_Input!E4","v":"VC Conc. \n(ug/L)"},{"$f":"Data_Input!F4","v":"Data Qualifier"},"Imputed value*"]
["Cleanup level",{"$f":"Data_Input!B16","v":5}]
["Source of cleanup level",{"$f":"Data_Input!B17","v":"MCL"}]
["Number of results",{"$f":"DataTransforms!AI4","v":7},null,null,null,null,null,null,{"$f":"IF(Data_Input!D7=\"\",\"\",Data_Input!D7)","v":"2018-01-01"},{"$f":"IF(Data_Input!E7=\"\",\"\",Data_Input!E7)","v":4.3},{"$f":"IF(Data_Input!F7=\"\",\"\",Data_Input!F7)","v":""},{"$f":"IF(OR(Data_Input!G7=\"Yes\",Data_Input!G7=\"\"),J7,ConcImputeds)","v":4.3}]
["Number of detected results",{"$f":"B7-B9","v":7},null,null,null,null,null,null,{"$f":"IF(Data_Input!D8=\"\",\"\",Data_Input!D8)","v":"2018-02-01"},{"$f":"IF(Data_Input!E8=\"\",\"\",Data_Input!E8)","v":6.1},{"$f":"IF(Data_Input!F8=\"\",\"\",Data_Input!F8)","v":""},{"$f":"IF(OR(Data_Input!G8=\"Yes\",Data_Input!G8=\"\"),J8,ConcImputeds)","v":6.1}]
["Number of non-detected results",{"$f":"COUNT(HiddenInput!L7:L26)","v":0},null,null,null,null,null,null,{"$f":"IF(Data_Input!D9=\"\",\"\",Data_Input!D9)","v":"2018-03-01"},{"$f":"IF(Data_Input!E9=\"\",\"\",Data_Input!E9)","v":4.5999999999999996},{"$f":"IF(Data_Input!F9=\"\",\"\",Data_Input!F9)","v":""},{"$f":"IF(OR(Data_Input!G9=\"Yes\",Data_Input!G9=\"\"),J9,ConcImputeds)","v":4.5999999999999996}]
["Detection frequency",{"$f":"B8/B7","v":1},null,null,null,null,null,null,{"$f":"IF(Data_Input!D10=\"\",\"\",Data_Input!D10)","v":"2018-04-01"},{"$f":"IF(Data_Input!E10=\"\",\"\",Data_Input!E10)","v":4.5},{"$f":"IF(Data_Input!F10=\"\",\"\",Data_Input!F10)","v":""},{"$f":"IF(OR(Data_Input!G10=\"Yes\",Data_Input!G10=\"\"),J10,ConcImputeds)","v":4.5}]
["Number at or below cleanup level",{"$f":"COUNTIF(ConcInput,\"<=\"&Data_Input!B16)","v":5},null,null,null,null,null,null,{"$f":"IF(Data_Input!D11=\"\",\"\",Data_Input!D11)","v":"2018-05-01"},{"$f":"IF(Data_Input!E11=\"\",\"\",Data_Input!E11)","v":5.3},{"$f":"IF(Data_Input!F11=\"\",\"\",Data_Input!F11)","v":""},{"$f":"IF(OR(Data_Input!G11=\"Yes\",Data_Input!G11=\"\"),J11,ConcImputeds)","v":5.3}]
["Are any potential outliers present?",{"$f":"IF(OR(Outliers!B10=\"Yes\",Outliers!C10=\"Yes\"),\"Yes\",\"No\")","v":"No"},null,null,null,null,null,null,{"$f":"IF(Data_Input!D12=\"\",\"\",Data_Input!D12)","v":"2018-06-01"},{"$f":"IF(Data_Input!E12=\"\",\"\",Data_Input!E12)","v":3.9},{"$f":"IF(Data_Input!F12=\"\",\"\",Data_Input!F12)","v":""},{"$f":"IF(OR(Data_Input!G12=\"Yes\",Data_Input!G12=\"\"),J12,ConcImputeds)","v":3.9}]
["Distribution type","Nonparametric",null,null,null,null,null,null,{"$f":"IF(Data_Input!D13=\"\",\"\",Data_Input!D13)","v":"2018-07-01"},{"$f":"IF(Data_Input!E13=\"\",\"\",Data_Input!E13)","v":4},{"$f":"IF(Data_Input!F13=\"\",\"\",Data_Input!F13)","v":""},{"$f":"IF(OR(Data_Input!G13=\"Yes\",Data_Input!G13=\"\"),J13,ConcImputeds)","v":4}]
["Method for calculating UCL","KM Chebyshev UCL",null,null,null,null,null,null,{"$f":"IF(Data_Input!D14=\"\",\"\",Data_Input!D14)","v":""},{"$f":"IF(Data_Input!E14=\"\",\"\",Data_Input!E14)","v":""},{"$f":"IF(Data_Input!F14=\"\",\"\",Data_Input!F14)","v":""},{"$f":"IF(OR(Data_Input!G14=\"Yes\",Data_Input!G14=\"\"),J14,ConcImputeds)","v":""}]
[null,null,null,null,null,null,null,null,{"$f":"IF(Data_Input!D15=\"\",\"\",Data_Input!D15)","v":""},{"$f":"IF(Data_Input!E15=\"\",\"\",Data_Input!E15)","v":""},{"$f":"IF(Data_Input!F15=\"\",\"\",Data_Input!F15)","v":""},{"$f":"IF(OR(Data_Input!G15=\"Yes\",Data_Input!G15=\"\"),J15,ConcImputeds)","v":""}]
["Mean of concentration",{"$f":"KM_Mean","v":27.9},null,null,null,null,null,null,{"$f":"IF(Data_Input!D16=\"\",\"\",Data_Input!D16)","v":""},{"$f":"IF(Data_Input!E16=\"\",\"\",Data_Input!E16)","v":""},{"$f":"IF(Data_Input!F16=\"\",\"\",Data_Input!F16)","v":""},{"$f":"IF(OR(Data_Input!G16=\"Yes\",Data_Input!G16=\"\"),J16,ConcImputeds)","v":""}]
["Standard deviation of concentration",{"$f":"KM_SD","v":16.100000000000001},null,null,null,null,null,null,{"$f":"IF(Data_Input!D17=\"\",\"\",Data_Input!D17)","v":""},{"$f":"IF(Data_Input!E17=\"\",\"\",Data_Input!E17)","v":""},{"$f":"IF(Data_Input!F17=\"\",\"\",Data_Input!F17)","v":""},{"$f":"IF(OR(Data_Input!G17=\"Yes\",Data_Input!G17=\"\"),J17,ConcImputeds)","v":""}]
[{"$f":"TEXT(B4,\"0%\") & \" Upper Confidence Limit (UCL)\"","v":"95% Upper Confidence Limit (UCL)"},{"$f":"KM_Cheb95","v":55.7},null,null,null,null,null,null,{"$f":"IF(Data_Input!D18=\"\",\"\",Data_Input!D18)","v":""},{"$f":"IF(Data_Input!E18=\"\",\"\",Data_Input!E18)","v":""},{"$f":"IF(Data_Input!F18=\"\",\"\",Data_Input!F18)","v":""},{"$f":"IF(OR(Data_Input!G18=\"Yes\",Data_Input!G18=\"\"),J18,ConcImputeds)","v":""}]
[{"$f":"\"Is the \" &  TEXT(B4, \"0%\") & \" UCL greater than the cleanup level?\"","v":"Is the 95% UCL greater than the cleanup level?"},{"$f":"IF(B18>B5, \"Yes\", \"No\")","v":"Yes"},null,null,null,null,null,null,{"$f":"IF(Data_Input!D19=\"\",\"\",Data_Input!D19)","v":""},{"$f":"IF(Data_Input!E19=\"\",\"\",Data_Input!E19)","v":""},{"$f":"IF(Data_Input!F19=\"\",\"\",Data_Input!F19)","v":""},{"$f":"IF(OR(Data_Input!G19=\"Yes\",Data_Input!G19=\"\"),J19,ConcImputeds)","v":""}]
[null,null,null,null,null,null,null,null,{"$f":"IF(Data_Input!D20=\"\",\"\",Data_Input!D20)","v":""},{"$f":"IF(Data_Input!E20=\"\",\"\",Data_Input!E20)","v":""},{"$f":"IF(Data_Input!F20=\"\",\"\",Data_Input!F20)","v":""},{"$f":"IF(OR(Data_Input!G20=\"Yes\",Data_Input!G20=\"\"),J20,ConcImputeds)","v":""}]
[null,null,null,null,null,null,null,null,{"$f":"IF(Data_Input!D21=\"\",\"\",Data_Input!D21)","v":""},{"$f":"IF(Data_Input!E21=\"\",\"\",Data_Input!E21)","v":""},{"$f":"IF(Data_Input!F21=\"\",\"\",Data_Input!F21)","v":""},{"$f":"IF(OR(Data_Input!G21=\"Yes\",Data_Input!G21=\"\"),J21,ConcImputeds)","v":""}]
[null,null,null,null,null,null,null,null,{"$f":"IF(Data_Input!D22=\"\",\"\",Data_Input!D22)","v":""},{"$f":"IF(Data_Input!E22=\"\",\"\",Data_Input!E22)","v":""},{"$f":"IF(Data_Input!F22=\"\",\"\",Data_Input!F22)","v":""},{"$f":"IF(OR(Data_Input!G22=\"Yes\",Data_Input!G22=\"\"),J22,ConcImputeds)","v":""}]
[null,null,null,null,null,null,null,null,{"$f":"IF(Data_Input!D23=\"\",\"\",Data_Input!D23)","v":""},{"$f":"IF(Data_Input!E23=\"\",\"\",Data_Input!E23)","v":""},{"$f":"IF(Data_Input!F23=\"\",\"\",Data_Input!F23)","v":""},{"$f":"IF(OR(Data_Input!G23=\"Yes\",Data_Input!G23=\"\"),J23,ConcImputeds)","v":""}]
[null,null,null,null,null,null,null,null,{"$f":"IF(Data_Input!D24=\"\",\"\",Data_Input!D24)","v":""},{"$f":"IF(Data_Input!E24=\"\",\"\",Data_Input!E24)","v":""},{"$f":"IF(Data_Input!F24=\"\",\"\",Data_Input!F24)","v":""},{"$f":"IF(OR(Data_Input!G24=\"Yes\",Data_Input!G24=\"\"),J24,ConcImputeds)","v":""}]
[]
[null,null,null,null,null,null,null,null,{"$f":"IF(Data_Input!D25=\"\",\"\",Data_Input!D25)","v":""},{"$f":"IF(Data_Input!E25=\"\",\"\",Data_Input!E25)","v":""},{"$f":"IF(Data_Input!F25=\"\",\"\",Data_Input!F25)","v":""},{"$f":"IF(OR(Data_Input!G25=\"Yes\",Data_Input!G25=\"\"),J26,ConcImputeds)","v":""}]
[null,null,null,null,null,null,null,null,"* Note that the imputed value column also includes the actual value for detected samples.  This is for convenience in copying and pasting the data."]
[]
[null,null,null,null,null,null,null,null,"Random Seed Used",null,{"$f":"Data_Input!B20","v":62311.421880000002}]

{"sheet":"Version Notes","index":9,"n_rows":4,"n_cols":3,"rows_kept":4,"cut":false,"hidden":true,"merged":[]}
["Version","Date","Changes"]
["1.0",null,"Original Version"]
["1.1","2016-02-09","Added version comments tracking sheet\nAdded Site Summary sheets\nChanged graphs on UCL sheets\nMinor edits to all other sheets (reorganizing cells, resizing graphs, etc)"]
["2.0","2018-09-11","Added estimated timeframe analysis\nAdded color coding \nMinor edits\nRemoved Examples 4 and 11 from Example Data sheet"]

{"sheet":"Normality","index":10,"n_rows":14,"n_cols":4,"rows_kept":14,"cut":false,"hidden":true,"merged":[[4,3,5,3],[3,0,3,3],[4,1,5,1],[4,2,5,2],[4,0,5,0]]}
[{"$f":"Data_Input!A1","v":"Groundwater Statistics Tool"}]
["Normality Testing Worksheet"]
[]
["Normality Test Results"]
["Parameter","All Data","Minus Outliers","Residuals"]
[]
["Number of data points",{"$f":"Data_Input!B23","v":7},{"$f":"B7-COUNTIF(Outliers!B10:C10,\"=Yes\")","v":7},{"$f":"B7","v":7}]
["Shapiro-Wilk alpha value",{"$f":"IF(COUNT(HiddenNormal2!A7:A26)<10,0.1,IF(COUNT(HiddenNormal2!A7:A26)<20,0.05,0.01))","v":0.1},{"$f":"IF(COUNTIF(Outliers!B10:C10,\"Yes\")=0,\"N/A\",IF(COUNT(HiddenNormal2!M7:M26)<10,0.1,IF(COUNT(HiddenNormal2!M7:M26)<20,0.05,0.01)))","v":"N/A"},{"$f":"DataTransforms!AM5","v":0.1}]
["Slope",{"$f":"SLOPE(HiddenNormal2!E7:E26,HiddenNormal2!D7:D26)","v":0.93181478356733938},{"$f":"IF(COUNTIF(Outliers!B10:C10,\"Yes\")=0,\"N/A\",SLOPE(HiddenNormal2!Q7:Q26,HiddenNormal2!P7:P26))","v":"N/A"},{"$f":"DataTransforms!AM6","v":0.82897870500679705}]
["Intercept",{"$f":"INTERCEPT(HiddenNormal2!E7:E26,HiddenNormal2!D7:D26)","v":4.6714285714285708},{"$f":"IF(COUNTIF(Outliers!B10:C10,\"Yes\")=0,\"N/A\",INTERCEPT(HiddenNormal2!Q7:Q26,HiddenNormal2!P7:P26))","v":"N/A"},{"$f":"DataTransforms!AM7","v":-3.1720657846433042E-17}]
["Correlation, R",{"$f":"SQRT(RSQ(HiddenNormal2!E7:E26,HiddenNormal2!D7:D26))","v":0.94513932997584915},{"$f":"IF(COUNTIF(Outliers!B10:C10,\"Yes\")=0,\"N/A\",SQRT(RSQ(HiddenNormal2!Q7:Q26,HiddenNormal2!P7:P26)))","v":"N/A"},{"$f":"DataTransforms!AM8","v":0.9428260454661741}]
["Test statistic",{"$f":"HiddenNormal1!H3","v":0.8938561015168015},{"$f":"IF(COUNTIF(Outliers!B10:C10,\"Yes\")=0,\"N/A\",HiddenNormal1!H25)","v":"N/A"},{"$f":"DataTransforms!AM9","v":0.89144483208453607}]
["Critical value",{"$f":"VLOOKUP(HiddenNormal2!J10,HiddenNormal1!K$27:N$44,MATCH(B$8,HiddenNormal1!L$26:N$26,0)+1,0)","v":0.83799999999999997},{"$f":"IF(COUNTIF(Outliers!B10:C10,\"Yes\")=0,\"N/A\",VLOOKUP(HiddenNormal2!V10,HiddenNormal1!K$27:N$44,MATCH(C$8,HiddenNormal1!L$26:N$26,0)+1,0))","v":"N/A"},{"$f":"DataTransforms!AM10","v":0.83799999999999997}]
["Sample distribution:",{"$f":"IF(B12<B13,\"Does not appear normal\", \"Appears normal\")","v":"Appears normal"},{"$f":"IF(COUNTIF(Outliers!B10:C10,\"Yes\")=0,\"N/A\",IF(C12<C13,\"Does not appear normal\",\"Appears normal\"))","v":"N/A"},{"$f":"IF(D12<D13,\"Does not appear normal\", \"Appears normal\")","v":"Appears normal"}]

{"sheet":"DataTransforms","index":11,"n_rows":50,"n_cols":44,"rows_kept":50,"cut":false,"hidden":true,"merged":[[26,28,26,31],[26,22,26,27],[0,22,0,27],[0,28,0,31]]}
["Transformation:",null,1,"Untransformed",null,null,null,null,null,null,"Start Row",null,{"$f":"(C1-1)*25+28","v":28},null,null,null,null,null,null,null,null,null,"For plots",null,null,null,null,null,"Normality of residuals",null,null,null,null,null,null,null,null,null,"No",null,"Successful tranformation?",null,null,{"$f":"IF(COUNTIF(AR3:AR11,\"=Yes\"),\"Yes\",\"No\")","v":"Yes"}]
["i","t","C","tt","tC","CC","(T-t)^2","(C-c)^2","(T-t)(C-c)","C-predicted - transform space","Residual \n(C-Cpred)","Squared Residual","LCL - transform space","UCL - transform space","C-predicted - backtransformed","UCL - backtransformed","Residual Rank","Ordered Residual Rank","Percentile","Cumulative Probability","Quantile *","Ordered Residual","Quantile *","Ordered Residual","t","C","C-predicted - backtransformed","UCL - backtransformed","x(n-i+1)","X(n-i+1)-x(i)","a(n-i+1)","b(i)",null,null,null,null,null,null,null,null,"Fit type","Normal?","Neg Conc?","Usable?"]
[1,{"$f":"OFFSET(B$1,$M$1+$A3-1,0,1,1)","v":43101},{"$f":"OFFSET(C$1,$M$1+$A3-1,0,1,1)","v":4.3},1857696201,185334.3,18.489999999999998,8151.5102040821957,0.13795918367346974,33.534693877552222,5.160917216906995,-0.8609172169,0.74117845435484164,3.7341946095278633,6.5876398242861267,5.160917216906995,6.5876398242861267,1,1,{"$f":"OFFSET(S$1,$M$1+$A3-1,0,1,1)","v":7.1428571428571432},0.125,-1.1503493803760083,-0.8609172169,-1.1503493803760083,-0.8609172169,43101,4.3,5.160917216906995,6.5876398242861267,1.1071508780999999,1.968068095,0.62329999999999997,1.2266968436135,null,"General Statistics","Time","Conc",null,"Parameter","Residuals",null,"None",{"$f":"AM37","v":"Yes"},{"$f":"AM38","v":"No"},{"$f":"IF(AND(AP3=\"Yes\", AQ3=\"No\"),\"Yes\",\"No\")","v":"Yes"}]
[2,{"$f":"OFFSET(B$1,$M$1+$A4-1,0,1,1)","v":43132},6.1,1860369424,263105.2,37.209999999999994,3514.7959183677167,2.0408163265306105,-84.693877551024826,4.9928491218614113,1.1071508780999999,1.2257830668776009,3.881652108847264,6.1040461348755581,4.9928491218614113,6.1040461348755581,7,2,21.428571428571431,0.25,-0.67448975019608193,-0.4422629475,-0.67448975019608193,-0.4422629475,43132,6.1,4.9928491218614113,6.1040461348755581,0.78966895749999999,1.2319319049999999,0.30309999999999998,0.37339856040549996,null,"N",{"$f":"COUNT(B3:B22)","v":7},{"$f":"COUNT(C3:C22)","v":7},null,"b",{"$f":"SUM(AF3:AF22)","v":1.6096317441425099}]
[3,43160,4.5999999999999996,1862785600,198535.99999999997,21.159999999999997,978.79591836754207,5.1020408163266213E-3,2.2346938775512628,4.8410456811750748,-0.2410456812,5.8103020425172035E-2,3.9484193678684849,5.7336719944816643,4.8410456811750748,5.7336719944816643,3,3,35.714285714285715,0.375,-0.3186393639643752,-0.2410456812,-0.3186393639643752,-0.2410456812,43160,4.5999999999999996,4.8410456811750748,5.7336719944816643,-0.1729775861,6.8068095100000003E-2,0.1401,9.5363401235099999E-3,null,"Sum",{"$f":"SUM(B3:B22)","v":302339},{"$f":"SUM(C3:C22)","v":32.700000000000003},null,"Shapiro-Wilk alpha value",{"$f":"IF(AJ4<10,0.1,IF(AJ4<20,0.05,0.01))","v":0.1}]
[4,43191,4.5,1865462481,194359.5,20.25,8.1632653063006363E-2,2.9387755102040912E-2,4.8979591837269333E-2,4.6729775861294911,-0.1729775861,2.9921245292982911E-2,3.8806683218311049,5.4652868504278773,4.6729775861294911,5.4652868504278773,5,4,50,0.5,0,-0.1796164039,0,-0.1796164039,43191,4.5,4.6729775861294911,5.4652868504278773,-0.1796164039,0,0,0,null,"Mean",{"$f":"AI5/AI4","v":43191.285714285717},{"$f":"AJ5/AI4","v":4.6714285714285717},null,"Slope",{"$f":"SLOPE(V3:V22,U3:U22)","v":0.82897870500679705}]
[5,43221,5.3,1868054841,229071.3,28.09,882.93877551001879,0.39510204081632594,18.677551020406188,4.5103310425369898,0.78966895749999999,0.6235770624391368,3.6270265459473752,5.3936355391266044,4.5103310425369898,5.3936355391266044,6,5,64.285714285714292,0.625,0.3186393639643752,-0.1729775861,0.3186393639643752,-0.1729775861,43221,5.3,4.5103310425369898,5.3936355391266044,-0.2410456812,-6.8068095100000003E-2,0,0,null,"Standard deviation",{"$f":"SQRT(G23/(AI4-1))","v":65.119670058834203},{"$f":"SQRT(H23/(AI4-1))","v":0.78041502999853796},null,"Intercept",{"$f":"INTERCEPT(V3:V22,U3:U22)","v":-3.1720657846433042E-17}]
[6,43252,3.9,1870735504,168682.8,15.209999999999999,3686.2244897955397,0.59510204081632712,-46.836734693875165,4.3422629474913776,-0.4422629475,0.19559651473138776,3.2178230055760162,5.4667028894067391,4.3422629474913776,5.4667028894067391,2,6,78.571428571428569,0.75,0.67448975019608193,0.78966895749999999,0.67448975019608193,0.78966895749999999,43252,3.9,4.3422629474913776,5.4667028894067391,-0.4422629475,-1.2319319049999999,0,0,null,null,null,null,null,"Correlation, R",{"$f":"SQRT(RSQ(V3:V22,U3:U22))","v":0.9428260454661741}]
[7,43282,4,1873331524,173128,16,8229.0816326524946,0.4508163265306126,-60.908163265304054,4.1796164038988763,-0.1796164039,3.2262052549967932E-2,2.7482065094524764,5.6110262983452763,4.1796164038988763,5.6110262983452763,4,7,92.857142857142861,0.875,1.1503493803760083,1.1071508780999999,1.1503493803760083,1.1071508780999999,43282,4,4.1796164038988763,5.6110262983452763,-0.8609172169,-1.968068095,0,0,null,null,null,null,null,"Exact Shapiro-Wilk test value",{"$f":"(AM4/(STDEV(V3:V22)*SQRT(AJ4-1)))^2","v":0.89144483208453607}]
[8,"","","","","","","","","","","","","","","","","","","","","",{"$error":"#N/A"},{"$error":"#N/A"},{"$error":"#N/A"},{"$error":"#N/A"},{"$error":"#N/A"},{"$error":"#N/A"},"","","","",null,null,null,null,null,"Critical Value",{"$f":"VLOOKUP(AJ4,HiddenNormal1!K$27:N$44,MATCH(AM5,HiddenNormal1!L$26:N$26,0)+1,0)","v":0.83799999999999997}]
[9,"","","","","","","","","","","","","","","","","","","","","",{"$error":"#N/A"},{"$error":"#N/A"},{"$error":"#N/A"},{"$error":"#N/A"},{"$error":"#N/A"},{"$error":"#N/A"},"","","","",null,null,null,null,null,"Fit normal?",{"$f":"IF(AM9<AM10,\"No\", \"Yes\")","v":"Yes"}]
[10,"","","","","","","","","","","","","","","","","","","","","",{"$error":"#N/A"},{"$error":"#N/A"},{"$error":"#N/A"},{"$error":"#N/A"},{"$error":"#N/A"},{"$error":"#N/A"},"","","","",null,null,null,null,null,"Negative conc?",{"$f":"IF(COUNTIF(O3:P22,\"<0\")>0,\"Yes\",\"No\")","v":"No"}]
[11,"","","","","","","","","","","","","","","","","","","","","",{"$error":"#N/A"},{"$error":"#N/A"},{"$error":"#N/A"},{"$error":"#N/A"},{"$error":"#N/A"},{"$error":"#N/A"},"","","",""]
[12,"","","","","","","","","","","","","","","","","","","","","",{"$error":"#N/A"},{"$error":"#N/A"},{"$error":"#N/A"},{"$error":"#N/A"},{"$error":"#N/A"},{"$error":"#N/A"},"","","","",null,null,null,null,null,"Regression Statistics","Value"]
[13,"","","","","","","","","","","","","","","",{"$f":"OFFSET(Q$1,$M$1+$A15-1,0,1,1)","v":""},"","","","","",{"$error":"#N/A"},{"$error":"#N/A"},{"$error":"#N/A"},{"$error":"#N/A"},{"$error":"#N/A"},{"$error":"#N/A"},"","","","",null,null,null,null,null,"Sxx",{"$f":"G23","v":25443.428571428569}]
[14,"","","","","","","","",{"$f":"OFFSET(J$1,$M$1+$A16-1,0,1,1)","v":""},"","","","","","","","","","","","",{"$error":"#N/A"},{"$error":"#N/A"},{"$error":"#N/A"},{"$error":"#N/A"},{"$error":"#N/A"},{"$error":"#N/A"},"","","","",null,null,null,null,null,"Sxy",{"$f":"I23","v":-137.94285714285712}]
[15,"","","","","","","","","","","","","","","","","","","","","",{"$error":"#N/A"},{"$error":"#N/A"},{"$error":"#N/A"},{"$error":"#N/A"},{"$error":"#N/A"},{"$error":"#N/A"},"","","","",null,null,null,null,null,"Syy",{"$f":"H23","v":3.654285714285713}]
[16,"","","","","","","","","","","","","","","","","","","","","",{"$error":"#N/A"},{"$error":"#N/A"},{"$error":"#N/A"},{"$error":"#N/A"},{"$error":"#N/A"},{"$error":"#N/A"},"","","","",null,null,null,null,null,"slope (b)",{"$f":"AM16/AM15","v":-5.4215514530835916E-3}]
[17,"","","","","","","","","","","","","","","","","","","","","",{"$error":"#N/A"},{"$error":"#N/A"},{"$error":"#N/A"},{"$error":"#N/A"},{"$error":"#N/A"},{"$error":"#N/A"},"","","","",null,null,null,null,null,"y intercept",{"$f":"C24-AM18*B24","v":238.83520639626289}]
[18,{"$f":"OFFSET(B$1,$M$1+$A20-1,0,1,1)","v":""},"","","","","","","","","","","","","","","","","","","","",{"$error":"#N/A"},{"$error":"#N/A"},{"$error":"#N/A"},{"$error":"#N/A"},{"$error":"#N/A"},{"$error":"#N/A"},"","","","",null,null,null,null,null,"MSE",{"$f":"L23/(AI4-2)","v":0.58128428333421811}]
[19,{"$f":"OFFSET(B$1,$M$1+$A21-1,0,1,1)","v":""},"","","","","","","","","","","","","","","","","","","","",{"$error":"#N/A"},{"$error":"#N/A"},{"$error":"#N/A"},{"$error":"#N/A"},{"$error":"#N/A"},{"$error":"#N/A"},"","","","",null,null,null,null,null,"SE",{"$f":"SQRT(AM20/G23)","v":4.7797642178683299E-3}]
[20,{"$f":"OFFSET(B$1,$M$1+$A22-1,0,1,1)","v":""},"","","","","","","","","","","","","","","","","","","","",{"$error":"#N/A"},{"$error":"#N/A"},{"$error":"#N/A"},{"$error":"#N/A"},{"$error":"#N/A"},{"$error":"#N/A"},"","","","",null,null,null,null,null,"tb",{"$f":"AM18/AM21","v":-1.1342717351655234}]
["Sum",{"$f":"SUM(B3:B22)","v":302339},32.700000000000003,13058435575,1412217.1,156.41,25443.428571428569,3.654285714285713,-137.94285714285712,null,null,{"$f":"SUM(L3:L22)","v":2.9064214166710904}]
["Mean",{"$f":"IF(COUNT(B3:B22)>0,B23/COUNT(B3:B22),\"\")","v":43191.285714285717},{"$f":"IF(COUNT(C3:C22)>0,C23/COUNT(C3:C22),\"\")","v":4.6714285714285717}]
[]
[]
["Untransformed Data",null,null,null,null,null,null,null,null,null,null,null,null,null,null,null,null,null,null,null,null,null,"For plots",null,null,null,null,null,"Normality of residuals"]
["i","t","C","tt","tC","CC","(T-t)^2","(C-c)^2","(T-t)(C-c)","C-predicted - transform space","Residual \n(C-Cpred)","Squared Residual","LCL - transform space","UCL - transform space","C-predicted - backtransformed","UCL - backtransformed","Residual Rank","Ordered Residual Rank","Percentile","Cumulative Probability","Quantile *","Ordered Residual","Quantile *","Ordered Residual","t","C","C-predicted","UCL","x(n-i+1)","X(n-i+1)-x(i)","a(n-i+1)","b(i)"]
[1,{"$f":"IF(Data_Input!D7=\"\",\"\",Data_Input!D7)","v":43101},{"$f":"IF(Data_Input!E7=\"\",\"\",HiddenInput!R7)","v":4.3},{"$f":"IF(B29=\"\",\"\",B29^2)","v":1857696201},{"$f":"IF(OR(B29=\"\",C29=\"\"),\"\",B29*C29)","v":185334.3},{"$f":"IF(C29=\"\",\"\",C29^2)","v":18.489999999999998},{"$f":"IF(B29=\"\",\"\",(B29-B$50)^2)","v":8151.5102040821957},{"$f":"IF(B29=\"\",\"\",(C29-C$50)^2)","v":0.13795918367346974},{"$f":"IF(B29=\"\",\"\",(B29-B$24)*(C29-C$24))","v":33.534693877552222},{"$f":"IF(B29=\"\",\"\",B29*AM$44+AM$45)","v":5.160917216906995},{"$f":"IF(B29=\"\",\"\",ROUND(C29-J29,10))","v":-0.8609172169},{"$f":"IF(B29=\"\",\"\",K29^2)","v":0.74117845435484164},{"$f":"IF(C29=\"\",\"\",J29-SQRT(2*AM$46*FINV((1-Data_Input!B$15)*2,2,AJ$4-2)*(1/AJ$4+G29/((AJ$4-1)*AI$33^2))))","v":3.7341946095278633},{"$f":"IF(C29=\"\",\"\",J29+SQRT(2*AM$46*FINV((1-Data_Input!B$15)*2,2,AJ$4-2)*(1/AJ$4+G29/((AJ$4-1)*AI$33^2))))","v":6.5876398242861267},{"$f":"J29","v":5.160917216906995},{"$f":"N29","v":6.5876398242861267},{"$f":"IF(B29=\"\",\"\",RANK(K29,K$29:K$48,1)+COUNTIF(K29:K$48,K29)-1)","v":1},{"$f":"IF(B29=\"\",\"\",A29)","v":1},{"$f":"IF(R29=\"\",\"\",100/AJ$4*(R29-0.5))","v":7.1428571428571432},{"$f":"IF(R29=\"\",\"\",R29/(AJ$4+1))","v":0.125},{"$f":"IF(R29=\"\",\"\",NORMINV(T29,0,1))","v":-1.1503493803760083},{"$f":"IF(B29=\"\",\"\",INDEX(K$29:K$48,MATCH(R29,Q$29:Q$48,0)))","v":-0.8609172169},{"$f":"IF(R29=\"\",NA(),U29)","v":-1.1503493803760083},{"$f":"IF(B29=\"\",NA(),V29)","v":-0.8609172169},{"$f":"IF(B29=\"\",NA(),B29)","v":43101},{"$f":"IF(C29=\"\",NA(),C29)","v":4.3},{"$f":"IF(J29=\"\",NA(),J29)","v":5.160917216906995},{"$f":"IF(N29=\"\",NA(),N29)","v":6.5876398242861267},{"$f":"IF(A29>AJ$4,\"\",OFFSET(V$28,AJ$4-A29+1,0,1,1))","v":1.1071508780999999},{"$f":"IF(C29=\"\",\"\",AC29-V29)","v":1.968068095},{"$f":"IF(C29=\"\",\"\",IF(AD29>=0,OFFSET(HiddenNormal1!K$3,A29,AJ$4-1,1,1),0))","v":0.62329999999999997},{"$f":"IF(C29=\"\",\"\",AE29*AD29)","v":1.2266968436135},null,"General Statistics","Time","Conc",null,"Residual Parameters","Values"]
[2,{"$f":"IF(Data_Input!D8=\"\",\"\",Data_Input!D8)","v":43132},{"$f":"IF(Data_Input!E8=\"\",\"\",HiddenInput!R8)","v":6.1},{"$f":"IF(B30=\"\",\"\",B30^2)","v":1860369424},{"$f":"IF(OR(B30=\"\",C30=\"\"),\"\",B30*C30)","v":263105.2},{"$f":"IF(C30=\"\",\"\",C30^2)","v":37.209999999999994},{"$f":"IF(B30=\"\",\"\",(B30-B$50)^2)","v":3514.7959183677167},{"$f":"IF(B30=\"\",\"\",(C30-C$50)^2)","v":2.0408163265306105},{"$f":"IF(B30=\"\",\"\",(B30-B$24)*(C30-C$24))","v":-84.693877551024826},4.9928491218614113,{"$f":"IF(B30=\"\",\"\",ROUND(C30-J30,10))","v":1.1071508780999999},1.2257830668776009,{"$f":"IF(C30=\"\",\"\",J30-SQRT(2*AM$46*FINV((1-Data_Input!B$15)*2,2,AJ$4-2)*(1/AJ$4+G30/((AJ$4-1)*AI$33^2))))","v":3.881652108847264},{"$f":"IF(C30=\"\",\"\",J30+SQRT(2*AM$46*FINV((1-Data_Input!B$15)*2,2,AJ$4-2)*(1/AJ$4+G30/((AJ$4-1)*AI$33^2))))","v":6.1040461348755581},{"$f":"J30","v":4.9928491218614113},{"$f":"N30","v":6.1040461348755581},{"$f":"IF(B30=\"\",\"\",RANK(K30,K$29:K$48,1)+COUNTIF(K30:K$48,K30)-1)","v":7},{"$f":"IF(B30=\"\",\"\",A30)","v":2},21.428571428571431,0.25,{"$f":"IF(R30=\"\",\"\",NORMINV(T30,0,1))","v":-0.67448975019608193},{"$f":"IF(B30=\"\",\"\",INDEX(K$29:K$48,MATCH(R30,Q$29:Q$48,0)))","v":-0.4422629475},{"$f":"IF(R30=\"\",NA(),U30)","v":-0.67448975019608193},{"$f":"IF(B30=\"\",NA(),V30)","v":-0.4422629475},{"$f":"IF(B30=\"\",NA(),B30)","v":43132},{"$f":"IF(C30=\"\",NA(),C30)","v":6.1},{"$f":"IF(J30=\"\",NA(),J30)","v":4.9928491218614113},{"$f":"IF(N30=\"\",NA(),N30)","v":6.1040461348755581},{"$f":"IF(A30>AJ$4,\"\",OFFSET(V$28,AJ$4-A30+1,0,1,1))","v":0.78966895749999999},{"$f":"IF(C30=\"\",\"\",AC30-V30)","v":1.2319319049999999},{"$f":"IF(C30=\"\",\"\",IF(AD30>=0,OFFSET(HiddenNormal1!K$3,A30,AJ$4-1,1,1),0))","v":0.30309999999999998},{"$f":"IF(C30=\"\",\"\",AE30*AD30)","v":0.37339856040549996},null,"N",{"$f":"COUNT(B29:B48)","v":7},{"$f":"COUNT(C29:C48)","v":7},null,"b",{"$f":"SUM(AF29:AF48)","v":1.6096317441425099}]
[3,{"$f":"IF(Data_Input!D9=\"\",\"\",Data_Input!D9)","v":43160},{"$f":"IF(Data_Input!E9=\"\",\"\",HiddenInput!R9)","v":4.5999999999999996},1862785600,198535.99999999997,21.159999999999997,978.79591836754207,5.1020408163266213E-3,2.2346938775512628,4.8410456811750748,-0.2410456812,5.8103020425172035E-2,{"$f":"IF(C31=\"\",\"\",J31-SQRT(2*AM$46*FINV((1-Data_Input!B$15)*2,2,AJ$4-2)*(1/AJ$4+G31/((AJ$4-1)*AI$33^2))))","v":3.9484193678684849},{"$f":"IF(C31=\"\",\"\",J31+SQRT(2*AM$46*FINV((1-Data_Input!B$15)*2,2,AJ$4-2)*(1/AJ$4+G31/((AJ$4-1)*AI$33^2))))","v":5.7336719944816643},4.8410456811750748,5.7336719944816643,{"$f":"IF(B31=\"\",\"\",RANK(K31,K$29:K$48,1)+COUNTIF(K31:K$48,K31)-1)","v":3},3,35.714285714285715,0.375,-0.3186393639643752,-0.2410456812,-0.3186393639643752,-0.2410456812,43160,4.5999999999999996,4.8410456811750748,5.7336719944816643,-0.1729775861,6.8068095100000003E-2,{"$f":"IF(C31=\"\",\"\",IF(AD31>=0,OFFSET(HiddenNormal1!K$3,A31,AJ$4-1,1,1),0))","v":0.1401},9.5363401235099999E-3,null,"Sum",{"$f":"SUM(B29:B48)","v":302339},{"$f":"SUM(C29:C48)","v":32.700000000000003},null,"Shapiro-Wilk alpha value",{"$f":"IF(AJ30<10,0.1,IF(AJ30<20,0.05,0.01))","v":0.1}]
[4,{"$f":"IF(Data_Input!D10=\"\",\"\",Data_Input!D10)","v":43191},{"$f":"IF(Data_Input!E10=\"\",\"\",HiddenInput!R10)","v":4.5},1865462481,194359.5,20.25,8.1632653063006363E-2,2.9387755102040912E-2,4.8979591837269333E-2,4.6729775861294911,-0.1729775861,2.9921245292982911E-2,{"$f":"IF(C32=\"\",\"\",J32-SQRT(2*AM$46*FINV((1-Data_Input!B$15)*2,2,AJ$4-2)*(1/AJ$4+G32/((AJ$4-1)*AI$33^2))))","v":3.8806683218311049},{"$f":"IF(C32=\"\",\"\",J32+SQRT(2*AM$46*FINV((1-Data_Input!B$15)*2,2,AJ$4-2)*(1/AJ$4+G32/((AJ$4-1)*AI$33^2))))","v":5.4652868504278773},4.6729775861294911,5.4652868504278773,{"$f":"IF(B32=\"\",\"\",RANK(K32,K$29:K$48,1)+COUNTIF(K32:K$48,K32)-1)","v":5},4,50,0.5,0,-0.1796164039,0,-0.1796164039,43191,4.5,4.6729775861294911,5.4652868504278773,-0.1796164039,0,{"$f":"IF(C32=\"\",\"\",IF(AD32>=0,OFFSET(HiddenNormal1!K$3,A32,AJ$4-1,1,1),0))","v":0},0,null,"Mean",{"$f":"AI31/AI30","v":43191.285714285717},{"$f":"AJ31/AI30","v":4.6714285714285717},null,"Slope",{"$f":"SLOPE(V29:V48,U29:U48)","v":0.82897870500679705}]
[5,{"$f":"IF(Data_Input!D11=\"\",\"\",Data_Input!D11)","v":43221},{"$f":"IF(Data_Input!E11=\"\",\"\",HiddenInput!R11)","v":5.3},1868054841,229071.3,28.09,882.93877551001879,0.39510204081632594,18.677551020406188,4.5103310425369898,0.78966895749999999,0.6235770624391368,{"$f":"IF(C33=\"\",\"\",J33-SQRT(2*AM$46*FINV((1-Data_Input!B$15)*2,2,AJ$4-2)*(1/AJ$4+G33/((AJ$4-1)*AI$33^2))))","v":3.6270265459473752},{"$f":"IF(C33=\"\",\"\",J33+SQRT(2*AM$46*FINV((1-Data_Input!B$15)*2,2,AJ$4-2)*(1/AJ$4+G33/((AJ$4-1)*AI$33^2))))","v":5.3936355391266044},4.5103310425369898,5.3936355391266044,{"$f":"IF(B33=\"\",\"\",RANK(K33,K$29:K$48,1)+COUNTIF(K33:K$48,K33)-1)","v":6},5,64.285714285714292,0.625,0.3186393639643752,-0.1729775861,0.3186393639643752,-0.1729775861,43221,5.3,4.5103310425369898,5.3936355391266044,-0.2410456812,-6.8068095100000003E-2,{"$f":"IF(C33=\"\",\"\",IF(AD33>=0,OFFSET(HiddenNormal1!K$3,A33,AJ$4-1,1,1),0))","v":0},0,null,"Standard deviation",{"$f":"SQRT(G49/(AI30-1))","v":65.119670058834203},{"$f":"SQRT(H49/(AI30-1))","v":0.78041502999853796},null,"Intercept",{"$f":"INTERCEPT(V29:V48,U29:U48)","v":-3.1720657846433042E-17}]
[6,{"$f":"IF(Data_Input!D12=\"\",\"\",Data_Input!D12)","v":43252},{"$f":"IF(Data_Input!E12=\"\",\"\",HiddenInput!R12)","v":3.9},1870735504,168682.8,15.209999999999999,3686.2244897955397,0.59510204081632712,-46.836734693875165,4.3422629474913776,-0.4422629475,0.19559651473138776,{"$f":"IF(C34=\"\",\"\",J34-SQRT(2*AM$46*FINV((1-Data_Input!B$15)*2,2,AJ$4-2)*(1/AJ$4+G34/((AJ$4-1)*AI$33^2))))","v":3.2178230055760162},{"$f":"IF(C34=\"\",\"\",J34+SQRT(2*AM$46*FINV((1-Data_Input!B$15)*2,2,AJ$4-2)*(1/AJ$4+G34/((AJ$4-1)*AI$33^2))))","v":5.4667028894067391},4.3422629474913776,5.4667028894067391,{"$f":"IF(B34=\"\",\"\",RANK(K34,K$29:K$48,1)+COUNTIF(K34:K$48,K34)-1)","v":2},6,78.571428571428569,0.75,0.67448975019608193,0.78966895749999999,0.67448975019608193,0.78966895749999999,43252,3.9,4.3422629474913776,5.4667028894067391,-0.4422629475,-1.2319319049999999,{"$f":"IF(C34=\"\",\"\",IF(AD34>=0,OFFSET(HiddenNormal1!K$3,A34,AJ$4-1,1,1),0))","v":0},0,null,null,null,null,null,"Correlation, R",{"$f":"SQRT(RSQ(V29:V48,U29:U48))","v":0.9428260454661741}]
[7,{"$f":"IF(Data_Input!D13=\"\",\"\",Data_Input!D13)","v":43282},{"$f":"IF(Data_Input!E13=\"\",\"\",HiddenInput!R13)","v":4},1873331524,173128,16,8229.0816326524946,0.4508163265306126,-60.908163265304054,4.1796164038988763,-0.1796164039,3.2262052549967932E-2,{"$f":"IF(C35=\"\",\"\",J35-SQRT(2*AM$46*FINV((1-Data_Input!B$15)*2,2,AJ$4-2)*(1/AJ$4+G35/((AJ$4-1)*AI$33^2))))","v":2.7482065094524764},{"$f":"IF(C35=\"\",\"\",J35+SQRT(2*AM$46*FINV((1-Data_Input!B$15)*2,2,AJ$4-2)*(1/AJ$4+G35/((AJ$4-1)*AI$33^2))))","v":5.6110262983452763},4.1796164038988763,5.6110262983452763,{"$f":"IF(B35=\"\",\"\",RANK(K35,K$29:K$48,1)+COUNTIF(K35:K$48,K35)-1)","v":4},7,92.857142857142861,0.875,1.1503493803760083,1.1071508780999999,1.1503493803760083,1.1071508780999999,43282,4,4.1796164038988763,5.6110262983452763,-0.8609172169,-1.968068095,{"$f":"IF(C35=\"\",\"\",IF(AD35>=0,OFFSET(HiddenNormal1!K$3,A35,AJ$4-1,1,1),0))","v":0},0,null,null,null,null,null,"Exact Shapiro-Wilk test value",{"$f":"(AM30/(STDEV(V29:V48)*SQRT(AJ30-1)))^2","v":0.89144483208453607}]
[8,{"$f":"IF(Data_Input!D14=\"\",\"\",Data_Input!D14)","v":""},{"$f":"IF(Data_Input!E14=\"\",\"\",HiddenInput!R14)","v":""},"","","","","","","","","",{"$f":"IF(C36=\"\",\"\",J36-SQRT(2*AM$46*FINV((1-Data_Input!B$15)*2,2,AJ$4-2)*(1/AJ$4+G36/((AJ$4-1)*AI$33^2))))","v":""},{"$f":"IF(C36=\"\",\"\",J36+SQRT(2*AM$46*FINV((1-Data_Input!B$15)*2,2,AJ$4-2)*(1/AJ$4+G36/((AJ$4-1)*AI$33^2))))","v":""},"","",{"$f":"IF(B36=\"\",\"\",RANK(K36,K$29:K$48,1)+COUNTIF(K36:K$48,K36)-1)","v":""},"","","","","",{"$error":"#N/A"},{"$error":"#N/A"},{"$error":"#N/A"},{"$error":"#N/A"},{"$error":"#N/A"},{"$error":"#N/A"},"","",{"$f":"IF(C36=\"\",\"\",IF(AD36>=0,OFFSET(HiddenNormal1!K$3,A36,AJ$4-1,1,1),0))","v":""},"",null,null,null,null,null,"Critical Value",{"$f":"VLOOKUP(AJ30,HiddenNormal1!K$27:N$44,MATCH(AM31,HiddenNormal1!L$26:N$26,0)+1,0)","v":0.83799999999999997}]
[9,{"$f":"IF(Data_Input!D15=\"\",\"\",Data_Input!D15)","v":""},{"$f":"IF(Data_Input!E15=\"\",\"\",HiddenInput!R15)","v":""},"","","","","","","","","",{"$f":"IF(C37=\"\",\"\",J37-SQRT(2*AM$46*FINV((1-Data_Input!B$15)*2,2,AJ$4-2)*(1/AJ$4+G37/((AJ$4-1)*AI$33^2))))","v":""},{"$f":"IF(C37=\"\",\"\",J37+SQRT(2*AM$46*FINV((1-Data_Input!B$15)*2,2,AJ$4-2)*(1/AJ$4+G37/((AJ$4-1)*AI$33^2))))","v":""},"","",{"$f":"IF(B37=\"\",\"\",RANK(K37,K$29:K$48,1)+COUNTIF(K37:K$48,K37)-1)","v":""},"","","","","",{"$error":"#N/A"},{"$error":"#N/A"},{"$error":"#N/A"},{"$error":"#N/A"},{"$error":"#N/A"},{"$error":"#N/A"},"","",{"$f":"IF(C37=\"\",\"\",IF(AD37>=0,OFFSET(HiddenNormal1!K$3,A37,AJ$4-1,1,1),0))","v":""},"",null,null,null,null,null,"Fit normal?",{"$f":"IF(AM35<AM36,\"No\", \"Yes\")","v":"Yes"}]
[10,{"$f":"IF(Data_Input!D16=\"\",\"\",Data_Input!D16)","v":""},{"$f":"IF(Data_Input!E16=\"\",\"\",HiddenInput!R16)","v":""},"","","","","","","","","",{"$f":"IF(C38=\"\",\"\",J38-SQRT(2*AM$46*FINV((1-Data_Input!B$15)*2,2,AJ$4-2)*(1/AJ$4+G38/((AJ$4-1)*AI$33^2))))","v":""},{"$f":"IF(C38=\"\",\"\",J38+SQRT(2*AM$46*FINV((1-Data_Input!B$15)*2,2,AJ$4-2)*(1/AJ$4+G38/((AJ$4-1)*AI$33^2))))","v":""},"","",{"$f":"IF(B38=\"\",\"\",RANK(K38,K$29:K$48,1)+COUNTIF(K38:K$48,K38)-1)","v":""},"","","","","",{"$error":"#N/A"},{"$error":"#N/A"},{"$error":"#N/A"},{"$error":"#N/A"},{"$error":"#N/A"},{"$error":"#N/A"},"","",{"$f":"IF(C38=\"\",\"\",IF(AD38>=0,OFFSET(HiddenNormal1!K$3,A38,AJ$4-1,1,1),0))","v":""},"",null,null,null,null,null,"Negative conc?",{"$f":"IF(COUNTIF(O29:P48,\"<0\")>0,\"Yes\",\"No\")","v":"No"}]
[11,{"$f":"IF(Data_Input!D17=\"\",\"\",Data_Input!D17)","v":""},{"$f":"IF(Data_Input!E17=\"\",\"\",HiddenInput!R17)","v":""},"","","","","","","","","",{"$f":"IF(C39=\"\",\"\",J39-SQRT(2*AM$46*FINV((1-Data_Input!B$15)*2,2,AJ$4-2)*(1/AJ$4+G39/((AJ$4-1)*AI$33^2))))","v":""},{"$f":"IF(C39=\"\",\"\",J39+SQRT(2*AM$46*FINV((1-Data_Input!B$15)*2,2,AJ$4-2)*(1/AJ$4+G39/((AJ$4-1)*AI$33^2))))","v":""},"","",{"$f":"IF(B39=\"\",\"\",RANK(K39,K$29:K$48,1)+COUNTIF(K39:K$48,K39)-1)","v":""},"","","","","",{"$error":"#N/A"},{"$error":"#N/A"},{"$error":"#N/A"},{"$error":"#N/A"},{"$error":"#N/A"},{"$error":"#N/A"},"","",{"$f":"IF(C39=\"\",\"\",IF(AD39>=0,OFFSET(HiddenNormal1!K$3,A39,AJ$4-1,1,1),0))","v":""},""]
[12,{"$f":"IF(Data_Input!D18=\"\",\"\",Data_Input!D18)","v":""},{"$f":"IF(Data_Input!E18=\"\",\"\",HiddenInput!R18)","v":""},"","","","","","","","","",{"$f":"IF(C40=\"\",\"\",J40-SQRT(2*AM$46*FINV((1-Data_Input!B$15)*2,2,AJ$4-2)*(1/AJ$4+G40/((AJ$4-1)*AI$33^2))))","v":""},{"$f":"IF(C40=\"\",\"\",J40+SQRT(2*AM$46*FINV((1-Data_Input!B$15)*2,2,AJ$4-2)*(1/AJ$4+G40/((AJ$4-1)*AI$33^2))))","v":""},"","",{"$f":"IF(B40=\"\",\"\",RANK(K40,K$29:K$48,1)+COUNTIF(K40:K$48,K40)-1)","v":""},"","","","","",{"$error":"#N/A"},{"$error":"#N/A"},{"$error":"#N/A"},{"$error":"#N/A"},{"$error":"#N/A"},{"$error":"#N/A"},"","",{"$f":"IF(C40=\"\",\"\",IF(AD40>=0,OFFSET(HiddenNormal1!K$3,A40,AJ$4-1,1,1),0))","v":""},"",null,null,null,null,null,"Regression Statistics","Value"]
[13,{"$f":"IF(Data_Input!D19=\"\",\"\",Data_Input!D19)","v":""},{"$f":"IF(Data_Input!E19=\"\",\"\",HiddenInput!R19)","v":""},"","","","","","","","","",{"$f":"IF(C41=\"\",\"\",J41-SQRT(2*AM$46*FINV((1-Data_Input!B$15)*2,2,AJ$4-2)*(1/AJ$4+G41/((AJ$4-1)*AI$33^2))))","v":""},{"$f":"IF(C41=\"\",\"\",J41+SQRT(2*AM$46*FINV((1-Data_Input!B$15)*2,2,AJ$4-2)*(1/AJ$4+G41/((AJ$4-1)*AI$33^2))))","v":""},"","",{"$f":"IF(B41=\"\",\"\",RANK(K41,K$29:K$48,1)+COUNTIF(K41:K$48,K41)-1)","v":""},"","","","","",{"$error":"#N/A"},{"$error":"#N/A"},{"$error":"#N/A"},{"$error":"#N/A"},{"$error":"#N/A"},{"$error":"#N/A"},"","",{"$f":"IF(C41=\"\",\"\",IF(AD41>=0,OFFSET(HiddenNormal1!K$3,A41,AJ$4-1,1,1),0))","v":""},"",null,null,null,null,null,"Sxx",{"$f":"G49","v":25443.428571428569}]
[14,{"$f":"IF(Data_Input!D20=\"\",\"\",Data_Input!D20)","v":""},{"$f":"IF(Data_Input!E20=\"\",\"\",HiddenInput!R20)","v":""},"","","","","","","","","",{"$f":"IF(C42=\"\",\"\",J42-SQRT(2*AM$46*FINV((1-Data_Input!B$15)*2,2,AJ$4-2)*(1/AJ$4+G42/((AJ$4-1)*AI$33^2))))","v":""},{"$f":"IF(C42=\"\",\"\",J42+SQRT(2*AM$46*FINV((1-Data_Input!B$15)*2,2,AJ$4-2)*(1/AJ$4+G42/((AJ$4-1)*AI$33^2))))","v":""},"","",{"$f":"IF(B42=\"\",\"\",RANK(K42,K$29:K$48,1)+COUNTIF(K42:K$48,K42)-1)","v":""},"","","","","",{"$error":"#N/A"},{"$error":"#N/A"},{"$error":"#N/A"},{"$error":"#N/A"},{"$error":"#N/A"},{"$error":"#N/A"},"","",{"$f":"IF(C42=\"\",\"\",IF(AD42>=0,OFFSET(HiddenNormal1!K$3,A42,AJ$4-1,1,1),0))","v":""},"",null,null,null,null,null,"Sxy",{"$f":"I49","v":-137.94285714285712}]
[15,{"$f":"IF(Data_Input!D21=\"\",\"\",Data_Input!D21)","v":""},{"$f":"IF(Data_Input!E21=\"\",\"\",HiddenInput!R21)","v":""},"","","","","","","","","",{"$f":"IF(C43=\"\",\"\",J43-SQRT(2*AM$46*FINV((1-Data_Input!B$15)*2,2,AJ$4-2)*(1/AJ$4+G43/((AJ$4-1)*AI$33^2))))","v":""},{"$f":"IF(C43=\"\",\"\",J43+SQRT(2*AM$46*FINV((1-Data_Input!B$15)*2,2,AJ$4-2)*(1/AJ$4+G43/((AJ$4-1)*AI$33^2))))","v":""},"","",{"$f":"IF(B43=\"\",\"\",RANK(K43,K$29:K$48,1)+COUNTIF(K43:K$48,K43)-1)","v":""},"","","","","",{"$error":"#N/A"},{"$error":"#N/A"},{"$error":"#N/A"},{"$error":"#N/A"},{"$error":"#N/A"},{"$error":"#N/A"},"","",{"$f":"IF(C43=\"\",\"\",IF(AD43>=0,OFFSET(HiddenNormal1!K$3,A43,AJ$4-1,1,1),0))","v":""},"",null,null,null,null,null,"Syy",{"$f":"H49","v":3.654285714285713}]
[16,{"$f":"IF(Data_Input!D22=\"\",\"\",Data_Input!D22)","v":""},{"$f":"IF(Data_Input!E22=\"\",\"\",HiddenInput!R22)","v":""},"","","","","","","","","",{"$f":"IF(C44=\"\",\"\",J44-SQRT(2*AM$46*FINV((1-Data_Input!B$15)*2,2,AJ$4-2)*(1/AJ$4+G44/((AJ$4-1)*AI$33^2))))","v":""},{"$f":"IF(C44=\"\",\"\",J44+SQRT(2*AM$46*FINV((1-Data_Input!B$15)*2,2,AJ$4-2)*(1/AJ$4+G44/((AJ$4-1)*AI$33^2))))","v":""},"","",{"$f":"IF(B44=\"\",\"\",RANK(K44,K$29:K$48,1)+COUNTIF(K44:K$48,K44)-1)","v":""},"","","","","",{"$error":"#N/A"},{"$error":"#N/A"},{"$error":"#N/A"},{"$error":"#N/A"},{"$error":"#N/A"},{"$error":"#N/A"},"","",{"$f":"IF(C44=\"\",\"\",IF(AD44>=0,OFFSET(HiddenNormal1!K$3,A44,AJ$4-1,1,1),0))","v":""},"",null,null,null,null,null,"slope (b)",{"$f":"AM42/AM41","v":-5.4215514530835916E-3}]
[17,{"$f":"IF(Data_Input!D23=\"\",\"\",Data_Input!D23)","v":""},{"$f":"IF(Data_Input!E23=\"\",\"\",HiddenInput!R23)","v":""},"","","","","","","","","",{"$f":"IF(C45=\"\",\"\",J45-SQRT(2*AM$46*FINV((1-Data_Input!B$15)*2,2,AJ$4-2)*(1/AJ$4+G45/((AJ$4-1)*AI$33^2))))","v":""},{"$f":"IF(C45=\"\",\"\",J45+SQRT(2*AM$46*FINV((1-Data_Input!B$15)*2,2,AJ$4-2)*(1/AJ$4+G45/((AJ$4-1)*AI$33^2))))","v":""},"","",{"$f":"IF(B45=\"\",\"\",RANK(K45,K$29:K$48,1)+COUNTIF(K45:K$48,K45)-1)","v":""},"","","","","",{"$error":"#N/A"},{"$error":"#N/A"},{"$error":"#N/A"},{"$error":"#N/A"},{"$error":"#N/A"},{"$error":"#N/A"},"","",{"$f":"IF(C45=\"\",\"\",IF(AD45>=0,OFFSET(HiddenNormal1!K$3,A45,AJ$4-1,1,1),0))","v":""},"",null,null,null,null,null,"y intercept",{"$f":"C50-AM44*B50","v":238.83520639626289}]
[18,{"$f":"IF(Data_Input!D24=\"\",\"\",Data_Input!D24)","v":""},{"$f":"IF(Data_Input!E24=\"\",\"\",HiddenInput!R24)","v":""},"","","","","","","","","",{"$f":"IF(C46=\"\",\"\",J46-SQRT(2*AM$46*FINV((1-Data_Input!B$15)*2,2,AJ$4-2)*(1/AJ$4+G46/((AJ$4-1)*AI$33^2))))","v":""},{"$f":"IF(C46=\"\",\"\",J46+SQRT(2*AM$46*FINV((1-Data_Input!B$15)*2,2,AJ$4-2)*(1/AJ$4+G46/((AJ$4-1)*AI$33^2))))","v":""},"","",{"$f":"IF(B46=\"\",\"\",RANK(K46,K$29:K$48,1)+COUNTIF(K46:K$48,K46)-1)","v":""},"","","","","",{"$error":"#N/A"},{"$error":"#N/A"},{"$error":"#N/A"},{"$error":"#N/A"},{"$error":"#N/A"},{"$error":"#N/A"},"","",{"$f":"IF(C46=\"\",\"\",IF(AD46>=0,OFFSET(HiddenNormal1!K$3,A46,AJ$4-1,1,1),0))","v":""},"",null,null,null,null,null,"MSE",{"$f":"L49/(AI30-2)","v":0.58128428333421811}]
[19,{"$f":"IF(Data_Input!D25=\"\",\"\",Data_Input!D25)","v":""},{"$f":"IF(Data_Input!E25=\"\",\"\",HiddenInput!R25)","v":""},"","","","","","","","","",{"$f":"IF(C47=\"\",\"\",J47-SQRT(2*AM$46*FINV((1-Data_Input!B$15)*2,2,AJ$4-2)*(1/AJ$4+G47/((AJ$4-1)*AI$33^2))))","v":""},{"$f":"IF(C47=\"\",\"\",J47+SQRT(2*AM$46*FINV((1-Data_Input!B$15)*2,2,AJ$4-2)*(1/AJ$4+G47/((AJ$4-1)*AI$33^2))))","v":""},"","",{"$f":"IF(B47=\"\",\"\",RANK(K47,K$29:K$48,1)+COUNTIF(K47:K$48,K47)-1)","v":""},"","","","","",{"$error":"#N/A"},{"$error":"#N/A"},{"$error":"#N/A"},{"$error":"#N/A"},{"$error":"#N/A"},{"$error":"#N/A"},"","",{"$f":"IF(C47=\"\",\"\",IF(AD47>=0,OFFSET(HiddenNormal1!K$3,A47,AJ$4-1,1,1),0))","v":""},"",null,null,null,null,null,"SE",{"$f":"SQRT(AM46/G49)","v":4.7797642178683299E-3}]
[20,{"$f":"IF(Data_Input!D26=\"\",\"\",Data_Input!D26)","v":""},{"$f":"IF(Data_Input!E26=\"\",\"\",HiddenInput!R26)","v":""},"","","","","","","","","",{"$f":"IF(C48=\"\",\"\",J48-SQRT(2*AM$46*FINV((1-Data_Input!B$15)*2,2,AJ$4-2)*(1/AJ$4+G48/((AJ$4-1)*AI$33^2))))","v":""},{"$f":"IF(C48=\"\",\"\",J48+SQRT(2*AM$46*FINV((1-Data_Input!B$15)*2,2,AJ$4-2)*(1/AJ$4+G48/((AJ$4-1)*AI$33^2))))","v":""},"","",{"$f":"IF(B48=\"\",\"\",RANK(K48,K$29:K$48,1)+COUNTIF(K48:K$48,K48)-1)","v":""},"","","","","",{"$error":"#N/A"},{"$error":"#N/A"},{"$error":"#N/A"},{"$error":"#N/A"},{"$error":"#N/A"},{"$error":"#N/A"},"","",{"$f":"IF(C48=\"\",\"\",IF(AD48>=0,OFFSET(HiddenNormal1!K$3,A48,AJ$4-1,1,1),0))","v":""},"",null,null,null,null,null,"tb",{"$f":"AM44/AM47","v":-1.1342717351655234}]
["Sum",{"$f":"SUM(B29:B48)","v":302339},32.700000000000003,13058435575,1412217.1,156.41,25443.428571428569,3.654285714285713,-137.94285714285712,null,null,{"$f":"SUM(L29:L48)","v":2.9064214166710904}]
["Mean",{"$f":"IF(COUNT(B29:B48)>0,B49/COUNT(B29:B48),\"\")","v":43191.285714285717},{"$f":"IF(COUNT(C29:C48)>0,C49/COUNT(C29:C48),\"\")","v":4.6714285714285717}]

{"sheet":"HiddenInput","index":12,"n_rows":27,"n_cols":35,"rows_kept":27,"cut":false,"hidden":true,"merged":[[5,3,5,7],[4,8,4,11],[4,12,4,15]]}
["Number of samples",{"$f":"NPoints","v":7},null,null,null,null,null,null,null,null,null,null,null,null,null,null,null,null,null,null,"use these 3 values to make the short lines for the mean, UCL, and cleanup level"]
["Random Seed",{"$f":"RandomSeed","v":62311.421880000002},null,null,null,null,null,null,null,null,null,null,null,null,null,null,null,null,null,null,"UCL X-axis"]
[null,null,null,null,null,null,null,null,null,null,null,null,null,null,null,null,null,null,null,null,0.45]
[null,null,null,null,null,null,null,null,null,null,null,null,null,null,null,null,null,null,null,null,0.5,null,null,null,null,null,null,null,null,null,"Sorted data"]
[null,null,null,null,null,null,null,null,"For charting purposes",null,null,null,"For calcuation purposes",null,null,null,null,null,null,null,0.55000000000000004,null,null,null,null,null,null,null,null,null,null,null,null,null,"Raw times"]
[{"$f":"Data_Input!D4","v":"Date (Date)"},{"$f":"Data_Input!E4","v":"VC Conc. \n(ug/L)"},{"$f":"Data_Input!G4","v":"Detected? (Yes or No)"},"Check Input",null,null,null,null,"Detected Date","Detected Concentration","Nondetect Date","Detection Limit","Detected Date","Detected Concentration","Nondetect Date","Detection Limit","Imputed Values for NDs","Data Set Including Imputed Values","ND=DL Concentration for Trend Analysis","Regulatory Level","UCL X-axis","Max","Min","Mean-Normal","Mean-NP","Mean-NP-ND","UCL-Normal","UCL-NP","UCL-NP-ND",null,"Conc","Detected1","Detected2",null,"Used in bootstrap"]
[{"$f":"IF(DateInput=\"\",NA(),DateInput)","v":43101},{"$f":"IF(ConcInput=\"\",\"\",ConcInput)","v":4.3},{"$f":"IF(DetInput=\"\",\"\",DetInput)","v":"Yes"},{"$f":"IF(ISNA(A7),0,1)","v":1},{"$f":"IF(B7=\"\",0,1)","v":1},{"$f":"IF(C7=\"\",0,1)","v":1},{"$f":"IF(ISNA(A8),0,IF(A8=\"\",0,IF(ISNA(A7),1,IF(A7>=A8,1,0))))","v":0},{"$f":"IF(OR(SUM(D7:F7)=3,SUM(D7:F7)=0),0,1)+G7","v":0},{"$f":"IF(DetInput=\"Yes\",DateInput,NA())","v":43101},{"$f":"IF(DetInput=\"Yes\",ConcInput,NA())","v":4.3},{"$f":"IF(DetInput=\"No\",DateInput,NA())","v":{"$error":"#N/A"}},{"$f":"IF(DetInput=\"No\",ConcInput,NA())","v":{"$error":"#N/A"}},{"$f":"IF(DetInput=\"Yes\",DateInput,\"\")","v":43101},{"$f":"IF(DetInput=\"Yes\",ConcInput,\"\")","v":4.3},{"$f":"IF(DetInput=\"No\",DateInput,\"\")","v":""},{"$f":"IF(DetInput=\"No\",ConcImputeds,\"\")","v":""},null,{"$f":"IF(DetInput=\"\",\"\",IF(DetInput=\"Yes\",ConcInput,ImpValues))","v":4.3},{"$f":"IF(DetInput=\"\",\"\",ConcInput)","v":4.3},{"$f":"Data_Input!$B$16","v":5},0.5,{"$f":"MAX($B$7:$B$26)","v":6.1},{"$f":"MIN($B$7:$B$26)","v":3.9},{"$f":"'UCL-Normal'!$B$14","v":4.67},{"$f":"'UCL-NP'!B$14","v":4.67},{"$f":"'UCL-NP-ND'!B$16","v":27.9},{"$f":"'UCL-Normal'!B$17","v":5.24},{"$f":"'UCL-NP'!B$16","v":5.96},{"$f":"'UCL-NP-ND'!$B$18","v":55.7},null,0.85,"Yes",{"$f":"IF(AF7=\"\",\"\",IF(AF7=\"Yes\",1,0))","v":1},null,{"$f":"IF(Data_Input!D7=\"\",\"\",Data_Input!D7)","v":43101}]
[43132,6.1,"Yes",1,{"$f":"IF(B8=\"\",0,1)","v":1},{"$f":"IF(C8=\"\",0,1)","v":1},{"$f":"IF(ISNA(A9),0,IF(A9=\"\",0,IF(ISNA(A8),1,IF(A8>=A9,1,0))))","v":0},0,43132,6.1,{"$error":"#N/A"},{"$error":"#N/A"},43132,6.1,"","",null,6.1,6.1,{"$f":"Data_Input!$B$16","v":5},0.5,{"$f":"MAX($B$7:$B$26)","v":6.1},{"$f":"MIN($B$7:$B$26)","v":3.9},{"$f":"'UCL-Normal'!$B$14","v":4.67},{"$f":"'UCL-NP'!B$14","v":4.67},{"$f":"'UCL-NP-ND'!B$16","v":27.9},{"$f":"'UCL-Normal'!B$17","v":5.24},{"$f":"'UCL-NP'!B$16","v":5.96},{"$f":"'UCL-NP-ND'!$B$18","v":55.7},null,1.4,"Yes",{"$f":"IF(AF8=\"\",\"\",IF(AF8=\"Yes\",1,0))","v":1},null,{"$f":"IF(Data_Input!D8=\"\",\"\",Data_Input!D8)","v":43132}]
[43160,4.5999999999999996,"Yes",1,1,1,0,0,43160,4.5999999999999996,{"$error":"#N/A"},{"$error":"#N/A"},43160,4.5999999999999996,"","",null,4.5999999999999996,4.5999999999999996,{"$f":"Data_Input!$B$16","v":5},0.5,{"$f":"MAX($B$7:$B$26)","v":6.1},{"$f":"MIN($B$7:$B$26)","v":3.9},{"$f":"'UCL-Normal'!$B$14","v":4.67},{"$f":"'UCL-NP'!B$14","v":4.67},{"$f":"'UCL-NP-ND'!B$16","v":27.9},{"$f":"'UCL-Normal'!B$17","v":5.24},{"$f":"'UCL-NP'!B$16","v":5.96},{"$f":"'UCL-NP-ND'!$B$18","v":55.7},null,2.1,"Yes",1,null,{"$f":"IF(Data_Input!D9=\"\",\"\",Data_Input!D9)","v":43160}]
[43191,4.5,"Yes",1,1,1,0,0,43191,4.5,{"$error":"#N/A"},{"$error":"#N/A"},43191,4.5,"","",null,4.5,4.5,{"$f":"Data_Input!$B$16","v":5},0.5,null,null,null,null,null,null,null,null,null,3.3,"Yes",1,null,{"$f":"IF(Data_Input!D10=\"\",\"\",Data_Input!D10)","v":43191}]
[43221,5.3,"Yes",1,1,1,0,0,43221,5.3,{"$error":"#N/A"},{"$error":"#N/A"},43221,5.3,"","",null,5.3,5.3,{"$f":"Data_Input!$B$16","v":5},0.5,null,null,null,null,null,null,null,null,null,3.9,"Yes",1,null,{"$f":"IF(Data_Input!D11=\"\",\"\",Data_Input!D11)","v":43221}]
[43252,3.9,"Yes",1,1,1,0,0,43252,3.9,{"$error":"#N/A"},{"$error":"#N/A"},43252,3.9,"","",null,3.9,3.9,{"$f":"Data_Input!$B$16","v":5},0.5,null,null,null,null,null,null,null,null,null,4.3,"Yes",1,null,{"$f":"IF(Data_Input!D12=\"\",\"\",Data_Input!D12)","v":43252}]
[43282,4,"Yes",1,1,1,0,0,43282,4,{"$error":"#N/A"},{"$error":"#N/A"},43282,4,"","",null,4,4,{"$f":"Data_Input!$B$16","v":5},0.5,null,null,null,null,null,null,null,null,null,4.5,"Yes",1,null,{"$f":"IF(Data_Input!D13=\"\",\"\",Data_Input!D13)","v":43282}]
[{"$error":"#N/A"},"","",0,0,0,0,0,{"$error":"#N/A"},{"$error":"#N/A"},{"$error":"#N/A"},{"$error":"#N/A"},"","","","",null,"","",{"$f":"Data_Input!$B$16","v":5},0.5,null,null,null,null,null,null,null,null,null,4.5999999999999996,"Yes",1,null,{"$f":"IF(Data_Input!D14=\"\",\"\",Data_Input!D14)","v":""}]
[{"$error":"#N/A"},"","",0,0,0,0,0,{"$error":"#N/A"},{"$error":"#N/A"},{"$error":"#N/A"},{"$error":"#N/A"},"","","","",null,"","",{"$f":"Data_Input!$B$16","v":5},0.5,null,null,null,null,null,null,null,null,null,5.3,"Yes",1,null,{"$f":"IF(Data_Input!D15=\"\",\"\",Data_Input!D15)","v":""}]
[{"$error":"#N/A"},"","",0,0,0,0,0,{"$error":"#N/A"},{"$error":"#N/A"},{"$error":"#N/A"},{"$error":"#N/A"},"","","","",null,"","",{"$f":"Data_Input!$B$16","v":5},0.5,null,null,null,null,null,null,null,null,null,6.1,"Yes",1,null,{"$f":"IF(Data_Input!D16=\"\",\"\",Data_Input!D16)","v":""}]
[{"$error":"#N/A"},"","",0,0,0,0,0,{"$error":"#N/A"},{"$error":"#N/A"},{"$error":"#N/A"},{"$error":"#N/A"},"","","","",1.68,"","",{"$f":"Data_Input!$B$16","v":5},0.5,null,null,null,null,null,null,null,null,null,"","","",null,{"$f":"IF(Data_Input!D17=\"\",\"\",Data_Input!D17)","v":""}]
[{"$error":"#N/A"},"","",0,0,0,0,0,{"$error":"#N/A"},{"$error":"#N/A"},{"$error":"#N/A"},{"$error":"#N/A"},"","","","",null,"","",{"$f":"Data_Input!$B$16","v":5},0.5,null,null,null,null,null,null,null,null,null,"","","",null,{"$f":"IF(Data_Input!D18=\"\",\"\",Data_Input!D18)","v":""}]
[{"$error":"#N/A"},"","",{"$f":"IF(ISNA(A19),0,1)","v":0},0,0,0,0,{"$error":"#N/A"},{"$error":"#N/A"},{"$error":"#N/A"},{"$error":"#N/A"},"","","","",null,"","",{"$f":"Data_Input!$B$16","v":5},0.5,null,null,null,null,null,null,null,null,null,"","","",null,{"$f":"IF(Data_Input!D19=\"\",\"\",Data_Input!D19)","v":""}]
[{"$error":"#N/A"},"","",{"$f":"IF(ISNA(A20),0,1)","v":0},0,0,0,0,{"$error":"#N/A"},{"$error":"#N/A"},{"$error":"#N/A"},{"$error":"#N/A"},"","","","",null,"","",{"$f":"Data_Input!$B$16","v":5},0.5,null,null,null,null,null,null,null,null,null,"","","",null,{"$f":"IF(Data_Input!D20=\"\",\"\",Data_Input!D20)","v":""}]
[{"$error":"#N/A"},"","",0,0,0,0,0,{"$error":"#N/A"},{"$error":"#N/A"},{"$error":"#N/A"},{"$error":"#N/A"},"","","","",null,"","",{"$f":"Data_Input!$B$16","v":5},0.5,null,null,null,null,null,null,null,null,null,"","","",null,{"$f":"IF(Data_Input!D21=\"\",\"\",Data_Input!D21)","v":""}]
[{"$error":"#N/A"},"","",0,0,0,0,0,{"$error":"#N/A"},{"$error":"#N/A"},{"$error":"#N/A"},{"$error":"#N/A"},"","","","",null,"","",{"$f":"Data_Input!$B$16","v":5},0.5,null,null,null,null,null,null,null,null,null,"","","",null,{"$f":"IF(Data_Input!D22=\"\",\"\",Data_Input!D22)","v":""}]
[{"$error":"#N/A"},"","",0,0,0,0,0,{"$error":"#N/A"},{"$error":"#N/A"},{"$error":"#N/A"},{"$error":"#N/A"},"","","","",null,"","",{"$f":"Data_Input!$B$16","v":5},0.5,null,null,null,null,null,null,null,null,null,"","","",null,{"$f":"IF(Data_Input!D23=\"\",\"\",Data_Input!D23)","v":""}]
[{"$error":"#N/A"},"","",0,0,0,0,0,{"$error":"#N/A"},{"$error":"#N/A"},{"$error":"#N/A"},{"$error":"#N/A"},"","","","",null,"","",{"$f":"Data_Input!$B$16","v":5},0.5,null,null,null,null,null,null,null,null,null,"","","",null,{"$f":"IF(Data_Input!D24=\"\",\"\",Data_Input!D24)","v":""}]
[{"$error":"#N/A"},"","",0,0,0,0,0,{"$error":"#N/A"},{"$error":"#N/A"},{"$error":"#N/A"},{"$error":"#N/A"},"","","","",null,"","",{"$f":"Data_Input!$B$16","v":5},0.5,null,null,null,null,null,null,null,null,null,"","","",null,{"$f":"IF(Data_Input!D25=\"\",\"\",Data_Input!D25)","v":""}]
[{"$error":"#N/A"},"","",0,0,0,0,0,{"$error":"#N/A"},{"$error":"#N/A"},{"$error":"#N/A"},{"$error":"#N/A"},"","","","",null,"","",{"$f":"Data_Input!$B$16","v":5},0.5,null,null,null,null,null,null,null,null,null,"","","",null,{"$f":"IF(Data_Input!D26=\"\",\"\",Data_Input!D26)","v":""}]
[{"$f":"IF(Normality!D14=\"Appears Normal\",'Trend-Normal'!B27,'Trend-NP'!B27)","v":{"$error":"#N/A"}},null,null,0,null,null,null,null,null,null,null,null,null,null,null,null,null,null,null,{"$f":"Data_Input!$B$16","v":5}]

{"sheet":"HiddenOutliers","index":13,"n_rows":20,"n_cols":33,"rows_kept":20,"cut":false,"hidden":true,"merged":[[0,10,0,18],[0,1,0,9],[0,19,0,22],[0,23,0,26],[0,27,0,30]]}
[null,"Low outlier terms",null,null,null,null,null,null,null,null,"High outlier terms",null,null,null,null,null,null,null,null,"Critical values",null,null,null,"Comparisons - low outlier",null,null,null,"Comparisons - high outlier",null,null,null,"Step1","Step2"]
["n","i(Num1)","i(Num2)","i(Den1)","i(Den2)","Num1","Num2","Den1","Den2","Test Statistic","i(Num1)","i(Num2)","i(Den1)","i(Den2)","Num1","Num2","Den1","Den2","Test Statistic",5.0000000000000001E-3,0.01,0.05,0.1,5.0000000000000001E-3,0.01,0.05,0.1,5.0000000000000001E-3,0.01,0.05,0.1]
[3,2,1,{"$f":"A3-AG3","v":3},1,{"$f":"VLOOKUP(B3,HiddenNormal2!$A$7:$E$26,5)","v":4},{"$f":"VLOOKUP(C3,HiddenNormal2!$A$7:$E$26,5)","v":3.9},{"$f":"VLOOKUP(D3,HiddenNormal2!$A$7:$E$26,5)","v":4.3},{"$f":"VLOOKUP(E3,HiddenNormal2!$A$7:$E$26,5)","v":3.9},{"$f":"(F3-G3)/(H3-I3)","v":0.25000000000000028},{"$f":"A3","v":3},{"$f":"A3-AF3","v":2},{"$f":"A3","v":3},1,{"$f":"VLOOKUP(K3,HiddenNormal2!$A$7:$E$26,5)","v":4.3},{"$f":"VLOOKUP(L3,HiddenNormal2!$A$7:$E$26,5)","v":4},{"$f":"VLOOKUP(M3,HiddenNormal2!$A$7:$E$26,5)","v":4.3},{"$f":"VLOOKUP(N3,HiddenNormal2!$A$7:$E$26,5)","v":3.9},{"$f":"(O3-P3)/(Q3-R3)","v":0.74999999999999967},0.99399999999999999,0.98799999999999999,0.94099999999999995,0.88600000000000001,{"$f":"IF($J3>T3,\"Yes\",\"No\")","v":"No"},{"$f":"IF($J3>U3,\"Yes\",\"No\")","v":"No"},{"$f":"IF($J3>V3,\"Yes\",\"No\")","v":"No"},{"$f":"IF($J3>W3,\"Yes\",\"No\")","v":"No"},{"$f":"IF($S3>T3,\"Yes\",\"No\")","v":"No"},{"$f":"IF($S3>U3,\"Yes\",\"No\")","v":"No"},{"$f":"IF($S3>V3,\"Yes\",\"No\")","v":"No"},{"$f":"IF($S3>W3,\"Yes\",\"No\")","v":"No"},1,0]
[4,2,1,{"$f":"A4-AG4","v":4},1,{"$f":"VLOOKUP(B4,HiddenNormal2!$A$7:$E$26,5)","v":4},{"$f":"VLOOKUP(C4,HiddenNormal2!$A$7:$E$26,5)","v":3.9},{"$f":"VLOOKUP(D4,HiddenNormal2!$A$7:$E$26,5)","v":4.5},{"$f":"VLOOKUP(E4,HiddenNormal2!$A$7:$E$26,5)","v":3.9},{"$f":"(F4-G4)/(H4-I4)","v":0.1666666666666668},{"$f":"A4","v":4},{"$f":"A4-AF4","v":3},{"$f":"A4","v":4},1,{"$f":"VLOOKUP(K4,HiddenNormal2!$A$7:$E$26,5)","v":4.5},{"$f":"VLOOKUP(L4,HiddenNormal2!$A$7:$E$26,5)","v":4.3},{"$f":"VLOOKUP(M4,HiddenNormal2!$A$7:$E$26,5)","v":4.5},{"$f":"VLOOKUP(N4,HiddenNormal2!$A$7:$E$26,5)","v":3.9},{"$f":"(O4-P4)/(Q4-R4)","v":0.33333333333333359},0.92600000000000005,0.88900000000000001,0.76500000000000001,0.67900000000000005,{"$f":"IF($J4>T4,\"Yes\",\"No\")","v":"No"},"No","No","No",{"$f":"IF($S4>T4,\"Yes\",\"No\")","v":"No"},"No","No","No",1,0]
[5,2,1,5,1,{"$f":"VLOOKUP(B5,HiddenNormal2!$A$7:$E$26,5)","v":4},{"$f":"VLOOKUP(C5,HiddenNormal2!$A$7:$E$26,5)","v":3.9},{"$f":"VLOOKUP(D5,HiddenNormal2!$A$7:$E$26,5)","v":4.5999999999999996},{"$f":"VLOOKUP(E5,HiddenNormal2!$A$7:$E$26,5)","v":3.9},0.14285714285714304,5,4,5,1,{"$f":"VLOOKUP(K5,HiddenNormal2!$A$7:$E$26,5)","v":4.5999999999999996},{"$f":"VLOOKUP(L5,HiddenNormal2!$A$7:$E$26,5)","v":4.5},{"$f":"VLOOKUP(M5,HiddenNormal2!$A$7:$E$26,5)","v":4.5999999999999996},{"$f":"VLOOKUP(N5,HiddenNormal2!$A$7:$E$26,5)","v":3.9},0.14285714285714241,0.82099999999999995,0.78,0.64200000000000002,0.55700000000000005,"No","No","No","No","No","No","No","No",1,0]
[6,2,1,6,1,{"$f":"VLOOKUP(B6,HiddenNormal2!$A$7:$E$26,5)","v":4},{"$f":"VLOOKUP(C6,HiddenNormal2!$A$7:$E$26,5)","v":3.9},{"$f":"VLOOKUP(D6,HiddenNormal2!$A$7:$E$26,5)","v":5.3},{"$f":"VLOOKUP(E6,HiddenNormal2!$A$7:$E$26,5)","v":3.9},7.1428571428571494E-2,6,5,6,1,{"$f":"VLOOKUP(K6,HiddenNormal2!$A$7:$E$26,5)","v":5.3},{"$f":"VLOOKUP(L6,HiddenNormal2!$A$7:$E$26,5)","v":4.5999999999999996},{"$f":"VLOOKUP(M6,HiddenNormal2!$A$7:$E$26,5)","v":5.3},{"$f":"VLOOKUP(N6,HiddenNormal2!$A$7:$E$26,5)","v":3.9},0.50000000000000011,0.74,0.69799999999999995,0.56000000000000005,0.48199999999999998,"No","No","No","No","No","No","No","Yes",1,0]
[7,2,1,7,1,{"$f":"VLOOKUP(B7,HiddenNormal2!$A$7:$E$26,5)","v":4},{"$f":"VLOOKUP(C7,HiddenNormal2!$A$7:$E$26,5)","v":3.9},{"$f":"VLOOKUP(D7,HiddenNormal2!$A$7:$E$26,5)","v":6.1},{"$f":"VLOOKUP(E7,HiddenNormal2!$A$7:$E$26,5)","v":3.9},4.5454545454545497E-2,7,6,7,1,{"$f":"VLOOKUP(K7,HiddenNormal2!$A$7:$E$26,5)","v":6.1},{"$f":"VLOOKUP(L7,HiddenNormal2!$A$7:$E$26,5)","v":5.3},{"$f":"VLOOKUP(M7,HiddenNormal2!$A$7:$E$26,5)","v":6.1},{"$f":"VLOOKUP(N7,HiddenNormal2!$A$7:$E$26,5)","v":3.9},0.36363636363636359,0.68,0.63700000000000001,0.50700000000000001,0.434,"No","No","No","No","No","No","No","No",1,0]
[8,2,1,7,1,{"$f":"VLOOKUP(B8,HiddenNormal2!$A$7:$E$26,5)","v":4},{"$f":"VLOOKUP(C8,HiddenNormal2!$A$7:$E$26,5)","v":3.9},{"$f":"VLOOKUP(D8,HiddenNormal2!$A$7:$E$26,5)","v":6.1},{"$f":"VLOOKUP(E8,HiddenNormal2!$A$7:$E$26,5)","v":3.9},4.5454545454545497E-2,8,7,8,2,{"$f":"VLOOKUP(K8,HiddenNormal2!$A$7:$E$26,5)","v":6.1},{"$f":"VLOOKUP(L8,HiddenNormal2!$A$7:$E$26,5)","v":6.1},{"$f":"VLOOKUP(M8,HiddenNormal2!$A$7:$E$26,5)","v":6.1},{"$f":"VLOOKUP(N8,HiddenNormal2!$A$7:$E$26,5)","v":4},0,0.72499999999999998,0.68300000000000005,0.55400000000000005,0.47899999999999998,"No","No","No","No","No","No","No","No",1,1]
[9,2,1,8,1,{"$f":"VLOOKUP(B9,HiddenNormal2!$A$7:$E$26,5)","v":4},{"$f":"VLOOKUP(C9,HiddenNormal2!$A$7:$E$26,5)","v":3.9},{"$f":"VLOOKUP(D9,HiddenNormal2!$A$7:$E$26,5)","v":6.1},{"$f":"VLOOKUP(E9,HiddenNormal2!$A$7:$E$26,5)","v":3.9},4.5454545454545497E-2,9,8,9,2,{"$f":"VLOOKUP(K9,HiddenNormal2!$A$7:$E$26,5)","v":6.1},{"$f":"VLOOKUP(L9,HiddenNormal2!$A$7:$E$26,5)","v":6.1},{"$f":"VLOOKUP(M9,HiddenNormal2!$A$7:$E$26,5)","v":6.1},{"$f":"VLOOKUP(N9,HiddenNormal2!$A$7:$E$26,5)","v":4},0,0.67700000000000005,0.63500000000000001,0.51200000000000001,0.441,"No","No","No","No","No","No","No","No",1,1]
[10,2,1,9,1,{"$f":"VLOOKUP(B10,HiddenNormal2!$A$7:$E$26,5)","v":4},{"$f":"VLOOKUP(C10,HiddenNormal2!$A$7:$E$26,5)","v":3.9},{"$f":"VLOOKUP(D10,HiddenNormal2!$A$7:$E$26,5)","v":6.1},{"$f":"VLOOKUP(E10,HiddenNormal2!$A$7:$E$26,5)","v":3.9},4.5454545454545497E-2,10,9,10,2,{"$f":"VLOOKUP(K10,HiddenNormal2!$A$7:$E$26,5)","v":6.1},{"$f":"VLOOKUP(L10,HiddenNormal2!$A$7:$E$26,5)","v":6.1},{"$f":"VLOOKUP(M10,HiddenNormal2!$A$7:$E$26,5)","v":6.1},{"$f":"VLOOKUP(N10,HiddenNormal2!$A$7:$E$26,5)","v":4},0,0.63900000000000001,0.59699999999999998,0.47699999999999998,0.40899999999999997,"No","No","No","No","No","No","No","No",1,1]
[11,3,1,10,1,{"$f":"VLOOKUP(B11,HiddenNormal2!$A$7:$E$26,5)","v":4.3},{"$f":"VLOOKUP(C11,HiddenNormal2!$A$7:$E$26,5)","v":3.9},{"$f":"VLOOKUP(D11,HiddenNormal2!$A$7:$E$26,5)","v":6.1},{"$f":"VLOOKUP(E11,HiddenNormal2!$A$7:$E$26,5)","v":3.9},0.1818181818181818,11,9,11,2,{"$f":"VLOOKUP(K11,HiddenNormal2!$A$7:$E$26,5)","v":6.1},{"$f":"VLOOKUP(L11,HiddenNormal2!$A$7:$E$26,5)","v":6.1},{"$f":"VLOOKUP(M11,HiddenNormal2!$A$7:$E$26,5)","v":6.1},{"$f":"VLOOKUP(N11,HiddenNormal2!$A$7:$E$26,5)","v":4},0,0.71299999999999997,0.67900000000000005,0.57599999999999996,0.51700000000000002,"No","No","No","No","No","No","No","No",2,1]
[12,3,1,11,1,{"$f":"VLOOKUP(B12,HiddenNormal2!$A$7:$E$26,5)","v":4.3},{"$f":"VLOOKUP(C12,HiddenNormal2!$A$7:$E$26,5)","v":3.9},{"$f":"VLOOKUP(D12,HiddenNormal2!$A$7:$E$26,5)","v":6.1},{"$f":"VLOOKUP(E12,HiddenNormal2!$A$7:$E$26,5)","v":3.9},0.1818181818181818,12,10,12,2,{"$f":"VLOOKUP(K12,HiddenNormal2!$A$7:$E$26,5)","v":6.1},{"$f":"VLOOKUP(L12,HiddenNormal2!$A$7:$E$26,5)","v":6.1},{"$f":"VLOOKUP(M12,HiddenNormal2!$A$7:$E$26,5)","v":6.1},{"$f":"VLOOKUP(N12,HiddenNormal2!$A$7:$E$26,5)","v":4},0,0.67500000000000004,0.64200000000000002,0.54600000000000004,0.49,"No","No","No","No","No","No","No","No",2,1]
[13,3,1,12,1,{"$f":"VLOOKUP(B13,HiddenNormal2!$A$7:$E$26,5)","v":4.3},{"$f":"VLOOKUP(C13,HiddenNormal2!$A$7:$E$26,5)","v":3.9},{"$f":"VLOOKUP(D13,HiddenNormal2!$A$7:$E$26,5)","v":6.1},{"$f":"VLOOKUP(E13,HiddenNormal2!$A$7:$E$26,5)","v":3.9},0.1818181818181818,13,11,13,2,{"$f":"VLOOKUP(K13,HiddenNormal2!$A$7:$E$26,5)","v":6.1},{"$f":"VLOOKUP(L13,HiddenNormal2!$A$7:$E$26,5)","v":6.1},{"$f":"VLOOKUP(M13,HiddenNormal2!$A$7:$E$26,5)","v":6.1},{"$f":"VLOOKUP(N13,HiddenNormal2!$A$7:$E$26,5)","v":4},0,0.64900000000000002,0.61499999999999999,0.52100000000000002,0.46700000000000003,"No","No","No","No","No","No","No","No",2,1]
[14,3,1,12,1,{"$f":"VLOOKUP(B14,HiddenNormal2!$A$7:$E$26,5)","v":4.3},{"$f":"VLOOKUP(C14,HiddenNormal2!$A$7:$E$26,5)","v":3.9},{"$f":"VLOOKUP(D14,HiddenNormal2!$A$7:$E$26,5)","v":6.1},{"$f":"VLOOKUP(E14,HiddenNormal2!$A$7:$E$26,5)","v":3.9},0.1818181818181818,14,12,14,3,{"$f":"VLOOKUP(K14,HiddenNormal2!$A$7:$E$26,5)","v":6.1},{"$f":"VLOOKUP(L14,HiddenNormal2!$A$7:$E$26,5)","v":6.1},{"$f":"VLOOKUP(M14,HiddenNormal2!$A$7:$E$26,5)","v":6.1},{"$f":"VLOOKUP(N14,HiddenNormal2!$A$7:$E$26,5)","v":4.3},0,0.67400000000000004,0.64100000000000001,0.54600000000000004,0.49199999999999999,"No","No","No","No","No","No","No","No",2,2]
[15,3,1,13,1,{"$f":"VLOOKUP(B15,HiddenNormal2!$A$7:$E$26,5)","v":4.3},{"$f":"VLOOKUP(C15,HiddenNormal2!$A$7:$E$26,5)","v":3.9},{"$f":"VLOOKUP(D15,HiddenNormal2!$A$7:$E$26,5)","v":6.1},{"$f":"VLOOKUP(E15,HiddenNormal2!$A$7:$E$26,5)","v":3.9},0.1818181818181818,15,13,15,3,{"$f":"VLOOKUP(K15,HiddenNormal2!$A$7:$E$26,5)","v":6.1},{"$f":"VLOOKUP(L15,HiddenNormal2!$A$7:$E$26,5)","v":6.1},{"$f":"VLOOKUP(M15,HiddenNormal2!$A$7:$E$26,5)","v":6.1},{"$f":"VLOOKUP(N15,HiddenNormal2!$A$7:$E$26,5)","v":4.3},0,0.64700000000000002,0.61599999999999999,0.52500000000000002,0.47199999999999998,"No","No","No","No","No","No","No","No",2,2]
[16,3,1,14,1,{"$f":"VLOOKUP(B16,HiddenNormal2!$A$7:$E$26,5)","v":4.3},{"$f":"VLOOKUP(C16,HiddenNormal2!$A$7:$E$26,5)","v":3.9},{"$f":"VLOOKUP(D16,HiddenNormal2!$A$7:$E$26,5)","v":6.1},{"$f":"VLOOKUP(E16,HiddenNormal2!$A$7:$E$26,5)","v":3.9},0.1818181818181818,16,14,16,3,{"$f":"VLOOKUP(K16,HiddenNormal2!$A$7:$E$26,5)","v":6.1},{"$f":"VLOOKUP(L16,HiddenNormal2!$A$7:$E$26,5)","v":6.1},{"$f":"VLOOKUP(M16,HiddenNormal2!$A$7:$E$26,5)","v":6.1},{"$f":"VLOOKUP(N16,HiddenNormal2!$A$7:$E$26,5)","v":4.3},0,0.624,0.59499999999999997,0.50700000000000001,0.45400000000000001,"No","No","No","No","No","No","No","No",2,2]
[17,3,1,15,1,{"$f":"VLOOKUP(B17,HiddenNormal2!$A$7:$E$26,5)","v":4.3},{"$f":"VLOOKUP(C17,HiddenNormal2!$A$7:$E$26,5)","v":3.9},{"$f":"VLOOKUP(D17,HiddenNormal2!$A$7:$E$26,5)","v":6.1},{"$f":"VLOOKUP(E17,HiddenNormal2!$A$7:$E$26,5)","v":3.9},0.1818181818181818,17,15,17,3,{"$f":"VLOOKUP(K17,HiddenNormal2!$A$7:$E$26,5)","v":6.1},{"$f":"VLOOKUP(L17,HiddenNormal2!$A$7:$E$26,5)","v":6.1},{"$f":"VLOOKUP(M17,HiddenNormal2!$A$7:$E$26,5)","v":6.1},{"$f":"VLOOKUP(N17,HiddenNormal2!$A$7:$E$26,5)","v":4.3},0,0.60499999999999998,0.57699999999999996,0.49,0.438,"No","No","No","No","No","No","No","No",2,2]
[18,3,1,16,1,{"$f":"VLOOKUP(B18,HiddenNormal2!$A$7:$E$26,5)","v":4.3},{"$f":"VLOOKUP(C18,HiddenNormal2!$A$7:$E$26,5)","v":3.9},{"$f":"VLOOKUP(D18,HiddenNormal2!$A$7:$E$26,5)","v":6.1},{"$f":"VLOOKUP(E18,HiddenNormal2!$A$7:$E$26,5)","v":3.9},0.1818181818181818,18,16,18,3,{"$f":"VLOOKUP(K18,HiddenNormal2!$A$7:$E$26,5)","v":6.1},{"$f":"VLOOKUP(L18,HiddenNormal2!$A$7:$E$26,5)","v":6.1},{"$f":"VLOOKUP(M18,HiddenNormal2!$A$7:$E$26,5)","v":6.1},{"$f":"VLOOKUP(N18,HiddenNormal2!$A$7:$E$26,5)","v":4.3},0,0.58899999999999997,0.56100000000000005,0.47499999999999998,0.42399999999999999,"No","No","No","No","No","No","No","No",2,2]
[19,3,1,17,1,{"$f":"VLOOKUP(B19,HiddenNormal2!$A$7:$E$26,5)","v":4.3},{"$f":"VLOOKUP(C19,HiddenNormal2!$A$7:$E$26,5)","v":3.9},{"$f":"VLOOKUP(D19,HiddenNormal2!$A$7:$E$26,5)","v":6.1},{"$f":"VLOOKUP(E19,HiddenNormal2!$A$7:$E$26,5)","v":3.9},0.1818181818181818,19,17,19,3,{"$f":"VLOOKUP(K19,HiddenNormal2!$A$7:$E$26,5)","v":6.1},{"$f":"VLOOKUP(L19,HiddenNormal2!$A$7:$E$26,5)","v":6.1},{"$f":"VLOOKUP(M19,HiddenNormal2!$A$7:$E$26,5)","v":6.1},{"$f":"VLOOKUP(N19,HiddenNormal2!$A$7:$E$26,5)","v":4.3},0,0.57499999999999996,0.54700000000000004,0.46200000000000002,0.41199999999999998,"No","No","No","No","No","No","No","No",2,2]
[20,3,1,18,1,{"$f":"VLOOKUP(B20,HiddenNormal2!$A$7:$E$26,5)","v":4.3},{"$f":"VLOOKUP(C20,HiddenNormal2!$A$7:$E$26,5)","v":3.9},{"$f":"VLOOKUP(D20,HiddenNormal2!$A$7:$E$26,5)","v":6.1},{"$f":"VLOOKUP(E20,HiddenNormal2!$A$7:$E$26,5)","v":3.9},0.1818181818181818,20,18,20,3,{"$f":"VLOOKUP(K20,HiddenNormal2!$A$7:$E$26,5)","v":6.1},{"$f":"VLOOKUP(L20,HiddenNormal2!$A$7:$E$26,5)","v":6.1},{"$f":"VLOOKUP(M20,HiddenNormal2!$A$7:$E$26,5)","v":6.1},{"$f":"VLOOKUP(N20,HiddenNormal2!$A$7:$E$26,5)","v":4.3},0,0.56200000000000006,0.53500000000000003,0.45,0.40100000000000002,"No","No","No","No","No","No","No","No",2,2]

{"sheet":"HiddenBoxPlots","index":14,"n_rows":48,"n_cols":22,"rows_kept":48,"cut":false,"hidden":true,"merged":[[4,0,4,4],[4,5,4,9],[4,12,4,16],[4,17,4,21],[4,11,5,11]]}
[]
[]
[]
["Full dataset"]
["Detected Values",null,null,null,null,"Nondetected Values",null,null,null,null,null,"Potential outlier?","Detected Values",null,null,null,null,"Nondetected Values"]
["Date","Concentration","Values Within 1.5 IQR","Values Outside 1.5 IQR","Values Outside 3 IQR","Date","Concentration","Values Within 1.5 IQR","Values Outside 1.5 IQR","Values Outside 3 IQR",null,null,"Date","Concentration","Values Within 1.5 IQR","Values Outside 1.5 IQR","Values Outside 3 IQR","Date","Concentration","Values Within 1.5 IQR","Values Outside 1.5 IQR","Values Outside 3 IQR"]
[{"$f":"IF(DetInput=\"Yes\",DateInput,NA())","v":43101},{"$f":"IF(DetInput=\"Yes\",ConcImputeds,NA())","v":4.3},{"$f":"IF(ISNA(B7),NA(),IF(AND(B7>=HiddenNormal2!J$14,B7<=HiddenNormal2!J$15),B7,NA()))","v":4.3},{"$f":"IF(ISNA(B7),NA(),IF(OR(AND(B7<HiddenNormal2!J$14,B7>=HiddenNormal2!J$16),AND(B7>HiddenNormal2!J$15,B7<=HiddenNormal2!J$17)),B7,NA()))","v":{"$error":"#N/A"}},{"$f":"IF(ISNA(B7),NA(),IF(OR(B7>HiddenNormal2!J$17,B7<HiddenNormal2!J$16),B7,NA()))","v":{"$error":"#N/A"}},{"$f":"IF(DetInput=\"No\",DateInput,NA())","v":{"$error":"#N/A"}},{"$f":"IF(DetInput=\"No\",ConcImputeds,NA())","v":{"$error":"#N/A"}},{"$f":"IF(ISNA(G7),NA(),IF(AND(G7>HiddenNormal2!J$14,G7<HiddenNormal2!J$15),G7,NA()))","v":{"$error":"#N/A"}},{"$f":"IF(ISNA(G7),NA(),IF(OR(AND(G7<HiddenNormal2!J$14,G7>HiddenNormal2!J$16),AND(G7>HiddenNormal2!J$15,G7<HiddenNormal2!J$17)),G7,NA()))","v":{"$error":"#N/A"}},{"$f":"IF(ISNA(G7),NA(),IF(OR(G7>HiddenNormal2!J$17,G7<HiddenNormal2!J$16),G7,NA()))","v":{"$error":"#N/A"}},null,{"$f":"VLOOKUP(ConcImputeds,HiddenNormal2!E$7:F$26,2,0)","v":"No"},{"$f":"IF($L7=\"Yes\",NA(),A7)","v":43101},{"$f":"IF($L7=\"Yes\",NA(),B7)","v":4.3},{"$f":"IF(ISNA(N7),NA(),IF(AND(N7>=HiddenNormal2!V$14,N7<=HiddenNormal2!V$15),N7,NA()))","v":4.3},{"$f":"IF(ISNA(N7),NA(),IF(OR(AND(N7<HiddenNormal2!V$14,N7>=HiddenNormal2!V$16),AND(N7>HiddenNormal2!V$15,N7<=HiddenNormal2!V$17)),N7,NA()))","v":{"$error":"#N/A"}},{"$f":"IF(ISNA(N7),NA(),IF(OR(N7>HiddenNormal2!V$17,N7<HiddenNormal2!V$16),N7,NA()))","v":{"$error":"#N/A"}},{"$f":"IF($L7=\"Yes\",NA(),F7)","v":{"$error":"#N/A"}},{"$f":"IF($L7=\"Yes\",NA(),G7)","v":{"$error":"#N/A"}},{"$f":"IF(ISNA(S7),NA(),IF(AND(S7>HiddenNormal2!V$14,S7<HiddenNormal2!V$15),S7,NA()))","v":{"$error":"#N/A"}},{"$f":"IF(ISNA(S7),NA(),IF(OR(AND(S7<HiddenNormal2!V$14,S7>HiddenNormal2!V$16),AND(S7>HiddenNormal2!V$15,S7<HiddenNormal2!V$17)),S7,NA()))","v":{"$error":"#N/A"}},{"$f":"IF(ISNA(S7),NA(),IF(OR(S7>HiddenNormal2!V$17,S7<HiddenNormal2!V$16),S7,NA()))","v":{"$error":"#N/A"}}]
[43132,6.1,{"$f":"IF(ISNA(B8),NA(),IF(AND(B8>=HiddenNormal2!J$14,B8<=HiddenNormal2!J$15),B8,NA()))","v":6.1},{"$f":"IF(ISNA(B8),NA(),IF(OR(AND(B8<HiddenNormal2!J$14,B8>=HiddenNormal2!J$16),AND(B8>HiddenNormal2!J$15,B8<=HiddenNormal2!J$17)),B8,NA()))","v":{"$error":"#N/A"}},{"$f":"IF(ISNA(B8),NA(),IF(OR(B8>HiddenNormal2!J$17,B8<HiddenNormal2!J$16),B8,NA()))","v":{"$error":"#N/A"}},{"$error":"#N/A"},{"$error":"#N/A"},{"$f":"IF(ISNA(G8),NA(),IF(AND(G8>HiddenNormal2!J$14,G8<HiddenNormal2!J$15),G8,NA()))","v":{"$error":"#N/A"}},{"$f":"IF(ISNA(G8),NA(),IF(OR(AND(G8<HiddenNormal2!J$14,G8>HiddenNormal2!J$16),AND(G8>HiddenNormal2!J$15,G8<HiddenNormal2!J$17)),G8,NA()))","v":{"$error":"#N/A"}},{"$f":"IF(ISNA(G8),NA(),IF(OR(G8>HiddenNormal2!J$17,G8<HiddenNormal2!J$16),G8,NA()))","v":{"$error":"#N/A"}},null,{"$f":"VLOOKUP(ConcImputeds,HiddenNormal2!E$7:F$26,2,0)","v":"No"},43132,6.1,{"$f":"IF(ISNA(N8),NA(),IF(AND(N8>=HiddenNormal2!V$14,N8<=HiddenNormal2!V$15),N8,NA()))","v":6.1},{"$f":"IF(ISNA(N8),NA(),IF(OR(AND(N8<HiddenNormal2!V$14,N8>=HiddenNormal2!V$16),AND(N8>HiddenNormal2!V$15,N8<=HiddenNormal2!V$17)),N8,NA()))","v":{"$error":"#N/A"}},{"$f":"IF(ISNA(N8),NA(),IF(OR(N8>HiddenNormal2!V$17,N8<HiddenNormal2!V$16),N8,NA()))","v":{"$error":"#N/A"}},{"$f":"IF($L8=\"Yes\",NA(),F8)","v":{"$error":"#N/A"}},{"$f":"IF($L8=\"Yes\",NA(),G8)","v":{"$error":"#N/A"}},{"$f":"IF(ISNA(S8),NA(),IF(AND(S8>HiddenNormal2!V$14,S8<HiddenNormal2!V$15),S8,NA()))","v":{"$error":"#N/A"}},{"$f":"IF(ISNA(S8),NA(),IF(OR(AND(S8<HiddenNormal2!V$14,S8>HiddenNormal2!V$16),AND(S8>HiddenNormal2!V$15,S8<HiddenNormal2!V$17)),S8,NA()))","v":{"$error":"#N/A"}},{"$f":"IF(ISNA(S8),NA(),IF(OR(S8>HiddenNormal2!V$17,S8<HiddenNormal2!V$16),S8,NA()))","v":{"$error":"#N/A"}}]
[43160,4.5999999999999996,{"$f":"IF(ISNA(B9),NA(),IF(AND(B9>=HiddenNormal2!J$14,B9<=HiddenNormal2!J$15),B9,NA()))","v":4.5999999999999996},{"$f":"IF(ISNA(B9),NA(),IF(OR(AND(B9<HiddenNormal2!J$14,B9>=HiddenNormal2!J$16),AND(B9>HiddenNormal2!J$15,B9<=HiddenNormal2!J$17)),B9,NA()))","v":{"$error":"#N/A"}},{"$f":"IF(ISNA(B9),NA(),IF(OR(B9>HiddenNormal2!J$17,B9<HiddenNormal2!J$16),B9,NA()))","v":{"$error":"#N/A"}},{"$error":"#N/A"},{"$error":"#N/A"},{"$f":"IF(ISNA(G9),NA(),IF(AND(G9>HiddenNormal2!J$14,G9<HiddenNormal2!J$15),G9,NA()))","v":{"$error":"#N/A"}},{"$f":"IF(ISNA(G9),NA(),IF(OR(AND(G9<HiddenNormal2!J$14,G9>HiddenNormal2!J$16),AND(G9>HiddenNormal2!J$15,G9<HiddenNormal2!J$17)),G9,NA()))","v":{"$error":"#N/A"}},{"$f":"IF(ISNA(G9),NA(),IF(OR(G9>HiddenNormal2!J$17,G9<HiddenNormal2!J$16),G9,NA()))","v":{"$error":"#N/A"}},null,{"$f":"VLOOKUP(ConcImputeds,HiddenNormal2!E$7:F$26,2,0)","v":"No"},43160,4.5999999999999996,{"$f":"IF(ISNA(N9),NA(),IF(AND(N9>=HiddenNormal2!V$14,N9<=HiddenNormal2!V$15),N9,NA()))","v":4.5999999999999996},{"$f":"IF(ISNA(N9),NA(),IF(OR(AND(N9<HiddenNormal2!V$14,N9>=HiddenNormal2!V$16),AND(N9>HiddenNormal2!V$15,N9<=HiddenNormal2!V$17)),N9,NA()))","v":{"$error":"#N/A"}},{"$f":"IF(ISNA(N9),NA(),IF(OR(N9>HiddenNormal2!V$17,N9<HiddenNormal2!V$16),N9,NA()))","v":{"$error":"#N/A"}},{"$error":"#N/A"},{"$error":"#N/A"},{"$f":"IF(ISNA(S9),NA(),IF(AND(S9>HiddenNormal2!V$14,S9<HiddenNormal2!V$15),S9,NA()))","v":{"$error":"#N/A"}},{"$f":"IF(ISNA(S9),NA(),IF(OR(AND(S9<HiddenNormal2!V$14,S9>HiddenNormal2!V$16),AND(S9>HiddenNormal2!V$15,S9<HiddenNormal2!V$17)),S9,NA()))","v":{"$error":"#N/A"}},{"$f":"IF(ISNA(S9),NA(),IF(OR(S9>HiddenNormal2!V$17,S9<HiddenNormal2!V$16),S9,NA()))","v":{"$error":"#N/A"}}]
[43191,4.5,{"$f":"IF(ISNA(B10),NA(),IF(AND(B10>=HiddenNormal2!J$14,B10<=HiddenNormal2!J$15),B10,NA()))","v":4.5},{"$f":"IF(ISNA(B10),NA(),IF(OR(AND(B10<HiddenNormal2!J$14,B10>=HiddenNormal2!J$16),AND(B10>HiddenNormal2!J$15,B10<=HiddenNormal2!J$17)),B10,NA()))","v":{"$error":"#N/A"}},{"$f":"IF(ISNA(B10),NA(),IF(OR(B10>HiddenNormal2!J$17,B10<HiddenNormal2!J$16),B10,NA()))","v":{"$error":"#N/A"}},{"$error":"#N/A"},{"$error":"#N/A"},{"$f":"IF(ISNA(G10),NA(),IF(AND(G10>HiddenNormal2!J$14,G10<HiddenNormal2!J$15),G10,NA()))","v":{"$error":"#N/A"}},{"$f":"IF(ISNA(G10),NA(),IF(OR(AND(G10<HiddenNormal2!J$14,G10>HiddenNormal2!J$16),AND(G10>HiddenNormal2!J$15,G10<HiddenNormal2!J$17)),G10,NA()))","v":{"$error":"#N/A"}},{"$f":"IF(ISNA(G10),NA(),IF(OR(G10>HiddenNormal2!J$17,G10<HiddenNormal2!J$16),G10,NA()))","v":{"$error":"#N/A"}},null,{"$f":"VLOOKUP(ConcImputeds,HiddenNormal2!E$7:F$26,2,0)","v":"No"},43191,4.5,{"$f":"IF(ISNA(N10),NA(),IF(AND(N10>=HiddenNormal2!V$14,N10<=HiddenNormal2!V$15),N10,NA()))","v":4.5},{"$f":"IF(ISNA(N10),NA(),IF(OR(AND(N10<HiddenNormal2!V$14,N10>=HiddenNormal2!V$16),AND(N10>HiddenNormal2!V$15,N10<=HiddenNormal2!V$17)),N10,NA()))","v":{"$error":"#N/A"}},{"$f":"IF(ISNA(N10),NA(),IF(OR(N10>HiddenNormal2!V$17,N10<HiddenNormal2!V$16),N10,NA()))","v":{"$error":"#N/A"}},{"$error":"#N/A"},{"$error":"#N/A"},{"$f":"IF(ISNA(S10),NA(),IF(AND(S10>HiddenNormal2!V$14,S10<HiddenNormal2!V$15),S10,NA()))","v":{"$error":"#N/A"}},{"$f":"IF(ISNA(S10),NA(),IF(OR(AND(S10<HiddenNormal2!V$14,S10>HiddenNormal2!V$16),AND(S10>HiddenNormal2!V$15,S10<HiddenNormal2!V$17)),S10,NA()))","v":{"$error":"#N/A"}},{"$f":"IF(ISNA(S10),NA(),IF(OR(S10>HiddenNormal2!V$17,S10<HiddenNormal2!V$16),S10,NA()))","v":{"$error":"#N/A"}}]
[43221,5.3,{"$f":"IF(ISNA(B11),NA(),IF(AND(B11>=HiddenNormal2!J$14,B11<=HiddenNormal2!J$15),B11,NA()))","v":5.3},{"$f":"IF(ISNA(B11),NA(),IF(OR(AND(B11<HiddenNormal2!J$14,B11>=HiddenNormal2!J$16),AND(B11>HiddenNormal2!J$15,B11<=HiddenNormal2!J$17)),B11,NA()))","v":{"$error":"#N/A"}},{"$f":"IF(ISNA(B11),NA(),IF(OR(B11>HiddenNormal2!J$17,B11<HiddenNormal2!J$16),B11,NA()))","v":{"$error":"#N/A"}},{"$error":"#N/A"},{"$error":"#N/A"},{"$f":"IF(ISNA(G11),NA(),IF(AND(G11>HiddenNormal2!J$14,G11<HiddenNormal2!J$15),G11,NA()))","v":{"$error":"#N/A"}},{"$f":"IF(ISNA(G11),NA(),IF(OR(AND(G11<HiddenNormal2!J$14,G11>HiddenNormal2!J$16),AND(G11>HiddenNormal2!J$15,G11<HiddenNormal2!J$17)),G11,NA()))","v":{"$error":"#N/A"}},{"$f":"IF(ISNA(G11),NA(),IF(OR(G11>HiddenNormal2!J$17,G11<HiddenNormal2!J$16),G11,NA()))","v":{"$error":"#N/A"}},null,{"$f":"VLOOKUP(ConcImputeds,HiddenNormal2!E$7:F$26,2,0)","v":"No"},43221,5.3,{"$f":"IF(ISNA(N11),NA(),IF(AND(N11>=HiddenNormal2!V$14,N11<=HiddenNormal2!V$15),N11,NA()))","v":5.3},{"$f":"IF(ISNA(N11),NA(),IF(OR(AND(N11<HiddenNormal2!V$14,N11>=HiddenNormal2!V$16),AND(N11>HiddenNormal2!V$15,N11<=HiddenNormal2!V$17)),N11,NA()))","v":{"$error":"#N/A"}},{"$f":"IF(ISNA(N11),NA(),IF(OR(N11>HiddenNormal2!V$17,N11<HiddenNormal2!V$16),N11,NA()))","v":{"$error":"#N/A"}},{"$error":"#N/A"},{"$error":"#N/A"},{"$f":"IF(ISNA(S11),NA(),IF(AND(S11>HiddenNormal2!V$14,S11<HiddenNormal2!V$15),S11,NA()))","v":{"$error":"#N/A"}},{"$f":"IF(ISNA(S11),NA(),IF(OR(AND(S11<HiddenNormal2!V$14,S11>HiddenNormal2!V$16),AND(S11>HiddenNormal2!V$15,S11<HiddenNormal2!V$17)),S11,NA()))","v":{"$error":"#N/A"}},{"$f":"IF(ISNA(S11),NA(),IF(OR(S11>HiddenNormal2!V$17,S11<HiddenNormal2!V$16),S11,NA()))","v":{"$error":"#N/A"}}]
[43252,3.9,{"$f":"IF(ISNA(B12),NA(),IF(AND(B12>=HiddenNormal2!J$14,B12<=HiddenNormal2!J$15),B12,NA()))","v":3.9},{"$f":"IF(ISNA(B12),NA(),IF(OR(AND(B12<HiddenNormal2!J$14,B12>=HiddenNormal2!J$16),AND(B12>HiddenNormal2!J$15,B12<=HiddenNormal2!J$17)),B12,NA()))","v":{"$error":"#N/A"}},{"$f":"IF(ISNA(B12),NA(),IF(OR(B12>HiddenNormal2!J$17,B12<HiddenNormal2!J$16),B12,NA()))","v":{"$error":"#N/A"}},{"$error":"#N/A"},{"$error":"#N/A"},{"$f":"IF(ISNA(G12),NA(),IF(AND(G12>HiddenNormal2!J$14,G12<HiddenNormal2!J$15),G12,NA()))","v":{"$error":"#N/A"}},{"$f":"IF(ISNA(G12),NA(),IF(OR(AND(G12<HiddenNormal2!J$14,G12>HiddenNormal2!J$16),AND(G12>HiddenNormal2!J$15,G12<HiddenNormal2!J$17)),G12,NA()))","v":{"$error":"#N/A"}},{"$f":"IF(ISNA(G12),NA(),IF(OR(G12>HiddenNormal2!J$17,G12<HiddenNormal2!J$16),G12,NA()))","v":{"$error":"#N/A"}},null,{"$f":"VLOOKUP(ConcImputeds,HiddenNormal2!E$7:F$26,2,0)","v":"No"},43252,3.9,{"$f":"IF(ISNA(N12),NA(),IF(AND(N12>=HiddenNormal2!V$14,N12<=HiddenNormal2!V$15),N12,NA()))","v":3.9},{"$f":"IF(ISNA(N12),NA(),IF(OR(AND(N12<HiddenNormal2!V$14,N12>=HiddenNormal2!V$16),AND(N12>HiddenNormal2!V$15,N12<=HiddenNormal2!V$17)),N12,NA()))","v":{"$error":"#N/A"}},{"$f":"IF(ISNA(N12),NA(),IF(OR(N12>HiddenNormal2!V$17,N12<HiddenNormal2!V$16),N12,NA()))","v":{"$error":"#N/A"}},{"$error":"#N/A"},{"$error":"#N/A"},{"$f":"IF(ISNA(S12),NA(),IF(AND(S12>HiddenNormal2!V$14,S12<HiddenNormal2!V$15),S12,NA()))","v":{"$error":"#N/A"}},{"$f":"IF(ISNA(S12),NA(),IF(OR(AND(S12<HiddenNormal2!V$14,S12>HiddenNormal2!V$16),AND(S12>HiddenNormal2!V$15,S12<HiddenNormal2!V$17)),S12,NA()))","v":{"$error":"#N/A"}},{"$f":"IF(ISNA(S12),NA(),IF(OR(S12>HiddenNormal2!V$17,S12<HiddenNormal2!V$16),S12,NA()))","v":{"$error":"#N/A"}}]
[43282,4,{"$f":"IF(ISNA(B13),NA(),IF(AND(B13>=HiddenNormal2!J$14,B13<=HiddenNormal2!J$15),B13,NA()))","v":4},{"$f":"IF(ISNA(B13),NA(),IF(OR(AND(B13<HiddenNormal2!J$14,B13>=HiddenNormal2!J$16),AND(B13>HiddenNormal2!J$15,B13<=HiddenNormal2!J$17)),B13,NA()))","v":{"$error":"#N/A"}},{"$f":"IF(ISNA(B13),NA(),IF(OR(B13>HiddenNormal2!J$17,B13<HiddenNormal2!J$16),B13,NA()))","v":{"$error":"#N/A"}},{"$error":"#N/A"},{"$error":"#N/A"},{"$f":"IF(ISNA(G13),NA(),IF(AND(G13>HiddenNormal2!J$14,G13<HiddenNormal2!J$15),G13,NA()))","v":{"$error":"#N/A"}},{"$f":"IF(ISNA(G13),NA(),IF(OR(AND(G13<HiddenNormal2!J$14,G13>HiddenNormal2!J$16),AND(G13>HiddenNormal2!J$15,G13<HiddenNormal2!J$17)),G13,NA()))","v":{"$error":"#N/A"}},{"$f":"IF(ISNA(G13),NA(),IF(OR(G13>HiddenNormal2!J$17,G13<HiddenNormal2!J$16),G13,NA()))","v":{"$error":"#N/A"}},null,{"$f":"VLOOKUP(ConcImputeds,HiddenNormal2!E$7:F$26,2,0)","v":"No"},43282,4,{"$f":"IF(ISNA(N13),NA(),IF(AND(N13>=HiddenNormal2!V$14,N13<=HiddenNormal2!V$15),N13,NA()))","v":4},{"$f":"IF(ISNA(N13),NA(),IF(OR(AND(N13<HiddenNormal2!V$14,N13>=HiddenNormal2!V$16),AND(N13>HiddenNormal2!V$15,N13<=HiddenNormal2!V$17)),N13,NA()))","v":{"$error":"#N/A"}},{"$f":"IF(ISNA(N13),NA(),IF(OR(N13>HiddenNormal2!V$17,N13<HiddenNormal2!V$16),N13,NA()))","v":{"$error":"#N/A"}},{"$error":"#N/A"},{"$error":"#N/A"},{"$f":"IF(ISNA(S13),NA(),IF(AND(S13>HiddenNormal2!V$14,S13<HiddenNormal2!V$15),S13,NA()))","v":{"$error":"#N/A"}},{"$f":"IF(ISNA(S13),NA(),IF(OR(AND(S13<HiddenNormal2!V$14,S13>HiddenNormal2!V$16),AND(S13>HiddenNormal2!V$15,S13<HiddenNormal2!V$17)),S13,NA()))","v":{"$error":"#N/A"}},{"$f":"IF(ISNA(S13),NA(),IF(OR(S13>HiddenNormal2!V$17,S13<HiddenNormal2!V$16),S13,NA()))","v":{"$error":"#N/A"}}]
[{"$error":"#N/A"},{"$error":"#N/A"},{"$f":"IF(ISNA(B14),NA(),IF(AND(B14>=HiddenNormal2!J$14,B14<=HiddenNormal2!J$15),B14,NA()))","v":{"$error":"#N/A"}},{"$f":"IF(ISNA(B14),NA(),IF(OR(AND(B14<HiddenNormal2!J$14,B14>=HiddenNormal2!J$16),AND(B14>HiddenNormal2!J$15,B14<=HiddenNormal2!J$17)),B14,NA()))","v":{"$error":"#N/A"}},{"$f":"IF(ISNA(B14),NA(),IF(OR(B14>HiddenNormal2!J$17,B14<HiddenNormal2!J$16),B14,NA()))","v":{"$error":"#N/A"}},{"$error":"#N/A"},{"$error":"#N/A"},{"$f":"IF(ISNA(G14),NA(),IF(AND(G14>HiddenNormal2!J$14,G14<HiddenNormal2!J$15),G14,NA()))","v":{"$error":"#N/A"}},{"$f":"IF(ISNA(G14),NA(),IF(OR(AND(G14<HiddenNormal2!J$14,G14>HiddenNormal2!J$16),AND(G14>HiddenNormal2!J$15,G14<HiddenNormal2!J$17)),G14,NA()))","v":{"$error":"#N/A"}},{"$f":"IF(ISNA(G14),NA(),IF(OR(G14>HiddenNormal2!J$17,G14<HiddenNormal2!J$16),G14,NA()))","v":{"$error":"#N/A"}},null,{"$f":"VLOOKUP(ConcImputeds,HiddenNormal2!E$7:F$26,2,0)","v":""},{"$error":"#N/A"},{"$error":"#N/A"},{"$f":"IF(ISNA(N14),NA(),IF(AND(N14>=HiddenNormal2!V$14,N14<=HiddenNormal2!V$15),N14,NA()))","v":{"$error":"#N/A"}},{"$f":"IF(ISNA(N14),NA(),IF(OR(AND(N14<HiddenNormal2!V$14,N14>=HiddenNormal2!V$16),AND(N14>HiddenNormal2!V$15,N14<=HiddenNormal2!V$17)),N14,NA()))","v":{"$error":"#N/A"}},{"$f":"IF(ISNA(N14),NA(),IF(OR(N14>HiddenNormal2!V$17,N14<HiddenNormal2!V$16),N14,NA()))","v":{"$error":"#N/A"}},{"$error":"#N/A"},{"$error":"#N/A"},{"$f":"IF(ISNA(S14),NA(),IF(AND(S14>HiddenNormal2!V$14,S14<HiddenNormal2!V$15),S14,NA()))","v":{"$error":"#N/A"}},{"$f":"IF(ISNA(S14),NA(),IF(OR(AND(S14<HiddenNormal2!V$14,S14>HiddenNormal2!V$16),AND(S14>HiddenNormal2!V$15,S14<HiddenNormal2!V$17)),S14,NA()))","v":{"$error":"#N/A"}},{"$f":"IF(ISNA(S14),NA(),IF(OR(S14>HiddenNormal2!V$17,S14<HiddenNormal2!V$16),S14,NA()))","v":{"$error":"#N/A"}}]
[{"$error":"#N/A"},{"$error":"#N/A"},{"$f":"IF(ISNA(B15),NA(),IF(AND(B15>=HiddenNormal2!J$14,B15<=HiddenNormal2!J$15),B15,NA()))","v":{"$error":"#N/A"}},{"$f":"IF(ISNA(B15),NA(),IF(OR(AND(B15<HiddenNormal2!J$14,B15>=HiddenNormal2!J$16),AND(B15>HiddenNormal2!J$15,B15<=HiddenNormal2!J$17)),B15,NA()))","v":{"$error":"#N/A"}},{"$f":"IF(ISNA(B15),NA(),IF(OR(B15>HiddenNormal2!J$17,B15<HiddenNormal2!J$16),B15,NA()))","v":{"$error":"#N/A"}},{"$error":"#N/A"},{"$error":"#N/A"},{"$f":"IF(ISNA(G15),NA(),IF(AND(G15>HiddenNormal2!J$14,G15<HiddenNormal2!J$15),G15,NA()))","v":{"$error":"#N/A"}},{"$f":"IF(ISNA(G15),NA(),IF(OR(AND(G15<HiddenNormal2!J$14,G15>HiddenNormal2!J$16),AND(G15>HiddenNormal2!J$15,G15<HiddenNormal2!J$17)),G15,NA()))","v":{"$error":"#N/A"}},{"$f":"IF(ISNA(G15),NA(),IF(OR(G15>HiddenNormal2!J$17,G15<HiddenNormal2!J$16),G15,NA()))","v":{"$error":"#N/A"}},null,{"$f":"VLOOKUP(ConcImputeds,HiddenNormal2!E$7:F$26,2,0)","v":""},{"$error":"#N/A"},{"$error":"#N/A"},{"$f":"IF(ISNA(N15),NA(),IF(AND(N15>=HiddenNormal2!V$14,N15<=HiddenNormal2!V$15),N15,NA()))","v":{"$error":"#N/A"}},{"$f":"IF(ISNA(N15),NA(),IF(OR(AND(N15<HiddenNormal2!V$14,N15>=HiddenNormal2!V$16),AND(N15>HiddenNormal2!V$15,N15<=HiddenNormal2!V$17)),N15,NA()))","v":{"$error":"#N/A"}},{"$f":"IF(ISNA(N15),NA(),IF(OR(N15>HiddenNormal2!V$17,N15<HiddenNormal2!V$16),N15,NA()))","v":{"$error":"#N/A"}},{"$error":"#N/A"},{"$error":"#N/A"},{"$f":"IF(ISNA(S15),NA(),IF(AND(S15>HiddenNormal2!V$14,S15<HiddenNormal2!V$15),S15,NA()))","v":{"$error":"#N/A"}},{"$f":"IF(ISNA(S15),NA(),IF(OR(AND(S15<HiddenNormal2!V$14,S15>HiddenNormal2!V$16),AND(S15>HiddenNormal2!V$15,S15<HiddenNormal2!V$17)),S15,NA()))","v":{"$error":"#N/A"}},{"$f":"IF(ISNA(S15),NA(),IF(OR(S15>HiddenNormal2!V$17,S15<HiddenNormal2!V$16),S15,NA()))","v":{"$error":"#N/A"}}]
[{"$error":"#N/A"},{"$error":"#N/A"},{"$f":"IF(ISNA(B16),NA(),IF(AND(B16>=HiddenNormal2!J$14,B16<=HiddenNormal2!J$15),B16,NA()))","v":{"$error":"#N/A"}},{"$f":"IF(ISNA(B16),NA(),IF(OR(AND(B16<HiddenNormal2!J$14,B16>=HiddenNormal2!J$16),AND(B16>HiddenNormal2!J$15,B16<=HiddenNormal2!J$17)),B16,NA()))","v":{"$error":"#N/A"}},{"$f":"IF(ISNA(B16),NA(),IF(OR(B16>HiddenNormal2!J$17,B16<HiddenNormal2!J$16),B16,NA()))","v":{"$error":"#N/A"}},{"$error":"#N/A"},{"$error":"#N/A"},{"$f":"IF(ISNA(G16),NA(),IF(AND(G16>HiddenNormal2!J$14,G16<HiddenNormal2!J$15),G16,NA()))","v":{"$error":"#N/A"}},{"$f":"IF(ISNA(G16),NA(),IF(OR(AND(G16<HiddenNormal2!J$14,G16>HiddenNormal2!J$16),AND(G16>HiddenNormal2!J$15,G16<HiddenNormal2!J$17)),G16,NA()))","v":{"$error":"#N/A"}},{"$f":"IF(ISNA(G16),NA(),IF(OR(G16>HiddenNormal2!J$17,G16<HiddenNormal2!J$16),G16,NA()))","v":{"$error":"#N/A"}},null,{"$f":"VLOOKUP(ConcImputeds,HiddenNormal2!E$7:F$26,2,0)","v":""},{"$error":"#N/A"},{"$error":"#N/A"},{"$f":"IF(ISNA(N16),NA(),IF(AND(N16>=HiddenNormal2!V$14,N16<=HiddenNormal2!V$15),N16,NA()))","v":{"$error":"#N/A"}},{"$f":"IF(ISNA(N16),NA(),IF(OR(AND(N16<HiddenNormal2!V$14,N16>=HiddenNormal2!V$16),AND(N16>HiddenNormal2!V$15,N16<=HiddenNormal2!V$17)),N16,NA()))","v":{"$error":"#N/A"}},{"$f":"IF(ISNA(N16),NA(),IF(OR(N16>HiddenNormal2!V$17,N16<HiddenNormal2!V$16),N16,NA()))","v":{"$error":"#N/A"}},{"$error":"#N/A"},{"$error":"#N/A"},{"$f":"IF(ISNA(S16),NA(),IF(AND(S16>HiddenNormal2!V$14,S16<HiddenNormal2!V$15),S16,NA()))","v":{"$error":"#N/A"}},{"$f":"IF(ISNA(S16),NA(),IF(OR(AND(S16<HiddenNormal2!V$14,S16>HiddenNormal2!V$16),AND(S16>HiddenNormal2!V$15,S16<HiddenNormal2!V$17)),S16,NA()))","v":{"$error":"#N/A"}},{"$f":"IF(ISNA(S16),NA(),IF(OR(S16>HiddenNormal2!V$17,S16<HiddenNormal2!V$16),S16,NA()))","v":{"$error":"#N/A"}}]
[{"$error":"#N/A"},{"$error":"#N/A"},{"$f":"IF(ISNA(B17),NA(),IF(AND(B17>=HiddenNormal2!J$14,B17<=HiddenNormal2!J$15),B17,NA()))","v":{"$error":"#N/A"}},{"$f":"IF(ISNA(B17),NA(),IF(OR(AND(B17<HiddenNormal2!J$14,B17>=HiddenNormal2!J$16),AND(B17>HiddenNormal2!J$15,B17<=HiddenNormal2!J$17)),B17,NA()))","v":{"$error":"#N/A"}},{"$f":"IF(ISNA(B17),NA(),IF(OR(B17>HiddenNormal2!J$17,B17<HiddenNormal2!J$16),B17,NA()))","v":{"$error":"#N/A"}},{"$error":"#N/A"},{"$error":"#N/A"},{"$f":"IF(ISNA(G17),NA(),IF(AND(G17>HiddenNormal2!J$14,G17<HiddenNormal2!J$15),G17,NA()))","v":{"$error":"#N/A"}},{"$f":"IF(ISNA(G17),NA(),IF(OR(AND(G17<HiddenNormal2!J$14,G17>HiddenNormal2!J$16),AND(G17>HiddenNormal2!J$15,G17<HiddenNormal2!J$17)),G17,NA()))","v":{"$error":"#N/A"}},{"$f":"IF(ISNA(G17),NA(),IF(OR(G17>HiddenNormal2!J$17,G17<HiddenNormal2!J$16),G17,NA()))","v":{"$error":"#N/A"}},null,{"$f":"VLOOKUP(ConcImputeds,HiddenNormal2!E$7:F$26,2,0)","v":""},{"$error":"#N/A"},{"$error":"#N/A"},{"$f":"IF(ISNA(N17),NA(),IF(AND(N17>=HiddenNormal2!V$14,N17<=HiddenNormal2!V$15),N17,NA()))","v":{"$error":"#N/A"}},{"$f":"IF(ISNA(N17),NA(),IF(OR(AND(N17<HiddenNormal2!V$14,N17>=HiddenNormal2!V$16),AND(N17>HiddenNormal2!V$15,N17<=HiddenNormal2!V$17)),N17,NA()))","v":{"$error":"#N/A"}},{"$f":"IF(ISNA(N17),NA(),IF(OR(N17>HiddenNormal2!V$17,N17<HiddenNormal2!V$16),N17,NA()))","v":{"$error":"#N/A"}},{"$error":"#N/A"},{"$error":"#N/A"},{"$f":"IF(ISNA(S17),NA(),IF(AND(S17>HiddenNormal2!V$14,S17<HiddenNormal2!V$15),S17,NA()))","v":{"$error":"#N/A"}},{"$f":"IF(ISNA(S17),NA(),IF(OR(AND(S17<HiddenNormal2!V$14,S17>HiddenNormal2!V$16),AND(S17>HiddenNormal2!V$15,S17<HiddenNormal2!V$17)),S17,NA()))","v":{"$error":"#N/A"}},{"$f":"IF(ISNA(S17),NA(),IF(OR(S17>HiddenNormal2!V$17,S17<HiddenNormal2!V$16),S17,NA()))","v":{"$error":"#N/A"}}]
[{"$error":"#N/A"},{"$error":"#N/A"},{"$f":"IF(ISNA(B18),NA(),IF(AND(B18>=HiddenNormal2!J$14,B18<=HiddenNormal2!J$15),B18,NA()))","v":{"$error":"#N/A"}},{"$f":"IF(ISNA(B18),NA(),IF(OR(AND(B18<HiddenNormal2!J$14,B18>=HiddenNormal2!J$16),AND(B18>HiddenNormal2!J$15,B18<=HiddenNormal2!J$17)),B18,NA()))","v":{"$error":"#N/A"}},{"$f":"IF(ISNA(B18),NA(),IF(OR(B18>HiddenNormal2!J$17,B18<HiddenNormal2!J$16),B18,NA()))","v":{"$error":"#N/A"}},{"$error":"#N/A"},{"$error":"#N/A"},{"$f":"IF(ISNA(G18),NA(),IF(AND(G18>HiddenNormal2!J$14,G18<HiddenNormal2!J$15),G18,NA()))","v":{"$error":"#N/A"}},{"$f":"IF(ISNA(G18),NA(),IF(OR(AND(G18<HiddenNormal2!J$14,G18>HiddenNormal2!J$16),AND(G18>HiddenNormal2!J$15,G18<HiddenNormal2!J$17)),G18,NA()))","v":{"$error":"#N/A"}},{"$f":"IF(ISNA(G18),NA(),IF(OR(G18>HiddenNormal2!J$17,G18<HiddenNormal2!J$16),G18,NA()))","v":{"$error":"#N/A"}},null,{"$f":"VLOOKUP(ConcImputeds,HiddenNormal2!E$7:F$26,2,0)","v":""},{"$error":"#N/A"},{"$error":"#N/A"},{"$f":"IF(ISNA(N18),NA(),IF(AND(N18>=HiddenNormal2!V$14,N18<=HiddenNormal2!V$15),N18,NA()))","v":{"$error":"#N/A"}},{"$f":"IF(ISNA(N18),NA(),IF(OR(AND(N18<HiddenNormal2!V$14,N18>=HiddenNormal2!V$16),AND(N18>HiddenNormal2!V$15,N18<=HiddenNormal2!V$17)),N18,NA()))","v":{"$error":"#N/A"}},{"$f":"IF(ISNA(N18),NA(),IF(OR(N18>HiddenNormal2!V$17,N18<HiddenNormal2!V$16),N18,NA()))","v":{"$error":"#N/A"}},{"$error":"#N/A"},{"$error":"#N/A"},{"$f":"IF(ISNA(S18),NA(),IF(AND(S18>HiddenNormal2!V$14,S18<HiddenNormal2!V$15),S18,NA()))","v":{"$error":"#N/A"}},{"$f":"IF(ISNA(S18),NA(),IF(OR(AND(S18<HiddenNormal2!V$14,S18>HiddenNormal2!V$16),AND(S18>HiddenNormal2!V$15,S18<HiddenNormal2!V$17)),S18,NA()))","v":{"$error":"#N/A"}},{"$f":"IF(ISNA(S18),NA(),IF(OR(S18>HiddenNormal2!V$17,S18<HiddenNormal2!V$16),S18,NA()))","v":{"$error":"#N/A"}}]
[{"$error":"#N/A"},{"$error":"#N/A"},{"$f":"IF(ISNA(B19),NA(),IF(AND(B19>=HiddenNormal2!J$14,B19<=HiddenNormal2!J$15),B19,NA()))","v":{"$error":"#N/A"}},{"$f":"IF(ISNA(B19),NA(),IF(OR(AND(B19<HiddenNormal2!J$14,B19>=HiddenNormal2!J$16),AND(B19>HiddenNormal2!J$15,B19<=HiddenNormal2!J$17)),B19,NA()))","v":{"$error":"#N/A"}},{"$f":"IF(ISNA(B19),NA(),IF(OR(B19>HiddenNormal2!J$17,B19<HiddenNormal2!J$16),B19,NA()))","v":{"$error":"#N/A"}},{"$error":"#N/A"},{"$error":"#N/A"},{"$f":"IF(ISNA(G19),NA(),IF(AND(G19>HiddenNormal2!J$14,G19<HiddenNormal2!J$15),G19,NA()))","v":{"$error":"#N/A"}},{"$f":"IF(ISNA(G19),NA(),IF(OR(AND(G19<HiddenNormal2!J$14,G19>HiddenNormal2!J$16),AND(G19>HiddenNormal2!J$15,G19<HiddenNormal2!J$17)),G19,NA()))","v":{"$error":"#N/A"}},{"$f":"IF(ISNA(G19),NA(),IF(OR(G19>HiddenNormal2!J$17,G19<HiddenNormal2!J$16),G19,NA()))","v":{"$error":"#N/A"}},null,{"$f":"VLOOKUP(ConcImputeds,HiddenNormal2!E$7:F$26,2,0)","v":""},{"$error":"#N/A"},{"$error":"#N/A"},{"$f":"IF(ISNA(N19),NA(),IF(AND(N19>=HiddenNormal2!V$14,N19<=HiddenNormal2!V$15),N19,NA()))","v":{"$error":"#N/A"}},{"$f":"IF(ISNA(N19),NA(),IF(OR(AND(N19<HiddenNormal2!V$14,N19>=HiddenNormal2!V$16),AND(N19>HiddenNormal2!V$15,N19<=HiddenNormal2!V$17)),N19,NA()))","v":{"$error":"#N/A"}},{"$f":"IF(ISNA(N19),NA(),IF(OR(N19>HiddenNormal2!V$17,N19<HiddenNormal2!V$16),N19,NA()))","v":{"$error":"#N/A"}},{"$error":"#N/A"},{"$error":"#N/A"},{"$f":"IF(ISNA(S19),NA(),IF(AND(S19>HiddenNormal2!V$14,S19<HiddenNormal2!V$15),S19,NA()))","v":{"$error":"#N/A"}},{"$f":"IF(ISNA(S19),NA(),IF(OR(AND(S19<HiddenNormal2!V$14,S19>HiddenNormal2!V$16),AND(S19>HiddenNormal2!V$15,S19<HiddenNormal2!V$17)),S19,NA()))","v":{"$error":"#N/A"}},{"$f":"IF(ISNA(S19),NA(),IF(OR(S19>HiddenNormal2!V$17,S19<HiddenNormal2!V$16),S19,NA()))","v":{"$error":"#N/A"}}]
[{"$error":"#N/A"},{"$error":"#N/A"},{"$f":"IF(ISNA(B20),NA(),IF(AND(B20>=HiddenNormal2!J$14,B20<=HiddenNormal2!J$15),B20,NA()))","v":{"$error":"#N/A"}},{"$f":"IF(ISNA(B20),NA(),IF(OR(AND(B20<HiddenNormal2!J$14,B20>=HiddenNormal2!J$16),AND(B20>HiddenNormal2!J$15,B20<=HiddenNormal2!J$17)),B20,NA()))","v":{"$error":"#N/A"}},{"$f":"IF(ISNA(B20),NA(),IF(OR(B20>HiddenNormal2!J$17,B20<HiddenNormal2!J$16),B20,NA()))","v":{"$error":"#N/A"}},{"$error":"#N/A"},{"$error":"#N/A"},{"$f":"IF(ISNA(G20),NA(),IF(AND(G20>HiddenNormal2!J$14,G20<HiddenNormal2!J$15),G20,NA()))","v":{"$error":"#N/A"}},{"$f":"IF(ISNA(G20),NA(),IF(OR(AND(G20<HiddenNormal2!J$14,G20>HiddenNormal2!J$16),AND(G20>HiddenNormal2!J$15,G20<HiddenNormal2!J$17)),G20,NA()))","v":{"$error":"#N/A"}},{"$f":"IF(ISNA(G20),NA(),IF(OR(G20>HiddenNormal2!J$17,G20<HiddenNormal2!J$16),G20,NA()))","v":{"$error":"#N/A"}},null,{"$f":"VLOOKUP(ConcImputeds,HiddenNormal2!E$7:F$26,2,0)","v":""},{"$error":"#N/A"},{"$error":"#N/A"},{"$f":"IF(ISNA(N20),NA(),IF(AND(N20>=HiddenNormal2!V$14,N20<=HiddenNormal2!V$15),N20,NA()))","v":{"$error":"#N/A"}},{"$f":"IF(ISNA(N20),NA(),IF(OR(AND(N20<HiddenNormal2!V$14,N20>=HiddenNormal2!V$16),AND(N20>HiddenNormal2!V$15,N20<=HiddenNormal2!V$17)),N20,NA()))","v":{"$error":"#N/A"}},{"$f":"IF(ISNA(N20),NA(),IF(OR(N20>HiddenNormal2!V$17,N20<HiddenNormal2!V$16),N20,NA()))","v":{"$error":"#N/A"}},{"$error":"#N/A"},{"$error":"#N/A"},{"$f":"IF(ISNA(S20),NA(),IF(AND(S20>HiddenNormal2!V$14,S20<HiddenNormal2!V$15),S20,NA()))","v":{"$error":"#N/A"}},{"$f":"IF(ISNA(S20),NA(),IF(OR(AND(S20<HiddenNormal2!V$14,S20>HiddenNormal2!V$16),AND(S20>HiddenNormal2!V$15,S20<HiddenNormal2!V$17)),S20,NA()))","v":{"$error":"#N/A"}},{"$f":"IF(ISNA(S20),NA(),IF(OR(S20>HiddenNormal2!V$17,S20<HiddenNormal2!V$16),S20,NA()))","v":{"$error":"#N/A"}}]
[{"$error":"#N/A"},{"$error":"#N/A"},{"$f":"IF(ISNA(B21),NA(),IF(AND(B21>=HiddenNormal2!J$14,B21<=HiddenNormal2!J$15),B21,NA()))","v":{"$error":"#N/A"}},{"$f":"IF(ISNA(B21),NA(),IF(OR(AND(B21<HiddenNormal2!J$14,B21>=HiddenNormal2!J$16),AND(B21>HiddenNormal2!J$15,B21<=HiddenNormal2!J$17)),B21,NA()))","v":{"$error":"#N/A"}},{"$f":"IF(ISNA(B21),NA(),IF(OR(B21>HiddenNormal2!J$17,B21<HiddenNormal2!J$16),B21,NA()))","v":{"$error":"#N/A"}},{"$error":"#N/A"},{"$error":"#N/A"},{"$f":"IF(ISNA(G21),NA(),IF(AND(G21>HiddenNormal2!J$14,G21<HiddenNormal2!J$15),G21,NA()))","v":{"$error":"#N/A"}},{"$f":"IF(ISNA(G21),NA(),IF(OR(AND(G21<HiddenNormal2!J$14,G21>HiddenNormal2!J$16),AND(G21>HiddenNormal2!J$15,G21<HiddenNormal2!J$17)),G21,NA()))","v":{"$error":"#N/A"}},{"$f":"IF(ISNA(G21),NA(),IF(OR(G21>HiddenNormal2!J$17,G21<HiddenNormal2!J$16),G21,NA()))","v":{"$error":"#N/A"}},null,{"$f":"VLOOKUP(ConcImputeds,HiddenNormal2!E$7:F$26,2,0)","v":""},{"$error":"#N/A"},{"$error":"#N/A"},{"$f":"IF(ISNA(N21),NA(),IF(AND(N21>=HiddenNormal2!V$14,N21<=HiddenNormal2!V$15),N21,NA()))","v":{"$error":"#N/A"}},{"$f":"IF(ISNA(N21),NA(),IF(OR(AND(N21<HiddenNormal2!V$14,N21>=HiddenNormal2!V$16),AND(N21>HiddenNormal2!V$15,N21<=HiddenNormal2!V$17)),N21,NA()))","v":{"$error":"#N/A"}},{"$f":"IF(ISNA(N21),NA(),IF(OR(N21>HiddenNormal2!V$17,N21<HiddenNormal2!V$16),N21,NA()))","v":{"$error":"#N/A"}},{"$error":"#N/A"},{"$error":"#N/A"},{"$f":"IF(ISNA(S21),NA(),IF(AND(S21>HiddenNormal2!V$14,S21<HiddenNormal2!V$15),S21,NA()))","v":{"$error":"#N/A"}},{"$f":"IF(ISNA(S21),NA(),IF(OR(AND(S21<HiddenNormal2!V$14,S21>HiddenNormal2!V$16),AND(S21>HiddenNormal2!V$15,S21<HiddenNormal2!V$17)),S21,NA()))","v":{"$error":"#N/A"}},{"$f":"IF(ISNA(S21),NA(),IF(OR(S21>HiddenNormal2!V$17,S21<HiddenNormal2!V$16),S21,NA()))","v":{"$error":"#N/A"}}]
[{"$error":"#N/A"},{"$error":"#N/A"},{"$f":"IF(ISNA(B22),NA(),IF(AND(B22>=HiddenNormal2!J$14,B22<=HiddenNormal2!J$15),B22,NA()))","v":{"$error":"#N/A"}},{"$f":"IF(ISNA(B22),NA(),IF(OR(AND(B22<HiddenNormal2!J$14,B22>=HiddenNormal2!J$16),AND(B22>HiddenNormal2!J$15,B22<=HiddenNormal2!J$17)),B22,NA()))","v":{"$error":"#N/A"}},{"$f":"IF(ISNA(B22),NA(),IF(OR(B22>HiddenNormal2!J$17,B22<HiddenNormal2!J$16),B22,NA()))","v":{"$error":"#N/A"}},{"$error":"#N/A"},{"$error":"#N/A"},{"$f":"IF(ISNA(G22),NA(),IF(AND(G22>HiddenNormal2!J$14,G22<HiddenNormal2!J$15),G22,NA()))","v":{"$error":"#N/A"}},{"$f":"IF(ISNA(G22),NA(),IF(OR(AND(G22<HiddenNormal2!J$14,G22>HiddenNormal2!J$16),AND(G22>HiddenNormal2!J$15,G22<HiddenNormal2!J$17)),G22,NA()))","v":{"$error":"#N/A"}},{"$f":"IF(ISNA(G22),NA(),IF(OR(G22>HiddenNormal2!J$17,G22<HiddenNormal2!J$16),G22,NA()))","v":{"$error":"#N/A"}},null,{"$f":"VLOOKUP(ConcImputeds,HiddenNormal2!E$7:F$26,2,0)","v":""},{"$error":"#N/A"},{"$error":"#N/A"},{"$f":"IF(ISNA(N22),NA(),IF(AND(N22>=HiddenNormal2!V$14,N22<=HiddenNormal2!V$15),N22,NA()))","v":{"$error":"#N/A"}},{"$f":"IF(ISNA(N22),NA(),IF(OR(AND(N22<HiddenNormal2!V$14,N22>=HiddenNormal2!V$16),AND(N22>HiddenNormal2!V$15,N22<=HiddenNormal2!V$17)),N22,NA()))","v":{"$error":"#N/A"}},{"$f":"IF(ISNA(N22),NA(),IF(OR(N22>HiddenNormal2!V$17,N22<HiddenNormal2!V$16),N22,NA()))","v":{"$error":"#N/A"}},{"$error":"#N/A"},{"$error":"#N/A"},{"$f":"IF(ISNA(S22),NA(),IF(AND(S22>HiddenNormal2!V$14,S22<HiddenNormal2!V$15),S22,NA()))","v":{"$error":"#N/A"}},{"$f":"IF(ISNA(S22),NA(),IF(OR(AND(S22<HiddenNormal2!V$14,S22>HiddenNormal2!V$16),AND(S22>HiddenNormal2!V$15,S22<HiddenNormal2!V$17)),S22,NA()))","v":{"$error":"#N/A"}},{"$f":"IF(ISNA(S22),NA(),IF(OR(S22>HiddenNormal2!V$17,S22<HiddenNormal2!V$16),S22,NA()))","v":{"$error":"#N/A"}}]
[{"$error":"#N/A"},{"$error":"#N/A"},{"$f":"IF(ISNA(B23),NA(),IF(AND(B23>=HiddenNormal2!J$14,B23<=HiddenNormal2!J$15),B23,NA()))","v":{"$error":"#N/A"}},{"$f":"IF(ISNA(B23),NA(),IF(OR(AND(B23<HiddenNormal2!J$14,B23>=HiddenNormal2!J$16),AND(B23>HiddenNormal2!J$15,B23<=HiddenNormal2!J$17)),B23,NA()))","v":{"$error":"#N/A"}},{"$f":"IF(ISNA(B23),NA(),IF(OR(B23>HiddenNormal2!J$17,B23<HiddenNormal2!J$16),B23,NA()))","v":{"$error":"#N/A"}},{"$error":"#N/A"},{"$error":"#N/A"},{"$f":"IF(ISNA(G23),NA(),IF(AND(G23>HiddenNormal2!J$14,G23<HiddenNormal2!J$15),G23,NA()))","v":{"$error":"#N/A"}},{"$f":"IF(ISNA(G23),NA(),IF(OR(AND(G23<HiddenNormal2!J$14,G23>HiddenNormal2!J$16),AND(G23>HiddenNormal2!J$15,G23<HiddenNormal2!J$17)),G23,NA()))","v":{"$error":"#N/A"}},{"$f":"IF(ISNA(G23),NA(),IF(OR(G23>HiddenNormal2!J$17,G23<HiddenNormal2!J$16),G23,NA()))","v":{"$error":"#N/A"}},null,{"$f":"VLOOKUP(ConcImputeds,HiddenNormal2!E$7:F$26,2,0)","v":""},{"$error":"#N/A"},{"$error":"#N/A"},{"$f":"IF(ISNA(N23),NA(),IF(AND(N23>=HiddenNormal2!V$14,N23<=HiddenNormal2!V$15),N23,NA()))","v":{"$error":"#N/A"}},{"$f":"IF(ISNA(N23),NA(),IF(OR(AND(N23<HiddenNormal2!V$14,N23>=HiddenNormal2!V$16),AND(N23>HiddenNormal2!V$15,N23<=HiddenNormal2!V$17)),N23,NA()))","v":{"$error":"#N/A"}},{"$f":"IF(ISNA(N23),NA(),IF(OR(N23>HiddenNormal2!V$17,N23<HiddenNormal2!V$16),N23,NA()))","v":{"$error":"#N/A"}},{"$error":"#N/A"},{"$error":"#N/A"},{"$f":"IF(ISNA(S23),NA(),IF(AND(S23>HiddenNormal2!V$14,S23<HiddenNormal2!V$15),S23,NA()))","v":{"$error":"#N/A"}},{"$f":"IF(ISNA(S23),NA(),IF(OR(AND(S23<HiddenNormal2!V$14,S23>HiddenNormal2!V$16),AND(S23>HiddenNormal2!V$15,S23<HiddenNormal2!V$17)),S23,NA()))","v":{"$error":"#N/A"}},{"$f":"IF(ISNA(S23),NA(),IF(OR(S23>HiddenNormal2!V$17,S23<HiddenNormal2!V$16),S23,NA()))","v":{"$error":"#N/A"}}]
[{"$error":"#N/A"},{"$error":"#N/A"},{"$f":"IF(ISNA(B24),NA(),IF(AND(B24>=HiddenNormal2!J$14,B24<=HiddenNormal2!J$15),B24,NA()))","v":{"$error":"#N/A"}},{"$f":"IF(ISNA(B24),NA(),IF(OR(AND(B24<HiddenNormal2!J$14,B24>=HiddenNormal2!J$16),AND(B24>HiddenNormal2!J$15,B24<=HiddenNormal2!J$17)),B24,NA()))","v":{"$error":"#N/A"}},{"$f":"IF(ISNA(B24),NA(),IF(OR(B24>HiddenNormal2!J$17,B24<HiddenNormal2!J$16),B24,NA()))","v":{"$error":"#N/A"}},{"$error":"#N/A"},{"$error":"#N/A"},{"$f":"IF(ISNA(G24),NA(),IF(AND(G24>HiddenNormal2!J$14,G24<HiddenNormal2!J$15),G24,NA()))","v":{"$error":"#N/A"}},{"$f":"IF(ISNA(G24),NA(),IF(OR(AND(G24<HiddenNormal2!J$14,G24>HiddenNormal2!J$16),AND(G24>HiddenNormal2!J$15,G24<HiddenNormal2!J$17)),G24,NA()))","v":{"$error":"#N/A"}},{"$f":"IF(ISNA(G24),NA(),IF(OR(G24>HiddenNormal2!J$17,G24<HiddenNormal2!J$16),G24,NA()))","v":{"$error":"#N/A"}},null,{"$f":"VLOOKUP(ConcImputeds,HiddenNormal2!E$7:F$26,2,0)","v":""},{"$error":"#N/A"},{"$error":"#N/A"},{"$f":"IF(ISNA(N24),NA(),IF(AND(N24>=HiddenNormal2!V$14,N24<=HiddenNormal2!V$15),N24,NA()))","v":{"$error":"#N/A"}},{"$f":"IF(ISNA(N24),NA(),IF(OR(AND(N24<HiddenNormal2!V$14,N24>=HiddenNormal2!V$16),AND(N24>HiddenNormal2!V$15,N24<=HiddenNormal2!V$17)),N24,NA()))","v":{"$error":"#N/A"}},{"$f":"IF(ISNA(N24),NA(),IF(OR(N24>HiddenNormal2!V$17,N24<HiddenNormal2!V$16),N24,NA()))","v":{"$error":"#N/A"}},{"$error":"#N/A"},{"$error":"#N/A"},{"$f":"IF(ISNA(S24),NA(),IF(AND(S24>HiddenNormal2!V$14,S24<HiddenNormal2!V$15),S24,NA()))","v":{"$error":"#N/A"}},{"$f":"IF(ISNA(S24),NA(),IF(OR(AND(S24<HiddenNormal2!V$14,S24>HiddenNormal2!V$16),AND(S24>HiddenNormal2!V$15,S24<HiddenNormal2!V$17)),S24,NA()))","v":{"$error":"#N/A"}},{"$f":"IF(ISNA(S24),NA(),IF(OR(S24>HiddenNormal2!V$17,S24<HiddenNormal2!V$16),S24,NA()))","v":{"$error":"#N/A"}}]
[{"$error":"#N/A"},{"$error":"#N/A"},{"$f":"IF(ISNA(B25),NA(),IF(AND(B25>=HiddenNormal2!J$14,B25<=HiddenNormal2!J$15),B25,NA()))","v":{"$error":"#N/A"}},{"$f":"IF(ISNA(B25),NA(),IF(OR(AND(B25<HiddenNormal2!J$14,B25>=HiddenNormal2!J$16),AND(B25>HiddenNormal2!J$15,B25<=HiddenNormal2!J$17)),B25,NA()))","v":{"$error":"#N/A"}},{"$f":"IF(ISNA(B25),NA(),IF(OR(B25>HiddenNormal2!J$17,B25<HiddenNormal2!J$16),B25,NA()))","v":{"$error":"#N/A"}},{"$error":"#N/A"},{"$error":"#N/A"},{"$f":"IF(ISNA(G25),NA(),IF(AND(G25>HiddenNormal2!J$14,G25<HiddenNormal2!J$15),G25,NA()))","v":{"$error":"#N/A"}},{"$f":"IF(ISNA(G25),NA(),IF(OR(AND(G25<HiddenNormal2!J$14,G25>HiddenNormal2!J$16),AND(G25>HiddenNormal2!J$15,G25<HiddenNormal2!J$17)),G25,NA()))","v":{"$error":"#N/A"}},{"$f":"IF(ISNA(G25),NA(),IF(OR(G25>HiddenNormal2!J$17,G25<HiddenNormal2!J$16),G25,NA()))","v":{"$error":"#N/A"}},null,{"$f":"VLOOKUP(ConcImputeds,HiddenNormal2!E$7:F$26,2,0)","v":""},{"$error":"#N/A"},{"$error":"#N/A"},{"$f":"IF(ISNA(N25),NA(),IF(AND(N25>=HiddenNormal2!V$14,N25<=HiddenNormal2!V$15),N25,NA()))","v":{"$error":"#N/A"}},{"$f":"IF(ISNA(N25),NA(),IF(OR(AND(N25<HiddenNormal2!V$14,N25>=HiddenNormal2!V$16),AND(N25>HiddenNormal2!V$15,N25<=HiddenNormal2!V$17)),N25,NA()))","v":{"$error":"#N/A"}},{"$f":"IF(ISNA(N25),NA(),IF(OR(N25>HiddenNormal2!V$17,N25<HiddenNormal2!V$16),N25,NA()))","v":{"$error":"#N/A"}},{"$error":"#N/A"},{"$error":"#N/A"},{"$f":"IF(ISNA(S25),NA(),IF(AND(S25>HiddenNormal2!V$14,S25<HiddenNormal2!V$15),S25,NA()))","v":{"$error":"#N/A"}},{"$f":"IF(ISNA(S25),NA(),IF(OR(AND(S25<HiddenNormal2!V$14,S25>HiddenNormal2!V$16),AND(S25>HiddenNormal2!V$15,S25<HiddenNormal2!V$17)),S25,NA()))","v":{"$error":"#N/A"}},{"$f":"IF(ISNA(S25),NA(),IF(OR(S25>HiddenNormal2!V$17,S25<HiddenNormal2!V$16),S25,NA()))","v":{"$error":"#N/A"}}]
[{"$error":"#N/A"},{"$error":"#N/A"},{"$f":"IF(ISNA(B26),NA(),IF(AND(B26>=HiddenNormal2!J$14,B26<=HiddenNormal2!J$15),B26,NA()))","v":{"$error":"#N/A"}},{"$f":"IF(ISNA(B26),NA(),IF(OR(AND(B26<HiddenNormal2!J$14,B26>=HiddenNormal2!J$16),AND(B26>HiddenNormal2!J$15,B26<=HiddenNormal2!J$17)),B26,NA()))","v":{"$error":"#N/A"}},{"$f":"IF(ISNA(B26),NA(),IF(OR(B26>HiddenNormal2!J$17,B26<HiddenNormal2!J$16),B26,NA()))","v":{"$error":"#N/A"}},{"$error":"#N/A"},{"$error":"#N/A"},{"$f":"IF(ISNA(G26),NA(),IF(AND(G26>HiddenNormal2!J$14,G26<HiddenNormal2!J$15),G26,NA()))","v":{"$error":"#N/A"}},{"$f":"IF(ISNA(G26),NA(),IF(OR(AND(G26<HiddenNormal2!J$14,G26>HiddenNormal2!J$16),AND(G26>HiddenNormal2!J$15,G26<HiddenNormal2!J$17)),G26,NA()))","v":{"$error":"#N/A"}},{"$f":"IF(ISNA(G26),NA(),IF(OR(G26>HiddenNormal2!J$17,G26<HiddenNormal2!J$16),G26,NA()))","v":{"$error":"#N/A"}},null,{"$f":"VLOOKUP(ConcImputeds,HiddenNormal2!E$7:F$26,2,0)","v":""},{"$error":"#N/A"},{"$error":"#N/A"},{"$f":"IF(ISNA(N26),NA(),IF(AND(N26>=HiddenNormal2!V$14,N26<=HiddenNormal2!V$15),N26,NA()))","v":{"$error":"#N/A"}},{"$f":"IF(ISNA(N26),NA(),IF(OR(AND(N26<HiddenNormal2!V$14,N26>=HiddenNormal2!V$16),AND(N26>HiddenNormal2!V$15,N26<=HiddenNormal2!V$17)),N26,NA()))","v":{"$error":"#N/A"}},{"$f":"IF(ISNA(N26),NA(),IF(OR(N26>HiddenNormal2!V$17,N26<HiddenNormal2!V$16),N26,NA()))","v":{"$error":"#N/A"}},{"$error":"#N/A"},{"$error":"#N/A"},{"$f":"IF(ISNA(S26),NA(),IF(AND(S26>HiddenNormal2!V$14,S26<HiddenNormal2!V$15),S26,NA()))","v":{"$error":"#N/A"}},{"$f":"IF(ISNA(S26),NA(),IF(OR(AND(S26<HiddenNormal2!V$14,S26>HiddenNormal2!V$16),AND(S26>HiddenNormal2!V$15,S26<HiddenNormal2!V$17)),S26,NA()))","v":{"$error":"#N/A"}},{"$f":"IF(ISNA(S26),NA(),IF(OR(S26>HiddenNormal2!V$17,S26<HiddenNormal2!V$16),S26,NA()))","v":{"$error":"#N/A"}}]
[]
["Boxplot series","All data included",null,null,null,"Outliers removed",null,null,null,null,null,null,"Date","Concentration"]
[null,"Xmin","Xmax","Y","Y","Xmin","Xmax","Y","Y",null,null,null,{"$f":"IF(ISNA(M7),\"\",M7)","v":43101},4.3]
["Box bottom",{"$f":"MIN(DateInput)","v":43101},{"$f":"MAX(DateInput)","v":43282},{"$f":"HiddenNormal2!K7","v":4.1500000000000004},{"$f":"D30","v":4.1500000000000004},{"$f":"MIN(DateInput)","v":43101},{"$f":"MAX(DateInput)","v":43282},{"$f":"HiddenNormal2!W7","v":4.1500000000000004},{"$f":"H30","v":4.1500000000000004},null,null,null,43132,6.1]
["Box center",43101,{"$f":"MAX(DateInput)","v":43282},{"$f":"HiddenNormal2!K8","v":4.5},{"$f":"D31","v":4.5},{"$f":"F30","v":43101},43282,{"$f":"HiddenNormal2!W8","v":4.5},{"$f":"H31","v":4.5},null,null,null,43160,4.5999999999999996]
["Box top",43101,{"$f":"MAX(DateInput)","v":43282},{"$f":"HiddenNormal2!K9","v":4.9499999999999993},{"$f":"D32","v":4.9499999999999993},43101,43282,{"$f":"HiddenNormal2!W9","v":4.9499999999999993},{"$f":"H32","v":4.9499999999999993},null,null,null,43191,4.5]
["Min line",43101,{"$f":"MAX(DateInput)","v":43282},{"$f":"MIN(ConcInput)","v":3.9},{"$f":"D33","v":3.9},43101,43282,{"$f":"MIN(ConcImputeds)","v":3.9},{"$f":"H33","v":3.9},null,null,null,43221,5.3]
["Max line",43101,{"$f":"MAX(DateInput)","v":43282},{"$f":"MAX(ConcInput)","v":6.1},{"$f":"D34","v":6.1},43101,43282,{"$f":"MAX(ConcImputeds)","v":6.1},{"$f":"H34","v":6.1},null,null,null,43252,3.9]
["Box left",43101,{"$f":"B35","v":43101},{"$f":"D30","v":4.1500000000000004},{"$f":"E32","v":4.9499999999999993},{"$f":"F34","v":43101},{"$f":"F35","v":43101},{"$f":"H30","v":4.1500000000000004},{"$f":"I32","v":4.9499999999999993},null,null,null,43282,4]
["Box right",{"$f":"MAX(DateInput)","v":43282},{"$f":"B36","v":43282},{"$f":"D30","v":4.1500000000000004},{"$f":"E32","v":4.9499999999999993},{"$f":"G30","v":43282},{"$f":"F36","v":43282},{"$f":"H30","v":4.1500000000000004},{"$f":"I32","v":4.9499999999999993},null,null,null,"",""]
["Top whisker",{"$f":"AVERAGE(B35:B36)","v":43191.5},{"$f":"B37","v":43191.5},{"$f":"D32","v":4.9499999999999993},{"$f":"E34","v":6.1},{"$f":"AVERAGE(M29:M48)","v":43191.285714285717},{"$f":"F37","v":43191.285714285717},{"$f":"H32","v":4.9499999999999993},{"$f":"I34","v":6.1},null,null,null,"",""]
["Bottom whisker",{"$f":"B37","v":43191.5},{"$f":"C37","v":43191.5},{"$f":"D33","v":3.9},{"$f":"E30","v":4.1500000000000004},{"$f":"F37","v":43191.285714285717},{"$f":"F38","v":43191.285714285717},{"$f":"H33","v":3.9},{"$f":"I30","v":4.1500000000000004},null,null,null,"",""]
[null,null,null,null,null,null,null,null,null,null,null,null,{"$f":"IF(ISNA(M17),\"\",M17)","v":""},""]
[null,null,null,null,null,null,null,null,null,null,null,null,"",""]
[null,null,null,null,null,null,null,null,null,null,null,null,"",""]
[null,null,null,null,null,null,null,null,null,null,null,null,"",""]
[null,null,null,null,null,null,null,null,null,null,null,null,"",""]
[null,null,null,null,null,null,null,null,null,null,null,null,"",""]
[null,null,null,null,null,null,null,null,null,null,null,null,"",""]
[null,null,null,null,null,null,null,null,null,null,null,null,"",""]
[null,null,null,null,null,null,null,null,null,null,null,null,"",""]
[null,null,null,null,null,null,null,null,null,null,null,null,"",""]

{"sheet":"HiddenNormal1","index":15,"n_rows":46,"n_cols":30,"rows_kept":46,"cut":false,"hidden":true,"merged":[[24,11,24,13]]}
[null,"All Detected Data",null,null,null,null,null,null,null,null,"Coefficients [a(n-i+1] for Shapiro-Wil Test of Normality",null,null,null,null,null,"Table comes from Table 10-2 of Appendix D of the UG."]
["i","x(i)","x(n-i+1)","X(n-i+1)-x(i)","a(n-i+1)",{"$f":"E2& \"*\" & D2","v":"a(n-i+1)*X(n-i+1)-x(i)"},"b(i)","SW",null,null,null,"n"]
[{"$f":"HiddenNormal2!A7","v":1},{"$f":"HiddenNormal2!E7","v":3.9},{"$f":"IF(A3=\"\",\"\",VLOOKUP(HiddenNormal2!J$10-A3+1,A$3:B$22,2,0))","v":6.1},{"$f":"IF(A3=\"\",\"\",C3-B3)","v":2.1999999999999997},{"$f":"IF(A3=\"\",\"\",IF(D3>=0,OFFSET($K$3,A3,HiddenNormal2!J$10-1,1,1),0))","v":0.62329999999999997},{"$f":"IF(A3=\"\",\"\",IF(E3*D3>0,E3*D3,0))","v":1.3712599999999997},{"$f":"SUM(F3:F22)","v":1.8073199999999996},{"$f":"(G3/(STDEV(B3:B22)*SQRT(HiddenNormal2!J10-1)))^2","v":0.8938561015168015},null,null,"i",2,3,4,5,6,7,8,9,10,11,12,13,14,15,16,17,18,19,20]
[{"$f":"HiddenNormal2!A8","v":2},{"$f":"HiddenNormal2!E8","v":4},{"$f":"IF(A4=\"\",\"\",VLOOKUP(HiddenNormal2!J$10-A4+1,A$3:B$22,2,0))","v":5.3},{"$f":"IF(A4=\"\",\"\",C4-B4)","v":1.2999999999999998},{"$f":"IF(A4=\"\",\"\",IF(D4>=0,OFFSET($K$3,A4,HiddenNormal2!J$10-1,1,1),0))","v":0.30309999999999998},{"$f":"IF(A4=\"\",\"\",IF(E4*D4>0,E4*D4,0))","v":0.39402999999999994},null,null,null,null,1,0.70709999999999995,0.70709999999999995,0.68720000000000003,0.66459999999999997,0.6431,0.62329999999999997,0.60519999999999996,0.58879999999999999,0.57389999999999997,0.56010000000000004,0.54749999999999999,0.53590000000000004,0.52510000000000001,0.51500000000000001,0.50560000000000005,0.49680000000000002,0.48859999999999998,0.48080000000000001,0.47339999999999999]
[{"$f":"HiddenNormal2!A9","v":3},{"$f":"HiddenNormal2!E9","v":4.3},{"$f":"IF(A5=\"\",\"\",VLOOKUP(HiddenNormal2!J$10-A5+1,A$3:B$22,2,0))","v":4.5999999999999996},0.29999999999999982,{"$f":"IF(A5=\"\",\"\",IF(D5>=0,OFFSET($K$3,A5,HiddenNormal2!J$10-1,1,1),0))","v":0.1401},4.2029999999999977E-2,null,null,null,null,2,null,0,0.16769999999999999,0.24129999999999999,0.28060000000000002,0.30309999999999998,0.31640000000000001,0.32440000000000002,0.3291,0.33150000000000002,0.33250000000000002,0.33250000000000002,0.33179999999999998,0.3306,0.32900000000000001,0.32729999999999998,0.32529999999999998,0.32319999999999999,0.3211]
[{"$f":"HiddenNormal2!A10","v":4},{"$f":"HiddenNormal2!E10","v":4.5},{"$f":"IF(A6=\"\",\"\",VLOOKUP(HiddenNormal2!J$10-A6+1,A$3:B$22,2,0))","v":4.5},0,{"$f":"IF(A6=\"\",\"\",IF(D6>=0,OFFSET($K$3,A6,HiddenNormal2!J$10-1,1,1),0))","v":0},0,null,null,null,null,3,null,null,null,0,8.7499999999999994E-2,0.1401,0.17430000000000001,0.1976,0.21410000000000001,0.22600000000000001,0.23469999999999999,0.2412,0.246,0.2495,0.25209999999999999,0.254,0.25530000000000003,0.25609999999999999,0.25650000000000001]
[{"$f":"HiddenNormal2!A11","v":5},{"$f":"HiddenNormal2!E11","v":4.5999999999999996},{"$f":"IF(A7=\"\",\"\",VLOOKUP(HiddenNormal2!J$10-A7+1,A$3:B$22,2,0))","v":4.3},-0.29999999999999982,{"$f":"IF(A7=\"\",\"\",IF(D7>=0,OFFSET($K$3,A7,HiddenNormal2!J$10-1,1,1),0))","v":0},0,null,null,null,null,4,null,null,null,null,null,0,5.6099999999999997E-2,9.4700000000000006E-2,0.12239999999999999,0.1429,0.15859999999999999,0.17069999999999999,0.1802,0.18779999999999999,0.19389999999999999,0.1988,0.20269999999999999,0.2059,0.20849999999999999]
[{"$f":"HiddenNormal2!A12","v":6},{"$f":"HiddenNormal2!E12","v":5.3},{"$f":"IF(A8=\"\",\"\",VLOOKUP(HiddenNormal2!J$10-A8+1,A$3:B$22,2,0))","v":4},-1.2999999999999998,{"$f":"IF(A8=\"\",\"\",IF(D8>=0,OFFSET($K$3,A8,HiddenNormal2!J$10-1,1,1),0))","v":0},0,null,null,null,null,5,null,null,null,null,null,null,null,0,3.9899999999999998E-2,6.9500000000000006E-2,9.2200000000000004E-2,0.1099,0.124,0.1353,0.1447,0.15240000000000001,0.15870000000000001,0.1641,0.1686]
[{"$f":"HiddenNormal2!A13","v":7},{"$f":"HiddenNormal2!E13","v":6.1},{"$f":"IF(A9=\"\",\"\",VLOOKUP(HiddenNormal2!J$10-A9+1,A$3:B$22,2,0))","v":3.9},-2.1999999999999997,{"$f":"IF(A9=\"\",\"\",IF(D9>=0,OFFSET($K$3,A9,HiddenNormal2!J$10-1,1,1),0))","v":0},0,null,null,null,null,6,null,null,null,null,null,null,null,null,null,0,3.0300000000000001E-2,5.3900000000000003E-2,7.2700000000000001E-2,8.7999999999999995E-2,0.10050000000000001,0.1109,0.1197,0.12709999999999999,0.13339999999999999]
[{"$f":"HiddenNormal2!A14","v":""},{"$f":"HiddenNormal2!E14","v":""},{"$f":"IF(A10=\"\",\"\",VLOOKUP(HiddenNormal2!J$10-A10+1,A$3:B$22,2,0))","v":""},"",{"$f":"IF(A10=\"\",\"\",IF(D10>=0,OFFSET($K$3,A10,HiddenNormal2!J$10-1,1,1),0))","v":""},"",null,null,null,null,7,null,null,null,null,null,null,null,null,null,null,null,0,2.4E-2,4.3299999999999998E-2,5.9299999999999999E-2,7.2499999999999995E-2,8.3699999999999997E-2,9.3200000000000005E-2,0.1013]
[{"$f":"HiddenNormal2!A15","v":""},{"$f":"HiddenNormal2!E15","v":""},{"$f":"IF(A11=\"\",\"\",VLOOKUP(HiddenNormal2!J$10-A11+1,A$3:B$22,2,0))","v":""},"",{"$f":"IF(A11=\"\",\"\",IF(D11>=0,OFFSET($K$3,A11,HiddenNormal2!J$10-1,1,1),0))","v":""},"",null,null,null,null,8,null,null,null,null,null,null,null,null,null,null,null,null,null,0,1.9599999999999999E-2,3.5900000000000001E-2,4.9599999999999998E-2,6.1199999999999997E-2,7.1099999999999997E-2]
[{"$f":"HiddenNormal2!A16","v":""},{"$f":"HiddenNormal2!E16","v":""},{"$f":"IF(A12=\"\",\"\",VLOOKUP(HiddenNormal2!J$10-A12+1,A$3:B$22,2,0))","v":""},"",{"$f":"IF(A12=\"\",\"\",IF(D12>=0,OFFSET($K$3,A12,HiddenNormal2!J$10-1,1,1),0))","v":""},"",null,null,null,null,9,null,null,null,null,null,null,null,null,null,null,null,null,null,null,null,0,1.6299999999999999E-2,3.0300000000000001E-2,4.2200000000000001E-2]
[{"$f":"HiddenNormal2!A17","v":""},{"$f":"HiddenNormal2!E17","v":""},{"$f":"IF(A13=\"\",\"\",VLOOKUP(HiddenNormal2!J$10-A13+1,A$3:B$22,2,0))","v":""},"",{"$f":"IF(A13=\"\",\"\",IF(D13>=0,OFFSET($K$3,A13,HiddenNormal2!J$10-1,1,1),0))","v":""},"",null,null,null,null,10,null,null,null,null,null,null,null,null,null,null,null,null,null,null,null,null,null,0,1.4E-2]
[{"$f":"HiddenNormal2!A18","v":""},{"$f":"HiddenNormal2!E18","v":""},{"$f":"IF(A14=\"\",\"\",VLOOKUP(HiddenNormal2!J$10-A14+1,A$3:B$22,2,0))","v":""},"",{"$f":"IF(A14=\"\",\"\",IF(D14>=0,OFFSET($K$3,A14,HiddenNormal2!J$10-1,1,1),0))","v":""},"",null,null,null,null,11]
[{"$f":"HiddenNormal2!A19","v":""},{"$f":"HiddenNormal2!E19","v":""},{"$f":"IF(A15=\"\",\"\",VLOOKUP(HiddenNormal2!J$10-A15+1,A$3:B$22,2,0))","v":""},{"$f":"IF(A15=\"\",\"\",C15-B15)","v":""},{"$f":"IF(A15=\"\",\"\",IF(D15>=0,OFFSET($K$3,A15,HiddenNormal2!J$10-1,1,1),0))","v":""},{"$f":"IF(A15=\"\",\"\",IF(E15*D15>0,E15*D15,0))","v":""},null,null,null,null,12]
[{"$f":"HiddenNormal2!A20","v":""},{"$f":"HiddenNormal2!E20","v":""},{"$f":"IF(A16=\"\",\"\",VLOOKUP(HiddenNormal2!J$10-A16+1,A$3:B$22,2,0))","v":""},"",{"$f":"IF(A16=\"\",\"\",IF(D16>=0,OFFSET($K$3,A16,HiddenNormal2!J$10-1,1,1),0))","v":""},"",null,null,null,null,13]
[{"$f":"HiddenNormal2!A21","v":""},{"$f":"HiddenNormal2!E21","v":""},{"$f":"IF(A17=\"\",\"\",VLOOKUP(HiddenNormal2!J$10-A17+1,A$3:B$22,2,0))","v":""},"",{"$f":"IF(A17=\"\",\"\",IF(D17>=0,OFFSET($K$3,A17,HiddenNormal2!J$10-1,1,1),0))","v":""},"",null,null,null,null,14]
[{"$f":"HiddenNormal2!A22","v":""},{"$f":"HiddenNormal2!E22","v":""},{"$f":"IF(A18=\"\",\"\",VLOOKUP(HiddenNormal2!J$10-A18+1,A$3:B$22,2,0))","v":""},"",{"$f":"IF(A18=\"\",\"\",IF(D18>=0,OFFSET($K$3,A18,HiddenNormal2!J$10-1,1,1),0))","v":""},"",null,null,null,null,15]
[{"$f":"HiddenNormal2!A23","v":""},{"$f":"HiddenNormal2!E23","v":""},{"$f":"IF(A19=\"\",\"\",VLOOKUP(HiddenNormal2!J$10-A19+1,A$3:B$22,2,0))","v":""},"",{"$f":"IF(A19=\"\",\"\",IF(D19>=0,OFFSET($K$3,A19,HiddenNormal2!J$10-1,1,1),0))","v":""},"",null,null,null,null,16]
[{"$f":"HiddenNormal2!A24","v":""},{"$f":"HiddenNormal2!E24","v":""},{"$f":"IF(A20=\"\",\"\",VLOOKUP(HiddenNormal2!J$10-A20+1,A$3:B$22,2,0))","v":""},"",{"$f":"IF(A20=\"\",\"\",IF(D20>=0,OFFSET($K$3,A20,HiddenNormal2!J$10-1,1,1),0))","v":""},"",null,null,null,null,17]
[{"$f":"HiddenNormal2!A25","v":""},{"$f":"HiddenNormal2!E25","v":""},{"$f":"IF(A21=\"\",\"\",VLOOKUP(HiddenNormal2!J$10-A21+1,A$3:B$22,2,0))","v":""},"",{"$f":"IF(A21=\"\",\"\",IF(D21>=0,OFFSET($K$3,A21,HiddenNormal2!J$10-1,1,1),0))","v":""},"",null,null,null,null,18]
[{"$f":"HiddenNormal2!A26","v":""},{"$f":"HiddenNormal2!E26","v":""},{"$f":"IF(A22=\"\",\"\",VLOOKUP(HiddenNormal2!J$10-A22+1,A$3:B$22,2,0))","v":""},{"$f":"IF(A22=\"\",\"\",C22-B22)","v":""},{"$f":"IF(A22=\"\",\"\",IF(D22>=0,OFFSET($K$3,A22,HiddenNormal2!J$10-1,1,1),0))","v":""},{"$f":"IF(A22=\"\",\"\",IF(E22*D22>0,E22*D22,0))","v":""}]
[]
[null,"x(i)","x(n-i+1)","X(n-i+1)-x(i)","a(n-i+1)",{"$f":"E24& \"*\" & D24","v":"a(n-i+1)*X(n-i+1)-x(i)"},"b(i)","SW",null,null,"Critical Points for Shapiro-Wilk Test"]
[{"$f":"HiddenNormal2!M7","v":1},{"$f":"HiddenNormal2!Q7","v":3.9},{"$f":"IF(A25=\"\",\"\",VLOOKUP(HiddenNormal2!V$10-A25+1,A$25:B$44,2,0))","v":6.1},{"$f":"IF(A25=\"\",\"\",C25-B25)","v":2.1999999999999997},{"$f":"IF(A25=\"\",\"\",IF(D25>=0,OFFSET($K$3,A25,HiddenNormal2!V$10-1,1,1),0))","v":0.62329999999999997},{"$f":"IF(A25=\"\",\"\",IF(E25*D25>0,E25*D25,0))","v":1.3712599999999997},{"$f":"SUM(F25:F44)","v":1.8073199999999996},{"$f":"(G25/(STDEV(B25:B44)*SQRT(HiddenNormal2!V10-1)))^2","v":0.8938561015168015},null,null,null,"Alpha"]
[{"$f":"HiddenNormal2!M8","v":2},{"$f":"HiddenNormal2!Q8","v":4},{"$f":"IF(A26=\"\",\"\",VLOOKUP(HiddenNormal2!V$10-A26+1,A$25:B$44,2,0))","v":5.3},{"$f":"IF(A26=\"\",\"\",C26-B26)","v":1.2999999999999998},{"$f":"IF(A26=\"\",\"\",IF(D26>=0,OFFSET($K$3,A26,HiddenNormal2!V$10-1,1,1),0))","v":0.30309999999999998},{"$f":"IF(A26=\"\",\"\",IF(E26*D26>0,E26*D26,0))","v":0.39402999999999994},null,null,null,null,"n",0.01,0.05,0.1]
[{"$f":"HiddenNormal2!M9","v":3},{"$f":"HiddenNormal2!Q9","v":4.3},{"$f":"IF(A27=\"\",\"\",VLOOKUP(HiddenNormal2!V$10-A27+1,A$25:B$44,2,0))","v":4.5999999999999996},0.29999999999999982,{"$f":"IF(A27=\"\",\"\",IF(D27>=0,OFFSET($K$3,A27,HiddenNormal2!V$10-1,1,1),0))","v":0.1401},4.2029999999999977E-2,null,null,null,null,3,0.753,0.76700000000000002,0.78900000000000003]
[{"$f":"HiddenNormal2!M10","v":4},{"$f":"HiddenNormal2!Q10","v":4.5},{"$f":"IF(A28=\"\",\"\",VLOOKUP(HiddenNormal2!V$10-A28+1,A$25:B$44,2,0))","v":4.5},0,{"$f":"IF(A28=\"\",\"\",IF(D28>=0,OFFSET($K$3,A28,HiddenNormal2!V$10-1,1,1),0))","v":0},0,null,null,null,null,4,0.68700000000000006,0.748,0.79200000000000004]
[{"$f":"HiddenNormal2!M11","v":5},{"$f":"HiddenNormal2!Q11","v":4.5999999999999996},{"$f":"IF(A29=\"\",\"\",VLOOKUP(HiddenNormal2!V$10-A29+1,A$25:B$44,2,0))","v":4.3},-0.29999999999999982,{"$f":"IF(A29=\"\",\"\",IF(D29>=0,OFFSET($K$3,A29,HiddenNormal2!V$10-1,1,1),0))","v":0},0,null,null,null,null,5,0.68600000000000005,0.76200000000000001,0.80600000000000005]
[{"$f":"HiddenNormal2!M12","v":6},{"$f":"HiddenNormal2!Q12","v":5.3},{"$f":"IF(A30=\"\",\"\",VLOOKUP(HiddenNormal2!V$10-A30+1,A$25:B$44,2,0))","v":4},-1.2999999999999998,{"$f":"IF(A30=\"\",\"\",IF(D30>=0,OFFSET($K$3,A30,HiddenNormal2!V$10-1,1,1),0))","v":0},0,null,null,null,null,6,0.71299999999999997,0.78800000000000003,0.82599999999999996]
[{"$f":"HiddenNormal2!M13","v":7},{"$f":"HiddenNormal2!Q13","v":6.1},{"$f":"IF(A31=\"\",\"\",VLOOKUP(HiddenNormal2!V$10-A31+1,A$25:B$44,2,0))","v":3.9},-2.1999999999999997,{"$f":"IF(A31=\"\",\"\",IF(D31>=0,OFFSET($K$3,A31,HiddenNormal2!V$10-1,1,1),0))","v":0},0,null,null,null,null,7,0.73,0.80300000000000005,0.83799999999999997]
[{"$f":"HiddenNormal2!M14","v":""},{"$f":"HiddenNormal2!Q14","v":""},{"$f":"IF(A32=\"\",\"\",VLOOKUP(HiddenNormal2!V$10-A32+1,A$25:B$44,2,0))","v":""},"",{"$f":"IF(A32=\"\",\"\",IF(D32>=0,OFFSET($K$3,A32,HiddenNormal2!V$10-1,1,1),0))","v":""},"",null,null,null,null,8,0.749,0.81799999999999995,0.85099999999999998]
[{"$f":"HiddenNormal2!M15","v":""},{"$f":"HiddenNormal2!Q15","v":""},{"$f":"IF(A33=\"\",\"\",VLOOKUP(HiddenNormal2!V$10-A33+1,A$25:B$44,2,0))","v":""},"",{"$f":"IF(A33=\"\",\"\",IF(D33>=0,OFFSET($K$3,A33,HiddenNormal2!V$10-1,1,1),0))","v":""},"",null,null,null,null,9,0.76400000000000001,0.82899999999999996,0.85899999999999999]
[{"$f":"HiddenNormal2!M16","v":""},{"$f":"HiddenNormal2!Q16","v":""},{"$f":"IF(A34=\"\",\"\",VLOOKUP(HiddenNormal2!V$10-A34+1,A$25:B$44,2,0))","v":""},"",{"$f":"IF(A34=\"\",\"\",IF(D34>=0,OFFSET($K$3,A34,HiddenNormal2!V$10-1,1,1),0))","v":""},"",null,null,null,null,10,0.78100000000000003,0.84199999999999997,0.86899999999999999]
[{"$f":"HiddenNormal2!M17","v":""},{"$f":"HiddenNormal2!Q17","v":""},{"$f":"IF(A35=\"\",\"\",VLOOKUP(HiddenNormal2!V$10-A35+1,A$25:B$44,2,0))","v":""},"",{"$f":"IF(A35=\"\",\"\",IF(D35>=0,OFFSET($K$3,A35,HiddenNormal2!V$10-1,1,1),0))","v":""},"",null,null,null,null,11,0.79200000000000004,0.85,0.876]
[{"$f":"HiddenNormal2!M18","v":""},{"$f":"HiddenNormal2!Q18","v":""},{"$f":"IF(A36=\"\",\"\",VLOOKUP(HiddenNormal2!V$10-A36+1,A$25:B$44,2,0))","v":""},"",{"$f":"IF(A36=\"\",\"\",IF(D36>=0,OFFSET($K$3,A36,HiddenNormal2!V$10-1,1,1),0))","v":""},"",null,null,null,null,12,0.80500000000000005,0.85899999999999999,0.88300000000000001]
[{"$f":"HiddenNormal2!M19","v":""},{"$f":"HiddenNormal2!Q19","v":""},{"$f":"IF(A37=\"\",\"\",VLOOKUP(HiddenNormal2!V$10-A37+1,A$25:B$44,2,0))","v":""},"",{"$f":"IF(A37=\"\",\"\",IF(D37>=0,OFFSET($K$3,A37,HiddenNormal2!V$10-1,1,1),0))","v":""},"",null,null,null,null,13,0.81399999999999995,0.86599999999999999,0.88900000000000001]
[{"$f":"HiddenNormal2!M20","v":""},{"$f":"HiddenNormal2!Q20","v":""},{"$f":"IF(A38=\"\",\"\",VLOOKUP(HiddenNormal2!V$10-A38+1,A$25:B$44,2,0))","v":""},"",{"$f":"IF(A38=\"\",\"\",IF(D38>=0,OFFSET($K$3,A38,HiddenNormal2!V$10-1,1,1),0))","v":""},"",null,null,null,null,14,0.82499999999999996,0.874,0.89500000000000002]
[{"$f":"HiddenNormal2!M21","v":""},{"$f":"HiddenNormal2!Q21","v":""},{"$f":"IF(A39=\"\",\"\",VLOOKUP(HiddenNormal2!V$10-A39+1,A$25:B$44,2,0))","v":""},"",{"$f":"IF(A39=\"\",\"\",IF(D39>=0,OFFSET($K$3,A39,HiddenNormal2!V$10-1,1,1),0))","v":""},"",null,null,null,null,15,0.83499999999999996,0.88100000000000001,0.90100000000000002]
[{"$f":"HiddenNormal2!M22","v":""},{"$f":"HiddenNormal2!Q22","v":""},{"$f":"IF(A40=\"\",\"\",VLOOKUP(HiddenNormal2!V$10-A40+1,A$25:B$44,2,0))","v":""},"",{"$f":"IF(A40=\"\",\"\",IF(D40>=0,OFFSET($K$3,A40,HiddenNormal2!V$10-1,1,1),0))","v":""},"",null,null,null,null,16,0.84399999999999997,0.88700000000000001,0.90600000000000003]
[{"$f":"HiddenNormal2!M23","v":""},{"$f":"HiddenNormal2!Q23","v":""},{"$f":"IF(A41=\"\",\"\",VLOOKUP(HiddenNormal2!V$10-A41+1,A$25:B$44,2,0))","v":""},"",{"$f":"IF(A41=\"\",\"\",IF(D41>=0,OFFSET($K$3,A41,HiddenNormal2!V$10-1,1,1),0))","v":""},"",null,null,null,null,17,0.85099999999999998,0.89200000000000002,0.91]
[{"$f":"HiddenNormal2!M24","v":""},{"$f":"HiddenNormal2!Q24","v":""},{"$f":"IF(A42=\"\",\"\",VLOOKUP(HiddenNormal2!V$10-A42+1,A$25:B$44,2,0))","v":""},"",{"$f":"IF(A42=\"\",\"\",IF(D42>=0,OFFSET($K$3,A42,HiddenNormal2!V$10-1,1,1),0))","v":""},"",null,null,null,null,18,0.85799999999999998,0.89700000000000002,0.91400000000000003]
[{"$f":"HiddenNormal2!M25","v":""},{"$f":"HiddenNormal2!Q25","v":""},{"$f":"IF(A43=\"\",\"\",VLOOKUP(HiddenNormal2!V$10-A43+1,A$25:B$44,2,0))","v":""},"",{"$f":"IF(A43=\"\",\"\",IF(D43>=0,OFFSET($K$3,A43,HiddenNormal2!V$10-1,1,1),0))","v":""},"",null,null,null,null,19,0.86299999999999999,0.90100000000000002,0.91700000000000004]
[{"$f":"HiddenNormal2!M26","v":""},{"$f":"HiddenNormal2!Q26","v":""},{"$f":"IF(A44=\"\",\"\",VLOOKUP(HiddenNormal2!V$10-A44+1,A$25:B$44,2,0))","v":""},{"$f":"IF(A44=\"\",\"\",C44-B44)","v":""},{"$f":"IF(A44=\"\",\"\",IF(D44>=0,OFFSET($K$3,A44,HiddenNormal2!V$10-1,1,1),0))","v":""},"",null,null,null,null,20,0.86799999999999999,0.90500000000000003,0.92]
[]
[null,null,null,null,null,null,null,null,null,null,"This is table 10-3 in Appendix D of UG"]

{"sheet":"HiddenNormal2","index":16,"n_rows":27,"n_cols":32,"rows_kept":27,"cut":false,"hidden":true,"merged":[[3,8,3,10],[4,2,5,2],[4,1,5,1],[4,0,5,0],[4,3,5,3],[4,4,5,4],[4,5,5,5],[4,6,5,6],[3,0,3,6],[3,20,3,22],[3,12,3,17],[4,12,5,12],[4,13,5,13],[4,14,5,14],[4,15,5,15],[4,16,5,16],[4,17,5,17],[4,18,5,18]]}
[]
[]
[null,null,null,null,null,null,null,null,null,null,null,null,null,null,null,null,null,null,null,null,null,null,null,null,"Values for plots"]
["Ordered Data",null,null,null,null,null,null,null,"Quartiles",null,null,null,"Ordered Data (Minus Potential Outliers)",null,null,null,null,null,null,null,"Quartiles (w/o pot. outliers)",null,null,null,"Outliers included",null,null,null,"Outliers removed"]
["i","Percentile","Cumulative Probability","Quantile *","C","Potential Outlier?","Detected?",null,null,"i","C",null,"i","Percentile","Cumulative Probability","Quantile *","C","Potential Outlier?","Detected?",null,null,"i","Y",null,"Detected",null,"Nondetect",null,"Detected",null,"Nondetect"]
[null,null,null,null,null,null,null,null,"Minimum",1,{"$f":"MIN(E7:E26)","v":3.9},null,null,null,null,null,null,null,null,null,"Minimum",1,{"$f":"MIN(Q7:Q26)","v":3.9},null,"Quantile","Conc","Quantile","Conc","Quantile","Conc","Quantile","Conc"]
[{"$f":"IF(DataTransforms!A3>COUNT(ConcImputeds),\"\",DataTransforms!A3)","v":1},{"$f":"IF(A7=\"\",\"\",100/J$10*(A7-0.5))","v":7.1428571428571432},{"$f":"IF(A7=\"\",\"\",A7/(J$10+1))","v":0.125},{"$f":"IF(A7=\"\",\"\",NORMINV(C7,0,1))","v":-1.1503493803760083},{"$f":"IF(A7=\"\",\"\",SMALL(ConcImputeds,A7))","v":3.9},{"$f":"IF(Outliers!B$10=\"No\",\"No\",\"Yes\")","v":"No"},{"$f":"IF(A7=\"\",\"\",HiddenInput!AG7)","v":1},null,25,{"$f":"AVERAGE(OFFSET($A$6,MATCH(25,B7:B26,1),0,IF(ISNA(MATCH(25,B7:B26,0)),2,1),1))","v":2.5},{"$f":"AVERAGE(OFFSET($E$6,MATCH(25,B7:B26,1),0,IF(ISNA(MATCH(25,B7:B26,0)),2,1),1))","v":4.1500000000000004},null,{"$f":"IF(F7=\"Yes\",\"\",A7)","v":1},{"$f":"IF(M7=\"\",\"\",100/V$10*(M7-0.5))","v":7.1428571428571432},{"$f":"IF(M7=\"\",\"\",M7/(J$10+1-COUNTIF(Outliers!B$10:C$10,\"Yes\")))","v":0.125},{"$f":"IF(M7=\"\",\"\",NORMINV(O7,0,1))","v":-1.1503493803760083},{"$f":"IF(M7=\"\",\"\",E7)","v":3.9},{"$f":"IF(M7=\"\",\"\",\"N/A\")","v":"N/A"},{"$f":"IF(M7=\"\",\"\",G7)","v":1},null,25,{"$f":"AVERAGE(OFFSET($M$6,MATCH(25,N7:N26,1),0,IF(ISNA(MATCH(25,N7:N26,0)),2,1),1))","v":2.5},{"$f":"AVERAGE(OFFSET($Q$6,MATCH(25,N7:N26,1),0,IF(ISNA(MATCH(25,N7:N26,0)),2,1),1))","v":4.1500000000000004},null,{"$f":"IF(A7=\"\",NA(),IF(G7=0,NA(),D7))","v":-1.1503493803760083},{"$f":"IF(Y7=\"\",\"\",E7)","v":3.9},{"$f":"IF(A7=\"\",NA(),IF(G7=0,D7,NA()))","v":{"$error":"#N/A"}},{"$f":"IF(AA7=\"\",\"\",E7)","v":{"$error":"#N/A"}},{"$f":"IF(M7=\"\",NA(),IF(S7=0,NA(),P7))","v":-1.1503493803760083},{"$f":"IF(AC7=\"\",\"\",Q7)","v":3.9},{"$f":"IF(M7=\"\",NA(),IF(S7=0,P7,NA()))","v":{"$error":"#N/A"}},{"$f":"IF(AE7=\"\",\"\",Q7)","v":{"$error":"#N/A"}}]
[{"$f":"IF(DataTransforms!A4>COUNT(ConcImputeds),\"\",DataTransforms!A4)","v":2},21.428571428571431,0.25,{"$f":"IF(A8=\"\",\"\",NORMINV(C8,0,1))","v":-0.67448975019608193},4,{"$f":"IF(A8=\"\",\"\",IF(A8=MAX(A$7:A$26),IF(Outliers!C$10=\"No\",\"No\",\"Yes\"),\"No\"))","v":"No"},{"$f":"IF(A8=\"\",\"\",HiddenInput!AG8)","v":1},null,"50 (median)",{"$f":"IF(MOD(J10,4)=0,VLOOKUP(J10/2,A7:E26,1,0),AVERAGE(VLOOKUP(INT(J10/2),A7:E26,1),VLOOKUP(INT(J10/2+1),A7:E26,1,0)))","v":3.5},{"$f":"MEDIAN(E7:E26)","v":4.5},null,{"$f":"IF(OR(F8=\"Yes\",F8=\"\"),\"\",MIN(A8,IF(M7=\"\",0,M7)+1))","v":2},{"$f":"IF(M8=\"\",\"\",100/V$10*(M8-0.5))","v":21.428571428571431},{"$f":"IF(M8=\"\",\"\",M8/(J$10+1-COUNTIF(Outliers!B$10:C$10,\"Yes\")))","v":0.25},{"$f":"IF(M8=\"\",\"\",NORMINV(O8,0,1))","v":-0.67448975019608193},4,"N/A",{"$f":"IF(M8=\"\",\"\",G8)","v":1},null,"50 (median)",{"$f":"IF(MOD(V10,4)=0,VLOOKUP(V10/2,M7:Q26,1,0),AVERAGE(VLOOKUP(INT(V10/2),M7:Q26,1),VLOOKUP(INT(V10/2+1),M7:Q26,1,0)))","v":3.5},{"$f":"MEDIAN(Q7:Q26)","v":4.5},null,{"$f":"IF(A8=\"\",NA(),IF(G8=0,NA(),D8))","v":-0.67448975019608193},{"$f":"IF(Y8=\"\",\"\",E8)","v":4},{"$f":"IF(A8=\"\",NA(),IF(G8=0,D8,NA()))","v":{"$error":"#N/A"}},{"$f":"IF(AA8=\"\",\"\",E8)","v":{"$error":"#N/A"}},{"$f":"IF(M8=\"\",NA(),IF(S8=0,NA(),P8))","v":-0.67448975019608193},{"$f":"IF(AC8=\"\",\"\",Q8)","v":4},{"$f":"IF(M8=\"\",NA(),IF(S8=0,P8,NA()))","v":{"$error":"#N/A"}},{"$f":"IF(AE8=\"\",\"\",Q8)","v":{"$error":"#N/A"}}]
[{"$f":"IF(DataTransforms!A5>COUNT(ConcImputeds),\"\",DataTransforms!A5)","v":3},35.714285714285715,0.375,-0.3186393639643752,4.3,{"$f":"IF(A9=\"\",\"\",IF(A9=MAX(A$7:A$26),IF(Outliers!C$10=\"No\",\"No\",\"Yes\"),\"No\"))","v":"No"},{"$f":"IF(A9=\"\",\"\",HiddenInput!AG9)","v":1},null,75,{"$f":"AVERAGE(OFFSET($A$6,MATCH(75,B7:B26,1),0,IF(ISNA(MATCH(75,B7:B26,0)),2,1),1))","v":5.5},{"$f":"AVERAGE(OFFSET($E$6,MATCH(75,B7:B26,1),0,IF(ISNA(MATCH(75,B7:B26,0)),2,1),1))","v":4.9499999999999993},null,{"$f":"IF(OR(F9=\"Yes\",F9=\"\"),\"\",MIN(A9,IF(M8=\"\",0,M8)+1))","v":3},35.714285714285715,{"$f":"IF(M9=\"\",\"\",M9/(J$10+1-COUNTIF(Outliers!B$10:C$10,\"Yes\")))","v":0.375},-0.3186393639643752,4.3,"N/A",1,null,75,{"$f":"AVERAGE(OFFSET($M$6,MATCH(75,N7:N26,1),0,IF(ISNA(MATCH(75,N7:N26,0)),2,1),1))","v":5.5},{"$f":"AVERAGE(OFFSET($Q$6,MATCH(75,N7:N26,1),0,IF(ISNA(MATCH(75,N7:N26,0)),2,1),1))","v":4.9499999999999993},null,-0.3186393639643752,4.3,{"$error":"#N/A"},{"$error":"#N/A"},-0.3186393639643752,4.3,{"$error":"#N/A"},{"$error":"#N/A"}]
[{"$f":"IF(DataTransforms!A6>COUNT(ConcImputeds),\"\",DataTransforms!A6)","v":4},50,0.5,0,4.5,{"$f":"IF(A10=\"\",\"\",IF(A10=MAX(A$7:A$26),IF(Outliers!C$10=\"No\",\"No\",\"Yes\"),\"No\"))","v":"No"},{"$f":"IF(A10=\"\",\"\",HiddenInput!AG10)","v":1},null,"Maximum",{"$f":"MAX(A7:A26)","v":7},{"$f":"MAX(E7:E26)","v":6.1},null,4,50,{"$f":"IF(M10=\"\",\"\",M10/(J$10+1-COUNTIF(Outliers!B$10:C$10,\"Yes\")))","v":0.5},0,4.5,"N/A",1,null,"Maximum",{"$f":"MAX(M7:M26)","v":7},{"$f":"MAX(Q7:Q26)","v":6.1},null,0,4.5,{"$error":"#N/A"},{"$error":"#N/A"},0,4.5,{"$error":"#N/A"},{"$error":"#N/A"}]
[{"$f":"IF(DataTransforms!A7>COUNT(ConcImputeds),\"\",DataTransforms!A7)","v":5},64.285714285714292,0.625,0.3186393639643752,4.5999999999999996,{"$f":"IF(A11=\"\",\"\",IF(A11=MAX(A$7:A$26),IF(Outliers!C$10=\"No\",\"No\",\"Yes\"),\"No\"))","v":"No"},{"$f":"IF(A11=\"\",\"\",HiddenInput!AG11)","v":1},null,"25 and 75 use Tukey's method",null,null,null,5,64.285714285714292,{"$f":"IF(M11=\"\",\"\",M11/(J$10+1-COUNTIF(Outliers!B$10:C$10,\"Yes\")))","v":0.625},0.3186393639643752,4.5999999999999996,"N/A",1,null,"25 and 75 use Tukey's method",null,null,null,0.3186393639643752,4.5999999999999996,{"$error":"#N/A"},{"$error":"#N/A"},0.3186393639643752,4.5999999999999996,{"$error":"#N/A"},{"$error":"#N/A"}]
[{"$f":"IF(DataTransforms!A8>COUNT(ConcImputeds),\"\",DataTransforms!A8)","v":6},78.571428571428569,0.75,0.67448975019608193,5.3,{"$f":"IF(A12=\"\",\"\",IF(A12=MAX(A$7:A$26),IF(Outliers!C$10=\"No\",\"No\",\"Yes\"),\"No\"))","v":"No"},{"$f":"IF(A12=\"\",\"\",HiddenInput!AG12)","v":1},null,null,null,null,null,6,78.571428571428569,{"$f":"IF(M12=\"\",\"\",M12/(J$10+1-COUNTIF(Outliers!B$10:C$10,\"Yes\")))","v":0.75},0.67448975019608193,5.3,"N/A",1,null,null,null,null,null,0.67448975019608193,5.3,{"$error":"#N/A"},{"$error":"#N/A"},0.67448975019608193,5.3,{"$error":"#N/A"},{"$error":"#N/A"}]
[{"$f":"IF(DataTransforms!A9>COUNT(ConcImputeds),\"\",DataTransforms!A9)","v":7},92.857142857142861,0.875,1.1503493803760083,6.1,{"$f":"IF(A13=\"\",\"\",IF(A13=MAX(A$7:A$26),IF(Outliers!C$10=\"No\",\"No\",\"Yes\"),\"No\"))","v":"No"},{"$f":"IF(A13=\"\",\"\",HiddenInput!AG13)","v":1},null,"IQR",{"$f":"K9-K7","v":0.79999999999999893},null,null,7,92.857142857142861,{"$f":"IF(M13=\"\",\"\",M13/(J$10+1-COUNTIF(Outliers!B$10:C$10,\"Yes\")))","v":0.875},1.1503493803760083,6.1,"N/A",1,null,"IQR",{"$f":"W9-W7","v":0.79999999999999893},null,null,1.1503493803760083,6.1,{"$error":"#N/A"},{"$error":"#N/A"},1.1503493803760083,6.1,{"$error":"#N/A"},{"$error":"#N/A"}]
[{"$f":"IF(DataTransforms!A10>COUNT(ConcImputeds),\"\",DataTransforms!A10)","v":""},"","","","",{"$f":"IF(A14=\"\",\"\",IF(A14=MAX(A$7:A$26),IF(Outliers!C$10=\"No\",\"No\",\"Yes\"),\"No\"))","v":""},{"$f":"IF(A14=\"\",\"\",HiddenInput!AG14)","v":""},null,"LB1",{"$f":"K7-1.5*J13","v":2.950000000000002},null,null,"","",{"$f":"IF(M14=\"\",\"\",M14/(J$10+1-COUNTIF(Outliers!B$10:C$10,\"Yes\")))","v":""},"","","","",null,"LB1",{"$f":"W7-1.5*V13","v":2.950000000000002},null,null,{"$error":"#N/A"},{"$error":"#N/A"},{"$error":"#N/A"},{"$error":"#N/A"},{"$error":"#N/A"},{"$error":"#N/A"},{"$error":"#N/A"},{"$error":"#N/A"}]
[{"$f":"IF(DataTransforms!A11>COUNT(ConcImputeds),\"\",DataTransforms!A11)","v":""},"","","","",{"$f":"IF(A15=\"\",\"\",IF(A15=MAX(A$7:A$26),IF(Outliers!C$10=\"No\",\"No\",\"Yes\"),\"No\"))","v":""},{"$f":"IF(A15=\"\",\"\",HiddenInput!AG15)","v":""},null,"UB1",{"$f":"K9+1.5*J13","v":6.1499999999999977},null,null,"","",{"$f":"IF(M15=\"\",\"\",M15/(J$10+1-COUNTIF(Outliers!B$10:C$10,\"Yes\")))","v":""},"","","","",null,"UB1",{"$f":"W9+1.5*V13","v":6.1499999999999977},null,null,{"$error":"#N/A"},{"$error":"#N/A"},{"$error":"#N/A"},{"$error":"#N/A"},{"$error":"#N/A"},{"$error":"#N/A"},{"$error":"#N/A"},{"$error":"#N/A"}]
[{"$f":"IF(DataTransforms!A12>COUNT(ConcImputeds),\"\",DataTransforms!A12)","v":""},"","","","",{"$f":"IF(A16=\"\",\"\",IF(A16=MAX(A$7:A$26),IF(Outliers!C$10=\"No\",\"No\",\"Yes\"),\"No\"))","v":""},{"$f":"IF(A16=\"\",\"\",HiddenInput!AG16)","v":""},null,"LB2",{"$f":"K7-3*J13","v":1.7500000000000036},null,null,"","",{"$f":"IF(M16=\"\",\"\",M16/(J$10+1-COUNTIF(Outliers!B$10:C$10,\"Yes\")))","v":""},"","","","",null,"LB2",{"$f":"W7-3*V13","v":1.7500000000000036},null,null,{"$error":"#N/A"},{"$error":"#N/A"},{"$error":"#N/A"},{"$error":"#N/A"},{"$error":"#N/A"},{"$error":"#N/A"},{"$error":"#N/A"},{"$error":"#N/A"}]
[{"$f":"IF(DataTransforms!A13>COUNT(ConcImputeds),\"\",DataTransforms!A13)","v":""},"","","","",{"$f":"IF(A17=\"\",\"\",IF(A17=MAX(A$7:A$26),IF(Outliers!C$10=\"No\",\"No\",\"Yes\"),\"No\"))","v":""},{"$f":"IF(A17=\"\",\"\",HiddenInput!AG17)","v":""},null,"UB2",{"$f":"K9+3*J13","v":7.3499999999999961},null,null,"","",{"$f":"IF(M17=\"\",\"\",M17/(J$10+1-COUNTIF(Outliers!B$10:C$10,\"Yes\")))","v":""},"","","","",null,"UB2",{"$f":"W9+3*V13","v":7.3499999999999961},null,null,{"$error":"#N/A"},{"$error":"#N/A"},{"$error":"#N/A"},{"$error":"#N/A"},{"$error":"#N/A"},{"$error":"#N/A"},{"$error":"#N/A"},{"$error":"#N/A"}]
[{"$f":"IF(DataTransforms!A14>COUNT(ConcImputeds),\"\",DataTransforms!A14)","v":""},"","","","",{"$f":"IF(A18=\"\",\"\",IF(A18=MAX(A$7:A$26),IF(Outliers!C$10=\"No\",\"No\",\"Yes\"),\"No\"))","v":""},{"$f":"IF(A18=\"\",\"\",HiddenInput!AG18)","v":""},null,null,null,null,null,"","",{"$f":"IF(M18=\"\",\"\",M18/(J$10+1-COUNTIF(Outliers!B$10:C$10,\"Yes\")))","v":""},"","","","",null,null,null,null,null,{"$error":"#N/A"},{"$error":"#N/A"},{"$error":"#N/A"},{"$error":"#N/A"},{"$error":"#N/A"},{"$error":"#N/A"},{"$error":"#N/A"},{"$error":"#N/A"}]
[{"$f":"IF(DataTransforms!A15>COUNT(ConcImputeds),\"\",DataTransforms!A15)","v":""},{"$f":"IF(A19=\"\",\"\",100/J$10*(A19-0.5))","v":""},{"$f":"IF(A19=\"\",\"\",A19/(J$10+1))","v":""},"","",{"$f":"IF(A19=\"\",\"\",IF(A19=MAX(A$7:A$26),IF(Outliers!C$10=\"No\",\"No\",\"Yes\"),\"No\"))","v":""},{"$f":"IF(A19=\"\",\"\",HiddenInput!AG19)","v":""},null,null,null,null,null,"","",{"$f":"IF(M19=\"\",\"\",M19/(J$10+1-COUNTIF(Outliers!B$10:C$10,\"Yes\")))","v":""},"",{"$f":"IF(M19=\"\",\"\",E19)","v":""},{"$f":"IF(M19=\"\",\"\",\"N/A\")","v":""},"",null,null,null,null,null,{"$error":"#N/A"},{"$error":"#N/A"},{"$error":"#N/A"},{"$error":"#N/A"},{"$error":"#N/A"},{"$error":"#N/A"},{"$error":"#N/A"},{"$error":"#N/A"}]
[{"$f":"IF(DataTransforms!A16>COUNT(ConcImputeds),\"\",DataTransforms!A16)","v":""},"","","","",{"$f":"IF(A20=\"\",\"\",IF(A20=MAX(A$7:A$26),IF(Outliers!C$10=\"No\",\"No\",\"Yes\"),\"No\"))","v":""},{"$f":"IF(A20=\"\",\"\",HiddenInput!AG20)","v":""},null,null,null,null,null,"","",{"$f":"IF(M20=\"\",\"\",M20/(J$10+1-COUNTIF(Outliers!B$10:C$10,\"Yes\")))","v":""},"","","","",null,null,null,null,null,{"$error":"#N/A"},{"$error":"#N/A"},{"$error":"#N/A"},{"$error":"#N/A"},{"$error":"#N/A"},{"$error":"#N/A"},{"$error":"#N/A"},{"$error":"#N/A"}]
[{"$f":"IF(DataTransforms!A17>COUNT(ConcImputeds),\"\",DataTransforms!A17)","v":""},"","","","",{"$f":"IF(A21=\"\",\"\",IF(A21=MAX(A$7:A$26),IF(Outliers!C$10=\"No\",\"No\",\"Yes\"),\"No\"))","v":""},{"$f":"IF(A21=\"\",\"\",HiddenInput!AG21)","v":""},null,null,null,null,null,"","",{"$f":"IF(M21=\"\",\"\",M21/(J$10+1-COUNTIF(Outliers!B$10:C$10,\"Yes\")))","v":""},"","","","",null,null,null,null,null,{"$error":"#N/A"},{"$error":"#N/A"},{"$error":"#N/A"},{"$error":"#N/A"},{"$error":"#N/A"},{"$error":"#N/A"},{"$error":"#N/A"},{"$error":"#N/A"}]
[{"$f":"IF(DataTransforms!A18>COUNT(ConcImputeds),\"\",DataTransforms!A18)","v":""},"","","","",{"$f":"IF(A22=\"\",\"\",IF(A22=MAX(A$7:A$26),IF(Outliers!C$10=\"No\",\"No\",\"Yes\"),\"No\"))","v":""},{"$f":"IF(A22=\"\",\"\",HiddenInput!AG22)","v":""},null,null,null,null,null,"","",{"$f":"IF(M22=\"\",\"\",M22/(J$10+1-COUNTIF(Outliers!B$10:C$10,\"Yes\")))","v":""},"","","","",null,null,null,null,null,{"$error":"#N/A"},{"$error":"#N/A"},{"$error":"#N/A"},{"$error":"#N/A"},{"$error":"#N/A"},{"$error":"#N/A"},{"$error":"#N/A"},{"$error":"#N/A"}]
[{"$f":"IF(DataTransforms!A19>COUNT(ConcImputeds),\"\",DataTransforms!A19)","v":""},"","","","",{"$f":"IF(A23=\"\",\"\",IF(A23=MAX(A$7:A$26),IF(Outliers!C$10=\"No\",\"No\",\"Yes\"),\"No\"))","v":""},{"$f":"IF(A23=\"\",\"\",HiddenInput!AG23)","v":""},null,null,null,null,null,"","",{"$f":"IF(M23=\"\",\"\",M23/(J$10+1-COUNTIF(Outliers!B$10:C$10,\"Yes\")))","v":""},"","","","",null,null,null,null,null,{"$error":"#N/A"},{"$error":"#N/A"},{"$error":"#N/A"},{"$error":"#N/A"},{"$error":"#N/A"},{"$error":"#N/A"},{"$error":"#N/A"},{"$error":"#N/A"}]
[{"$f":"IF(DataTransforms!A20>COUNT(ConcImputeds),\"\",DataTransforms!A20)","v":""},"","","","",{"$f":"IF(A24=\"\",\"\",IF(A24=MAX(A$7:A$26),IF(Outliers!C$10=\"No\",\"No\",\"Yes\"),\"No\"))","v":""},{"$f":"IF(A24=\"\",\"\",HiddenInput!AG24)","v":""},null,null,null,null,null,"","",{"$f":"IF(M24=\"\",\"\",M24/(J$10+1-COUNTIF(Outliers!B$10:C$10,\"Yes\")))","v":""},"","","","",null,null,null,null,null,{"$error":"#N/A"},{"$error":"#N/A"},{"$error":"#N/A"},{"$error":"#N/A"},{"$error":"#N/A"},{"$error":"#N/A"},{"$error":"#N/A"},{"$error":"#N/A"}]
[{"$f":"IF(DataTransforms!A21>COUNT(ConcImputeds),\"\",DataTransforms!A21)","v":""},"","","","",{"$f":"IF(A25=\"\",\"\",IF(A25=MAX(A$7:A$26),IF(Outliers!C$10=\"No\",\"No\",\"Yes\"),\"No\"))","v":""},{"$f":"IF(A25=\"\",\"\",HiddenInput!AG25)","v":""},null,null,null,null,null,"","",{"$f":"IF(M25=\"\",\"\",M25/(J$10+1-COUNTIF(Outliers!B$10:C$10,\"Yes\")))","v":""},"","","","",null,null,null,null,null,{"$error":"#N/A"},{"$error":"#N/A"},{"$error":"#N/A"},{"$error":"#N/A"},{"$error":"#N/A"},{"$error":"#N/A"},{"$error":"#N/A"},{"$error":"#N/A"}]
[{"$f":"IF(DataTransforms!A22>COUNT(ConcImputeds),\"\",DataTransforms!A22)","v":""},"","","","",{"$f":"IF(A26=\"\",\"\",IF(A26=MAX(A$7:A$26),IF(Outliers!C$10=\"No\",\"No\",\"Yes\"),\"No\"))","v":""},{"$f":"IF(A26=\"\",\"\",HiddenInput!AG26)","v":""},null,null,null,null,null,"","",{"$f":"IF(M26=\"\",\"\",M26/(J$10+1-COUNTIF(Outliers!B$10:C$10,\"Yes\")))","v":""},"","","","",null,null,null,null,null,{"$error":"#N/A"},{"$error":"#N/A"},{"$error":"#N/A"},{"$error":"#N/A"},{"$error":"#N/A"},{"$error":"#N/A"},{"$error":"#N/A"},{"$error":"#N/A"}]
["*","Theoretical Quantile (Standard Normal)",null,null,null,null,null,null,null,null,null,null,"*","Theoretical Quantile (Standard Normal)"]

{"sheet":"HiddenTrend","index":17,"n_rows":39,"n_cols":28,"rows_kept":39,"cut":false,"hidden":true,"merged":[[2,5,2,25]]}
[]
[]
[null,null,null,null,null,"Theil-Sen Slopes and Test Statistic"]
["i","X\n(Days)",{"$f":"\"Y \"\n&Data_Input!B13","v":"Y ug/L"},"Y\nPredicted","Mann-Kendall Test Statistic",{"$f":"IF(OFFSET($A4,COLUMN(F2)-4,0,1,1)=\"\",\"\",OFFSET($A4,COLUMN(F2)-4,0,1,1))","v":2},{"$f":"IF(OFFSET($A4,COLUMN(G2)-4,0,1,1)=\"\",\"\",OFFSET($A4,COLUMN(G2)-4,0,1,1))","v":3},4,5,6,7,"","","","","","","","","","","","","","Tied values","SD ties term","Predicted concentration","Negative concentration?"]
[{"$f":"IF(B5=\"\",\"\",ROW(B5)-4)","v":1},{"$f":"IF(Data_Input!D7=0,\"\",Data_Input!D7)","v":43101},{"$f":"IF(Data_Input!E7=0,\"\",HiddenInput!R7)","v":4.3},null,{"$f":"COUNTIF(C6:C$24,\">\"&C5)-COUNTIF(C6:C$24,\"<\"&C5)","v":2},{"$f":"IF(F4=\"\",\"\",IF(F$4>$A5,(VLOOKUP(F$4,$A$5:C$24,3,0)-$C5)/(VLOOKUP(F$4,$A$5:C$24,2,0)-$B5),\"\"))","v":5.8064516129032254E-2},{"$f":"IF(G4=\"\",\"\",IF(G$4>$A5,(VLOOKUP(G$4,$A$5:D$24,3,0)-$C5)/(VLOOKUP(G$4,$A$5:D$24,2,0)-$B5),\"\"))","v":5.0847457627118614E-3},{"$f":"IF(H4=\"\",\"\",IF(H$4>$A5,(VLOOKUP(H$4,$A$5:E$24,3,0)-$C5)/(VLOOKUP(H$4,$A$5:E$24,2,0)-$B5),\"\"))","v":2.2222222222222244E-3},{"$f":"IF(I4=\"\",\"\",IF(I$4>$A5,(VLOOKUP(I$4,$A$5:F$24,3,0)-$C5)/(VLOOKUP(I$4,$A$5:F$24,2,0)-$B5),\"\"))","v":8.3333333333333332E-3},{"$f":"IF(J4=\"\",\"\",IF(J$4>$A5,(VLOOKUP(J$4,$A$5:G$24,3,0)-$C5)/(VLOOKUP(J$4,$A$5:G$24,2,0)-$B5),\"\"))","v":-2.6490066225165559E-3},{"$f":"IF(K4=\"\",\"\",IF(K$4>$A5,(VLOOKUP(K$4,$A$5:H$24,3,0)-$C5)/(VLOOKUP(K$4,$A$5:H$24,2,0)-$B5),\"\"))","v":-1.6574585635359105E-3},{"$f":"IF(L4=\"\",\"\",IF(L$4>$A5,(VLOOKUP(L$4,$A$5:I$24,3,0)-$C5)/(VLOOKUP(L$4,$A$5:I$24,2,0)-$B5),\"\"))","v":""},{"$f":"IF(M4=\"\",\"\",IF(M$4>$A5,(VLOOKUP(M$4,$A$5:J$24,3,0)-$C5)/(VLOOKUP(M$4,$A$5:J$24,2,0)-$B5),\"\"))","v":""},{"$f":"IF(N4=\"\",\"\",IF(N$4>$A5,(VLOOKUP(N$4,$A$5:K$24,3,0)-$C5)/(VLOOKUP(N$4,$A$5:K$24,2,0)-$B5),\"\"))","v":""},{"$f":"IF(O4=\"\",\"\",IF(O$4>$A5,(VLOOKUP(O$4,$A$5:L$24,3,0)-$C5)/(VLOOKUP(O$4,$A$5:L$24,2,0)-$B5),\"\"))","v":""},{"$f":"IF(P4=\"\",\"\",IF(P$4>$A5,(VLOOKUP(P$4,$A$5:M$24,3,0)-$C5)/(VLOOKUP(P$4,$A$5:M$24,2,0)-$B5),\"\"))","v":""},{"$f":"IF(Q4=\"\",\"\",IF(Q$4>$A5,(VLOOKUP(Q$4,$A$5:N$24,3,0)-$C5)/(VLOOKUP(Q$4,$A$5:N$24,2,0)-$B5),\"\"))","v":""},{"$f":"IF(R4=\"\",\"\",IF(R$4>$A5,(VLOOKUP(R$4,$A$5:O$24,3,0)-$C5)/(VLOOKUP(R$4,$A$5:O$24,2,0)-$B5),\"\"))","v":""},{"$f":"IF(S4=\"\",\"\",IF(S$4>$A5,(VLOOKUP(S$4,$A$5:P$24,3,0)-$C5)/(VLOOKUP(S$4,$A$5:P$24,2,0)-$B5),\"\"))","v":""},{"$f":"IF(T4=\"\",\"\",IF(T$4>$A5,(VLOOKUP(T$4,$A$5:Q$24,3,0)-$C5)/(VLOOKUP(T$4,$A$5:Q$24,2,0)-$B5),\"\"))","v":""},{"$f":"IF(U4=\"\",\"\",IF(U$4>$A5,(VLOOKUP(U$4,$A$5:R$24,3,0)-$C5)/(VLOOKUP(U$4,$A$5:R$24,2,0)-$B5),\"\"))","v":""},{"$f":"IF(V4=\"\",\"\",IF(V$4>$A5,(VLOOKUP(V$4,$A$5:S$24,3,0)-$C5)/(VLOOKUP(V$4,$A$5:S$24,2,0)-$B5),\"\"))","v":""},{"$f":"IF(W4=\"\",\"\",IF(W$4>$A5,(VLOOKUP(W$4,$A$5:T$24,3,0)-$C5)/(VLOOKUP(W$4,$A$5:T$24,2,0)-$B5),\"\"))","v":""},{"$f":"IF(X4=\"\",\"\",IF(X$4>$A5,(VLOOKUP(X$4,$A$5:U$24,3,0)-$C5)/(VLOOKUP(X$4,$A$5:U$24,2,0)-$B5),\"\"))","v":""},{"$f":"IF(C5=\"\",\"\",COUNTIF(C$5:C$24,\"=\"&C5))","v":1},{"$f":"IF(A5=\"\",\"\",Y5*(Y5-1)*(2*Y5+5)/Y5)","v":0},{"$f":"IF(B5=\"\",\"\",B5*E$27+E$30)","v":4.9426229508196684},{"$f":"IF(AA5<0,1,0)","v":0}]
[{"$f":"IF(B6=\"\",\"\",ROW(B6)-4)","v":2},{"$f":"IF(Data_Input!D8=0,\"\",Data_Input!D8)","v":43132},{"$f":"IF(Data_Input!E8=0,\"\",HiddenInput!R8)","v":6.1},null,{"$f":"COUNTIF(C7:C$24,\">\"&C6)-COUNTIF(C7:C$24,\"<\"&C6)","v":-5},{"$f":"IF(F5=\"\",\"\",IF(F$4>$A6,(VLOOKUP(F$4,$A$5:C$24,3,0)-$C6)/(VLOOKUP(F$4,$A$5:C$24,2,0)-$B6),\"\"))","v":""},{"$f":"IF(G5=\"\",\"\",IF(G$4>$A6,(VLOOKUP(G$4,$A$5:D$24,3,0)-$C6)/(VLOOKUP(G$4,$A$5:D$24,2,0)-$B6),\"\"))","v":-5.3571428571428568E-2},{"$f":"IF(H5=\"\",\"\",IF(H$4>$A6,(VLOOKUP(H$4,$A$5:E$24,3,0)-$C6)/(VLOOKUP(H$4,$A$5:E$24,2,0)-$B6),\"\"))","v":-2.7118644067796602E-2},{"$f":"IF(I5=\"\",\"\",IF(I$4>$A6,(VLOOKUP(I$4,$A$5:F$24,3,0)-$C6)/(VLOOKUP(I$4,$A$5:F$24,2,0)-$B6),\"\"))","v":-8.9887640449438175E-3},{"$f":"IF(J5=\"\",\"\",IF(J$4>$A6,(VLOOKUP(J$4,$A$5:G$24,3,0)-$C6)/(VLOOKUP(J$4,$A$5:G$24,2,0)-$B6),\"\"))","v":-1.833333333333333E-2},{"$f":"IF(K5=\"\",\"\",IF(K$4>$A6,(VLOOKUP(K$4,$A$5:H$24,3,0)-$C6)/(VLOOKUP(K$4,$A$5:H$24,2,0)-$B6),\"\"))","v":-1.3999999999999997E-2},{"$f":"IF(L5=\"\",\"\",IF(L$4>$A6,(VLOOKUP(L$4,$A$5:I$24,3,0)-$C6)/(VLOOKUP(L$4,$A$5:I$24,2,0)-$B6),\"\"))","v":""},{"$f":"IF(M5=\"\",\"\",IF(M$4>$A6,(VLOOKUP(M$4,$A$5:J$24,3,0)-$C6)/(VLOOKUP(M$4,$A$5:J$24,2,0)-$B6),\"\"))","v":""},{"$f":"IF(N5=\"\",\"\",IF(N$4>$A6,(VLOOKUP(N$4,$A$5:K$24,3,0)-$C6)/(VLOOKUP(N$4,$A$5:K$24,2,0)-$B6),\"\"))","v":""},{"$f":"IF(O5=\"\",\"\",IF(O$4>$A6,(VLOOKUP(O$4,$A$5:L$24,3,0)-$C6)/(VLOOKUP(O$4,$A$5:L$24,2,0)-$B6),\"\"))","v":""},{"$f":"IF(P5=\"\",\"\",IF(P$4>$A6,(VLOOKUP(P$4,$A$5:M$24,3,0)-$C6)/(VLOOKUP(P$4,$A$5:M$24,2,0)-$B6),\"\"))","v":""},{"$f":"IF(Q5=\"\",\"\",IF(Q$4>$A6,(VLOOKUP(Q$4,$A$5:N$24,3,0)-$C6)/(VLOOKUP(Q$4,$A$5:N$24,2,0)-$B6),\"\"))","v":""},{"$f":"IF(R5=\"\",\"\",IF(R$4>$A6,(VLOOKUP(R$4,$A$5:O$24,3,0)-$C6)/(VLOOKUP(R$4,$A$5:O$24,2,0)-$B6),\"\"))","v":""},{"$f":"IF(S5=\"\",\"\",IF(S$4>$A6,(VLOOKUP(S$4,$A$5:P$24,3,0)-$C6)/(VLOOKUP(S$4,$A$5:P$24,2,0)-$B6),\"\"))","v":""},{"$f":"IF(T5=\"\",\"\",IF(T$4>$A6,(VLOOKUP(T$4,$A$5:Q$24,3,0)-$C6)/(VLOOKUP(T$4,$A$5:Q$24,2,0)-$B6),\"\"))","v":""},{"$f":"IF(U5=\"\",\"\",IF(U$4>$A6,(VLOOKUP(U$4,$A$5:R$24,3,0)-$C6)/(VLOOKUP(U$4,$A$5:R$24,2,0)-$B6),\"\"))","v":""},{"$f":"IF(V5=\"\",\"\",IF(V$4>$A6,(VLOOKUP(V$4,$A$5:S$24,3,0)-$C6)/(VLOOKUP(V$4,$A$5:S$24,2,0)-$B6),\"\"))","v":""},{"$f":"IF(W5=\"\",\"\",IF(W$4>$A6,(VLOOKUP(W$4,$A$5:T$24,3,0)-$C6)/(VLOOKUP(W$4,$A$5:T$24,2,0)-$B6),\"\"))","v":""},{"$f":"IF(X5=\"\",\"\",IF(X$4>$A6,(VLOOKUP(X$4,$A$5:U$24,3,0)-$C6)/(VLOOKUP(X$4,$A$5:U$24,2,0)-$B6),\"\"))","v":""},{"$f":"IF(C6=\"\",\"\",COUNTIF(C$5:C$24,\"=\"&C6))","v":1},{"$f":"IF(A6=\"\",\"\",Y6*(Y6-1)*(2*Y6+5)/Y6)","v":0},{"$f":"IF(B6=\"\",\"\",B6*E$27+E$30)","v":4.7901639344262321},{"$f":"IF(AA6<0,1,0)","v":0}]
[3,{"$f":"IF(Data_Input!D9=0,\"\",Data_Input!D9)","v":43160},{"$f":"IF(Data_Input!E9=0,\"\",HiddenInput!R9)","v":4.5999999999999996},null,{"$f":"COUNTIF(C8:C$24,\">\"&C7)-COUNTIF(C8:C$24,\"<\"&C7)","v":-2},{"$f":"IF(F6=\"\",\"\",IF(F$4>$A7,(VLOOKUP(F$4,$A$5:C$24,3,0)-$C7)/(VLOOKUP(F$4,$A$5:C$24,2,0)-$B7),\"\"))","v":""},{"$f":"IF(G6=\"\",\"\",IF(G$4>$A7,(VLOOKUP(G$4,$A$5:D$24,3,0)-$C7)/(VLOOKUP(G$4,$A$5:D$24,2,0)-$B7),\"\"))","v":""},{"$f":"IF(H6=\"\",\"\",IF(H$4>$A7,(VLOOKUP(H$4,$A$5:E$24,3,0)-$C7)/(VLOOKUP(H$4,$A$5:E$24,2,0)-$B7),\"\"))","v":-3.2258064516128919E-3},{"$f":"IF(I6=\"\",\"\",IF(I$4>$A7,(VLOOKUP(I$4,$A$5:F$24,3,0)-$C7)/(VLOOKUP(I$4,$A$5:F$24,2,0)-$B7),\"\"))","v":1.1475409836065577E-2},{"$f":"IF(J6=\"\",\"\",IF(J$4>$A7,(VLOOKUP(J$4,$A$5:G$24,3,0)-$C7)/(VLOOKUP(J$4,$A$5:G$24,2,0)-$B7),\"\"))","v":-7.6086956521739099E-3},{"$f":"IF(K6=\"\",\"\",IF(K$4>$A7,(VLOOKUP(K$4,$A$5:H$24,3,0)-$C7)/(VLOOKUP(K$4,$A$5:H$24,2,0)-$B7),\"\"))","v":-4.9180327868852429E-3},{"$f":"IF(L6=\"\",\"\",IF(L$4>$A7,(VLOOKUP(L$4,$A$5:I$24,3,0)-$C7)/(VLOOKUP(L$4,$A$5:I$24,2,0)-$B7),\"\"))","v":""},{"$f":"IF(M6=\"\",\"\",IF(M$4>$A7,(VLOOKUP(M$4,$A$5:J$24,3,0)-$C7)/(VLOOKUP(M$4,$A$5:J$24,2,0)-$B7),\"\"))","v":""},{"$f":"IF(N6=\"\",\"\",IF(N$4>$A7,(VLOOKUP(N$4,$A$5:K$24,3,0)-$C7)/(VLOOKUP(N$4,$A$5:K$24,2,0)-$B7),\"\"))","v":""},{"$f":"IF(O6=\"\",\"\",IF(O$4>$A7,(VLOOKUP(O$4,$A$5:L$24,3,0)-$C7)/(VLOOKUP(O$4,$A$5:L$24,2,0)-$B7),\"\"))","v":""},{"$f":"IF(P6=\"\",\"\",IF(P$4>$A7,(VLOOKUP(P$4,$A$5:M$24,3,0)-$C7)/(VLOOKUP(P$4,$A$5:M$24,2,0)-$B7),\"\"))","v":""},{"$f":"IF(Q6=\"\",\"\",IF(Q$4>$A7,(VLOOKUP(Q$4,$A$5:N$24,3,0)-$C7)/(VLOOKUP(Q$4,$A$5:N$24,2,0)-$B7),\"\"))","v":""},{"$f":"IF(R6=\"\",\"\",IF(R$4>$A7,(VLOOKUP(R$4,$A$5:O$24,3,0)-$C7)/(VLOOKUP(R$4,$A$5:O$24,2,0)-$B7),\"\"))","v":""},{"$f":"IF(S6=\"\",\"\",IF(S$4>$A7,(VLOOKUP(S$4,$A$5:P$24,3,0)-$C7)/(VLOOKUP(S$4,$A$5:P$24,2,0)-$B7),\"\"))","v":""},{"$f":"IF(T6=\"\",\"\",IF(T$4>$A7,(VLOOKUP(T$4,$A$5:Q$24,3,0)-$C7)/(VLOOKUP(T$4,$A$5:Q$24,2,0)-$B7),\"\"))","v":""},{"$f":"IF(U6=\"\",\"\",IF(U$4>$A7,(VLOOKUP(U$4,$A$5:R$24,3,0)-$C7)/(VLOOKUP(U$4,$A$5:R$24,2,0)-$B7),\"\"))","v":""},{"$f":"IF(V6=\"\",\"\",IF(V$4>$A7,(VLOOKUP(V$4,$A$5:S$24,3,0)-$C7)/(VLOOKUP(V$4,$A$5:S$24,2,0)-$B7),\"\"))","v":""},{"$f":"IF(W6=\"\",\"\",IF(W$4>$A7,(VLOOKUP(W$4,$A$5:T$24,3,0)-$C7)/(VLOOKUP(W$4,$A$5:T$24,2,0)-$B7),\"\"))","v":""},{"$f":"IF(X6=\"\",\"\",IF(X$4>$A7,(VLOOKUP(X$4,$A$5:U$24,3,0)-$C7)/(VLOOKUP(X$4,$A$5:U$24,2,0)-$B7),\"\"))","v":""},1,0,4.6524590163934647,0]
[4,{"$f":"IF(Data_Input!D10=0,\"\",Data_Input!D10)","v":43191},{"$f":"IF(Data_Input!E10=0,\"\",HiddenInput!R10)","v":4.5},null,{"$f":"COUNTIF(C9:C$24,\">\"&C8)-COUNTIF(C9:C$24,\"<\"&C8)","v":-1},{"$f":"IF(F7=\"\",\"\",IF(F$4>$A8,(VLOOKUP(F$4,$A$5:C$24,3,0)-$C8)/(VLOOKUP(F$4,$A$5:C$24,2,0)-$B8),\"\"))","v":""},{"$f":"IF(G7=\"\",\"\",IF(G$4>$A8,(VLOOKUP(G$4,$A$5:D$24,3,0)-$C8)/(VLOOKUP(G$4,$A$5:D$24,2,0)-$B8),\"\"))","v":""},{"$f":"IF(H7=\"\",\"\",IF(H$4>$A8,(VLOOKUP(H$4,$A$5:E$24,3,0)-$C8)/(VLOOKUP(H$4,$A$5:E$24,2,0)-$B8),\"\"))","v":""},{"$f":"IF(I7=\"\",\"\",IF(I$4>$A8,(VLOOKUP(I$4,$A$5:F$24,3,0)-$C8)/(VLOOKUP(I$4,$A$5:F$24,2,0)-$B8),\"\"))","v":2.6666666666666661E-2},{"$f":"IF(J7=\"\",\"\",IF(J$4>$A8,(VLOOKUP(J$4,$A$5:G$24,3,0)-$C8)/(VLOOKUP(J$4,$A$5:G$24,2,0)-$B8),\"\"))","v":-9.8360655737704927E-3},{"$f":"IF(K7=\"\",\"\",IF(K$4>$A8,(VLOOKUP(K$4,$A$5:H$24,3,0)-$C8)/(VLOOKUP(K$4,$A$5:H$24,2,0)-$B8),\"\"))","v":-5.4945054945054949E-3},{"$f":"IF(L7=\"\",\"\",IF(L$4>$A8,(VLOOKUP(L$4,$A$5:I$24,3,0)-$C8)/(VLOOKUP(L$4,$A$5:I$24,2,0)-$B8),\"\"))","v":""},{"$f":"IF(M7=\"\",\"\",IF(M$4>$A8,(VLOOKUP(M$4,$A$5:J$24,3,0)-$C8)/(VLOOKUP(M$4,$A$5:J$24,2,0)-$B8),\"\"))","v":""},{"$f":"IF(N7=\"\",\"\",IF(N$4>$A8,(VLOOKUP(N$4,$A$5:K$24,3,0)-$C8)/(VLOOKUP(N$4,$A$5:K$24,2,0)-$B8),\"\"))","v":""},{"$f":"IF(O7=\"\",\"\",IF(O$4>$A8,(VLOOKUP(O$4,$A$5:L$24,3,0)-$C8)/(VLOOKUP(O$4,$A$5:L$24,2,0)-$B8),\"\"))","v":""},{"$f":"IF(P7=\"\",\"\",IF(P$4>$A8,(VLOOKUP(P$4,$A$5:M$24,3,0)-$C8)/(VLOOKUP(P$4,$A$5:M$24,2,0)-$B8),\"\"))","v":""},{"$f":"IF(Q7=\"\",\"\",IF(Q$4>$A8,(VLOOKUP(Q$4,$A$5:N$24,3,0)-$C8)/(VLOOKUP(Q$4,$A$5:N$24,2,0)-$B8),\"\"))","v":""},{"$f":"IF(R7=\"\",\"\",IF(R$4>$A8,(VLOOKUP(R$4,$A$5:O$24,3,0)-$C8)/(VLOOKUP(R$4,$A$5:O$24,2,0)-$B8),\"\"))","v":""},{"$f":"IF(S7=\"\",\"\",IF(S$4>$A8,(VLOOKUP(S$4,$A$5:P$24,3,0)-$C8)/(VLOOKUP(S$4,$A$5:P$24,2,0)-$B8),\"\"))","v":""},{"$f":"IF(T7=\"\",\"\",IF(T$4>$A8,(VLOOKUP(T$4,$A$5:Q$24,3,0)-$C8)/(VLOOKUP(T$4,$A$5:Q$24,2,0)-$B8),\"\"))","v":""},{"$f":"IF(U7=\"\",\"\",IF(U$4>$A8,(VLOOKUP(U$4,$A$5:R$24,3,0)-$C8)/(VLOOKUP(U$4,$A$5:R$24,2,0)-$B8),\"\"))","v":""},{"$f":"IF(V7=\"\",\"\",IF(V$4>$A8,(VLOOKUP(V$4,$A$5:S$24,3,0)-$C8)/(VLOOKUP(V$4,$A$5:S$24,2,0)-$B8),\"\"))","v":""},{"$f":"IF(W7=\"\",\"\",IF(W$4>$A8,(VLOOKUP(W$4,$A$5:T$24,3,0)-$C8)/(VLOOKUP(W$4,$A$5:T$24,2,0)-$B8),\"\"))","v":""},{"$f":"IF(X7=\"\",\"\",IF(X$4>$A8,(VLOOKUP(X$4,$A$5:U$24,3,0)-$C8)/(VLOOKUP(X$4,$A$5:U$24,2,0)-$B8),\"\"))","v":""},1,0,4.5,0]
[5,{"$f":"IF(Data_Input!D11=0,\"\",Data_Input!D11)","v":43221},{"$f":"IF(Data_Input!E11=0,\"\",HiddenInput!R11)","v":5.3},null,{"$f":"COUNTIF(C10:C$24,\">\"&C9)-COUNTIF(C10:C$24,\"<\"&C9)","v":-2},{"$f":"IF(F8=\"\",\"\",IF(F$4>$A9,(VLOOKUP(F$4,$A$5:C$24,3,0)-$C9)/(VLOOKUP(F$4,$A$5:C$24,2,0)-$B9),\"\"))","v":""},{"$f":"IF(G8=\"\",\"\",IF(G$4>$A9,(VLOOKUP(G$4,$A$5:D$24,3,0)-$C9)/(VLOOKUP(G$4,$A$5:D$24,2,0)-$B9),\"\"))","v":""},{"$f":"IF(H8=\"\",\"\",IF(H$4>$A9,(VLOOKUP(H$4,$A$5:E$24,3,0)-$C9)/(VLOOKUP(H$4,$A$5:E$24,2,0)-$B9),\"\"))","v":""},{"$f":"IF(I8=\"\",\"\",IF(I$4>$A9,(VLOOKUP(I$4,$A$5:F$24,3,0)-$C9)/(VLOOKUP(I$4,$A$5:F$24,2,0)-$B9),\"\"))","v":""},{"$f":"IF(J8=\"\",\"\",IF(J$4>$A9,(VLOOKUP(J$4,$A$5:G$24,3,0)-$C9)/(VLOOKUP(J$4,$A$5:G$24,2,0)-$B9),\"\"))","v":-4.5161290322580643E-2},{"$f":"IF(K8=\"\",\"\",IF(K$4>$A9,(VLOOKUP(K$4,$A$5:H$24,3,0)-$C9)/(VLOOKUP(K$4,$A$5:H$24,2,0)-$B9),\"\"))","v":-2.1311475409836064E-2},{"$f":"IF(L8=\"\",\"\",IF(L$4>$A9,(VLOOKUP(L$4,$A$5:I$24,3,0)-$C9)/(VLOOKUP(L$4,$A$5:I$24,2,0)-$B9),\"\"))","v":""},{"$f":"IF(M8=\"\",\"\",IF(M$4>$A9,(VLOOKUP(M$4,$A$5:J$24,3,0)-$C9)/(VLOOKUP(M$4,$A$5:J$24,2,0)-$B9),\"\"))","v":""},{"$f":"IF(N8=\"\",\"\",IF(N$4>$A9,(VLOOKUP(N$4,$A$5:K$24,3,0)-$C9)/(VLOOKUP(N$4,$A$5:K$24,2,0)-$B9),\"\"))","v":""},{"$f":"IF(O8=\"\",\"\",IF(O$4>$A9,(VLOOKUP(O$4,$A$5:L$24,3,0)-$C9)/(VLOOKUP(O$4,$A$5:L$24,2,0)-$B9),\"\"))","v":""},{"$f":"IF(P8=\"\",\"\",IF(P$4>$A9,(VLOOKUP(P$4,$A$5:M$24,3,0)-$C9)/(VLOOKUP(P$4,$A$5:M$24,2,0)-$B9),\"\"))","v":""},{"$f":"IF(Q8=\"\",\"\",IF(Q$4>$A9,(VLOOKUP(Q$4,$A$5:N$24,3,0)-$C9)/(VLOOKUP(Q$4,$A$5:N$24,2,0)-$B9),\"\"))","v":""},{"$f":"IF(R8=\"\",\"\",IF(R$4>$A9,(VLOOKUP(R$4,$A$5:O$24,3,0)-$C9)/(VLOOKUP(R$4,$A$5:O$24,2,0)-$B9),\"\"))","v":""},{"$f":"IF(S8=\"\",\"\",IF(S$4>$A9,(VLOOKUP(S$4,$A$5:P$24,3,0)-$C9)/(VLOOKUP(S$4,$A$5:P$24,2,0)-$B9),\"\"))","v":""},{"$f":"IF(T8=\"\",\"\",IF(T$4>$A9,(VLOOKUP(T$4,$A$5:Q$24,3,0)-$C9)/(VLOOKUP(T$4,$A$5:Q$24,2,0)-$B9),\"\"))","v":""},{"$f":"IF(U8=\"\",\"\",IF(U$4>$A9,(VLOOKUP(U$4,$A$5:R$24,3,0)-$C9)/(VLOOKUP(U$4,$A$5:R$24,2,0)-$B9),\"\"))","v":""},{"$f":"IF(V8=\"\",\"\",IF(V$4>$A9,(VLOOKUP(V$4,$A$5:S$24,3,0)-$C9)/(VLOOKUP(V$4,$A$5:S$24,2,0)-$B9),\"\"))","v":""},{"$f":"IF(W8=\"\",\"\",IF(W$4>$A9,(VLOOKUP(W$4,$A$5:T$24,3,0)-$C9)/(VLOOKUP(W$4,$A$5:T$24,2,0)-$B9),\"\"))","v":""},{"$f":"IF(X8=\"\",\"\",IF(X$4>$A9,(VLOOKUP(X$4,$A$5:U$24,3,0)-$C9)/(VLOOKUP(X$4,$A$5:U$24,2,0)-$B9),\"\"))","v":""},1,0,4.3524590163934533,0]
[6,{"$f":"IF(Data_Input!D12=0,\"\",Data_Input!D12)","v":43252},{"$f":"IF(Data_Input!E12=0,\"\",HiddenInput!R12)","v":3.9},null,{"$f":"COUNTIF(C11:C$24,\">\"&C10)-COUNTIF(C11:C$24,\"<\"&C10)","v":1},{"$f":"IF(F9=\"\",\"\",IF(F$4>$A10,(VLOOKUP(F$4,$A$5:C$24,3,0)-$C10)/(VLOOKUP(F$4,$A$5:C$24,2,0)-$B10),\"\"))","v":""},{"$f":"IF(G9=\"\",\"\",IF(G$4>$A10,(VLOOKUP(G$4,$A$5:D$24,3,0)-$C10)/(VLOOKUP(G$4,$A$5:D$24,2,0)-$B10),\"\"))","v":""},{"$f":"IF(H9=\"\",\"\",IF(H$4>$A10,(VLOOKUP(H$4,$A$5:E$24,3,0)-$C10)/(VLOOKUP(H$4,$A$5:E$24,2,0)-$B10),\"\"))","v":""},{"$f":"IF(I9=\"\",\"\",IF(I$4>$A10,(VLOOKUP(I$4,$A$5:F$24,3,0)-$C10)/(VLOOKUP(I$4,$A$5:F$24,2,0)-$B10),\"\"))","v":""},{"$f":"IF(J9=\"\",\"\",IF(J$4>$A10,(VLOOKUP(J$4,$A$5:G$24,3,0)-$C10)/(VLOOKUP(J$4,$A$5:G$24,2,0)-$B10),\"\"))","v":""},{"$f":"IF(K9=\"\",\"\",IF(K$4>$A10,(VLOOKUP(K$4,$A$5:H$24,3,0)-$C10)/(VLOOKUP(K$4,$A$5:H$24,2,0)-$B10),\"\"))","v":3.3333333333333361E-3},{"$f":"IF(L9=\"\",\"\",IF(L$4>$A10,(VLOOKUP(L$4,$A$5:I$24,3,0)-$C10)/(VLOOKUP(L$4,$A$5:I$24,2,0)-$B10),\"\"))","v":""},{"$f":"IF(M9=\"\",\"\",IF(M$4>$A10,(VLOOKUP(M$4,$A$5:J$24,3,0)-$C10)/(VLOOKUP(M$4,$A$5:J$24,2,0)-$B10),\"\"))","v":""},{"$f":"IF(N9=\"\",\"\",IF(N$4>$A10,(VLOOKUP(N$4,$A$5:K$24,3,0)-$C10)/(VLOOKUP(N$4,$A$5:K$24,2,0)-$B10),\"\"))","v":""},{"$f":"IF(O9=\"\",\"\",IF(O$4>$A10,(VLOOKUP(O$4,$A$5:L$24,3,0)-$C10)/(VLOOKUP(O$4,$A$5:L$24,2,0)-$B10),\"\"))","v":""},{"$f":"IF(P9=\"\",\"\",IF(P$4>$A10,(VLOOKUP(P$4,$A$5:M$24,3,0)-$C10)/(VLOOKUP(P$4,$A$5:M$24,2,0)-$B10),\"\"))","v":""},{"$f":"IF(Q9=\"\",\"\",IF(Q$4>$A10,(VLOOKUP(Q$4,$A$5:N$24,3,0)-$C10)/(VLOOKUP(Q$4,$A$5:N$24,2,0)-$B10),\"\"))","v":""},{"$f":"IF(R9=\"\",\"\",IF(R$4>$A10,(VLOOKUP(R$4,$A$5:O$24,3,0)-$C10)/(VLOOKUP(R$4,$A$5:O$24,2,0)-$B10),\"\"))","v":""},{"$f":"IF(S9=\"\",\"\",IF(S$4>$A10,(VLOOKUP(S$4,$A$5:P$24,3,0)-$C10)/(VLOOKUP(S$4,$A$5:P$24,2,0)-$B10),\"\"))","v":""},{"$f":"IF(T9=\"\",\"\",IF(T$4>$A10,(VLOOKUP(T$4,$A$5:Q$24,3,0)-$C10)/(VLOOKUP(T$4,$A$5:Q$24,2,0)-$B10),\"\"))","v":""},{"$f":"IF(U9=\"\",\"\",IF(U$4>$A10,(VLOOKUP(U$4,$A$5:R$24,3,0)-$C10)/(VLOOKUP(U$4,$A$5:R$24,2,0)-$B10),\"\"))","v":""},{"$f":"IF(V9=\"\",\"\",IF(V$4>$A10,(VLOOKUP(V$4,$A$5:S$24,3,0)-$C10)/(VLOOKUP(V$4,$A$5:S$24,2,0)-$B10),\"\"))","v":""},{"$f":"IF(W9=\"\",\"\",IF(W$4>$A10,(VLOOKUP(W$4,$A$5:T$24,3,0)-$C10)/(VLOOKUP(W$4,$A$5:T$24,2,0)-$B10),\"\"))","v":""},{"$f":"IF(X9=\"\",\"\",IF(X$4>$A10,(VLOOKUP(X$4,$A$5:U$24,3,0)-$C10)/(VLOOKUP(X$4,$A$5:U$24,2,0)-$B10),\"\"))","v":""},1,0,4.2000000000000171,0]
[7,{"$f":"IF(Data_Input!D13=0,\"\",Data_Input!D13)","v":43282},{"$f":"IF(Data_Input!E13=0,\"\",HiddenInput!R13)","v":4},null,{"$f":"COUNTIF(C12:C$24,\">\"&C11)-COUNTIF(C12:C$24,\"<\"&C11)","v":0},{"$f":"IF(F10=\"\",\"\",IF(F$4>$A11,(VLOOKUP(F$4,$A$5:C$24,3,0)-$C11)/(VLOOKUP(F$4,$A$5:C$24,2,0)-$B11),\"\"))","v":""},{"$f":"IF(G10=\"\",\"\",IF(G$4>$A11,(VLOOKUP(G$4,$A$5:D$24,3,0)-$C11)/(VLOOKUP(G$4,$A$5:D$24,2,0)-$B11),\"\"))","v":""},{"$f":"IF(H10=\"\",\"\",IF(H$4>$A11,(VLOOKUP(H$4,$A$5:E$24,3,0)-$C11)/(VLOOKUP(H$4,$A$5:E$24,2,0)-$B11),\"\"))","v":""},{"$f":"IF(I10=\"\",\"\",IF(I$4>$A11,(VLOOKUP(I$4,$A$5:F$24,3,0)-$C11)/(VLOOKUP(I$4,$A$5:F$24,2,0)-$B11),\"\"))","v":""},{"$f":"IF(J10=\"\",\"\",IF(J$4>$A11,(VLOOKUP(J$4,$A$5:G$24,3,0)-$C11)/(VLOOKUP(J$4,$A$5:G$24,2,0)-$B11),\"\"))","v":""},{"$f":"IF(K10=\"\",\"\",IF(K$4>$A11,(VLOOKUP(K$4,$A$5:H$24,3,0)-$C11)/(VLOOKUP(K$4,$A$5:H$24,2,0)-$B11),\"\"))","v":""},{"$f":"IF(L10=\"\",\"\",IF(L$4>$A11,(VLOOKUP(L$4,$A$5:I$24,3,0)-$C11)/(VLOOKUP(L$4,$A$5:I$24,2,0)-$B11),\"\"))","v":""},{"$f":"IF(M10=\"\",\"\",IF(M$4>$A11,(VLOOKUP(M$4,$A$5:J$24,3,0)-$C11)/(VLOOKUP(M$4,$A$5:J$24,2,0)-$B11),\"\"))","v":""},{"$f":"IF(N10=\"\",\"\",IF(N$4>$A11,(VLOOKUP(N$4,$A$5:K$24,3,0)-$C11)/(VLOOKUP(N$4,$A$5:K$24,2,0)-$B11),\"\"))","v":""},{"$f":"IF(O10=\"\",\"\",IF(O$4>$A11,(VLOOKUP(O$4,$A$5:L$24,3,0)-$C11)/(VLOOKUP(O$4,$A$5:L$24,2,0)-$B11),\"\"))","v":""},{"$f":"IF(P10=\"\",\"\",IF(P$4>$A11,(VLOOKUP(P$4,$A$5:M$24,3,0)-$C11)/(VLOOKUP(P$4,$A$5:M$24,2,0)-$B11),\"\"))","v":""},{"$f":"IF(Q10=\"\",\"\",IF(Q$4>$A11,(VLOOKUP(Q$4,$A$5:N$24,3,0)-$C11)/(VLOOKUP(Q$4,$A$5:N$24,2,0)-$B11),\"\"))","v":""},{"$f":"IF(R10=\"\",\"\",IF(R$4>$A11,(VLOOKUP(R$4,$A$5:O$24,3,0)-$C11)/(VLOOKUP(R$4,$A$5:O$24,2,0)-$B11),\"\"))","v":""},{"$f":"IF(S10=\"\",\"\",IF(S$4>$A11,(VLOOKUP(S$4,$A$5:P$24,3,0)-$C11)/(VLOOKUP(S$4,$A$5:P$24,2,0)-$B11),\"\"))","v":""},{"$f":"IF(T10=\"\",\"\",IF(T$4>$A11,(VLOOKUP(T$4,$A$5:Q$24,3,0)-$C11)/(VLOOKUP(T$4,$A$5:Q$24,2,0)-$B11),\"\"))","v":""},{"$f":"IF(U10=\"\",\"\",IF(U$4>$A11,(VLOOKUP(U$4,$A$5:R$24,3,0)-$C11)/(VLOOKUP(U$4,$A$5:R$24,2,0)-$B11),\"\"))","v":""},{"$f":"IF(V10=\"\",\"\",IF(V$4>$A11,(VLOOKUP(V$4,$A$5:S$24,3,0)-$C11)/(VLOOKUP(V$4,$A$5:S$24,2,0)-$B11),\"\"))","v":""},{"$f":"IF(W10=\"\",\"\",IF(W$4>$A11,(VLOOKUP(W$4,$A$5:T$24,3,0)-$C11)/(VLOOKUP(W$4,$A$5:T$24,2,0)-$B11),\"\"))","v":""},{"$f":"IF(X10=\"\",\"\",IF(X$4>$A11,(VLOOKUP(X$4,$A$5:U$24,3,0)-$C11)/(VLOOKUP(X$4,$A$5:U$24,2,0)-$B11),\"\"))","v":""},1,0,4.052459016393442,0]
["",{"$f":"IF(Data_Input!D14=0,\"\",Data_Input!D14)","v":""},{"$f":"IF(Data_Input!E14=0,\"\",HiddenInput!R14)","v":""},null,{"$f":"COUNTIF(C13:C$24,\">\"&C12)-COUNTIF(C13:C$24,\"<\"&C12)","v":0},{"$f":"IF(F11=\"\",\"\",IF(F$4>$A12,(VLOOKUP(F$4,$A$5:C$24,3,0)-$C12)/(VLOOKUP(F$4,$A$5:C$24,2,0)-$B12),\"\"))","v":""},{"$f":"IF(G11=\"\",\"\",IF(G$4>$A12,(VLOOKUP(G$4,$A$5:D$24,3,0)-$C12)/(VLOOKUP(G$4,$A$5:D$24,2,0)-$B12),\"\"))","v":""},{"$f":"IF(H11=\"\",\"\",IF(H$4>$A12,(VLOOKUP(H$4,$A$5:E$24,3,0)-$C12)/(VLOOKUP(H$4,$A$5:E$24,2,0)-$B12),\"\"))","v":""},{"$f":"IF(I11=\"\",\"\",IF(I$4>$A12,(VLOOKUP(I$4,$A$5:F$24,3,0)-$C12)/(VLOOKUP(I$4,$A$5:F$24,2,0)-$B12),\"\"))","v":""},{"$f":"IF(J11=\"\",\"\",IF(J$4>$A12,(VLOOKUP(J$4,$A$5:G$24,3,0)-$C12)/(VLOOKUP(J$4,$A$5:G$24,2,0)-$B12),\"\"))","v":""},{"$f":"IF(K11=\"\",\"\",IF(K$4>$A12,(VLOOKUP(K$4,$A$5:H$24,3,0)-$C12)/(VLOOKUP(K$4,$A$5:H$24,2,0)-$B12),\"\"))","v":""},{"$f":"IF(L11=\"\",\"\",IF(L$4>$A12,(VLOOKUP(L$4,$A$5:I$24,3,0)-$C12)/(VLOOKUP(L$4,$A$5:I$24,2,0)-$B12),\"\"))","v":""},{"$f":"IF(M11=\"\",\"\",IF(M$4>$A12,(VLOOKUP(M$4,$A$5:J$24,3,0)-$C12)/(VLOOKUP(M$4,$A$5:J$24,2,0)-$B12),\"\"))","v":""},{"$f":"IF(N11=\"\",\"\",IF(N$4>$A12,(VLOOKUP(N$4,$A$5:K$24,3,0)-$C12)/(VLOOKUP(N$4,$A$5:K$24,2,0)-$B12),\"\"))","v":""},{"$f":"IF(O11=\"\",\"\",IF(O$4>$A12,(VLOOKUP(O$4,$A$5:L$24,3,0)-$C12)/(VLOOKUP(O$4,$A$5:L$24,2,0)-$B12),\"\"))","v":""},{"$f":"IF(P11=\"\",\"\",IF(P$4>$A12,(VLOOKUP(P$4,$A$5:M$24,3,0)-$C12)/(VLOOKUP(P$4,$A$5:M$24,2,0)-$B12),\"\"))","v":""},{"$f":"IF(Q11=\"\",\"\",IF(Q$4>$A12,(VLOOKUP(Q$4,$A$5:N$24,3,0)-$C12)/(VLOOKUP(Q$4,$A$5:N$24,2,0)-$B12),\"\"))","v":""},{"$f":"IF(R11=\"\",\"\",IF(R$4>$A12,(VLOOKUP(R$4,$A$5:O$24,3,0)-$C12)/(VLOOKUP(R$4,$A$5:O$24,2,0)-$B12),\"\"))","v":""},{"$f":"IF(S11=\"\",\"\",IF(S$4>$A12,(VLOOKUP(S$4,$A$5:P$24,3,0)-$C12)/(VLOOKUP(S$4,$A$5:P$24,2,0)-$B12),\"\"))","v":""},{"$f":"IF(T11=\"\",\"\",IF(T$4>$A12,(VLOOKUP(T$4,$A$5:Q$24,3,0)-$C12)/(VLOOKUP(T$4,$A$5:Q$24,2,0)-$B12),\"\"))","v":""},{"$f":"IF(U11=\"\",\"\",IF(U$4>$A12,(VLOOKUP(U$4,$A$5:R$24,3,0)-$C12)/(VLOOKUP(U$4,$A$5:R$24,2,0)-$B12),\"\"))","v":""},{"$f":"IF(V11=\"\",\"\",IF(V$4>$A12,(VLOOKUP(V$4,$A$5:S$24,3,0)-$C12)/(VLOOKUP(V$4,$A$5:S$24,2,0)-$B12),\"\"))","v":""},{"$f":"IF(W11=\"\",\"\",IF(W$4>$A12,(VLOOKUP(W$4,$A$5:T$24,3,0)-$C12)/(VLOOKUP(W$4,$A$5:T$24,2,0)-$B12),\"\"))","v":""},{"$f":"IF(X11=\"\",\"\",IF(X$4>$A12,(VLOOKUP(X$4,$A$5:U$24,3,0)-$C12)/(VLOOKUP(X$4,$A$5:U$24,2,0)-$B12),\"\"))","v":""},"","","",0]
["",{"$f":"IF(Data_Input!D15=0,\"\",Data_Input!D15)","v":""},{"$f":"IF(Data_Input!E15=0,\"\",HiddenInput!R15)","v":""},null,{"$f":"COUNTIF(C14:C$24,\">\"&C13)-COUNTIF(C14:C$24,\"<\"&C13)","v":0},{"$f":"IF(F12=\"\",\"\",IF(F$4>$A13,(VLOOKUP(F$4,$A$5:C$24,3,0)-$C13)/(VLOOKUP(F$4,$A$5:C$24,2,0)-$B13),\"\"))","v":""},{"$f":"IF(G12=\"\",\"\",IF(G$4>$A13,(VLOOKUP(G$4,$A$5:D$24,3,0)-$C13)/(VLOOKUP(G$4,$A$5:D$24,2,0)-$B13),\"\"))","v":""},{"$f":"IF(H12=\"\",\"\",IF(H$4>$A13,(VLOOKUP(H$4,$A$5:E$24,3,0)-$C13)/(VLOOKUP(H$4,$A$5:E$24,2,0)-$B13),\"\"))","v":""},{"$f":"IF(I12=\"\",\"\",IF(I$4>$A13,(VLOOKUP(I$4,$A$5:F$24,3,0)-$C13)/(VLOOKUP(I$4,$A$5:F$24,2,0)-$B13),\"\"))","v":""},{"$f":"IF(J12=\"\",\"\",IF(J$4>$A13,(VLOOKUP(J$4,$A$5:G$24,3,0)-$C13)/(VLOOKUP(J$4,$A$5:G$24,2,0)-$B13),\"\"))","v":""},{"$f":"IF(K12=\"\",\"\",IF(K$4>$A13,(VLOOKUP(K$4,$A$5:H$24,3,0)-$C13)/(VLOOKUP(K$4,$A$5:H$24,2,0)-$B13),\"\"))","v":""},{"$f":"IF(L12=\"\",\"\",IF(L$4>$A13,(VLOOKUP(L$4,$A$5:I$24,3,0)-$C13)/(VLOOKUP(L$4,$A$5:I$24,2,0)-$B13),\"\"))","v":""},{"$f":"IF(M12=\"\",\"\",IF(M$4>$A13,(VLOOKUP(M$4,$A$5:J$24,3,0)-$C13)/(VLOOKUP(M$4,$A$5:J$24,2,0)-$B13),\"\"))","v":""},{"$f":"IF(N12=\"\",\"\",IF(N$4>$A13,(VLOOKUP(N$4,$A$5:K$24,3,0)-$C13)/(VLOOKUP(N$4,$A$5:K$24,2,0)-$B13),\"\"))","v":""},{"$f":"IF(O12=\"\",\"\",IF(O$4>$A13,(VLOOKUP(O$4,$A$5:L$24,3,0)-$C13)/(VLOOKUP(O$4,$A$5:L$24,2,0)-$B13),\"\"))","v":""},{"$f":"IF(P12=\"\",\"\",IF(P$4>$A13,(VLOOKUP(P$4,$A$5:M$24,3,0)-$C13)/(VLOOKUP(P$4,$A$5:M$24,2,0)-$B13),\"\"))","v":""},{"$f":"IF(Q12=\"\",\"\",IF(Q$4>$A13,(VLOOKUP(Q$4,$A$5:N$24,3,0)-$C13)/(VLOOKUP(Q$4,$A$5:N$24,2,0)-$B13),\"\"))","v":""},{"$f":"IF(R12=\"\",\"\",IF(R$4>$A13,(VLOOKUP(R$4,$A$5:O$24,3,0)-$C13)/(VLOOKUP(R$4,$A$5:O$24,2,0)-$B13),\"\"))","v":""},{"$f":"IF(S12=\"\",\"\",IF(S$4>$A13,(VLOOKUP(S$4,$A$5:P$24,3,0)-$C13)/(VLOOKUP(S$4,$A$5:P$24,2,0)-$B13),\"\"))","v":""},{"$f":"IF(T12=\"\",\"\",IF(T$4>$A13,(VLOOKUP(T$4,$A$5:Q$24,3,0)-$C13)/(VLOOKUP(T$4,$A$5:Q$24,2,0)-$B13),\"\"))","v":""},{"$f":"IF(U12=\"\",\"\",IF(U$4>$A13,(VLOOKUP(U$4,$A$5:R$24,3,0)-$C13)/(VLOOKUP(U$4,$A$5:R$24,2,0)-$B13),\"\"))","v":""},{"$f":"IF(V12=\"\",\"\",IF(V$4>$A13,(VLOOKUP(V$4,$A$5:S$24,3,0)-$C13)/(VLOOKUP(V$4,$A$5:S$24,2,0)-$B13),\"\"))","v":""},{"$f":"IF(W12=\"\",\"\",IF(W$4>$A13,(VLOOKUP(W$4,$A$5:T$24,3,0)-$C13)/(VLOOKUP(W$4,$A$5:T$24,2,0)-$B13),\"\"))","v":""},{"$f":"IF(X12=\"\",\"\",IF(X$4>$A13,(VLOOKUP(X$4,$A$5:U$24,3,0)-$C13)/(VLOOKUP(X$4,$A$5:U$24,2,0)-$B13),\"\"))","v":""},"","","",0]
["",{"$f":"IF(Data_Input!D16=0,\"\",Data_Input!D16)","v":""},{"$f":"IF(Data_Input!E16=0,\"\",HiddenInput!R16)","v":""},null,{"$f":"COUNTIF(C15:C$24,\">\"&C14)-COUNTIF(C15:C$24,\"<\"&C14)","v":0},{"$f":"IF(F13=\"\",\"\",IF(F$4>$A14,(VLOOKUP(F$4,$A$5:C$24,3,0)-$C14)/(VLOOKUP(F$4,$A$5:C$24,2,0)-$B14),\"\"))","v":""},{"$f":"IF(G13=\"\",\"\",IF(G$4>$A14,(VLOOKUP(G$4,$A$5:D$24,3,0)-$C14)/(VLOOKUP(G$4,$A$5:D$24,2,0)-$B14),\"\"))","v":""},{"$f":"IF(H13=\"\",\"\",IF(H$4>$A14,(VLOOKUP(H$4,$A$5:E$24,3,0)-$C14)/(VLOOKUP(H$4,$A$5:E$24,2,0)-$B14),\"\"))","v":""},{"$f":"IF(I13=\"\",\"\",IF(I$4>$A14,(VLOOKUP(I$4,$A$5:F$24,3,0)-$C14)/(VLOOKUP(I$4,$A$5:F$24,2,0)-$B14),\"\"))","v":""},{"$f":"IF(J13=\"\",\"\",IF(J$4>$A14,(VLOOKUP(J$4,$A$5:G$24,3,0)-$C14)/(VLOOKUP(J$4,$A$5:G$24,2,0)-$B14),\"\"))","v":""},{"$f":"IF(K13=\"\",\"\",IF(K$4>$A14,(VLOOKUP(K$4,$A$5:H$24,3,0)-$C14)/(VLOOKUP(K$4,$A$5:H$24,2,0)-$B14),\"\"))","v":""},{"$f":"IF(L13=\"\",\"\",IF(L$4>$A14,(VLOOKUP(L$4,$A$5:I$24,3,0)-$C14)/(VLOOKUP(L$4,$A$5:I$24,2,0)-$B14),\"\"))","v":""},{"$f":"IF(M13=\"\",\"\",IF(M$4>$A14,(VLOOKUP(M$4,$A$5:J$24,3,0)-$C14)/(VLOOKUP(M$4,$A$5:J$24,2,0)-$B14),\"\"))","v":""},{"$f":"IF(N13=\"\",\"\",IF(N$4>$A14,(VLOOKUP(N$4,$A$5:K$24,3,0)-$C14)/(VLOOKUP(N$4,$A$5:K$24,2,0)-$B14),\"\"))","v":""},{"$f":"IF(O13=\"\",\"\",IF(O$4>$A14,(VLOOKUP(O$4,$A$5:L$24,3,0)-$C14)/(VLOOKUP(O$4,$A$5:L$24,2,0)-$B14),\"\"))","v":""},{"$f":"IF(P13=\"\",\"\",IF(P$4>$A14,(VLOOKUP(P$4,$A$5:M$24,3,0)-$C14)/(VLOOKUP(P$4,$A$5:M$24,2,0)-$B14),\"\"))","v":""},{"$f":"IF(Q13=\"\",\"\",IF(Q$4>$A14,(VLOOKUP(Q$4,$A$5:N$24,3,0)-$C14)/(VLOOKUP(Q$4,$A$5:N$24,2,0)-$B14),\"\"))","v":""},{"$f":"IF(R13=\"\",\"\",IF(R$4>$A14,(VLOOKUP(R$4,$A$5:O$24,3,0)-$C14)/(VLOOKUP(R$4,$A$5:O$24,2,0)-$B14),\"\"))","v":""},{"$f":"IF(S13=\"\",\"\",IF(S$4>$A14,(VLOOKUP(S$4,$A$5:P$24,3,0)-$C14)/(VLOOKUP(S$4,$A$5:P$24,2,0)-$B14),\"\"))","v":""},{"$f":"IF(T13=\"\",\"\",IF(T$4>$A14,(VLOOKUP(T$4,$A$5:Q$24,3,0)-$C14)/(VLOOKUP(T$4,$A$5:Q$24,2,0)-$B14),\"\"))","v":""},{"$f":"IF(U13=\"\",\"\",IF(U$4>$A14,(VLOOKUP(U$4,$A$5:R$24,3,0)-$C14)/(VLOOKUP(U$4,$A$5:R$24,2,0)-$B14),\"\"))","v":""},{"$f":"IF(V13=\"\",\"\",IF(V$4>$A14,(VLOOKUP(V$4,$A$5:S$24,3,0)-$C14)/(VLOOKUP(V$4,$A$5:S$24,2,0)-$B14),\"\"))","v":""},{"$f":"IF(W13=\"\",\"\",IF(W$4>$A14,(VLOOKUP(W$4,$A$5:T$24,3,0)-$C14)/(VLOOKUP(W$4,$A$5:T$24,2,0)-$B14),\"\"))","v":""},{"$f":"IF(X13=\"\",\"\",IF(X$4>$A14,(VLOOKUP(X$4,$A$5:U$24,3,0)-$C14)/(VLOOKUP(X$4,$A$5:U$24,2,0)-$B14),\"\"))","v":""},"","","",0]
["",{"$f":"IF(Data_Input!D17=0,\"\",Data_Input!D17)","v":""},{"$f":"IF(Data_Input!E17=0,\"\",HiddenInput!R17)","v":""},null,{"$f":"COUNTIF(C16:C$24,\">\"&C15)-COUNTIF(C16:C$24,\"<\"&C15)","v":0},{"$f":"IF(F14=\"\",\"\",IF(F$4>$A15,(VLOOKUP(F$4,$A$5:C$24,3,0)-$C15)/(VLOOKUP(F$4,$A$5:C$24,2,0)-$B15),\"\"))","v":""},{"$f":"IF(G14=\"\",\"\",IF(G$4>$A15,(VLOOKUP(G$4,$A$5:D$24,3,0)-$C15)/(VLOOKUP(G$4,$A$5:D$24,2,0)-$B15),\"\"))","v":""},{"$f":"IF(H14=\"\",\"\",IF(H$4>$A15,(VLOOKUP(H$4,$A$5:E$24,3,0)-$C15)/(VLOOKUP(H$4,$A$5:E$24,2,0)-$B15),\"\"))","v":""},{"$f":"IF(I14=\"\",\"\",IF(I$4>$A15,(VLOOKUP(I$4,$A$5:F$24,3,0)-$C15)/(VLOOKUP(I$4,$A$5:F$24,2,0)-$B15),\"\"))","v":""},{"$f":"IF(J14=\"\",\"\",IF(J$4>$A15,(VLOOKUP(J$4,$A$5:G$24,3,0)-$C15)/(VLOOKUP(J$4,$A$5:G$24,2,0)-$B15),\"\"))","v":""},{"$f":"IF(K14=\"\",\"\",IF(K$4>$A15,(VLOOKUP(K$4,$A$5:H$24,3,0)-$C15)/(VLOOKUP(K$4,$A$5:H$24,2,0)-$B15),\"\"))","v":""},{"$f":"IF(L14=\"\",\"\",IF(L$4>$A15,(VLOOKUP(L$4,$A$5:I$24,3,0)-$C15)/(VLOOKUP(L$4,$A$5:I$24,2,0)-$B15),\"\"))","v":""},{"$f":"IF(M14=\"\",\"\",IF(M$4>$A15,(VLOOKUP(M$4,$A$5:J$24,3,0)-$C15)/(VLOOKUP(M$4,$A$5:J$24,2,0)-$B15),\"\"))","v":""},{"$f":"IF(N14=\"\",\"\",IF(N$4>$A15,(VLOOKUP(N$4,$A$5:K$24,3,0)-$C15)/(VLOOKUP(N$4,$A$5:K$24,2,0)-$B15),\"\"))","v":""},{"$f":"IF(O14=\"\",\"\",IF(O$4>$A15,(VLOOKUP(O$4,$A$5:L$24,3,0)-$C15)/(VLOOKUP(O$4,$A$5:L$24,2,0)-$B15),\"\"))","v":""},{"$f":"IF(P14=\"\",\"\",IF(P$4>$A15,(VLOOKUP(P$4,$A$5:M$24,3,0)-$C15)/(VLOOKUP(P$4,$A$5:M$24,2,0)-$B15),\"\"))","v":""},{"$f":"IF(Q14=\"\",\"\",IF(Q$4>$A15,(VLOOKUP(Q$4,$A$5:N$24,3,0)-$C15)/(VLOOKUP(Q$4,$A$5:N$24,2,0)-$B15),\"\"))","v":""},{"$f":"IF(R14=\"\",\"\",IF(R$4>$A15,(VLOOKUP(R$4,$A$5:O$24,3,0)-$C15)/(VLOOKUP(R$4,$A$5:O$24,2,0)-$B15),\"\"))","v":""},{"$f":"IF(S14=\"\",\"\",IF(S$4>$A15,(VLOOKUP(S$4,$A$5:P$24,3,0)-$C15)/(VLOOKUP(S$4,$A$5:P$24,2,0)-$B15),\"\"))","v":""},{"$f":"IF(T14=\"\",\"\",IF(T$4>$A15,(VLOOKUP(T$4,$A$5:Q$24,3,0)-$C15)/(VLOOKUP(T$4,$A$5:Q$24,2,0)-$B15),\"\"))","v":""},{"$f":"IF(U14=\"\",\"\",IF(U$4>$A15,(VLOOKUP(U$4,$A$5:R$24,3,0)-$C15)/(VLOOKUP(U$4,$A$5:R$24,2,0)-$B15),\"\"))","v":""},{"$f":"IF(V14=\"\",\"\",IF(V$4>$A15,(VLOOKUP(V$4,$A$5:S$24,3,0)-$C15)/(VLOOKUP(V$4,$A$5:S$24,2,0)-$B15),\"\"))","v":""},{"$f":"IF(W14=\"\",\"\",IF(W$4>$A15,(VLOOKUP(W$4,$A$5:T$24,3,0)-$C15)/(VLOOKUP(W$4,$A$5:T$24,2,0)-$B15),\"\"))","v":""},{"$f":"IF(X14=\"\",\"\",IF(X$4>$A15,(VLOOKUP(X$4,$A$5:U$24,3,0)-$C15)/(VLOOKUP(X$4,$A$5:U$24,2,0)-$B15),\"\"))","v":""},"","","",0]
["",{"$f":"IF(Data_Input!D18=0,\"\",Data_Input!D18)","v":""},{"$f":"IF(Data_Input!E18=0,\"\",HiddenInput!R18)","v":""},null,{"$f":"COUNTIF(C17:C$24,\">\"&C16)-COUNTIF(C17:C$24,\"<\"&C16)","v":0},{"$f":"IF(F15=\"\",\"\",IF(F$4>$A16,(VLOOKUP(F$4,$A$5:C$24,3,0)-$C16)/(VLOOKUP(F$4,$A$5:C$24,2,0)-$B16),\"\"))","v":""},{"$f":"IF(G15=\"\",\"\",IF(G$4>$A16,(VLOOKUP(G$4,$A$5:D$24,3,0)-$C16)/(VLOOKUP(G$4,$A$5:D$24,2,0)-$B16),\"\"))","v":""},{"$f":"IF(H15=\"\",\"\",IF(H$4>$A16,(VLOOKUP(H$4,$A$5:E$24,3,0)-$C16)/(VLOOKUP(H$4,$A$5:E$24,2,0)-$B16),\"\"))","v":""},{"$f":"IF(I15=\"\",\"\",IF(I$4>$A16,(VLOOKUP(I$4,$A$5:F$24,3,0)-$C16)/(VLOOKUP(I$4,$A$5:F$24,2,0)-$B16),\"\"))","v":""},{"$f":"IF(J15=\"\",\"\",IF(J$4>$A16,(VLOOKUP(J$4,$A$5:G$24,3,0)-$C16)/(VLOOKUP(J$4,$A$5:G$24,2,0)-$B16),\"\"))","v":""},{"$f":"IF(K15=\"\",\"\",IF(K$4>$A16,(VLOOKUP(K$4,$A$5:H$24,3,0)-$C16)/(VLOOKUP(K$4,$A$5:H$24,2,0)-$B16),\"\"))","v":""},{"$f":"IF(L15=\"\",\"\",IF(L$4>$A16,(VLOOKUP(L$4,$A$5:I$24,3,0)-$C16)/(VLOOKUP(L$4,$A$5:I$24,2,0)-$B16),\"\"))","v":""},{"$f":"IF(M15=\"\",\"\",IF(M$4>$A16,(VLOOKUP(M$4,$A$5:J$24,3,0)-$C16)/(VLOOKUP(M$4,$A$5:J$24,2,0)-$B16),\"\"))","v":""},{"$f":"IF(N15=\"\",\"\",IF(N$4>$A16,(VLOOKUP(N$4,$A$5:K$24,3,0)-$C16)/(VLOOKUP(N$4,$A$5:K$24,2,0)-$B16),\"\"))","v":""},{"$f":"IF(O15=\"\",\"\",IF(O$4>$A16,(VLOOKUP(O$4,$A$5:L$24,3,0)-$C16)/(VLOOKUP(O$4,$A$5:L$24,2,0)-$B16),\"\"))","v":""},{"$f":"IF(P15=\"\",\"\",IF(P$4>$A16,(VLOOKUP(P$4,$A$5:M$24,3,0)-$C16)/(VLOOKUP(P$4,$A$5:M$24,2,0)-$B16),\"\"))","v":""},{"$f":"IF(Q15=\"\",\"\",IF(Q$4>$A16,(VLOOKUP(Q$4,$A$5:N$24,3,0)-$C16)/(VLOOKUP(Q$4,$A$5:N$24,2,0)-$B16),\"\"))","v":""},{"$f":"IF(R15=\"\",\"\",IF(R$4>$A16,(VLOOKUP(R$4,$A$5:O$24,3,0)-$C16)/(VLOOKUP(R$4,$A$5:O$24,2,0)-$B16),\"\"))","v":""},{"$f":"IF(S15=\"\",\"\",IF(S$4>$A16,(VLOOKUP(S$4,$A$5:P$24,3,0)-$C16)/(VLOOKUP(S$4,$A$5:P$24,2,0)-$B16),\"\"))","v":""},{"$f":"IF(T15=\"\",\"\",IF(T$4>$A16,(VLOOKUP(T$4,$A$5:Q$24,3,0)-$C16)/(VLOOKUP(T$4,$A$5:Q$24,2,0)-$B16),\"\"))","v":""},{"$f":"IF(U15=\"\",\"\",IF(U$4>$A16,(VLOOKUP(U$4,$A$5:R$24,3,0)-$C16)/(VLOOKUP(U$4,$A$5:R$24,2,0)-$B16),\"\"))","v":""},{"$f":"IF(V15=\"\",\"\",IF(V$4>$A16,(VLOOKUP(V$4,$A$5:S$24,3,0)-$C16)/(VLOOKUP(V$4,$A$5:S$24,2,0)-$B16),\"\"))","v":""},{"$f":"IF(W15=\"\",\"\",IF(W$4>$A16,(VLOOKUP(W$4,$A$5:T$24,3,0)-$C16)/(VLOOKUP(W$4,$A$5:T$24,2,0)-$B16),\"\"))","v":""},{"$f":"IF(X15=\"\",\"\",IF(X$4>$A16,(VLOOKUP(X$4,$A$5:U$24,3,0)-$C16)/(VLOOKUP(X$4,$A$5:U$24,2,0)-$B16),\"\"))","v":""},"","","",0]
["",{"$f":"IF(Data_Input!D19=0,\"\",Data_Input!D19)","v":""},{"$f":"IF(Data_Input!E19=0,\"\",HiddenInput!R19)","v":""},null,{"$f":"COUNTIF(C18:C$24,\">\"&C17)-COUNTIF(C18:C$24,\"<\"&C17)","v":0},{"$f":"IF(F16=\"\",\"\",IF(F$4>$A17,(VLOOKUP(F$4,$A$5:C$24,3,0)-$C17)/(VLOOKUP(F$4,$A$5:C$24,2,0)-$B17),\"\"))","v":""},{"$f":"IF(G16=\"\",\"\",IF(G$4>$A17,(VLOOKUP(G$4,$A$5:D$24,3,0)-$C17)/(VLOOKUP(G$4,$A$5:D$24,2,0)-$B17),\"\"))","v":""},{"$f":"IF(H16=\"\",\"\",IF(H$4>$A17,(VLOOKUP(H$4,$A$5:E$24,3,0)-$C17)/(VLOOKUP(H$4,$A$5:E$24,2,0)-$B17),\"\"))","v":""},{"$f":"IF(I16=\"\",\"\",IF(I$4>$A17,(VLOOKUP(I$4,$A$5:F$24,3,0)-$C17)/(VLOOKUP(I$4,$A$5:F$24,2,0)-$B17),\"\"))","v":""},{"$f":"IF(J16=\"\",\"\",IF(J$4>$A17,(VLOOKUP(J$4,$A$5:G$24,3,0)-$C17)/(VLOOKUP(J$4,$A$5:G$24,2,0)-$B17),\"\"))","v":""},{"$f":"IF(K16=\"\",\"\",IF(K$4>$A17,(VLOOKUP(K$4,$A$5:H$24,3,0)-$C17)/(VLOOKUP(K$4,$A$5:H$24,2,0)-$B17),\"\"))","v":""},{"$f":"IF(L16=\"\",\"\",IF(L$4>$A17,(VLOOKUP(L$4,$A$5:I$24,3,0)-$C17)/(VLOOKUP(L$4,$A$5:I$24,2,0)-$B17),\"\"))","v":""},{"$f":"IF(M16=\"\",\"\",IF(M$4>$A17,(VLOOKUP(M$4,$A$5:J$24,3,0)-$C17)/(VLOOKUP(M$4,$A$5:J$24,2,0)-$B17),\"\"))","v":""},{"$f":"IF(N16=\"\",\"\",IF(N$4>$A17,(VLOOKUP(N$4,$A$5:K$24,3,0)-$C17)/(VLOOKUP(N$4,$A$5:K$24,2,0)-$B17),\"\"))","v":""},{"$f":"IF(O16=\"\",\"\",IF(O$4>$A17,(VLOOKUP(O$4,$A$5:L$24,3,0)-$C17)/(VLOOKUP(O$4,$A$5:L$24,2,0)-$B17),\"\"))","v":""},{"$f":"IF(P16=\"\",\"\",IF(P$4>$A17,(VLOOKUP(P$4,$A$5:M$24,3,0)-$C17)/(VLOOKUP(P$4,$A$5:M$24,2,0)-$B17),\"\"))","v":""},{"$f":"IF(Q16=\"\",\"\",IF(Q$4>$A17,(VLOOKUP(Q$4,$A$5:N$24,3,0)-$C17)/(VLOOKUP(Q$4,$A$5:N$24,2,0)-$B17),\"\"))","v":""},{"$f":"IF(R16=\"\",\"\",IF(R$4>$A17,(VLOOKUP(R$4,$A$5:O$24,3,0)-$C17)/(VLOOKUP(R$4,$A$5:O$24,2,0)-$B17),\"\"))","v":""},{"$f":"IF(S16=\"\",\"\",IF(S$4>$A17,(VLOOKUP(S$4,$A$5:P$24,3,0)-$C17)/(VLOOKUP(S$4,$A$5:P$24,2,0)-$B17),\"\"))","v":""},{"$f":"IF(T16=\"\",\"\",IF(T$4>$A17,(VLOOKUP(T$4,$A$5:Q$24,3,0)-$C17)/(VLOOKUP(T$4,$A$5:Q$24,2,0)-$B17),\"\"))","v":""},{"$f":"IF(U16=\"\",\"\",IF(U$4>$A17,(VLOOKUP(U$4,$A$5:R$24,3,0)-$C17)/(VLOOKUP(U$4,$A$5:R$24,2,0)-$B17),\"\"))","v":""},{"$f":"IF(V16=\"\",\"\",IF(V$4>$A17,(VLOOKUP(V$4,$A$5:S$24,3,0)-$C17)/(VLOOKUP(V$4,$A$5:S$24,2,0)-$B17),\"\"))","v":""},{"$f":"IF(W16=\"\",\"\",IF(W$4>$A17,(VLOOKUP(W$4,$A$5:T$24,3,0)-$C17)/(VLOOKUP(W$4,$A$5:T$24,2,0)-$B17),\"\"))","v":""},{"$f":"IF(X16=\"\",\"\",IF(X$4>$A17,(VLOOKUP(X$4,$A$5:U$24,3,0)-$C17)/(VLOOKUP(X$4,$A$5:U$24,2,0)-$B17),\"\"))","v":""},"","","",0]
["",{"$f":"IF(Data_Input!D20=0,\"\",Data_Input!D20)","v":""},{"$f":"IF(Data_Input!E20=0,\"\",HiddenInput!R20)","v":""},null,{"$f":"COUNTIF(C19:C$24,\">\"&C18)-COUNTIF(C19:C$24,\"<\"&C18)","v":0},{"$f":"IF(F17=\"\",\"\",IF(F$4>$A18,(VLOOKUP(F$4,$A$5:C$24,3,0)-$C18)/(VLOOKUP(F$4,$A$5:C$24,2,0)-$B18),\"\"))","v":""},{"$f":"IF(G17=\"\",\"\",IF(G$4>$A18,(VLOOKUP(G$4,$A$5:D$24,3,0)-$C18)/(VLOOKUP(G$4,$A$5:D$24,2,0)-$B18),\"\"))","v":""},{"$f":"IF(H17=\"\",\"\",IF(H$4>$A18,(VLOOKUP(H$4,$A$5:E$24,3,0)-$C18)/(VLOOKUP(H$4,$A$5:E$24,2,0)-$B18),\"\"))","v":""},{"$f":"IF(I17=\"\",\"\",IF(I$4>$A18,(VLOOKUP(I$4,$A$5:F$24,3,0)-$C18)/(VLOOKUP(I$4,$A$5:F$24,2,0)-$B18),\"\"))","v":""},{"$f":"IF(J17=\"\",\"\",IF(J$4>$A18,(VLOOKUP(J$4,$A$5:G$24,3,0)-$C18)/(VLOOKUP(J$4,$A$5:G$24,2,0)-$B18),\"\"))","v":""},{"$f":"IF(K17=\"\",\"\",IF(K$4>$A18,(VLOOKUP(K$4,$A$5:H$24,3,0)-$C18)/(VLOOKUP(K$4,$A$5:H$24,2,0)-$B18),\"\"))","v":""},{"$f":"IF(L17=\"\",\"\",IF(L$4>$A18,(VLOOKUP(L$4,$A$5:I$24,3,0)-$C18)/(VLOOKUP(L$4,$A$5:I$24,2,0)-$B18),\"\"))","v":""},{"$f":"IF(M17=\"\",\"\",IF(M$4>$A18,(VLOOKUP(M$4,$A$5:J$24,3,0)-$C18)/(VLOOKUP(M$4,$A$5:J$24,2,0)-$B18),\"\"))","v":""},{"$f":"IF(N17=\"\",\"\",IF(N$4>$A18,(VLOOKUP(N$4,$A$5:K$24,3,0)-$C18)/(VLOOKUP(N$4,$A$5:K$24,2,0)-$B18),\"\"))","v":""},{"$f":"IF(O17=\"\",\"\",IF(O$4>$A18,(VLOOKUP(O$4,$A$5:L$24,3,0)-$C18)/(VLOOKUP(O$4,$A$5:L$24,2,0)-$B18),\"\"))","v":""},{"$f":"IF(P17=\"\",\"\",IF(P$4>$A18,(VLOOKUP(P$4,$A$5:M$24,3,0)-$C18)/(VLOOKUP(P$4,$A$5:M$24,2,0)-$B18),\"\"))","v":""},{"$f":"IF(Q17=\"\",\"\",IF(Q$4>$A18,(VLOOKUP(Q$4,$A$5:N$24,3,0)-$C18)/(VLOOKUP(Q$4,$A$5:N$24,2,0)-$B18),\"\"))","v":""},{"$f":"IF(R17=\"\",\"\",IF(R$4>$A18,(VLOOKUP(R$4,$A$5:O$24,3,0)-$C18)/(VLOOKUP(R$4,$A$5:O$24,2,0)-$B18),\"\"))","v":""},{"$f":"IF(S17=\"\",\"\",IF(S$4>$A18,(VLOOKUP(S$4,$A$5:P$24,3,0)-$C18)/(VLOOKUP(S$4,$A$5:P$24,2,0)-$B18),\"\"))","v":""},{"$f":"IF(T17=\"\",\"\",IF(T$4>$A18,(VLOOKUP(T$4,$A$5:Q$24,3,0)-$C18)/(VLOOKUP(T$4,$A$5:Q$24,2,0)-$B18),\"\"))","v":""},{"$f":"IF(U17=\"\",\"\",IF(U$4>$A18,(VLOOKUP(U$4,$A$5:R$24,3,0)-$C18)/(VLOOKUP(U$4,$A$5:R$24,2,0)-$B18),\"\"))","v":""},{"$f":"IF(V17=\"\",\"\",IF(V$4>$A18,(VLOOKUP(V$4,$A$5:S$24,3,0)-$C18)/(VLOOKUP(V$4,$A$5:S$24,2,0)-$B18),\"\"))","v":""},{"$f":"IF(W17=\"\",\"\",IF(W$4>$A18,(VLOOKUP(W$4,$A$5:T$24,3,0)-$C18)/(VLOOKUP(W$4,$A$5:T$24,2,0)-$B18),\"\"))","v":""},{"$f":"IF(X17=\"\",\"\",IF(X$4>$A18,(VLOOKUP(X$4,$A$5:U$24,3,0)-$C18)/(VLOOKUP(X$4,$A$5:U$24,2,0)-$B18),\"\"))","v":""},"","","",0]
["",{"$f":"IF(Data_Input!D21=0,\"\",Data_Input!D21)","v":""},{"$f":"IF(Data_Input!E21=0,\"\",HiddenInput!R21)","v":""},null,{"$f":"COUNTIF(C20:C$24,\">\"&C19)-COUNTIF(C20:C$24,\"<\"&C19)","v":0},{"$f":"IF(F18=\"\",\"\",IF(F$4>$A19,(VLOOKUP(F$4,$A$5:C$24,3,0)-$C19)/(VLOOKUP(F$4,$A$5:C$24,2,0)-$B19),\"\"))","v":""},{"$f":"IF(G18=\"\",\"\",IF(G$4>$A19,(VLOOKUP(G$4,$A$5:D$24,3,0)-$C19)/(VLOOKUP(G$4,$A$5:D$24,2,0)-$B19),\"\"))","v":""},{"$f":"IF(H18=\"\",\"\",IF(H$4>$A19,(VLOOKUP(H$4,$A$5:E$24,3,0)-$C19)/(VLOOKUP(H$4,$A$5:E$24,2,0)-$B19),\"\"))","v":""},{"$f":"IF(I18=\"\",\"\",IF(I$4>$A19,(VLOOKUP(I$4,$A$5:F$24,3,0)-$C19)/(VLOOKUP(I$4,$A$5:F$24,2,0)-$B19),\"\"))","v":""},{"$f":"IF(J18=\"\",\"\",IF(J$4>$A19,(VLOOKUP(J$4,$A$5:G$24,3,0)-$C19)/(VLOOKUP(J$4,$A$5:G$24,2,0)-$B19),\"\"))","v":""},{"$f":"IF(K18=\"\",\"\",IF(K$4>$A19,(VLOOKUP(K$4,$A$5:H$24,3,0)-$C19)/(VLOOKUP(K$4,$A$5:H$24,2,0)-$B19),\"\"))","v":""},{"$f":"IF(L18=\"\",\"\",IF(L$4>$A19,(VLOOKUP(L$4,$A$5:I$24,3,0)-$C19)/(VLOOKUP(L$4,$A$5:I$24,2,0)-$B19),\"\"))","v":""},{"$f":"IF(M18=\"\",\"\",IF(M$4>$A19,(VLOOKUP(M$4,$A$5:J$24,3,0)-$C19)/(VLOOKUP(M$4,$A$5:J$24,2,0)-$B19),\"\"))","v":""},{"$f":"IF(N18=\"\",\"\",IF(N$4>$A19,(VLOOKUP(N$4,$A$5:K$24,3,0)-$C19)/(VLOOKUP(N$4,$A$5:K$24,2,0)-$B19),\"\"))","v":""},{"$f":"IF(O18=\"\",\"\",IF(O$4>$A19,(VLOOKUP(O$4,$A$5:L$24,3,0)-$C19)/(VLOOKUP(O$4,$A$5:L$24,2,0)-$B19),\"\"))","v":""},{"$f":"IF(P18=\"\",\"\",IF(P$4>$A19,(VLOOKUP(P$4,$A$5:M$24,3,0)-$C19)/(VLOOKUP(P$4,$A$5:M$24,2,0)-$B19),\"\"))","v":""},{"$f":"IF(Q18=\"\",\"\",IF(Q$4>$A19,(VLOOKUP(Q$4,$A$5:N$24,3,0)-$C19)/(VLOOKUP(Q$4,$A$5:N$24,2,0)-$B19),\"\"))","v":""},{"$f":"IF(R18=\"\",\"\",IF(R$4>$A19,(VLOOKUP(R$4,$A$5:O$24,3,0)-$C19)/(VLOOKUP(R$4,$A$5:O$24,2,0)-$B19),\"\"))","v":""},{"$f":"IF(S18=\"\",\"\",IF(S$4>$A19,(VLOOKUP(S$4,$A$5:P$24,3,0)-$C19)/(VLOOKUP(S$4,$A$5:P$24,2,0)-$B19),\"\"))","v":""},{"$f":"IF(T18=\"\",\"\",IF(T$4>$A19,(VLOOKUP(T$4,$A$5:Q$24,3,0)-$C19)/(VLOOKUP(T$4,$A$5:Q$24,2,0)-$B19),\"\"))","v":""},{"$f":"IF(U18=\"\",\"\",IF(U$4>$A19,(VLOOKUP(U$4,$A$5:R$24,3,0)-$C19)/(VLOOKUP(U$4,$A$5:R$24,2,0)-$B19),\"\"))","v":""},{"$f":"IF(V18=\"\",\"\",IF(V$4>$A19,(VLOOKUP(V$4,$A$5:S$24,3,0)-$C19)/(VLOOKUP(V$4,$A$5:S$24,2,0)-$B19),\"\"))","v":""},{"$f":"IF(W18=\"\",\"\",IF(W$4>$A19,(VLOOKUP(W$4,$A$5:T$24,3,0)-$C19)/(VLOOKUP(W$4,$A$5:T$24,2,0)-$B19),\"\"))","v":""},{"$f":"IF(X18=\"\",\"\",IF(X$4>$A19,(VLOOKUP(X$4,$A$5:U$24,3,0)-$C19)/(VLOOKUP(X$4,$A$5:U$24,2,0)-$B19),\"\"))","v":""},"","","",0]
["",{"$f":"IF(Data_Input!D22=0,\"\",Data_Input!D22)","v":""},{"$f":"IF(Data_Input!E22=0,\"\",HiddenInput!R22)","v":""},null,{"$f":"COUNTIF(C21:C$24,\">\"&C20)-COUNTIF(C21:C$24,\"<\"&C20)","v":0},{"$f":"IF(F19=\"\",\"\",IF(F$4>$A20,(VLOOKUP(F$4,$A$5:C$24,3,0)-$C20)/(VLOOKUP(F$4,$A$5:C$24,2,0)-$B20),\"\"))","v":""},{"$f":"IF(G19=\"\",\"\",IF(G$4>$A20,(VLOOKUP(G$4,$A$5:D$24,3,0)-$C20)/(VLOOKUP(G$4,$A$5:D$24,2,0)-$B20),\"\"))","v":""},{"$f":"IF(H19=\"\",\"\",IF(H$4>$A20,(VLOOKUP(H$4,$A$5:E$24,3,0)-$C20)/(VLOOKUP(H$4,$A$5:E$24,2,0)-$B20),\"\"))","v":""},{"$f":"IF(I19=\"\",\"\",IF(I$4>$A20,(VLOOKUP(I$4,$A$5:F$24,3,0)-$C20)/(VLOOKUP(I$4,$A$5:F$24,2,0)-$B20),\"\"))","v":""},{"$f":"IF(J19=\"\",\"\",IF(J$4>$A20,(VLOOKUP(J$4,$A$5:G$24,3,0)-$C20)/(VLOOKUP(J$4,$A$5:G$24,2,0)-$B20),\"\"))","v":""},{"$f":"IF(K19=\"\",\"\",IF(K$4>$A20,(VLOOKUP(K$4,$A$5:H$24,3,0)-$C20)/(VLOOKUP(K$4,$A$5:H$24,2,0)-$B20),\"\"))","v":""},{"$f":"IF(L19=\"\",\"\",IF(L$4>$A20,(VLOOKUP(L$4,$A$5:I$24,3,0)-$C20)/(VLOOKUP(L$4,$A$5:I$24,2,0)-$B20),\"\"))","v":""},{"$f":"IF(M19=\"\",\"\",IF(M$4>$A20,(VLOOKUP(M$4,$A$5:J$24,3,0)-$C20)/(VLOOKUP(M$4,$A$5:J$24,2,0)-$B20),\"\"))","v":""},{"$f":"IF(N19=\"\",\"\",IF(N$4>$A20,(VLOOKUP(N$4,$A$5:K$24,3,0)-$C20)/(VLOOKUP(N$4,$A$5:K$24,2,0)-$B20),\"\"))","v":""},{"$f":"IF(O19=\"\",\"\",IF(O$4>$A20,(VLOOKUP(O$4,$A$5:L$24,3,0)-$C20)/(VLOOKUP(O$4,$A$5:L$24,2,0)-$B20),\"\"))","v":""},{"$f":"IF(P19=\"\",\"\",IF(P$4>$A20,(VLOOKUP(P$4,$A$5:M$24,3,0)-$C20)/(VLOOKUP(P$4,$A$5:M$24,2,0)-$B20),\"\"))","v":""},{"$f":"IF(Q19=\"\",\"\",IF(Q$4>$A20,(VLOOKUP(Q$4,$A$5:N$24,3,0)-$C20)/(VLOOKUP(Q$4,$A$5:N$24,2,0)-$B20),\"\"))","v":""},{"$f":"IF(R19=\"\",\"\",IF(R$4>$A20,(VLOOKUP(R$4,$A$5:O$24,3,0)-$C20)/(VLOOKUP(R$4,$A$5:O$24,2,0)-$B20),\"\"))","v":""},{"$f":"IF(S19=\"\",\"\",IF(S$4>$A20,(VLOOKUP(S$4,$A$5:P$24,3,0)-$C20)/(VLOOKUP(S$4,$A$5:P$24,2,0)-$B20),\"\"))","v":""},{"$f":"IF(T19=\"\",\"\",IF(T$4>$A20,(VLOOKUP(T$4,$A$5:Q$24,3,0)-$C20)/(VLOOKUP(T$4,$A$5:Q$24,2,0)-$B20),\"\"))","v":""},{"$f":"IF(U19=\"\",\"\",IF(U$4>$A20,(VLOOKUP(U$4,$A$5:R$24,3,0)-$C20)/(VLOOKUP(U$4,$A$5:R$24,2,0)-$B20),\"\"))","v":""},{"$f":"IF(V19=\"\",\"\",IF(V$4>$A20,(VLOOKUP(V$4,$A$5:S$24,3,0)-$C20)/(VLOOKUP(V$4,$A$5:S$24,2,0)-$B20),\"\"))","v":""},{"$f":"IF(W19=\"\",\"\",IF(W$4>$A20,(VLOOKUP(W$4,$A$5:T$24,3,0)-$C20)/(VLOOKUP(W$4,$A$5:T$24,2,0)-$B20),\"\"))","v":""},{"$f":"IF(X19=\"\",\"\",IF(X$4>$A20,(VLOOKUP(X$4,$A$5:U$24,3,0)-$C20)/(VLOOKUP(X$4,$A$5:U$24,2,0)-$B20),\"\"))","v":""},"","","",0]
["",{"$f":"IF(Data_Input!D23=0,\"\",Data_Input!D23)","v":""},{"$f":"IF(Data_Input!E23=0,\"\",HiddenInput!R23)","v":""},null,{"$f":"COUNTIF(C22:C$24,\">\"&C21)-COUNTIF(C22:C$24,\"<\"&C21)","v":0},{"$f":"IF(F20=\"\",\"\",IF(F$4>$A21,(VLOOKUP(F$4,$A$5:C$24,3,0)-$C21)/(VLOOKUP(F$4,$A$5:C$24,2,0)-$B21),\"\"))","v":""},{"$f":"IF(G20=\"\",\"\",IF(G$4>$A21,(VLOOKUP(G$4,$A$5:D$24,3,0)-$C21)/(VLOOKUP(G$4,$A$5:D$24,2,0)-$B21),\"\"))","v":""},{"$f":"IF(H20=\"\",\"\",IF(H$4>$A21,(VLOOKUP(H$4,$A$5:E$24,3,0)-$C21)/(VLOOKUP(H$4,$A$5:E$24,2,0)-$B21),\"\"))","v":""},{"$f":"IF(I20=\"\",\"\",IF(I$4>$A21,(VLOOKUP(I$4,$A$5:F$24,3,0)-$C21)/(VLOOKUP(I$4,$A$5:F$24,2,0)-$B21),\"\"))","v":""},{"$f":"IF(J20=\"\",\"\",IF(J$4>$A21,(VLOOKUP(J$4,$A$5:G$24,3,0)-$C21)/(VLOOKUP(J$4,$A$5:G$24,2,0)-$B21),\"\"))","v":""},{"$f":"IF(K20=\"\",\"\",IF(K$4>$A21,(VLOOKUP(K$4,$A$5:H$24,3,0)-$C21)/(VLOOKUP(K$4,$A$5:H$24,2,0)-$B21),\"\"))","v":""},{"$f":"IF(L20=\"\",\"\",IF(L$4>$A21,(VLOOKUP(L$4,$A$5:I$24,3,0)-$C21)/(VLOOKUP(L$4,$A$5:I$24,2,0)-$B21),\"\"))","v":""},{"$f":"IF(M20=\"\",\"\",IF(M$4>$A21,(VLOOKUP(M$4,$A$5:J$24,3,0)-$C21)/(VLOOKUP(M$4,$A$5:J$24,2,0)-$B21),\"\"))","v":""},{"$f":"IF(N20=\"\",\"\",IF(N$4>$A21,(VLOOKUP(N$4,$A$5:K$24,3,0)-$C21)/(VLOOKUP(N$4,$A$5:K$24,2,0)-$B21),\"\"))","v":""},{"$f":"IF(O20=\"\",\"\",IF(O$4>$A21,(VLOOKUP(O$4,$A$5:L$24,3,0)-$C21)/(VLOOKUP(O$4,$A$5:L$24,2,0)-$B21),\"\"))","v":""},{"$f":"IF(P20=\"\",\"\",IF(P$4>$A21,(VLOOKUP(P$4,$A$5:M$24,3,0)-$C21)/(VLOOKUP(P$4,$A$5:M$24,2,0)-$B21),\"\"))","v":""},{"$f":"IF(Q20=\"\",\"\",IF(Q$4>$A21,(VLOOKUP(Q$4,$A$5:N$24,3,0)-$C21)/(VLOOKUP(Q$4,$A$5:N$24,2,0)-$B21),\"\"))","v":""},{"$f":"IF(R20=\"\",\"\",IF(R$4>$A21,(VLOOKUP(R$4,$A$5:O$24,3,0)-$C21)/(VLOOKUP(R$4,$A$5:O$24,2,0)-$B21),\"\"))","v":""},{"$f":"IF(S20=\"\",\"\",IF(S$4>$A21,(VLOOKUP(S$4,$A$5:P$24,3,0)-$C21)/(VLOOKUP(S$4,$A$5:P$24,2,0)-$B21),\"\"))","v":""},{"$f":"IF(T20=\"\",\"\",IF(T$4>$A21,(VLOOKUP(T$4,$A$5:Q$24,3,0)-$C21)/(VLOOKUP(T$4,$A$5:Q$24,2,0)-$B21),\"\"))","v":""},{"$f":"IF(U20=\"\",\"\",IF(U$4>$A21,(VLOOKUP(U$4,$A$5:R$24,3,0)-$C21)/(VLOOKUP(U$4,$A$5:R$24,2,0)-$B21),\"\"))","v":""},{"$f":"IF(V20=\"\",\"\",IF(V$4>$A21,(VLOOKUP(V$4,$A$5:S$24,3,0)-$C21)/(VLOOKUP(V$4,$A$5:S$24,2,0)-$B21),\"\"))","v":""},{"$f":"IF(W20=\"\",\"\",IF(W$4>$A21,(VLOOKUP(W$4,$A$5:T$24,3,0)-$C21)/(VLOOKUP(W$4,$A$5:T$24,2,0)-$B21),\"\"))","v":""},{"$f":"IF(X20=\"\",\"\",IF(X$4>$A21,(VLOOKUP(X$4,$A$5:U$24,3,0)-$C21)/(VLOOKUP(X$4,$A$5:U$24,2,0)-$B21),\"\"))","v":""},"","","",0]
["",{"$f":"IF(Data_Input!D24=0,\"\",Data_Input!D24)","v":""},{"$f":"IF(Data_Input!E24=0,\"\",HiddenInput!R24)","v":""},null,{"$f":"COUNTIF(C23:C$24,\">\"&C22)-COUNTIF(C23:C$24,\"<\"&C22)","v":0},{"$f":"IF(F21=\"\",\"\",IF(F$4>$A22,(VLOOKUP(F$4,$A$5:C$24,3,0)-$C22)/(VLOOKUP(F$4,$A$5:C$24,2,0)-$B22),\"\"))","v":""},{"$f":"IF(G21=\"\",\"\",IF(G$4>$A22,(VLOOKUP(G$4,$A$5:D$24,3,0)-$C22)/(VLOOKUP(G$4,$A$5:D$24,2,0)-$B22),\"\"))","v":""},{"$f":"IF(H21=\"\",\"\",IF(H$4>$A22,(VLOOKUP(H$4,$A$5:E$24,3,0)-$C22)/(VLOOKUP(H$4,$A$5:E$24,2,0)-$B22),\"\"))","v":""},{"$f":"IF(I21=\"\",\"\",IF(I$4>$A22,(VLOOKUP(I$4,$A$5:F$24,3,0)-$C22)/(VLOOKUP(I$4,$A$5:F$24,2,0)-$B22),\"\"))","v":""},{"$f":"IF(J21=\"\",\"\",IF(J$4>$A22,(VLOOKUP(J$4,$A$5:G$24,3,0)-$C22)/(VLOOKUP(J$4,$A$5:G$24,2,0)-$B22),\"\"))","v":""},{"$f":"IF(K21=\"\",\"\",IF(K$4>$A22,(VLOOKUP(K$4,$A$5:H$24,3,0)-$C22)/(VLOOKUP(K$4,$A$5:H$24,2,0)-$B22),\"\"))","v":""},{"$f":"IF(L21=\"\",\"\",IF(L$4>$A22,(VLOOKUP(L$4,$A$5:I$24,3,0)-$C22)/(VLOOKUP(L$4,$A$5:I$24,2,0)-$B22),\"\"))","v":""},{"$f":"IF(M21=\"\",\"\",IF(M$4>$A22,(VLOOKUP(M$4,$A$5:J$24,3,0)-$C22)/(VLOOKUP(M$4,$A$5:J$24,2,0)-$B22),\"\"))","v":""},{"$f":"IF(N21=\"\",\"\",IF(N$4>$A22,(VLOOKUP(N$4,$A$5:K$24,3,0)-$C22)/(VLOOKUP(N$4,$A$5:K$24,2,0)-$B22),\"\"))","v":""},{"$f":"IF(O21=\"\",\"\",IF(O$4>$A22,(VLOOKUP(O$4,$A$5:L$24,3,0)-$C22)/(VLOOKUP(O$4,$A$5:L$24,2,0)-$B22),\"\"))","v":""},{"$f":"IF(P21=\"\",\"\",IF(P$4>$A22,(VLOOKUP(P$4,$A$5:M$24,3,0)-$C22)/(VLOOKUP(P$4,$A$5:M$24,2,0)-$B22),\"\"))","v":""},{"$f":"IF(Q21=\"\",\"\",IF(Q$4>$A22,(VLOOKUP(Q$4,$A$5:N$24,3,0)-$C22)/(VLOOKUP(Q$4,$A$5:N$24,2,0)-$B22),\"\"))","v":""},{"$f":"IF(R21=\"\",\"\",IF(R$4>$A22,(VLOOKUP(R$4,$A$5:O$24,3,0)-$C22)/(VLOOKUP(R$4,$A$5:O$24,2,0)-$B22),\"\"))","v":""},{"$f":"IF(S21=\"\",\"\",IF(S$4>$A22,(VLOOKUP(S$4,$A$5:P$24,3,0)-$C22)/(VLOOKUP(S$4,$A$5:P$24,2,0)-$B22),\"\"))","v":""},{"$f":"IF(T21=\"\",\"\",IF(T$4>$A22,(VLOOKUP(T$4,$A$5:Q$24,3,0)-$C22)/(VLOOKUP(T$4,$A$5:Q$24,2,0)-$B22),\"\"))","v":""},{"$f":"IF(U21=\"\",\"\",IF(U$4>$A22,(VLOOKUP(U$4,$A$5:R$24,3,0)-$C22)/(VLOOKUP(U$4,$A$5:R$24,2,0)-$B22),\"\"))","v":""},{"$f":"IF(V21=\"\",\"\",IF(V$4>$A22,(VLOOKUP(V$4,$A$5:S$24,3,0)-$C22)/(VLOOKUP(V$4,$A$5:S$24,2,0)-$B22),\"\"))","v":""},{"$f":"IF(W21=\"\",\"\",IF(W$4>$A22,(VLOOKUP(W$4,$A$5:T$24,3,0)-$C22)/(VLOOKUP(W$4,$A$5:T$24,2,0)-$B22),\"\"))","v":""},{"$f":"IF(X21=\"\",\"\",IF(X$4>$A22,(VLOOKUP(X$4,$A$5:U$24,3,0)-$C22)/(VLOOKUP(X$4,$A$5:U$24,2,0)-$B22),\"\"))","v":""},"","","",0]
["",{"$f":"IF(Data_Input!D25=0,\"\",Data_Input!D25)","v":""},{"$f":"IF(Data_Input!E25=0,\"\",HiddenInput!R25)","v":""},null,{"$f":"COUNTIF(C24:C$24,\">\"&C23)-COUNTIF(C24:C$24,\"<\"&C23)","v":0},{"$f":"IF(F22=\"\",\"\",IF(F$4>$A23,(VLOOKUP(F$4,$A$5:C$24,3,0)-$C23)/(VLOOKUP(F$4,$A$5:C$24,2,0)-$B23),\"\"))","v":""},{"$f":"IF(G22=\"\",\"\",IF(G$4>$A23,(VLOOKUP(G$4,$A$5:D$24,3,0)-$C23)/(VLOOKUP(G$4,$A$5:D$24,2,0)-$B23),\"\"))","v":""},{"$f":"IF(H22=\"\",\"\",IF(H$4>$A23,(VLOOKUP(H$4,$A$5:E$24,3,0)-$C23)/(VLOOKUP(H$4,$A$5:E$24,2,0)-$B23),\"\"))","v":""},{"$f":"IF(I22=\"\",\"\",IF(I$4>$A23,(VLOOKUP(I$4,$A$5:F$24,3,0)-$C23)/(VLOOKUP(I$4,$A$5:F$24,2,0)-$B23),\"\"))","v":""},{"$f":"IF(J22=\"\",\"\",IF(J$4>$A23,(VLOOKUP(J$4,$A$5:G$24,3,0)-$C23)/(VLOOKUP(J$4,$A$5:G$24,2,0)-$B23),\"\"))","v":""},{"$f":"IF(K22=\"\",\"\",IF(K$4>$A23,(VLOOKUP(K$4,$A$5:H$24,3,0)-$C23)/(VLOOKUP(K$4,$A$5:H$24,2,0)-$B23),\"\"))","v":""},{"$f":"IF(L22=\"\",\"\",IF(L$4>$A23,(VLOOKUP(L$4,$A$5:I$24,3,0)-$C23)/(VLOOKUP(L$4,$A$5:I$24,2,0)-$B23),\"\"))","v":""},{"$f":"IF(M22=\"\",\"\",IF(M$4>$A23,(VLOOKUP(M$4,$A$5:J$24,3,0)-$C23)/(VLOOKUP(M$4,$A$5:J$24,2,0)-$B23),\"\"))","v":""},{"$f":"IF(N22=\"\",\"\",IF(N$4>$A23,(VLOOKUP(N$4,$A$5:K$24,3,0)-$C23)/(VLOOKUP(N$4,$A$5:K$24,2,0)-$B23),\"\"))","v":""},{"$f":"IF(O22=\"\",\"\",IF(O$4>$A23,(VLOOKUP(O$4,$A$5:L$24,3,0)-$C23)/(VLOOKUP(O$4,$A$5:L$24,2,0)-$B23),\"\"))","v":""},{"$f":"IF(P22=\"\",\"\",IF(P$4>$A23,(VLOOKUP(P$4,$A$5:M$24,3,0)-$C23)/(VLOOKUP(P$4,$A$5:M$24,2,0)-$B23),\"\"))","v":""},{"$f":"IF(Q22=\"\",\"\",IF(Q$4>$A23,(VLOOKUP(Q$4,$A$5:N$24,3,0)-$C23)/(VLOOKUP(Q$4,$A$5:N$24,2,0)-$B23),\"\"))","v":""},{"$f":"IF(R22=\"\",\"\",IF(R$4>$A23,(VLOOKUP(R$4,$A$5:O$24,3,0)-$C23)/(VLOOKUP(R$4,$A$5:O$24,2,0)-$B23),\"\"))","v":""},{"$f":"IF(S22=\"\",\"\",IF(S$4>$A23,(VLOOKUP(S$4,$A$5:P$24,3,0)-$C23)/(VLOOKUP(S$4,$A$5:P$24,2,0)-$B23),\"\"))","v":""},{"$f":"IF(T22=\"\",\"\",IF(T$4>$A23,(VLOOKUP(T$4,$A$5:Q$24,3,0)-$C23)/(VLOOKUP(T$4,$A$5:Q$24,2,0)-$B23),\"\"))","v":""},{"$f":"IF(U22=\"\",\"\",IF(U$4>$A23,(VLOOKUP(U$4,$A$5:R$24,3,0)-$C23)/(VLOOKUP(U$4,$A$5:R$24,2,0)-$B23),\"\"))","v":""},{"$f":"IF(V22=\"\",\"\",IF(V$4>$A23,(VLOOKUP(V$4,$A$5:S$24,3,0)-$C23)/(VLOOKUP(V$4,$A$5:S$24,2,0)-$B23),\"\"))","v":""},{"$f":"IF(W22=\"\",\"\",IF(W$4>$A23,(VLOOKUP(W$4,$A$5:T$24,3,0)-$C23)/(VLOOKUP(W$4,$A$5:T$24,2,0)-$B23),\"\"))","v":""},{"$f":"IF(X22=\"\",\"\",IF(X$4>$A23,(VLOOKUP(X$4,$A$5:U$24,3,0)-$C23)/(VLOOKUP(X$4,$A$5:U$24,2,0)-$B23),\"\"))","v":""},"","","",0]
["",{"$f":"IF(Data_Input!D26=0,\"\",Data_Input!D26)","v":""},{"$f":"IF(Data_Input!E26=0,\"\",HiddenInput!R26)","v":""},null,{"$f":"COUNTIF(C$24:C25,\">\"&C24)-COUNTIF(C$24:C25,\"<\"&C24)","v":0},{"$f":"IF(F23=\"\",\"\",IF(F$4>$A24,(VLOOKUP(F$4,$A$5:C$24,3,0)-$C24)/(VLOOKUP(F$4,$A$5:C$24,2,0)-$B24),\"\"))","v":""},{"$f":"IF(G23=\"\",\"\",IF(G$4>$A24,(VLOOKUP(G$4,$A$5:D$24,3,0)-$C24)/(VLOOKUP(G$4,$A$5:D$24,2,0)-$B24),\"\"))","v":""},{"$f":"IF(H23=\"\",\"\",IF(H$4>$A24,(VLOOKUP(H$4,$A$5:E$24,3,0)-$C24)/(VLOOKUP(H$4,$A$5:E$24,2,0)-$B24),\"\"))","v":""},{"$f":"IF(I23=\"\",\"\",IF(I$4>$A24,(VLOOKUP(I$4,$A$5:F$24,3,0)-$C24)/(VLOOKUP(I$4,$A$5:F$24,2,0)-$B24),\"\"))","v":""},{"$f":"IF(J23=\"\",\"\",IF(J$4>$A24,(VLOOKUP(J$4,$A$5:G$24,3,0)-$C24)/(VLOOKUP(J$4,$A$5:G$24,2,0)-$B24),\"\"))","v":""},{"$f":"IF(K23=\"\",\"\",IF(K$4>$A24,(VLOOKUP(K$4,$A$5:H$24,3,0)-$C24)/(VLOOKUP(K$4,$A$5:H$24,2,0)-$B24),\"\"))","v":""},{"$f":"IF(L23=\"\",\"\",IF(L$4>$A24,(VLOOKUP(L$4,$A$5:I$24,3,0)-$C24)/(VLOOKUP(L$4,$A$5:I$24,2,0)-$B24),\"\"))","v":""},{"$f":"IF(M23=\"\",\"\",IF(M$4>$A24,(VLOOKUP(M$4,$A$5:J$24,3,0)-$C24)/(VLOOKUP(M$4,$A$5:J$24,2,0)-$B24),\"\"))","v":""},{"$f":"IF(N23=\"\",\"\",IF(N$4>$A24,(VLOOKUP(N$4,$A$5:K$24,3,0)-$C24)/(VLOOKUP(N$4,$A$5:K$24,2,0)-$B24),\"\"))","v":""},{"$f":"IF(O23=\"\",\"\",IF(O$4>$A24,(VLOOKUP(O$4,$A$5:L$24,3,0)-$C24)/(VLOOKUP(O$4,$A$5:L$24,2,0)-$B24),\"\"))","v":""},{"$f":"IF(P23=\"\",\"\",IF(P$4>$A24,(VLOOKUP(P$4,$A$5:M$24,3,0)-$C24)/(VLOOKUP(P$4,$A$5:M$24,2,0)-$B24),\"\"))","v":""},{"$f":"IF(Q23=\"\",\"\",IF(Q$4>$A24,(VLOOKUP(Q$4,$A$5:N$24,3,0)-$C24)/(VLOOKUP(Q$4,$A$5:N$24,2,0)-$B24),\"\"))","v":""},{"$f":"IF(R23=\"\",\"\",IF(R$4>$A24,(VLOOKUP(R$4,$A$5:O$24,3,0)-$C24)/(VLOOKUP(R$4,$A$5:O$24,2,0)-$B24),\"\"))","v":""},{"$f":"IF(S23=\"\",\"\",IF(S$4>$A24,(VLOOKUP(S$4,$A$5:P$24,3,0)-$C24)/(VLOOKUP(S$4,$A$5:P$24,2,0)-$B24),\"\"))","v":""},{"$f":"IF(T23=\"\",\"\",IF(T$4>$A24,(VLOOKUP(T$4,$A$5:Q$24,3,0)-$C24)/(VLOOKUP(T$4,$A$5:Q$24,2,0)-$B24),\"\"))","v":""},{"$f":"IF(U23=\"\",\"\",IF(U$4>$A24,(VLOOKUP(U$4,$A$5:R$24,3,0)-$C24)/(VLOOKUP(U$4,$A$5:R$24,2,0)-$B24),\"\"))","v":""},{"$f":"IF(V23=\"\",\"\",IF(V$4>$A24,(VLOOKUP(V$4,$A$5:S$24,3,0)-$C24)/(VLOOKUP(V$4,$A$5:S$24,2,0)-$B24),\"\"))","v":""},{"$f":"IF(W23=\"\",\"\",IF(W$4>$A24,(VLOOKUP(W$4,$A$5:T$24,3,0)-$C24)/(VLOOKUP(W$4,$A$5:T$24,2,0)-$B24),\"\"))","v":""},{"$f":"IF(X23=\"\",\"\",IF(X$4>$A24,(VLOOKUP(X$4,$A$5:U$24,3,0)-$C24)/(VLOOKUP(X$4,$A$5:U$24,2,0)-$B24),\"\"))","v":""},"","","",0]
[null,null,null,null,{"$f":"SUM(E5:E24)","v":-7},null,null,null,null,null,null,null,null,null,null,null,null,null,null,null,null,null,null,null,null,{"$f":"SUM(Z5:Z24)","v":0}]
[]
["Median Slope:",null,null,null,{"$f":"MEDIAN(F5:X24)","v":-4.9180327868852429E-3}]
["Median Y:",null,null,null,{"$f":"MEDIAN(C5:C24)","v":4.5},null,null,null,null,null,null,null,null,null,null,null,null,null,null,null,null,null,null,null,null,"Negative Concentration?",{"$f":"IF(SUM(AB5:AB24)>0,\"Yes\",\"No\")","v":"No"}]
["Median X:",null,null,null,{"$f":"MEDIAN(B5:B24)","v":43191}]
["Theil-Sen Intercept:",null,null,null,{"$f":"E28-(E27*E29)","v":216.91475409836053}]
["sd[S]",null,null,null,{"$f":"SQRT(((NPoints*(NPoints-1)*(2*NPoints+5))-Z25)/18)","v":6.6583281184793934}]
["Normalized Mann-Kendall Statistic",null,null,null,{"$f":"(E25-SIGN(E25))/E31","v":-0.90112711377916588}]
[]
["Chart variables"]
[null,"OLS","TS"]
["Min X",{"$f":"MIN($B5:$B24)","v":43101},{"$f":"MIN($B5:$B24)","v":43101},null,{"$f":"(C37-C36)/2","v":90.5}]
["Max X",{"$f":"MAX($B5:$B24)","v":43282},{"$f":"MAX($B5:$B24)","v":43282}]
["Min Y",{"$f":"B36*DataTransforms!AM18+DataTransforms!AM19","v":5.160917216906995},{"$f":"C36*E$27+E$30","v":4.9426229508196684}]
["Max Y",{"$f":"B37*DataTransforms!AM18+DataTransforms!AM19","v":4.1796164038988763},{"$f":"C37*E$27+E$30","v":4.052459016393442}]

{"sheet":"HiddenTrendBS","index":18,"n_rows":39,"n_cols":26,"rows_kept":39,"cut":false,"hidden":true,"merged":[[2,5,2,25]]}
[]
[]
[null,null,null,null,null,"Theil-Sen Slopes and Test Statistic"]
["i","X\n(Days)",{"$f":"\"Y \"\n&Data_Input!B13","v":"Y ug/L"},"Y\nPredicted","Mann-Kendall Test Statistic",{"$f":"IF(OFFSET($A4,COLUMN(F2)-4,0.1,1)=\"\",\"\",OFFSET($A4,COLUMN(F2)-4,0.1,1))","v":2},3,4,5,6,7,8,9,10,"","","","","","","","","","","Tied values","SD ties term"]
[{"$f":"IF(B5=\"\",\"\",ROW(B5)-4)","v":1},42887,0.5,null,{"$f":"COUNTIF(C6:C$24,\">\"&C5)-COUNTIF(C6:C$24,\"<\"&C5)","v":3},{"$f":"IF(F4=\"\",\"\",IF(F$4>$A5,IF($B5=VLOOKUP(F$4,$A$5:$C$24,2,0),\"\",(VLOOKUP(F$4,$A$5:C$24,3,0)-$C5)/(VLOOKUP(F$4,$A$5:C$24,2,0)-$B5)),\"\"))","v":1.6666666666666666E-2},{"$f":"IF(G4=\"\",\"\",IF(G$4>$A5,IF($B5=VLOOKUP(G$4,$A$5:$C$24,2,0),\"\",(VLOOKUP(G$4,$A$5:D$24,3,0)-$C5)/(VLOOKUP(G$4,$A$5:D$24,2,0)-$B5)),\"\"))","v":1.6666666666666666E-2},{"$f":"IF(H4=\"\",\"\",IF(H$4>$A5,IF($B5=VLOOKUP(H$4,$A$5:$C$24,2,0),\"\",(VLOOKUP(H$4,$A$5:E$24,3,0)-$C5)/(VLOOKUP(H$4,$A$5:E$24,2,0)-$B5)),\"\"))","v":8.1967213114754103E-3},{"$f":"IF(I4=\"\",\"\",IF(I$4>$A5,IF($B5=VLOOKUP(I$4,$A$5:$C$24,2,0),\"\",(VLOOKUP(I$4,$A$5:F$24,3,0)-$C5)/(VLOOKUP(I$4,$A$5:F$24,2,0)-$B5)),\"\"))","v":8.1967213114754103E-3},{"$f":"IF(J4=\"\",\"\",IF(J$4>$A5,IF($B5=VLOOKUP(J$4,$A$5:$C$24,2,0),\"\",(VLOOKUP(J$4,$A$5:G$24,3,0)-$C5)/(VLOOKUP(J$4,$A$5:G$24,2,0)-$B5)),\"\"))","v":-1.0869565217391302E-3},{"$f":"IF(K4=\"\",\"\",IF(K$4>$A5,IF($B5=VLOOKUP(K$4,$A$5:$C$24,2,0),\"\",(VLOOKUP(K$4,$A$5:H$24,3,0)-$C5)/(VLOOKUP(K$4,$A$5:H$24,2,0)-$B5)),\"\"))","v":-1.639344262295082E-3},{"$f":"IF(L4=\"\",\"\",IF(L$4>$A5,IF($B5=VLOOKUP(L$4,$A$5:$C$24,2,0),\"\",(VLOOKUP(L$4,$A$5:I$24,3,0)-$C5)/(VLOOKUP(L$4,$A$5:I$24,2,0)-$B5)),\"\"))","v":-1.639344262295082E-3},{"$f":"IF(M4=\"\",\"\",IF(M$4>$A5,IF($B5=VLOOKUP(M$4,$A$5:$C$24,2,0),\"\",(VLOOKUP(M$4,$A$5:J$24,3,0)-$C5)/(VLOOKUP(M$4,$A$5:J$24,2,0)-$B5)),\"\"))","v":2.7322404371584699E-3},{"$f":"IF(N4=\"\",\"\",IF(N$4>$A5,IF($B5=VLOOKUP(N$4,$A$5:$C$24,2,0),\"\",(VLOOKUP(N$4,$A$5:K$24,3,0)-$C5)/(VLOOKUP(N$4,$A$5:K$24,2,0)-$B5)),\"\"))","v":2.7322404371584699E-3},{"$f":"IF(O4=\"\",\"\",IF(O$4>$A5,IF($B5=VLOOKUP(O$4,$A$5:$C$24,2,0),\"\",(VLOOKUP(O$4,$A$5:L$24,3,0)-$C5)/(VLOOKUP(O$4,$A$5:L$24,2,0)-$B5)),\"\"))","v":""},{"$f":"IF(P4=\"\",\"\",IF(P$4>$A5,IF($B5=VLOOKUP(P$4,$A$5:$C$24,2,0),\"\",(VLOOKUP(P$4,$A$5:M$24,3,0)-$C5)/(VLOOKUP(P$4,$A$5:M$24,2,0)-$B5)),\"\"))","v":""},{"$f":"IF(Q4=\"\",\"\",IF(Q$4>$A5,IF($B5=VLOOKUP(Q$4,$A$5:$C$24,2,0),\"\",(VLOOKUP(Q$4,$A$5:N$24,3,0)-$C5)/(VLOOKUP(Q$4,$A$5:N$24,2,0)-$B5)),\"\"))","v":""},{"$f":"IF(R4=\"\",\"\",IF(R$4>$A5,IF($B5=VLOOKUP(R$4,$A$5:$C$24,2,0),\"\",(VLOOKUP(R$4,$A$5:O$24,3,0)-$C5)/(VLOOKUP(R$4,$A$5:O$24,2,0)-$B5)),\"\"))","v":""},{"$f":"IF(S4=\"\",\"\",IF(S$4>$A5,IF($B5=VLOOKUP(S$4,$A$5:$C$24,2,0),\"\",(VLOOKUP(S$4,$A$5:P$24,3,0)-$C5)/(VLOOKUP(S$4,$A$5:P$24,2,0)-$B5)),\"\"))","v":""},{"$f":"IF(T4=\"\",\"\",IF(T$4>$A5,IF($B5=VLOOKUP(T$4,$A$5:$C$24,2,0),\"\",(VLOOKUP(T$4,$A$5:Q$24,3,0)-$C5)/(VLOOKUP(T$4,$A$5:Q$24,2,0)-$B5)),\"\"))","v":""},{"$f":"IF(U4=\"\",\"\",IF(U$4>$A5,IF($B5=VLOOKUP(U$4,$A$5:$C$24,2,0),\"\",(VLOOKUP(U$4,$A$5:R$24,3,0)-$C5)/(VLOOKUP(U$4,$A$5:R$24,2,0)-$B5)),\"\"))","v":""},{"$f":"IF(V4=\"\",\"\",IF(V$4>$A5,IF($B5=VLOOKUP(V$4,$A$5:$C$24,2,0),\"\",(VLOOKUP(V$4,$A$5:S$24,3,0)-$C5)/(VLOOKUP(V$4,$A$5:S$24,2,0)-$B5)),\"\"))","v":""},{"$f":"IF(W4=\"\",\"\",IF(W$4>$A5,IF($B5=VLOOKUP(W$4,$A$5:$C$24,2,0),\"\",(VLOOKUP(W$4,$A$5:T$24,3,0)-$C5)/(VLOOKUP(W$4,$A$5:T$24,2,0)-$B5)),\"\"))","v":""},{"$f":"IF(X4=\"\",\"\",IF(X$4>$A5,IF($B5=VLOOKUP(X$4,$A$5:$C$24,2,0),\"\",(VLOOKUP(X$4,$A$5:U$24,3,0)-$C5)/(VLOOKUP(X$4,$A$5:U$24,2,0)-$B5)),\"\"))","v":""},{"$f":"IF(C5=\"\",\"\",COUNTIF(C$5:C$24,\"=\"&C5))","v":1},{"$f":"IF(A5=\"\",\"\",Y5*(Y5-1)*(2*Y5+5)/Y5)","v":0}]
[{"$f":"IF(B6=\"\",\"\",ROW(B6)-4)","v":2},42917,1,null,{"$f":"COUNTIF(C7:C$24,\">\"&C6)-COUNTIF(C7:C$24,\"<\"&C6)","v":-3},{"$f":"IF(F5=\"\",\"\",IF(F$4>$A6,IF($B6=VLOOKUP(F$4,$A$5:$C$24,2,0),\"\",(VLOOKUP(F$4,$A$5:C$24,3,0)-$C6)/(VLOOKUP(F$4,$A$5:C$24,2,0)-$B6)),\"\"))","v":""},{"$f":"IF(G5=\"\",\"\",IF(G$4>$A6,IF($B6=VLOOKUP(G$4,$A$5:$C$24,2,0),\"\",(VLOOKUP(G$4,$A$5:D$24,3,0)-$C6)/(VLOOKUP(G$4,$A$5:D$24,2,0)-$B6)),\"\"))","v":""},{"$f":"IF(H5=\"\",\"\",IF(H$4>$A6,IF($B6=VLOOKUP(H$4,$A$5:$C$24,2,0),\"\",(VLOOKUP(H$4,$A$5:E$24,3,0)-$C6)/(VLOOKUP(H$4,$A$5:E$24,2,0)-$B6)),\"\"))","v":0},{"$f":"IF(I5=\"\",\"\",IF(I$4>$A6,IF($B6=VLOOKUP(I$4,$A$5:$C$24,2,0),\"\",(VLOOKUP(I$4,$A$5:F$24,3,0)-$C6)/(VLOOKUP(I$4,$A$5:F$24,2,0)-$B6)),\"\"))","v":0},{"$f":"IF(J5=\"\",\"\",IF(J$4>$A6,IF($B6=VLOOKUP(J$4,$A$5:$C$24,2,0),\"\",(VLOOKUP(J$4,$A$5:G$24,3,0)-$C6)/(VLOOKUP(J$4,$A$5:G$24,2,0)-$B6)),\"\"))","v":-9.6774193548387101E-3},{"$f":"IF(K5=\"\",\"\",IF(K$4>$A6,IF($B6=VLOOKUP(K$4,$A$5:$C$24,2,0),\"\",(VLOOKUP(K$4,$A$5:H$24,3,0)-$C6)/(VLOOKUP(K$4,$A$5:H$24,2,0)-$B6)),\"\"))","v":-7.6086956521739125E-3},{"$f":"IF(L5=\"\",\"\",IF(L$4>$A6,IF($B6=VLOOKUP(L$4,$A$5:$C$24,2,0),\"\",(VLOOKUP(L$4,$A$5:I$24,3,0)-$C6)/(VLOOKUP(L$4,$A$5:I$24,2,0)-$B6)),\"\"))","v":-7.6086956521739125E-3},{"$f":"IF(M5=\"\",\"\",IF(M$4>$A6,IF($B6=VLOOKUP(M$4,$A$5:$C$24,2,0),\"\",(VLOOKUP(M$4,$A$5:J$24,3,0)-$C6)/(VLOOKUP(M$4,$A$5:J$24,2,0)-$B6)),\"\"))","v":0},{"$f":"IF(N5=\"\",\"\",IF(N$4>$A6,IF($B6=VLOOKUP(N$4,$A$5:$C$24,2,0),\"\",(VLOOKUP(N$4,$A$5:K$24,3,0)-$C6)/(VLOOKUP(N$4,$A$5:K$24,2,0)-$B6)),\"\"))","v":0},{"$f":"IF(O5=\"\",\"\",IF(O$4>$A6,IF($B6=VLOOKUP(O$4,$A$5:$C$24,2,0),\"\",(VLOOKUP(O$4,$A$5:L$24,3,0)-$C6)/(VLOOKUP(O$4,$A$5:L$24,2,0)-$B6)),\"\"))","v":""},{"$f":"IF(P5=\"\",\"\",IF(P$4>$A6,IF($B6=VLOOKUP(P$4,$A$5:$C$24,2,0),\"\",(VLOOKUP(P$4,$A$5:M$24,3,0)-$C6)/(VLOOKUP(P$4,$A$5:M$24,2,0)-$B6)),\"\"))","v":""},{"$f":"IF(Q5=\"\",\"\",IF(Q$4>$A6,IF($B6=VLOOKUP(Q$4,$A$5:$C$24,2,0),\"\",(VLOOKUP(Q$4,$A$5:N$24,3,0)-$C6)/(VLOOKUP(Q$4,$A$5:N$24,2,0)-$B6)),\"\"))","v":""},{"$f":"IF(R5=\"\",\"\",IF(R$4>$A6,IF($B6=VLOOKUP(R$4,$A$5:$C$24,2,0),\"\",(VLOOKUP(R$4,$A$5:O$24,3,0)-$C6)/(VLOOKUP(R$4,$A$5:O$24,2,0)-$B6)),\"\"))","v":""},{"$f":"IF(S5=\"\",\"\",IF(S$4>$A6,IF($B6=VLOOKUP(S$4,$A$5:$C$24,2,0),\"\",(VLOOKUP(S$4,$A$5:P$24,3,0)-$C6)/(VLOOKUP(S$4,$A$5:P$24,2,0)-$B6)),\"\"))","v":""},{"$f":"IF(T5=\"\",\"\",IF(T$4>$A6,IF($B6=VLOOKUP(T$4,$A$5:$C$24,2,0),\"\",(VLOOKUP(T$4,$A$5:Q$24,3,0)-$C6)/(VLOOKUP(T$4,$A$5:Q$24,2,0)-$B6)),\"\"))","v":""},{"$f":"IF(U5=\"\",\"\",IF(U$4>$A6,IF($B6=VLOOKUP(U$4,$A$5:$C$24,2,0),\"\",(VLOOKUP(U$4,$A$5:R$24,3,0)-$C6)/(VLOOKUP(U$4,$A$5:R$24,2,0)-$B6)),\"\"))","v":""},{"$f":"IF(V5=\"\",\"\",IF(V$4>$A6,IF($B6=VLOOKUP(V$4,$A$5:$C$24,2,0),\"\",(VLOOKUP(V$4,$A$5:S$24,3,0)-$C6)/(VLOOKUP(V$4,$A$5:S$24,2,0)-$B6)),\"\"))","v":""},{"$f":"IF(W5=\"\",\"\",IF(W$4>$A6,IF($B6=VLOOKUP(W$4,$A$5:$C$24,2,0),\"\",(VLOOKUP(W$4,$A$5:T$24,3,0)-$C6)/(VLOOKUP(W$4,$A$5:T$24,2,0)-$B6)),\"\"))","v":""},{"$f":"IF(X5=\"\",\"\",IF(X$4>$A6,IF($B6=VLOOKUP(X$4,$A$5:$C$24,2,0),\"\",(VLOOKUP(X$4,$A$5:U$24,3,0)-$C6)/(VLOOKUP(X$4,$A$5:U$24,2,0)-$B6)),\"\"))","v":""},{"$f":"IF(C6=\"\",\"\",COUNTIF(C$5:C$24,\"=\"&C6))","v":6},{"$f":"IF(A6=\"\",\"\",Y6*(Y6-1)*(2*Y6+5)/Y6)","v":85}]
[3,42917,1,null,{"$f":"COUNTIF(C8:C$24,\">\"&C7)-COUNTIF(C8:C$24,\"<\"&C7)","v":-3},{"$f":"IF(F6=\"\",\"\",IF(F$4>$A7,IF($B7=VLOOKUP(F$4,$A$5:$C$24,2,0),\"\",(VLOOKUP(F$4,$A$5:C$24,3,0)-$C7)/(VLOOKUP(F$4,$A$5:C$24,2,0)-$B7)),\"\"))","v":""},{"$f":"IF(G6=\"\",\"\",IF(G$4>$A7,IF($B7=VLOOKUP(G$4,$A$5:$C$24,2,0),\"\",(VLOOKUP(G$4,$A$5:D$24,3,0)-$C7)/(VLOOKUP(G$4,$A$5:D$24,2,0)-$B7)),\"\"))","v":""},{"$f":"IF(H6=\"\",\"\",IF(H$4>$A7,IF($B7=VLOOKUP(H$4,$A$5:$C$24,2,0),\"\",(VLOOKUP(H$4,$A$5:E$24,3,0)-$C7)/(VLOOKUP(H$4,$A$5:E$24,2,0)-$B7)),\"\"))","v":0},{"$f":"IF(I6=\"\",\"\",IF(I$4>$A7,IF($B7=VLOOKUP(I$4,$A$5:$C$24,2,0),\"\",(VLOOKUP(I$4,$A$5:F$24,3,0)-$C7)/(VLOOKUP(I$4,$A$5:F$24,2,0)-$B7)),\"\"))","v":0},{"$f":"IF(J6=\"\",\"\",IF(J$4>$A7,IF($B7=VLOOKUP(J$4,$A$5:$C$24,2,0),\"\",(VLOOKUP(J$4,$A$5:G$24,3,0)-$C7)/(VLOOKUP(J$4,$A$5:G$24,2,0)-$B7)),\"\"))","v":-9.6774193548387101E-3},{"$f":"IF(K6=\"\",\"\",IF(K$4>$A7,IF($B7=VLOOKUP(K$4,$A$5:$C$24,2,0),\"\",(VLOOKUP(K$4,$A$5:H$24,3,0)-$C7)/(VLOOKUP(K$4,$A$5:H$24,2,0)-$B7)),\"\"))","v":-7.6086956521739125E-3},{"$f":"IF(L6=\"\",\"\",IF(L$4>$A7,IF($B7=VLOOKUP(L$4,$A$5:$C$24,2,0),\"\",(VLOOKUP(L$4,$A$5:I$24,3,0)-$C7)/(VLOOKUP(L$4,$A$5:I$24,2,0)-$B7)),\"\"))","v":-7.6086956521739125E-3},{"$f":"IF(M6=\"\",\"\",IF(M$4>$A7,IF($B7=VLOOKUP(M$4,$A$5:$C$24,2,0),\"\",(VLOOKUP(M$4,$A$5:J$24,3,0)-$C7)/(VLOOKUP(M$4,$A$5:J$24,2,0)-$B7)),\"\"))","v":0},{"$f":"IF(N6=\"\",\"\",IF(N$4>$A7,IF($B7=VLOOKUP(N$4,$A$5:$C$24,2,0),\"\",(VLOOKUP(N$4,$A$5:K$24,3,0)-$C7)/(VLOOKUP(N$4,$A$5:K$24,2,0)-$B7)),\"\"))","v":0},{"$f":"IF(O6=\"\",\"\",IF(O$4>$A7,IF($B7=VLOOKUP(O$4,$A$5:$C$24,2,0),\"\",(VLOOKUP(O$4,$A$5:L$24,3,0)-$C7)/(VLOOKUP(O$4,$A$5:L$24,2,0)-$B7)),\"\"))","v":""},{"$f":"IF(P6=\"\",\"\",IF(P$4>$A7,IF($B7=VLOOKUP(P$4,$A$5:$C$24,2,0),\"\",(VLOOKUP(P$4,$A$5:M$24,3,0)-$C7)/(VLOOKUP(P$4,$A$5:M$24,2,0)-$B7)),\"\"))","v":""},{"$f":"IF(Q6=\"\",\"\",IF(Q$4>$A7,IF($B7=VLOOKUP(Q$4,$A$5:$C$24,2,0),\"\",(VLOOKUP(Q$4,$A$5:N$24,3,0)-$C7)/(VLOOKUP(Q$4,$A$5:N$24,2,0)-$B7)),\"\"))","v":""},{"$f":"IF(R6=\"\",\"\",IF(R$4>$A7,IF($B7=VLOOKUP(R$4,$A$5:$C$24,2,0),\"\",(VLOOKUP(R$4,$A$5:O$24,3,0)-$C7)/(VLOOKUP(R$4,$A$5:O$24,2,0)-$B7)),\"\"))","v":""},{"$f":"IF(S6=\"\",\"\",IF(S$4>$A7,IF($B7=VLOOKUP(S$4,$A$5:$C$24,2,0),\"\",(VLOOKUP(S$4,$A$5:P$24,3,0)-$C7)/(VLOOKUP(S$4,$A$5:P$24,2,0)-$B7)),\"\"))","v":""},{"$f":"IF(T6=\"\",\"\",IF(T$4>$A7,IF($B7=VLOOKUP(T$4,$A$5:$C$24,2,0),\"\",(VLOOKUP(T$4,$A$5:Q$24,3,0)-$C7)/(VLOOKUP(T$4,$A$5:Q$24,2,0)-$B7)),\"\"))","v":""},{"$f":"IF(U6=\"\",\"\",IF(U$4>$A7,IF($B7=VLOOKUP(U$4,$A$5:$C$24,2,0),\"\",(VLOOKUP(U$4,$A$5:R$24,3,0)-$C7)/(VLOOKUP(U$4,$A$5:R$24,2,0)-$B7)),\"\"))","v":""},{"$f":"IF(V6=\"\",\"\",IF(V$4>$A7,IF($B7=VLOOKUP(V$4,$A$5:$C$24,2,0),\"\",(VLOOKUP(V$4,$A$5:S$24,3,0)-$C7)/(VLOOKUP(V$4,$A$5:S$24,2,0)-$B7)),\"\"))","v":""},{"$f":"IF(W6=\"\",\"\",IF(W$4>$A7,IF($B7=VLOOKUP(W$4,$A$5:$C$24,2,0),\"\",(VLOOKUP(W$4,$A$5:T$24,3,0)-$C7)/(VLOOKUP(W$4,$A$5:T$24,2,0)-$B7)),\"\"))","v":""},{"$f":"IF(X6=\"\",\"\",IF(X$4>$A7,IF($B7=VLOOKUP(X$4,$A$5:$C$24,2,0),\"\",(VLOOKUP(X$4,$A$5:U$24,3,0)-$C7)/(VLOOKUP(X$4,$A$5:U$24,2,0)-$B7)),\"\"))","v":""},6,85]
[4,42948,1,null,{"$f":"COUNTIF(C9:C$24,\">\"&C8)-COUNTIF(C9:C$24,\"<\"&C8)","v":-3},{"$f":"IF(F7=\"\",\"\",IF(F$4>$A8,IF($B8=VLOOKUP(F$4,$A$5:$C$24,2,0),\"\",(VLOOKUP(F$4,$A$5:C$24,3,0)-$C8)/(VLOOKUP(F$4,$A$5:C$24,2,0)-$B8)),\"\"))","v":""},{"$f":"IF(G7=\"\",\"\",IF(G$4>$A8,IF($B8=VLOOKUP(G$4,$A$5:$C$24,2,0),\"\",(VLOOKUP(G$4,$A$5:D$24,3,0)-$C8)/(VLOOKUP(G$4,$A$5:D$24,2,0)-$B8)),\"\"))","v":""},{"$f":"IF(H7=\"\",\"\",IF(H$4>$A8,IF($B8=VLOOKUP(H$4,$A$5:$C$24,2,0),\"\",(VLOOKUP(H$4,$A$5:E$24,3,0)-$C8)/(VLOOKUP(H$4,$A$5:E$24,2,0)-$B8)),\"\"))","v":""},{"$f":"IF(I7=\"\",\"\",IF(I$4>$A8,IF($B8=VLOOKUP(I$4,$A$5:$C$24,2,0),\"\",(VLOOKUP(I$4,$A$5:F$24,3,0)-$C8)/(VLOOKUP(I$4,$A$5:F$24,2,0)-$B8)),\"\"))","v":""},{"$f":"IF(J7=\"\",\"\",IF(J$4>$A8,IF($B8=VLOOKUP(J$4,$A$5:$C$24,2,0),\"\",(VLOOKUP(J$4,$A$5:G$24,3,0)-$C8)/(VLOOKUP(J$4,$A$5:G$24,2,0)-$B8)),\"\"))","v":-1.935483870967742E-2},{"$f":"IF(K7=\"\",\"\",IF(K$4>$A8,IF($B8=VLOOKUP(K$4,$A$5:$C$24,2,0),\"\",(VLOOKUP(K$4,$A$5:H$24,3,0)-$C8)/(VLOOKUP(K$4,$A$5:H$24,2,0)-$B8)),\"\"))","v":-1.1475409836065573E-2},{"$f":"IF(L7=\"\",\"\",IF(L$4>$A8,IF($B8=VLOOKUP(L$4,$A$5:$C$24,2,0),\"\",(VLOOKUP(L$4,$A$5:I$24,3,0)-$C8)/(VLOOKUP(L$4,$A$5:I$24,2,0)-$B8)),\"\"))","v":-1.1475409836065573E-2},{"$f":"IF(M7=\"\",\"\",IF(M$4>$A8,IF($B8=VLOOKUP(M$4,$A$5:$C$24,2,0),\"\",(VLOOKUP(M$4,$A$5:J$24,3,0)-$C8)/(VLOOKUP(M$4,$A$5:J$24,2,0)-$B8)),\"\"))","v":0},{"$f":"IF(N7=\"\",\"\",IF(N$4>$A8,IF($B8=VLOOKUP(N$4,$A$5:$C$24,2,0),\"\",(VLOOKUP(N$4,$A$5:K$24,3,0)-$C8)/(VLOOKUP(N$4,$A$5:K$24,2,0)-$B8)),\"\"))","v":0},{"$f":"IF(O7=\"\",\"\",IF(O$4>$A8,IF($B8=VLOOKUP(O$4,$A$5:$C$24,2,0),\"\",(VLOOKUP(O$4,$A$5:L$24,3,0)-$C8)/(VLOOKUP(O$4,$A$5:L$24,2,0)-$B8)),\"\"))","v":""},{"$f":"IF(P7=\"\",\"\",IF(P$4>$A8,IF($B8=VLOOKUP(P$4,$A$5:$C$24,2,0),\"\",(VLOOKUP(P$4,$A$5:M$24,3,0)-$C8)/(VLOOKUP(P$4,$A$5:M$24,2,0)-$B8)),\"\"))","v":""},{"$f":"IF(Q7=\"\",\"\",IF(Q$4>$A8,IF($B8=VLOOKUP(Q$4,$A$5:$C$24,2,0),\"\",(VLOOKUP(Q$4,$A$5:N$24,3,0)-$C8)/(VLOOKUP(Q$4,$A$5:N$24,2,0)-$B8)),\"\"))","v":""},{"$f":"IF(R7=\"\",\"\",IF(R$4>$A8,IF($B8=VLOOKUP(R$4,$A$5:$C$24,2,0),\"\",(VLOOKUP(R$4,$A$5:O$24,3,0)-$C8)/(VLOOKUP(R$4,$A$5:O$24,2,0)-$B8)),\"\"))","v":""},{"$f":"IF(S7=\"\",\"\",IF(S$4>$A8,IF($B8=VLOOKUP(S$4,$A$5:$C$24,2,0),\"\",(VLOOKUP(S$4,$A$5:P$24,3,0)-$C8)/(VLOOKUP(S$4,$A$5:P$24,2,0)-$B8)),\"\"))","v":""},{"$f":"IF(T7=\"\",\"\",IF(T$4>$A8,IF($B8=VLOOKUP(T$4,$A$5:$C$24,2,0),\"\",(VLOOKUP(T$4,$A$5:Q$24,3,0)-$C8)/(VLOOKUP(T$4,$A$5:Q$24,2,0)-$B8)),\"\"))","v":""},{"$f":"IF(U7=\"\",\"\",IF(U$4>$A8,IF($B8=VLOOKUP(U$4,$A$5:$C$24,2,0),\"\",(VLOOKUP(U$4,$A$5:R$24,3,0)-$C8)/(VLOOKUP(U$4,$A$5:R$24,2,0)-$B8)),\"\"))","v":""},{"$f":"IF(V7=\"\",\"\",IF(V$4>$A8,IF($B8=VLOOKUP(V$4,$A$5:$C$24,2,0),\"\",(VLOOKUP(V$4,$A$5:S$24,3,0)-$C8)/(VLOOKUP(V$4,$A$5:S$24,2,0)-$B8)),\"\"))","v":""},{"$f":"IF(W7=\"\",\"\",IF(W$4>$A8,IF($B8=VLOOKUP(W$4,$A$5:$C$24,2,0),\"\",(VLOOKUP(W$4,$A$5:T$24,3,0)-$C8)/(VLOOKUP(W$4,$A$5:T$24,2,0)-$B8)),\"\"))","v":""},{"$f":"IF(X7=\"\",\"\",IF(X$4>$A8,IF($B8=VLOOKUP(X$4,$A$5:$C$24,2,0),\"\",(VLOOKUP(X$4,$A$5:U$24,3,0)-$C8)/(VLOOKUP(X$4,$A$5:U$24,2,0)-$B8)),\"\"))","v":""},6,85]
[5,42948,1,null,{"$f":"COUNTIF(C10:C$24,\">\"&C9)-COUNTIF(C10:C$24,\"<\"&C9)","v":-3},{"$f":"IF(F8=\"\",\"\",IF(F$4>$A9,IF($B9=VLOOKUP(F$4,$A$5:$C$24,2,0),\"\",(VLOOKUP(F$4,$A$5:C$24,3,0)-$C9)/(VLOOKUP(F$4,$A$5:C$24,2,0)-$B9)),\"\"))","v":""},{"$f":"IF(G8=\"\",\"\",IF(G$4>$A9,IF($B9=VLOOKUP(G$4,$A$5:$C$24,2,0),\"\",(VLOOKUP(G$4,$A$5:D$24,3,0)-$C9)/(VLOOKUP(G$4,$A$5:D$24,2,0)-$B9)),\"\"))","v":""},{"$f":"IF(H8=\"\",\"\",IF(H$4>$A9,IF($B9=VLOOKUP(H$4,$A$5:$C$24,2,0),\"\",(VLOOKUP(H$4,$A$5:E$24,3,0)-$C9)/(VLOOKUP(H$4,$A$5:E$24,2,0)-$B9)),\"\"))","v":""},{"$f":"IF(I8=\"\",\"\",IF(I$4>$A9,IF($B9=VLOOKUP(I$4,$A$5:$C$24,2,0),\"\",(VLOOKUP(I$4,$A$5:F$24,3,0)-$C9)/(VLOOKUP(I$4,$A$5:F$24,2,0)-$B9)),\"\"))","v":""},{"$f":"IF(J8=\"\",\"\",IF(J$4>$A9,IF($B9=VLOOKUP(J$4,$A$5:$C$24,2,0),\"\",(VLOOKUP(J$4,$A$5:G$24,3,0)-$C9)/(VLOOKUP(J$4,$A$5:G$24,2,0)-$B9)),\"\"))","v":-1.935483870967742E-2},{"$f":"IF(K8=\"\",\"\",IF(K$4>$A9,IF($B9=VLOOKUP(K$4,$A$5:$C$24,2,0),\"\",(VLOOKUP(K$4,$A$5:H$24,3,0)-$C9)/(VLOOKUP(K$4,$A$5:H$24,2,0)-$B9)),\"\"))","v":-1.1475409836065573E-2},{"$f":"IF(L8=\"\",\"\",IF(L$4>$A9,IF($B9=VLOOKUP(L$4,$A$5:$C$24,2,0),\"\",(VLOOKUP(L$4,$A$5:I$24,3,0)-$C9)/(VLOOKUP(L$4,$A$5:I$24,2,0)-$B9)),\"\"))","v":-1.1475409836065573E-2},{"$f":"IF(M8=\"\",\"\",IF(M$4>$A9,IF($B9=VLOOKUP(M$4,$A$5:$C$24,2,0),\"\",(VLOOKUP(M$4,$A$5:J$24,3,0)-$C9)/(VLOOKUP(M$4,$A$5:J$24,2,0)-$B9)),\"\"))","v":0},{"$f":"IF(N8=\"\",\"\",IF(N$4>$A9,IF($B9=VLOOKUP(N$4,$A$5:$C$24,2,0),\"\",(VLOOKUP(N$4,$A$5:K$24,3,0)-$C9)/(VLOOKUP(N$4,$A$5:K$24,2,0)-$B9)),\"\"))","v":0},{"$f":"IF(O8=\"\",\"\",IF(O$4>$A9,IF($B9=VLOOKUP(O$4,$A$5:$C$24,2,0),\"\",(VLOOKUP(O$4,$A$5:L$24,3,0)-$C9)/(VLOOKUP(O$4,$A$5:L$24,2,0)-$B9)),\"\"))","v":""},{"$f":"IF(P8=\"\",\"\",IF(P$4>$A9,IF($B9=VLOOKUP(P$4,$A$5:$C$24,2,0),\"\",(VLOOKUP(P$4,$A$5:M$24,3,0)-$C9)/(VLOOKUP(P$4,$A$5:M$24,2,0)-$B9)),\"\"))","v":""},{"$f":"IF(Q8=\"\",\"\",IF(Q$4>$A9,IF($B9=VLOOKUP(Q$4,$A$5:$C$24,2,0),\"\",(VLOOKUP(Q$4,$A$5:N$24,3,0)-$C9)/(VLOOKUP(Q$4,$A$5:N$24,2,0)-$B9)),\"\"))","v":""},{"$f":"IF(R8=\"\",\"\",IF(R$4>$A9,IF($B9=VLOOKUP(R$4,$A$5:$C$24,2,0),\"\",(VLOOKUP(R$4,$A$5:O$24,3,0)-$C9)/(VLOOKUP(R$4,$A$5:O$24,2,0)-$B9)),\"\"))","v":""},{"$f":"IF(S8=\"\",\"\",IF(S$4>$A9,IF($B9=VLOOKUP(S$4,$A$5:$C$24,2,0),\"\",(VLOOKUP(S$4,$A$5:P$24,3,0)-$C9)/(VLOOKUP(S$4,$A$5:P$24,2,0)-$B9)),\"\"))","v":""},{"$f":"IF(T8=\"\",\"\",IF(T$4>$A9,IF($B9=VLOOKUP(T$4,$A$5:$C$24,2,0),\"\",(VLOOKUP(T$4,$A$5:Q$24,3,0)-$C9)/(VLOOKUP(T$4,$A$5:Q$24,2,0)-$B9)),\"\"))","v":""},{"$f":"IF(U8=\"\",\"\",IF(U$4>$A9,IF($B9=VLOOKUP(U$4,$A$5:$C$24,2,0),\"\",(VLOOKUP(U$4,$A$5:R$24,3,0)-$C9)/(VLOOKUP(U$4,$A$5:R$24,2,0)-$B9)),\"\"))","v":""},{"$f":"IF(V8=\"\",\"\",IF(V$4>$A9,IF($B9=VLOOKUP(V$4,$A$5:$C$24,2,0),\"\",(VLOOKUP(V$4,$A$5:S$24,3,0)-$C9)/(VLOOKUP(V$4,$A$5:S$24,2,0)-$B9)),\"\"))","v":""},{"$f":"IF(W8=\"\",\"\",IF(W$4>$A9,IF($B9=VLOOKUP(W$4,$A$5:$C$24,2,0),\"\",(VLOOKUP(W$4,$A$5:T$24,3,0)-$C9)/(VLOOKUP(W$4,$A$5:T$24,2,0)-$B9)),\"\"))","v":""},{"$f":"IF(X8=\"\",\"\",IF(X$4>$A9,IF($B9=VLOOKUP(X$4,$A$5:$C$24,2,0),\"\",(VLOOKUP(X$4,$A$5:U$24,3,0)-$C9)/(VLOOKUP(X$4,$A$5:U$24,2,0)-$B9)),\"\"))","v":""},6,85]
[6,42979,0.4,null,{"$f":"COUNTIF(C11:C$24,\">\"&C10)-COUNTIF(C11:C$24,\"<\"&C10)","v":0},{"$f":"IF(F9=\"\",\"\",IF(F$4>$A10,IF($B10=VLOOKUP(F$4,$A$5:$C$24,2,0),\"\",(VLOOKUP(F$4,$A$5:C$24,3,0)-$C10)/(VLOOKUP(F$4,$A$5:C$24,2,0)-$B10)),\"\"))","v":""},{"$f":"IF(G9=\"\",\"\",IF(G$4>$A10,IF($B10=VLOOKUP(G$4,$A$5:$C$24,2,0),\"\",(VLOOKUP(G$4,$A$5:D$24,3,0)-$C10)/(VLOOKUP(G$4,$A$5:D$24,2,0)-$B10)),\"\"))","v":""},{"$f":"IF(H9=\"\",\"\",IF(H$4>$A10,IF($B10=VLOOKUP(H$4,$A$5:$C$24,2,0),\"\",(VLOOKUP(H$4,$A$5:E$24,3,0)-$C10)/(VLOOKUP(H$4,$A$5:E$24,2,0)-$B10)),\"\"))","v":""},{"$f":"IF(I9=\"\",\"\",IF(I$4>$A10,IF($B10=VLOOKUP(I$4,$A$5:$C$24,2,0),\"\",(VLOOKUP(I$4,$A$5:F$24,3,0)-$C10)/(VLOOKUP(I$4,$A$5:F$24,2,0)-$B10)),\"\"))","v":""},{"$f":"IF(J9=\"\",\"\",IF(J$4>$A10,IF($B10=VLOOKUP(J$4,$A$5:$C$24,2,0),\"\",(VLOOKUP(J$4,$A$5:G$24,3,0)-$C10)/(VLOOKUP(J$4,$A$5:G$24,2,0)-$B10)),\"\"))","v":""},{"$f":"IF(K9=\"\",\"\",IF(K$4>$A10,IF($B10=VLOOKUP(K$4,$A$5:$C$24,2,0),\"\",(VLOOKUP(K$4,$A$5:H$24,3,0)-$C10)/(VLOOKUP(K$4,$A$5:H$24,2,0)-$B10)),\"\"))","v":-3.3333333333333344E-3},{"$f":"IF(L9=\"\",\"\",IF(L$4>$A10,IF($B10=VLOOKUP(L$4,$A$5:$C$24,2,0),\"\",(VLOOKUP(L$4,$A$5:I$24,3,0)-$C10)/(VLOOKUP(L$4,$A$5:I$24,2,0)-$B10)),\"\"))","v":-3.3333333333333344E-3},{"$f":"IF(M9=\"\",\"\",IF(M$4>$A10,IF($B10=VLOOKUP(M$4,$A$5:$C$24,2,0),\"\",(VLOOKUP(M$4,$A$5:J$24,3,0)-$C10)/(VLOOKUP(M$4,$A$5:J$24,2,0)-$B10)),\"\"))","v":6.5934065934065934E-3},{"$f":"IF(N9=\"\",\"\",IF(N$4>$A10,IF($B10=VLOOKUP(N$4,$A$5:$C$24,2,0),\"\",(VLOOKUP(N$4,$A$5:K$24,3,0)-$C10)/(VLOOKUP(N$4,$A$5:K$24,2,0)-$B10)),\"\"))","v":6.5934065934065934E-3},{"$f":"IF(O9=\"\",\"\",IF(O$4>$A10,IF($B10=VLOOKUP(O$4,$A$5:$C$24,2,0),\"\",(VLOOKUP(O$4,$A$5:L$24,3,0)-$C10)/(VLOOKUP(O$4,$A$5:L$24,2,0)-$B10)),\"\"))","v":""},{"$f":"IF(P9=\"\",\"\",IF(P$4>$A10,IF($B10=VLOOKUP(P$4,$A$5:$C$24,2,0),\"\",(VLOOKUP(P$4,$A$5:M$24,3,0)-$C10)/(VLOOKUP(P$4,$A$5:M$24,2,0)-$B10)),\"\"))","v":""},{"$f":"IF(Q9=\"\",\"\",IF(Q$4>$A10,IF($B10=VLOOKUP(Q$4,$A$5:$C$24,2,0),\"\",(VLOOKUP(Q$4,$A$5:N$24,3,0)-$C10)/(VLOOKUP(Q$4,$A$5:N$24,2,0)-$B10)),\"\"))","v":""},{"$f":"IF(R9=\"\",\"\",IF(R$4>$A10,IF($B10=VLOOKUP(R$4,$A$5:$C$24,2,0),\"\",(VLOOKUP(R$4,$A$5:O$24,3,0)-$C10)/(VLOOKUP(R$4,$A$5:O$24,2,0)-$B10)),\"\"))","v":""},{"$f":"IF(S9=\"\",\"\",IF(S$4>$A10,IF($B10=VLOOKUP(S$4,$A$5:$C$24,2,0),\"\",(VLOOKUP(S$4,$A$5:P$24,3,0)-$C10)/(VLOOKUP(S$4,$A$5:P$24,2,0)-$B10)),\"\"))","v":""},{"$f":"IF(T9=\"\",\"\",IF(T$4>$A10,IF($B10=VLOOKUP(T$4,$A$5:$C$24,2,0),\"\",(VLOOKUP(T$4,$A$5:Q$24,3,0)-$C10)/(VLOOKUP(T$4,$A$5:Q$24,2,0)-$B10)),\"\"))","v":""},{"$f":"IF(U9=\"\",\"\",IF(U$4>$A10,IF($B10=VLOOKUP(U$4,$A$5:$C$24,2,0),\"\",(VLOOKUP(U$4,$A$5:R$24,3,0)-$C10)/(VLOOKUP(U$4,$A$5:R$24,2,0)-$B10)),\"\"))","v":""},{"$f":"IF(V9=\"\",\"\",IF(V$4>$A10,IF($B10=VLOOKUP(V$4,$A$5:$C$24,2,0),\"\",(VLOOKUP(V$4,$A$5:S$24,3,0)-$C10)/(VLOOKUP(V$4,$A$5:S$24,2,0)-$B10)),\"\"))","v":""},{"$f":"IF(W9=\"\",\"\",IF(W$4>$A10,IF($B10=VLOOKUP(W$4,$A$5:$C$24,2,0),\"\",(VLOOKUP(W$4,$A$5:T$24,3,0)-$C10)/(VLOOKUP(W$4,$A$5:T$24,2,0)-$B10)),\"\"))","v":""},{"$f":"IF(X9=\"\",\"\",IF(X$4>$A10,IF($B10=VLOOKUP(X$4,$A$5:$C$24,2,0),\"\",(VLOOKUP(X$4,$A$5:U$24,3,0)-$C10)/(VLOOKUP(X$4,$A$5:U$24,2,0)-$B10)),\"\"))","v":""},1,0]
[7,43009,0.3,null,{"$f":"COUNTIF(C12:C$24,\">\"&C11)-COUNTIF(C12:C$24,\"<\"&C11)","v":2},{"$f":"IF(F10=\"\",\"\",IF(F$4>$A11,IF($B11=VLOOKUP(F$4,$A$5:$C$24,2,0),\"\",(VLOOKUP(F$4,$A$5:C$24,3,0)-$C11)/(VLOOKUP(F$4,$A$5:C$24,2,0)-$B11)),\"\"))","v":""},{"$f":"IF(G10=\"\",\"\",IF(G$4>$A11,IF($B11=VLOOKUP(G$4,$A$5:$C$24,2,0),\"\",(VLOOKUP(G$4,$A$5:D$24,3,0)-$C11)/(VLOOKUP(G$4,$A$5:D$24,2,0)-$B11)),\"\"))","v":""},{"$f":"IF(H10=\"\",\"\",IF(H$4>$A11,IF($B11=VLOOKUP(H$4,$A$5:$C$24,2,0),\"\",(VLOOKUP(H$4,$A$5:E$24,3,0)-$C11)/(VLOOKUP(H$4,$A$5:E$24,2,0)-$B11)),\"\"))","v":""},{"$f":"IF(I10=\"\",\"\",IF(I$4>$A11,IF($B11=VLOOKUP(I$4,$A$5:$C$24,2,0),\"\",(VLOOKUP(I$4,$A$5:F$24,3,0)-$C11)/(VLOOKUP(I$4,$A$5:F$24,2,0)-$B11)),\"\"))","v":""},{"$f":"IF(J10=\"\",\"\",IF(J$4>$A11,IF($B11=VLOOKUP(J$4,$A$5:$C$24,2,0),\"\",(VLOOKUP(J$4,$A$5:G$24,3,0)-$C11)/(VLOOKUP(J$4,$A$5:G$24,2,0)-$B11)),\"\"))","v":""},{"$f":"IF(K10=\"\",\"\",IF(K$4>$A11,IF($B11=VLOOKUP(K$4,$A$5:$C$24,2,0),\"\",(VLOOKUP(K$4,$A$5:H$24,3,0)-$C11)/(VLOOKUP(K$4,$A$5:H$24,2,0)-$B11)),\"\"))","v":""},{"$f":"IF(L10=\"\",\"\",IF(L$4>$A11,IF($B11=VLOOKUP(L$4,$A$5:$C$24,2,0),\"\",(VLOOKUP(L$4,$A$5:I$24,3,0)-$C11)/(VLOOKUP(L$4,$A$5:I$24,2,0)-$B11)),\"\"))","v":""},{"$f":"IF(M10=\"\",\"\",IF(M$4>$A11,IF($B11=VLOOKUP(M$4,$A$5:$C$24,2,0),\"\",(VLOOKUP(M$4,$A$5:J$24,3,0)-$C11)/(VLOOKUP(M$4,$A$5:J$24,2,0)-$B11)),\"\"))","v":1.1475409836065573E-2},{"$f":"IF(N10=\"\",\"\",IF(N$4>$A11,IF($B11=VLOOKUP(N$4,$A$5:$C$24,2,0),\"\",(VLOOKUP(N$4,$A$5:K$24,3,0)-$C11)/(VLOOKUP(N$4,$A$5:K$24,2,0)-$B11)),\"\"))","v":1.1475409836065573E-2},{"$f":"IF(O10=\"\",\"\",IF(O$4>$A11,IF($B11=VLOOKUP(O$4,$A$5:$C$24,2,0),\"\",(VLOOKUP(O$4,$A$5:L$24,3,0)-$C11)/(VLOOKUP(O$4,$A$5:L$24,2,0)-$B11)),\"\"))","v":""},{"$f":"IF(P10=\"\",\"\",IF(P$4>$A11,IF($B11=VLOOKUP(P$4,$A$5:$C$24,2,0),\"\",(VLOOKUP(P$4,$A$5:M$24,3,0)-$C11)/(VLOOKUP(P$4,$A$5:M$24,2,0)-$B11)),\"\"))","v":""},{"$f":"IF(Q10=\"\",\"\",IF(Q$4>$A11,IF($B11=VLOOKUP(Q$4,$A$5:$C$24,2,0),\"\",(VLOOKUP(Q$4,$A$5:N$24,3,0)-$C11)/(VLOOKUP(Q$4,$A$5:N$24,2,0)-$B11)),\"\"))","v":""},{"$f":"IF(R10=\"\",\"\",IF(R$4>$A11,IF($B11=VLOOKUP(R$4,$A$5:$C$24,2,0),\"\",(VLOOKUP(R$4,$A$5:O$24,3,0)-$C11)/(VLOOKUP(R$4,$A$5:O$24,2,0)-$B11)),\"\"))","v":""},{"$f":"IF(S10=\"\",\"\",IF(S$4>$A11,IF($B11=VLOOKUP(S$4,$A$5:$C$24,2,0),\"\",(VLOOKUP(S$4,$A$5:P$24,3,0)-$C11)/(VLOOKUP(S$4,$A$5:P$24,2,0)-$B11)),\"\"))","v":""},{"$f":"IF(T10=\"\",\"\",IF(T$4>$A11,IF($B11=VLOOKUP(T$4,$A$5:$C$24,2,0),\"\",(VLOOKUP(T$4,$A$5:Q$24,3,0)-$C11)/(VLOOKUP(T$4,$A$5:Q$24,2,0)-$B11)),\"\"))","v":""},{"$f":"IF(U10=\"\",\"\",IF(U$4>$A11,IF($B11=VLOOKUP(U$4,$A$5:$C$24,2,0),\"\",(VLOOKUP(U$4,$A$5:R$24,3,0)-$C11)/(VLOOKUP(U$4,$A$5:R$24,2,0)-$B11)),\"\"))","v":""},{"$f":"IF(V10=\"\",\"\",IF(V$4>$A11,IF($B11=VLOOKUP(V$4,$A$5:$C$24,2,0),\"\",(VLOOKUP(V$4,$A$5:S$24,3,0)-$C11)/(VLOOKUP(V$4,$A$5:S$24,2,0)-$B11)),\"\"))","v":""},{"$f":"IF(W10=\"\",\"\",IF(W$4>$A11,IF($B11=VLOOKUP(W$4,$A$5:$C$24,2,0),\"\",(VLOOKUP(W$4,$A$5:T$24,3,0)-$C11)/(VLOOKUP(W$4,$A$5:T$24,2,0)-$B11)),\"\"))","v":""},{"$f":"IF(X10=\"\",\"\",IF(X$4>$A11,IF($B11=VLOOKUP(X$4,$A$5:$C$24,2,0),\"\",(VLOOKUP(X$4,$A$5:U$24,3,0)-$C11)/(VLOOKUP(X$4,$A$5:U$24,2,0)-$B11)),\"\"))","v":""},2,9]
[8,43009,0.3,null,{"$f":"COUNTIF(C13:C$24,\">\"&C12)-COUNTIF(C13:C$24,\"<\"&C12)","v":2},{"$f":"IF(F11=\"\",\"\",IF(F$4>$A12,IF($B12=VLOOKUP(F$4,$A$5:$C$24,2,0),\"\",(VLOOKUP(F$4,$A$5:C$24,3,0)-$C12)/(VLOOKUP(F$4,$A$5:C$24,2,0)-$B12)),\"\"))","v":""},{"$f":"IF(G11=\"\",\"\",IF(G$4>$A12,IF($B12=VLOOKUP(G$4,$A$5:$C$24,2,0),\"\",(VLOOKUP(G$4,$A$5:D$24,3,0)-$C12)/(VLOOKUP(G$4,$A$5:D$24,2,0)-$B12)),\"\"))","v":""},{"$f":"IF(H11=\"\",\"\",IF(H$4>$A12,IF($B12=VLOOKUP(H$4,$A$5:$C$24,2,0),\"\",(VLOOKUP(H$4,$A$5:E$24,3,0)-$C12)/(VLOOKUP(H$4,$A$5:E$24,2,0)-$B12)),\"\"))","v":""},{"$f":"IF(I11=\"\",\"\",IF(I$4>$A12,IF($B12=VLOOKUP(I$4,$A$5:$C$24,2,0),\"\",(VLOOKUP(I$4,$A$5:F$24,3,0)-$C12)/(VLOOKUP(I$4,$A$5:F$24,2,0)-$B12)),\"\"))","v":""},{"$f":"IF(J11=\"\",\"\",IF(J$4>$A12,IF($B12=VLOOKUP(J$4,$A$5:$C$24,2,0),\"\",(VLOOKUP(J$4,$A$5:G$24,3,0)-$C12)/(VLOOKUP(J$4,$A$5:G$24,2,0)-$B12)),\"\"))","v":""},{"$f":"IF(K11=\"\",\"\",IF(K$4>$A12,IF($B12=VLOOKUP(K$4,$A$5:$C$24,2,0),\"\",(VLOOKUP(K$4,$A$5:H$24,3,0)-$C12)/(VLOOKUP(K$4,$A$5:H$24,2,0)-$B12)),\"\"))","v":""},{"$f":"IF(L11=\"\",\"\",IF(L$4>$A12,IF($B12=VLOOKUP(L$4,$A$5:$C$24,2,0),\"\",(VLOOKUP(L$4,$A$5:I$24,3,0)-$C12)/(VLOOKUP(L$4,$A$5:I$24,2,0)-$B12)),\"\"))","v":""},{"$f":"IF(M11=\"\",\"\",IF(M$4>$A12,IF($B12=VLOOKUP(M$4,$A$5:$C$24,2,0),\"\",(VLOOKUP(M$4,$A$5:J$24,3,0)-$C12)/(VLOOKUP(M$4,$A$5:J$24,2,0)-$B12)),\"\"))","v":1.1475409836065573E-2},{"$f":"IF(N11=\"\",\"\",IF(N$4>$A12,IF($B12=VLOOKUP(N$4,$A$5:$C$24,2,0),\"\",(VLOOKUP(N$4,$A$5:K$24,3,0)-$C12)/(VLOOKUP(N$4,$A$5:K$24,2,0)-$B12)),\"\"))","v":1.1475409836065573E-2},{"$f":"IF(O11=\"\",\"\",IF(O$4>$A12,IF($B12=VLOOKUP(O$4,$A$5:$C$24,2,0),\"\",(VLOOKUP(O$4,$A$5:L$24,3,0)-$C12)/(VLOOKUP(O$4,$A$5:L$24,2,0)-$B12)),\"\"))","v":""},{"$f":"IF(P11=\"\",\"\",IF(P$4>$A12,IF($B12=VLOOKUP(P$4,$A$5:$C$24,2,0),\"\",(VLOOKUP(P$4,$A$5:M$24,3,0)-$C12)/(VLOOKUP(P$4,$A$5:M$24,2,0)-$B12)),\"\"))","v":""},{"$f":"IF(Q11=\"\",\"\",IF(Q$4>$A12,IF($B12=VLOOKUP(Q$4,$A$5:$C$24,2,0),\"\",(VLOOKUP(Q$4,$A$5:N$24,3,0)-$C12)/(VLOOKUP(Q$4,$A$5:N$24,2,0)-$B12)),\"\"))","v":""},{"$f":"IF(R11=\"\",\"\",IF(R$4>$A12,IF($B12=VLOOKUP(R$4,$A$5:$C$24,2,0),\"\",(VLOOKUP(R$4,$A$5:O$24,3,0)-$C12)/(VLOOKUP(R$4,$A$5:O$24,2,0)-$B12)),\"\"))","v":""},{"$f":"IF(S11=\"\",\"\",IF(S$4>$A12,IF($B12=VLOOKUP(S$4,$A$5:$C$24,2,0),\"\",(VLOOKUP(S$4,$A$5:P$24,3,0)-$C12)/(VLOOKUP(S$4,$A$5:P$24,2,0)-$B12)),\"\"))","v":""},{"$f":"IF(T11=\"\",\"\",IF(T$4>$A12,IF($B12=VLOOKUP(T$4,$A$5:$C$24,2,0),\"\",(VLOOKUP(T$4,$A$5:Q$24,3,0)-$C12)/(VLOOKUP(T$4,$A$5:Q$24,2,0)-$B12)),\"\"))","v":""},{"$f":"IF(U11=\"\",\"\",IF(U$4>$A12,IF($B12=VLOOKUP(U$4,$A$5:$C$24,2,0),\"\",(VLOOKUP(U$4,$A$5:R$24,3,0)-$C12)/(VLOOKUP(U$4,$A$5:R$24,2,0)-$B12)),\"\"))","v":""},{"$f":"IF(V11=\"\",\"\",IF(V$4>$A12,IF($B12=VLOOKUP(V$4,$A$5:$C$24,2,0),\"\",(VLOOKUP(V$4,$A$5:S$24,3,0)-$C12)/(VLOOKUP(V$4,$A$5:S$24,2,0)-$B12)),\"\"))","v":""},{"$f":"IF(W11=\"\",\"\",IF(W$4>$A12,IF($B12=VLOOKUP(W$4,$A$5:$C$24,2,0),\"\",(VLOOKUP(W$4,$A$5:T$24,3,0)-$C12)/(VLOOKUP(W$4,$A$5:T$24,2,0)-$B12)),\"\"))","v":""},{"$f":"IF(X11=\"\",\"\",IF(X$4>$A12,IF($B12=VLOOKUP(X$4,$A$5:$C$24,2,0),\"\",(VLOOKUP(X$4,$A$5:U$24,3,0)-$C12)/(VLOOKUP(X$4,$A$5:U$24,2,0)-$B12)),\"\"))","v":""},2,9]
[9,43070,1,null,{"$f":"COUNTIF(C14:C$24,\">\"&C13)-COUNTIF(C14:C$24,\"<\"&C13)","v":0},{"$f":"IF(F12=\"\",\"\",IF(F$4>$A13,IF($B13=VLOOKUP(F$4,$A$5:$C$24,2,0),\"\",(VLOOKUP(F$4,$A$5:C$24,3,0)-$C13)/(VLOOKUP(F$4,$A$5:C$24,2,0)-$B13)),\"\"))","v":""},{"$f":"IF(G12=\"\",\"\",IF(G$4>$A13,IF($B13=VLOOKUP(G$4,$A$5:$C$24,2,0),\"\",(VLOOKUP(G$4,$A$5:D$24,3,0)-$C13)/(VLOOKUP(G$4,$A$5:D$24,2,0)-$B13)),\"\"))","v":""},{"$f":"IF(H12=\"\",\"\",IF(H$4>$A13,IF($B13=VLOOKUP(H$4,$A$5:$C$24,2,0),\"\",(VLOOKUP(H$4,$A$5:E$24,3,0)-$C13)/(VLOOKUP(H$4,$A$5:E$24,2,0)-$B13)),\"\"))","v":""},{"$f":"IF(I12=\"\",\"\",IF(I$4>$A13,IF($B13=VLOOKUP(I$4,$A$5:$C$24,2,0),\"\",(VLOOKUP(I$4,$A$5:F$24,3,0)-$C13)/(VLOOKUP(I$4,$A$5:F$24,2,0)-$B13)),\"\"))","v":""},{"$f":"IF(J12=\"\",\"\",IF(J$4>$A13,IF($B13=VLOOKUP(J$4,$A$5:$C$24,2,0),\"\",(VLOOKUP(J$4,$A$5:G$24,3,0)-$C13)/(VLOOKUP(J$4,$A$5:G$24,2,0)-$B13)),\"\"))","v":""},{"$f":"IF(K12=\"\",\"\",IF(K$4>$A13,IF($B13=VLOOKUP(K$4,$A$5:$C$24,2,0),\"\",(VLOOKUP(K$4,$A$5:H$24,3,0)-$C13)/(VLOOKUP(K$4,$A$5:H$24,2,0)-$B13)),\"\"))","v":""},{"$f":"IF(L12=\"\",\"\",IF(L$4>$A13,IF($B13=VLOOKUP(L$4,$A$5:$C$24,2,0),\"\",(VLOOKUP(L$4,$A$5:I$24,3,0)-$C13)/(VLOOKUP(L$4,$A$5:I$24,2,0)-$B13)),\"\"))","v":""},{"$f":"IF(M12=\"\",\"\",IF(M$4>$A13,IF($B13=VLOOKUP(M$4,$A$5:$C$24,2,0),\"\",(VLOOKUP(M$4,$A$5:J$24,3,0)-$C13)/(VLOOKUP(M$4,$A$5:J$24,2,0)-$B13)),\"\"))","v":""},{"$f":"IF(N12=\"\",\"\",IF(N$4>$A13,IF($B13=VLOOKUP(N$4,$A$5:$C$24,2,0),\"\",(VLOOKUP(N$4,$A$5:K$24,3,0)-$C13)/(VLOOKUP(N$4,$A$5:K$24,2,0)-$B13)),\"\"))","v":""},{"$f":"IF(O12=\"\",\"\",IF(O$4>$A13,IF($B13=VLOOKUP(O$4,$A$5:$C$24,2,0),\"\",(VLOOKUP(O$4,$A$5:L$24,3,0)-$C13)/(VLOOKUP(O$4,$A$5:L$24,2,0)-$B13)),\"\"))","v":""},{"$f":"IF(P12=\"\",\"\",IF(P$4>$A13,IF($B13=VLOOKUP(P$4,$A$5:$C$24,2,0),\"\",(VLOOKUP(P$4,$A$5:M$24,3,0)-$C13)/(VLOOKUP(P$4,$A$5:M$24,2,0)-$B13)),\"\"))","v":""},{"$f":"IF(Q12=\"\",\"\",IF(Q$4>$A13,IF($B13=VLOOKUP(Q$4,$A$5:$C$24,2,0),\"\",(VLOOKUP(Q$4,$A$5:N$24,3,0)-$C13)/(VLOOKUP(Q$4,$A$5:N$24,2,0)-$B13)),\"\"))","v":""},{"$f":"IF(R12=\"\",\"\",IF(R$4>$A13,IF($B13=VLOOKUP(R$4,$A$5:$C$24,2,0),\"\",(VLOOKUP(R$4,$A$5:O$24,3,0)-$C13)/(VLOOKUP(R$4,$A$5:O$24,2,0)-$B13)),\"\"))","v":""},{"$f":"IF(S12=\"\",\"\",IF(S$4>$A13,IF($B13=VLOOKUP(S$4,$A$5:$C$24,2,0),\"\",(VLOOKUP(S$4,$A$5:P$24,3,0)-$C13)/(VLOOKUP(S$4,$A$5:P$24,2,0)-$B13)),\"\"))","v":""},{"$f":"IF(T12=\"\",\"\",IF(T$4>$A13,IF($B13=VLOOKUP(T$4,$A$5:$C$24,2,0),\"\",(VLOOKUP(T$4,$A$5:Q$24,3,0)-$C13)/(VLOOKUP(T$4,$A$5:Q$24,2,0)-$B13)),\"\"))","v":""},{"$f":"IF(U12=\"\",\"\",IF(U$4>$A13,IF($B13=VLOOKUP(U$4,$A$5:$C$24,2,0),\"\",(VLOOKUP(U$4,$A$5:R$24,3,0)-$C13)/(VLOOKUP(U$4,$A$5:R$24,2,0)-$B13)),\"\"))","v":""},{"$f":"IF(V12=\"\",\"\",IF(V$4>$A13,IF($B13=VLOOKUP(V$4,$A$5:$C$24,2,0),\"\",(VLOOKUP(V$4,$A$5:S$24,3,0)-$C13)/(VLOOKUP(V$4,$A$5:S$24,2,0)-$B13)),\"\"))","v":""},{"$f":"IF(W12=\"\",\"\",IF(W$4>$A13,IF($B13=VLOOKUP(W$4,$A$5:$C$24,2,0),\"\",(VLOOKUP(W$4,$A$5:T$24,3,0)-$C13)/(VLOOKUP(W$4,$A$5:T$24,2,0)-$B13)),\"\"))","v":""},{"$f":"IF(X12=\"\",\"\",IF(X$4>$A13,IF($B13=VLOOKUP(X$4,$A$5:$C$24,2,0),\"\",(VLOOKUP(X$4,$A$5:U$24,3,0)-$C13)/(VLOOKUP(X$4,$A$5:U$24,2,0)-$B13)),\"\"))","v":""},6,85]
[10,43070,1,null,{"$f":"COUNTIF(C15:C$24,\">\"&C14)-COUNTIF(C15:C$24,\"<\"&C14)","v":0},{"$f":"IF(F13=\"\",\"\",IF(F$4>$A14,IF($B14=VLOOKUP(F$4,$A$5:$C$24,2,0),\"\",(VLOOKUP(F$4,$A$5:C$24,3,0)-$C14)/(VLOOKUP(F$4,$A$5:C$24,2,0)-$B14)),\"\"))","v":""},{"$f":"IF(G13=\"\",\"\",IF(G$4>$A14,IF($B14=VLOOKUP(G$4,$A$5:$C$24,2,0),\"\",(VLOOKUP(G$4,$A$5:D$24,3,0)-$C14)/(VLOOKUP(G$4,$A$5:D$24,2,0)-$B14)),\"\"))","v":""},{"$f":"IF(H13=\"\",\"\",IF(H$4>$A14,IF($B14=VLOOKUP(H$4,$A$5:$C$24,2,0),\"\",(VLOOKUP(H$4,$A$5:E$24,3,0)-$C14)/(VLOOKUP(H$4,$A$5:E$24,2,0)-$B14)),\"\"))","v":""},{"$f":"IF(I13=\"\",\"\",IF(I$4>$A14,IF($B14=VLOOKUP(I$4,$A$5:$C$24,2,0),\"\",(VLOOKUP(I$4,$A$5:F$24,3,0)-$C14)/(VLOOKUP(I$4,$A$5:F$24,2,0)-$B14)),\"\"))","v":""},{"$f":"IF(J13=\"\",\"\",IF(J$4>$A14,IF($B14=VLOOKUP(J$4,$A$5:$C$24,2,0),\"\",(VLOOKUP(J$4,$A$5:G$24,3,0)-$C14)/(VLOOKUP(J$4,$A$5:G$24,2,0)-$B14)),\"\"))","v":""},{"$f":"IF(K13=\"\",\"\",IF(K$4>$A14,IF($B14=VLOOKUP(K$4,$A$5:$C$24,2,0),\"\",(VLOOKUP(K$4,$A$5:H$24,3,0)-$C14)/(VLOOKUP(K$4,$A$5:H$24,2,0)-$B14)),\"\"))","v":""},{"$f":"IF(L13=\"\",\"\",IF(L$4>$A14,IF($B14=VLOOKUP(L$4,$A$5:$C$24,2,0),\"\",(VLOOKUP(L$4,$A$5:I$24,3,0)-$C14)/(VLOOKUP(L$4,$A$5:I$24,2,0)-$B14)),\"\"))","v":""},{"$f":"IF(M13=\"\",\"\",IF(M$4>$A14,IF($B14=VLOOKUP(M$4,$A$5:$C$24,2,0),\"\",(VLOOKUP(M$4,$A$5:J$24,3,0)-$C14)/(VLOOKUP(M$4,$A$5:J$24,2,0)-$B14)),\"\"))","v":""},{"$f":"IF(N13=\"\",\"\",IF(N$4>$A14,IF($B14=VLOOKUP(N$4,$A$5:$C$24,2,0),\"\",(VLOOKUP(N$4,$A$5:K$24,3,0)-$C14)/(VLOOKUP(N$4,$A$5:K$24,2,0)-$B14)),\"\"))","v":""},{"$f":"IF(O13=\"\",\"\",IF(O$4>$A14,IF($B14=VLOOKUP(O$4,$A$5:$C$24,2,0),\"\",(VLOOKUP(O$4,$A$5:L$24,3,0)-$C14)/(VLOOKUP(O$4,$A$5:L$24,2,0)-$B14)),\"\"))","v":""},{"$f":"IF(P13=\"\",\"\",IF(P$4>$A14,IF($B14=VLOOKUP(P$4,$A$5:$C$24,2,0),\"\",(VLOOKUP(P$4,$A$5:M$24,3,0)-$C14)/(VLOOKUP(P$4,$A$5:M$24,2,0)-$B14)),\"\"))","v":""},{"$f":"IF(Q13=\"\",\"\",IF(Q$4>$A14,IF($B14=VLOOKUP(Q$4,$A$5:$C$24,2,0),\"\",(VLOOKUP(Q$4,$A$5:N$24,3,0)-$C14)/(VLOOKUP(Q$4,$A$5:N$24,2,0)-$B14)),\"\"))","v":""},{"$f":"IF(R13=\"\",\"\",IF(R$4>$A14,IF($B14=VLOOKUP(R$4,$A$5:$C$24,2,0),\"\",(VLOOKUP(R$4,$A$5:O$24,3,0)-$C14)/(VLOOKUP(R$4,$A$5:O$24,2,0)-$B14)),\"\"))","v":""},{"$f":"IF(S13=\"\",\"\",IF(S$4>$A14,IF($B14=VLOOKUP(S$4,$A$5:$C$24,2,0),\"\",(VLOOKUP(S$4,$A$5:P$24,3,0)-$C14)/(VLOOKUP(S$4,$A$5:P$24,2,0)-$B14)),\"\"))","v":""},{"$f":"IF(T13=\"\",\"\",IF(T$4>$A14,IF($B14=VLOOKUP(T$4,$A$5:$C$24,2,0),\"\",(VLOOKUP(T$4,$A$5:Q$24,3,0)-$C14)/(VLOOKUP(T$4,$A$5:Q$24,2,0)-$B14)),\"\"))","v":""},{"$f":"IF(U13=\"\",\"\",IF(U$4>$A14,IF($B14=VLOOKUP(U$4,$A$5:$C$24,2,0),\"\",(VLOOKUP(U$4,$A$5:R$24,3,0)-$C14)/(VLOOKUP(U$4,$A$5:R$24,2,0)-$B14)),\"\"))","v":""},{"$f":"IF(V13=\"\",\"\",IF(V$4>$A14,IF($B14=VLOOKUP(V$4,$A$5:$C$24,2,0),\"\",(VLOOKUP(V$4,$A$5:S$24,3,0)-$C14)/(VLOOKUP(V$4,$A$5:S$24,2,0)-$B14)),\"\"))","v":""},{"$f":"IF(W13=\"\",\"\",IF(W$4>$A14,IF($B14=VLOOKUP(W$4,$A$5:$C$24,2,0),\"\",(VLOOKUP(W$4,$A$5:T$24,3,0)-$C14)/(VLOOKUP(W$4,$A$5:T$24,2,0)-$B14)),\"\"))","v":""},{"$f":"IF(X13=\"\",\"\",IF(X$4>$A14,IF($B14=VLOOKUP(X$4,$A$5:$C$24,2,0),\"\",(VLOOKUP(X$4,$A$5:U$24,3,0)-$C14)/(VLOOKUP(X$4,$A$5:U$24,2,0)-$B14)),\"\"))","v":""},6,85]
["",null,null,null,{"$f":"COUNTIF(C16:C$24,\">\"&C15)-COUNTIF(C16:C$24,\"<\"&C15)","v":0},{"$f":"IF(F14=\"\",\"\",IF(F$4>$A15,IF($B15=VLOOKUP(F$4,$A$5:$C$24,2,0),\"\",(VLOOKUP(F$4,$A$5:C$24,3,0)-$C15)/(VLOOKUP(F$4,$A$5:C$24,2,0)-$B15)),\"\"))","v":""},{"$f":"IF(G14=\"\",\"\",IF(G$4>$A15,IF($B15=VLOOKUP(G$4,$A$5:$C$24,2,0),\"\",(VLOOKUP(G$4,$A$5:D$24,3,0)-$C15)/(VLOOKUP(G$4,$A$5:D$24,2,0)-$B15)),\"\"))","v":""},{"$f":"IF(H14=\"\",\"\",IF(H$4>$A15,IF($B15=VLOOKUP(H$4,$A$5:$C$24,2,0),\"\",(VLOOKUP(H$4,$A$5:E$24,3,0)-$C15)/(VLOOKUP(H$4,$A$5:E$24,2,0)-$B15)),\"\"))","v":""},{"$f":"IF(I14=\"\",\"\",IF(I$4>$A15,IF($B15=VLOOKUP(I$4,$A$5:$C$24,2,0),\"\",(VLOOKUP(I$4,$A$5:F$24,3,0)-$C15)/(VLOOKUP(I$4,$A$5:F$24,2,0)-$B15)),\"\"))","v":""},{"$f":"IF(J14=\"\",\"\",IF(J$4>$A15,IF($B15=VLOOKUP(J$4,$A$5:$C$24,2,0),\"\",(VLOOKUP(J$4,$A$5:G$24,3,0)-$C15)/(VLOOKUP(J$4,$A$5:G$24,2,0)-$B15)),\"\"))","v":""},{"$f":"IF(K14=\"\",\"\",IF(K$4>$A15,IF($B15=VLOOKUP(K$4,$A$5:$C$24,2,0),\"\",(VLOOKUP(K$4,$A$5:H$24,3,0)-$C15)/(VLOOKUP(K$4,$A$5:H$24,2,0)-$B15)),\"\"))","v":""},{"$f":"IF(L14=\"\",\"\",IF(L$4>$A15,IF($B15=VLOOKUP(L$4,$A$5:$C$24,2,0),\"\",(VLOOKUP(L$4,$A$5:I$24,3,0)-$C15)/(VLOOKUP(L$4,$A$5:I$24,2,0)-$B15)),\"\"))","v":""},{"$f":"IF(M14=\"\",\"\",IF(M$4>$A15,IF($B15=VLOOKUP(M$4,$A$5:$C$24,2,0),\"\",(VLOOKUP(M$4,$A$5:J$24,3,0)-$C15)/(VLOOKUP(M$4,$A$5:J$24,2,0)-$B15)),\"\"))","v":""},{"$f":"IF(N14=\"\",\"\",IF(N$4>$A15,IF($B15=VLOOKUP(N$4,$A$5:$C$24,2,0),\"\",(VLOOKUP(N$4,$A$5:K$24,3,0)-$C15)/(VLOOKUP(N$4,$A$5:K$24,2,0)-$B15)),\"\"))","v":""},{"$f":"IF(O14=\"\",\"\",IF(O$4>$A15,IF($B15=VLOOKUP(O$4,$A$5:$C$24,2,0),\"\",(VLOOKUP(O$4,$A$5:L$24,3,0)-$C15)/(VLOOKUP(O$4,$A$5:L$24,2,0)-$B15)),\"\"))","v":""},{"$f":"IF(P14=\"\",\"\",IF(P$4>$A15,IF($B15=VLOOKUP(P$4,$A$5:$C$24,2,0),\"\",(VLOOKUP(P$4,$A$5:M$24,3,0)-$C15)/(VLOOKUP(P$4,$A$5:M$24,2,0)-$B15)),\"\"))","v":""},{"$f":"IF(Q14=\"\",\"\",IF(Q$4>$A15,IF($B15=VLOOKUP(Q$4,$A$5:$C$24,2,0),\"\",(VLOOKUP(Q$4,$A$5:N$24,3,0)-$C15)/(VLOOKUP(Q$4,$A$5:N$24,2,0)-$B15)),\"\"))","v":""},{"$f":"IF(R14=\"\",\"\",IF(R$4>$A15,IF($B15=VLOOKUP(R$4,$A$5:$C$24,2,0),\"\",(VLOOKUP(R$4,$A$5:O$24,3,0)-$C15)/(VLOOKUP(R$4,$A$5:O$24,2,0)-$B15)),\"\"))","v":""},{"$f":"IF(S14=\"\",\"\",IF(S$4>$A15,IF($B15=VLOOKUP(S$4,$A$5:$C$24,2,0),\"\",(VLOOKUP(S$4,$A$5:P$24,3,0)-$C15)/(VLOOKUP(S$4,$A$5:P$24,2,0)-$B15)),\"\"))","v":""},{"$f":"IF(T14=\"\",\"\",IF(T$4>$A15,IF($B15=VLOOKUP(T$4,$A$5:$C$24,2,0),\"\",(VLOOKUP(T$4,$A$5:Q$24,3,0)-$C15)/(VLOOKUP(T$4,$A$5:Q$24,2,0)-$B15)),\"\"))","v":""},{"$f":"IF(U14=\"\",\"\",IF(U$4>$A15,IF($B15=VLOOKUP(U$4,$A$5:$C$24,2,0),\"\",(VLOOKUP(U$4,$A$5:R$24,3,0)-$C15)/(VLOOKUP(U$4,$A$5:R$24,2,0)-$B15)),\"\"))","v":""},{"$f":"IF(V14=\"\",\"\",IF(V$4>$A15,IF($B15=VLOOKUP(V$4,$A$5:$C$24,2,0),\"\",(VLOOKUP(V$4,$A$5:S$24,3,0)-$C15)/(VLOOKUP(V$4,$A$5:S$24,2,0)-$B15)),\"\"))","v":""},{"$f":"IF(W14=\"\",\"\",IF(W$4>$A15,IF($B15=VLOOKUP(W$4,$A$5:$C$24,2,0),\"\",(VLOOKUP(W$4,$A$5:T$24,3,0)-$C15)/(VLOOKUP(W$4,$A$5:T$24,2,0)-$B15)),\"\"))","v":""},{"$f":"IF(X14=\"\",\"\",IF(X$4>$A15,IF($B15=VLOOKUP(X$4,$A$5:$C$24,2,0),\"\",(VLOOKUP(X$4,$A$5:U$24,3,0)-$C15)/(VLOOKUP(X$4,$A$5:U$24,2,0)-$B15)),\"\"))","v":""},"",""]
["",null,null,null,{"$f":"COUNTIF(C17:C$24,\">\"&C16)-COUNTIF(C17:C$24,\"<\"&C16)","v":0},{"$f":"IF(F15=\"\",\"\",IF(F$4>$A16,IF($B16=VLOOKUP(F$4,$A$5:$C$24,2,0),\"\",(VLOOKUP(F$4,$A$5:C$24,3,0)-$C16)/(VLOOKUP(F$4,$A$5:C$24,2,0)-$B16)),\"\"))","v":""},{"$f":"IF(G15=\"\",\"\",IF(G$4>$A16,IF($B16=VLOOKUP(G$4,$A$5:$C$24,2,0),\"\",(VLOOKUP(G$4,$A$5:D$24,3,0)-$C16)/(VLOOKUP(G$4,$A$5:D$24,2,0)-$B16)),\"\"))","v":""},{"$f":"IF(H15=\"\",\"\",IF(H$4>$A16,IF($B16=VLOOKUP(H$4,$A$5:$C$24,2,0),\"\",(VLOOKUP(H$4,$A$5:E$24,3,0)-$C16)/(VLOOKUP(H$4,$A$5:E$24,2,0)-$B16)),\"\"))","v":""},{"$f":"IF(I15=\"\",\"\",IF(I$4>$A16,IF($B16=VLOOKUP(I$4,$A$5:$C$24,2,0),\"\",(VLOOKUP(I$4,$A$5:F$24,3,0)-$C16)/(VLOOKUP(I$4,$A$5:F$24,2,0)-$B16)),\"\"))","v":""},{"$f":"IF(J15=\"\",\"\",IF(J$4>$A16,IF($B16=VLOOKUP(J$4,$A$5:$C$24,2,0),\"\",(VLOOKUP(J$4,$A$5:G$24,3,0)-$C16)/(VLOOKUP(J$4,$A$5:G$24,2,0)-$B16)),\"\"))","v":""},{"$f":"IF(K15=\"\",\"\",IF(K$4>$A16,IF($B16=VLOOKUP(K$4,$A$5:$C$24,2,0),\"\",(VLOOKUP(K$4,$A$5:H$24,3,0)-$C16)/(VLOOKUP(K$4,$A$5:H$24,2,0)-$B16)),\"\"))","v":""},{"$f":"IF(L15=\"\",\"\",IF(L$4>$A16,IF($B16=VLOOKUP(L$4,$A$5:$C$24,2,0),\"\",(VLOOKUP(L$4,$A$5:I$24,3,0)-$C16)/(VLOOKUP(L$4,$A$5:I$24,2,0)-$B16)),\"\"))","v":""},{"$f":"IF(M15=\"\",\"\",IF(M$4>$A16,IF($B16=VLOOKUP(M$4,$A$5:$C$24,2,0),\"\",(VLOOKUP(M$4,$A$5:J$24,3,0)-$C16)/(VLOOKUP(M$4,$A$5:J$24,2,0)-$B16)),\"\"))","v":""},{"$f":"IF(N15=\"\",\"\",IF(N$4>$A16,IF($B16=VLOOKUP(N$4,$A$5:$C$24,2,0),\"\",(VLOOKUP(N$4,$A$5:K$24,3,0)-$C16)/(VLOOKUP(N$4,$A$5:K$24,2,0)-$B16)),\"\"))","v":""},{"$f":"IF(O15=\"\",\"\",IF(O$4>$A16,IF($B16=VLOOKUP(O$4,$A$5:$C$24,2,0),\"\",(VLOOKUP(O$4,$A$5:L$24,3,0)-$C16)/(VLOOKUP(O$4,$A$5:L$24,2,0)-$B16)),\"\"))","v":""},{"$f":"IF(P15=\"\",\"\",IF(P$4>$A16,IF($B16=VLOOKUP(P$4,$A$5:$C$24,2,0),\"\",(VLOOKUP(P$4,$A$5:M$24,3,0)-$C16)/(VLOOKUP(P$4,$A$5:M$24,2,0)-$B16)),\"\"))","v":""},{"$f":"IF(Q15=\"\",\"\",IF(Q$4>$A16,IF($B16=VLOOKUP(Q$4,$A$5:$C$24,2,0),\"\",(VLOOKUP(Q$4,$A$5:N$24,3,0)-$C16)/(VLOOKUP(Q$4,$A$5:N$24,2,0)-$B16)),\"\"))","v":""},{"$f":"IF(R15=\"\",\"\",IF(R$4>$A16,IF($B16=VLOOKUP(R$4,$A$5:$C$24,2,0),\"\",(VLOOKUP(R$4,$A$5:O$24,3,0)-$C16)/(VLOOKUP(R$4,$A$5:O$24,2,0)-$B16)),\"\"))","v":""},{"$f":"IF(S15=\"\",\"\",IF(S$4>$A16,IF($B16=VLOOKUP(S$4,$A$5:$C$24,2,0),\"\",(VLOOKUP(S$4,$A$5:P$24,3,0)-$C16)/(VLOOKUP(S$4,$A$5:P$24,2,0)-$B16)),\"\"))","v":""},{"$f":"IF(T15=\"\",\"\",IF(T$4>$A16,IF($B16=VLOOKUP(T$4,$A$5:$C$24,2,0),\"\",(VLOOKUP(T$4,$A$5:Q$24,3,0)-$C16)/(VLOOKUP(T$4,$A$5:Q$24,2,0)-$B16)),\"\"))","v":""},{"$f":"IF(U15=\"\",\"\",IF(U$4>$A16,IF($B16=VLOOKUP(U$4,$A$5:$C$24,2,0),\"\",(VLOOKUP(U$4,$A$5:R$24,3,0)-$C16)/(VLOOKUP(U$4,$A$5:R$24,2,0)-$B16)),\"\"))","v":""},{"$f":"IF(V15=\"\",\"\",IF(V$4>$A16,IF($B16=VLOOKUP(V$4,$A$5:$C$24,2,0),\"\",(VLOOKUP(V$4,$A$5:S$24,3,0)-$C16)/(VLOOKUP(V$4,$A$5:S$24,2,0)-$B16)),\"\"))","v":""},{"$f":"IF(W15=\"\",\"\",IF(W$4>$A16,IF($B16=VLOOKUP(W$4,$A$5:$C$24,2,0),\"\",(VLOOKUP(W$4,$A$5:T$24,3,0)-$C16)/(VLOOKUP(W$4,$A$5:T$24,2,0)-$B16)),\"\"))","v":""},{"$f":"IF(X15=\"\",\"\",IF(X$4>$A16,IF($B16=VLOOKUP(X$4,$A$5:$C$24,2,0),\"\",(VLOOKUP(X$4,$A$5:U$24,3,0)-$C16)/(VLOOKUP(X$4,$A$5:U$24,2,0)-$B16)),\"\"))","v":""},"",""]
["",null,null,null,{"$f":"COUNTIF(C18:C$24,\">\"&C17)-COUNTIF(C18:C$24,\"<\"&C17)","v":0},{"$f":"IF(F16=\"\",\"\",IF(F$4>$A17,IF($B17=VLOOKUP(F$4,$A$5:$C$24,2,0),\"\",(VLOOKUP(F$4,$A$5:C$24,3,0)-$C17)/(VLOOKUP(F$4,$A$5:C$24,2,0)-$B17)),\"\"))","v":""},{"$f":"IF(G16=\"\",\"\",IF(G$4>$A17,IF($B17=VLOOKUP(G$4,$A$5:$C$24,2,0),\"\",(VLOOKUP(G$4,$A$5:D$24,3,0)-$C17)/(VLOOKUP(G$4,$A$5:D$24,2,0)-$B17)),\"\"))","v":""},{"$f":"IF(H16=\"\",\"\",IF(H$4>$A17,IF($B17=VLOOKUP(H$4,$A$5:$C$24,2,0),\"\",(VLOOKUP(H$4,$A$5:E$24,3,0)-$C17)/(VLOOKUP(H$4,$A$5:E$24,2,0)-$B17)),\"\"))","v":""},{"$f":"IF(I16=\"\",\"\",IF(I$4>$A17,IF($B17=VLOOKUP(I$4,$A$5:$C$24,2,0),\"\",(VLOOKUP(I$4,$A$5:F$24,3,0)-$C17)/(VLOOKUP(I$4,$A$5:F$24,2,0)-$B17)),\"\"))","v":""},{"$f":"IF(J16=\"\",\"\",IF(J$4>$A17,IF($B17=VLOOKUP(J$4,$A$5:$C$24,2,0),\"\",(VLOOKUP(J$4,$A$5:G$24,3,0)-$C17)/(VLOOKUP(J$4,$A$5:G$24,2,0)-$B17)),\"\"))","v":""},{"$f":"IF(K16=\"\",\"\",IF(K$4>$A17,IF($B17=VLOOKUP(K$4,$A$5:$C$24,2,0),\"\",(VLOOKUP(K$4,$A$5:H$24,3,0)-$C17)/(VLOOKUP(K$4,$A$5:H$24,2,0)-$B17)),\"\"))","v":""},{"$f":"IF(L16=\"\",\"\",IF(L$4>$A17,IF($B17=VLOOKUP(L$4,$A$5:$C$24,2,0),\"\",(VLOOKUP(L$4,$A$5:I$24,3,0)-$C17)/(VLOOKUP(L$4,$A$5:I$24,2,0)-$B17)),\"\"))","v":""},{"$f":"IF(M16=\"\",\"\",IF(M$4>$A17,IF($B17=VLOOKUP(M$4,$A$5:$C$24,2,0),\"\",(VLOOKUP(M$4,$A$5:J$24,3,0)-$C17)/(VLOOKUP(M$4,$A$5:J$24,2,0)-$B17)),\"\"))","v":""},{"$f":"IF(N16=\"\",\"\",IF(N$4>$A17,IF($B17=VLOOKUP(N$4,$A$5:$C$24,2,0),\"\",(VLOOKUP(N$4,$A$5:K$24,3,0)-$C17)/(VLOOKUP(N$4,$A$5:K$24,2,0)-$B17)),\"\"))","v":""},{"$f":"IF(O16=\"\",\"\",IF(O$4>$A17,IF($B17=VLOOKUP(O$4,$A$5:$C$24,2,0),\"\",(VLOOKUP(O$4,$A$5:L$24,3,0)-$C17)/(VLOOKUP(O$4,$A$5:L$24,2,0)-$B17)),\"\"))","v":""},{"$f":"IF(P16=\"\",\"\",IF(P$4>$A17,IF($B17=VLOOKUP(P$4,$A$5:$C$24,2,0),\"\",(VLOOKUP(P$4,$A$5:M$24,3,0)-$C17)/(VLOOKUP(P$4,$A$5:M$24,2,0)-$B17)),\"\"))","v":""},{"$f":"IF(Q16=\"\",\"\",IF(Q$4>$A17,IF($B17=VLOOKUP(Q$4,$A$5:$C$24,2,0),\"\",(VLOOKUP(Q$4,$A$5:N$24,3,0)-$C17)/(VLOOKUP(Q$4,$A$5:N$24,2,0)-$B17)),\"\"))","v":""},{"$f":"IF(R16=\"\",\"\",IF(R$4>$A17,IF($B17=VLOOKUP(R$4,$A$5:$C$24,2,0),\"\",(VLOOKUP(R$4,$A$5:O$24,3,0)-$C17)/(VLOOKUP(R$4,$A$5:O$24,2,0)-$B17)),\"\"))","v":""},{"$f":"IF(S16=\"\",\"\",IF(S$4>$A17,IF($B17=VLOOKUP(S$4,$A$5:$C$24,2,0),\"\",(VLOOKUP(S$4,$A$5:P$24,3,0)-$C17)/(VLOOKUP(S$4,$A$5:P$24,2,0)-$B17)),\"\"))","v":""},{"$f":"IF(T16=\"\",\"\",IF(T$4>$A17,IF($B17=VLOOKUP(T$4,$A$5:$C$24,2,0),\"\",(VLOOKUP(T$4,$A$5:Q$24,3,0)-$C17)/(VLOOKUP(T$4,$A$5:Q$24,2,0)-$B17)),\"\"))","v":""},{"$f":"IF(U16=\"\",\"\",IF(U$4>$A17,IF($B17=VLOOKUP(U$4,$A$5:$C$24,2,0),\"\",(VLOOKUP(U$4,$A$5:R$24,3,0)-$C17)/(VLOOKUP(U$4,$A$5:R$24,2,0)-$B17)),\"\"))","v":""},{"$f":"IF(V16=\"\",\"\",IF(V$4>$A17,IF($B17=VLOOKUP(V$4,$A$5:$C$24,2,0),\"\",(VLOOKUP(V$4,$A$5:S$24,3,0)-$C17)/(VLOOKUP(V$4,$A$5:S$24,2,0)-$B17)),\"\"))","v":""},{"$f":"IF(W16=\"\",\"\",IF(W$4>$A17,IF($B17=VLOOKUP(W$4,$A$5:$C$24,2,0),\"\",(VLOOKUP(W$4,$A$5:T$24,3,0)-$C17)/(VLOOKUP(W$4,$A$5:T$24,2,0)-$B17)),\"\"))","v":""},{"$f":"IF(X16=\"\",\"\",IF(X$4>$A17,IF($B17=VLOOKUP(X$4,$A$5:$C$24,2,0),\"\",(VLOOKUP(X$4,$A$5:U$24,3,0)-$C17)/(VLOOKUP(X$4,$A$5:U$24,2,0)-$B17)),\"\"))","v":""},"",""]
["",null,null,null,{"$f":"COUNTIF(C19:C$24,\">\"&C18)-COUNTIF(C19:C$24,\"<\"&C18)","v":0},{"$f":"IF(F17=\"\",\"\",IF(F$4>$A18,IF($B18=VLOOKUP(F$4,$A$5:$C$24,2,0),\"\",(VLOOKUP(F$4,$A$5:C$24,3,0)-$C18)/(VLOOKUP(F$4,$A$5:C$24,2,0)-$B18)),\"\"))","v":""},{"$f":"IF(G17=\"\",\"\",IF(G$4>$A18,IF($B18=VLOOKUP(G$4,$A$5:$C$24,2,0),\"\",(VLOOKUP(G$4,$A$5:D$24,3,0)-$C18)/(VLOOKUP(G$4,$A$5:D$24,2,0)-$B18)),\"\"))","v":""},{"$f":"IF(H17=\"\",\"\",IF(H$4>$A18,IF($B18=VLOOKUP(H$4,$A$5:$C$24,2,0),\"\",(VLOOKUP(H$4,$A$5:E$24,3,0)-$C18)/(VLOOKUP(H$4,$A$5:E$24,2,0)-$B18)),\"\"))","v":""},{"$f":"IF(I17=\"\",\"\",IF(I$4>$A18,IF($B18=VLOOKUP(I$4,$A$5:$C$24,2,0),\"\",(VLOOKUP(I$4,$A$5:F$24,3,0)-$C18)/(VLOOKUP(I$4,$A$5:F$24,2,0)-$B18)),\"\"))","v":""},{"$f":"IF(J17=\"\",\"\",IF(J$4>$A18,IF($B18=VLOOKUP(J$4,$A$5:$C$24,2,0),\"\",(VLOOKUP(J$4,$A$5:G$24,3,0)-$C18)/(VLOOKUP(J$4,$A$5:G$24,2,0)-$B18)),\"\"))","v":""},{"$f":"IF(K17=\"\",\"\",IF(K$4>$A18,IF($B18=VLOOKUP(K$4,$A$5:$C$24,2,0),\"\",(VLOOKUP(K$4,$A$5:H$24,3,0)-$C18)/(VLOOKUP(K$4,$A$5:H$24,2,0)-$B18)),\"\"))","v":""},{"$f":"IF(L17=\"\",\"\",IF(L$4>$A18,IF($B18=VLOOKUP(L$4,$A$5:$C$24,2,0),\"\",(VLOOKUP(L$4,$A$5:I$24,3,0)-$C18)/(VLOOKUP(L$4,$A$5:I$24,2,0)-$B18)),\"\"))","v":""},{"$f":"IF(M17=\"\",\"\",IF(M$4>$A18,IF($B18=VLOOKUP(M$4,$A$5:$C$24,2,0),\"\",(VLOOKUP(M$4,$A$5:J$24,3,0)-$C18)/(VLOOKUP(M$4,$A$5:J$24,2,0)-$B18)),\"\"))","v":""},{"$f":"IF(N17=\"\",\"\",IF(N$4>$A18,IF($B18=VLOOKUP(N$4,$A$5:$C$24,2,0),\"\",(VLOOKUP(N$4,$A$5:K$24,3,0)-$C18)/(VLOOKUP(N$4,$A$5:K$24,2,0)-$B18)),\"\"))","v":""},{"$f":"IF(O17=\"\",\"\",IF(O$4>$A18,IF($B18=VLOOKUP(O$4,$A$5:$C$24,2,0),\"\",(VLOOKUP(O$4,$A$5:L$24,3,0)-$C18)/(VLOOKUP(O$4,$A$5:L$24,2,0)-$B18)),\"\"))","v":""},{"$f":"IF(P17=\"\",\"\",IF(P$4>$A18,IF($B18=VLOOKUP(P$4,$A$5:$C$24,2,0),\"\",(VLOOKUP(P$4,$A$5:M$24,3,0)-$C18)/(VLOOKUP(P$4,$A$5:M$24,2,0)-$B18)),\"\"))","v":""},{"$f":"IF(Q17=\"\",\"\",IF(Q$4>$A18,IF($B18=VLOOKUP(Q$4,$A$5:$C$24,2,0),\"\",(VLOOKUP(Q$4,$A$5:N$24,3,0)-$C18)/(VLOOKUP(Q$4,$A$5:N$24,2,0)-$B18)),\"\"))","v":""},{"$f":"IF(R17=\"\",\"\",IF(R$4>$A18,IF($B18=VLOOKUP(R$4,$A$5:$C$24,2,0),\"\",(VLOOKUP(R$4,$A$5:O$24,3,0)-$C18)/(VLOOKUP(R$4,$A$5:O$24,2,0)-$B18)),\"\"))","v":""},{"$f":"IF(S17=\"\",\"\",IF(S$4>$A18,IF($B18=VLOOKUP(S$4,$A$5:$C$24,2,0),\"\",(VLOOKUP(S$4,$A$5:P$24,3,0)-$C18)/(VLOOKUP(S$4,$A$5:P$24,2,0)-$B18)),\"\"))","v":""},{"$f":"IF(T17=\"\",\"\",IF(T$4>$A18,IF($B18=VLOOKUP(T$4,$A$5:$C$24,2,0),\"\",(VLOOKUP(T$4,$A$5:Q$24,3,0)-$C18)/(VLOOKUP(T$4,$A$5:Q$24,2,0)-$B18)),\"\"))","v":""},{"$f":"IF(U17=\"\",\"\",IF(U$4>$A18,IF($B18=VLOOKUP(U$4,$A$5:$C$24,2,0),\"\",(VLOOKUP(U$4,$A$5:R$24,3,0)-$C18)/(VLOOKUP(U$4,$A$5:R$24,2,0)-$B18)),\"\"))","v":""},{"$f":"IF(V17=\"\",\"\",IF(V$4>$A18,IF($B18=VLOOKUP(V$4,$A$5:$C$24,2,0),\"\",(VLOOKUP(V$4,$A$5:S$24,3,0)-$C18)/(VLOOKUP(V$4,$A$5:S$24,2,0)-$B18)),\"\"))","v":""},{"$f":"IF(W17=\"\",\"\",IF(W$4>$A18,IF($B18=VLOOKUP(W$4,$A$5:$C$24,2,0),\"\",(VLOOKUP(W$4,$A$5:T$24,3,0)-$C18)/(VLOOKUP(W$4,$A$5:T$24,2,0)-$B18)),\"\"))","v":""},{"$f":"IF(X17=\"\",\"\",IF(X$4>$A18,IF($B18=VLOOKUP(X$4,$A$5:$C$24,2,0),\"\",(VLOOKUP(X$4,$A$5:U$24,3,0)-$C18)/(VLOOKUP(X$4,$A$5:U$24,2,0)-$B18)),\"\"))","v":""},"",""]
["",null,null,null,{"$f":"COUNTIF(C20:C$24,\">\"&C19)-COUNTIF(C20:C$24,\"<\"&C19)","v":0},{"$f":"IF(F18=\"\",\"\",IF(F$4>$A19,IF($B19=VLOOKUP(F$4,$A$5:$C$24,2,0),\"\",(VLOOKUP(F$4,$A$5:C$24,3,0)-$C19)/(VLOOKUP(F$4,$A$5:C$24,2,0)-$B19)),\"\"))","v":""},{"$f":"IF(G18=\"\",\"\",IF(G$4>$A19,IF($B19=VLOOKUP(G$4,$A$5:$C$24,2,0),\"\",(VLOOKUP(G$4,$A$5:D$24,3,0)-$C19)/(VLOOKUP(G$4,$A$5:D$24,2,0)-$B19)),\"\"))","v":""},{"$f":"IF(H18=\"\",\"\",IF(H$4>$A19,IF($B19=VLOOKUP(H$4,$A$5:$C$24,2,0),\"\",(VLOOKUP(H$4,$A$5:E$24,3,0)-$C19)/(VLOOKUP(H$4,$A$5:E$24,2,0)-$B19)),\"\"))","v":""},{"$f":"IF(I18=\"\",\"\",IF(I$4>$A19,IF($B19=VLOOKUP(I$4,$A$5:$C$24,2,0),\"\",(VLOOKUP(I$4,$A$5:F$24,3,0)-$C19)/(VLOOKUP(I$4,$A$5:F$24,2,0)-$B19)),\"\"))","v":""},{"$f":"IF(J18=\"\",\"\",IF(J$4>$A19,IF($B19=VLOOKUP(J$4,$A$5:$C$24,2,0),\"\",(VLOOKUP(J$4,$A$5:G$24,3,0)-$C19)/(VLOOKUP(J$4,$A$5:G$24,2,0)-$B19)),\"\"))","v":""},{"$f":"IF(K18=\"\",\"\",IF(K$4>$A19,IF($B19=VLOOKUP(K$4,$A$5:$C$24,2,0),\"\",(VLOOKUP(K$4,$A$5:H$24,3,0)-$C19)/(VLOOKUP(K$4,$A$5:H$24,2,0)-$B19)),\"\"))","v":""},{"$f":"IF(L18=\"\",\"\",IF(L$4>$A19,IF($B19=VLOOKUP(L$4,$A$5:$C$24,2,0),\"\",(VLOOKUP(L$4,$A$5:I$24,3,0)-$C19)/(VLOOKUP(L$4,$A$5:I$24,2,0)-$B19)),\"\"))","v":""},{"$f":"IF(M18=\"\",\"\",IF(M$4>$A19,IF($B19=VLOOKUP(M$4,$A$5:$C$24,2,0),\"\",(VLOOKUP(M$4,$A$5:J$24,3,0)-$C19)/(VLOOKUP(M$4,$A$5:J$24,2,0)-$B19)),\"\"))","v":""},{"$f":"IF(N18=\"\",\"\",IF(N$4>$A19,IF($B19=VLOOKUP(N$4,$A$5:$C$24,2,0),\"\",(VLOOKUP(N$4,$A$5:K$24,3,0)-$C19)/(VLOOKUP(N$4,$A$5:K$24,2,0)-$B19)),\"\"))","v":""},{"$f":"IF(O18=\"\",\"\",IF(O$4>$A19,IF($B19=VLOOKUP(O$4,$A$5:$C$24,2,0),\"\",(VLOOKUP(O$4,$A$5:L$24,3,0)-$C19)/(VLOOKUP(O$4,$A$5:L$24,2,0)-$B19)),\"\"))","v":""},{"$f":"IF(P18=\"\",\"\",IF(P$4>$A19,IF($B19=VLOOKUP(P$4,$A$5:$C$24,2,0),\"\",(VLOOKUP(P$4,$A$5:M$24,3,0)-$C19)/(VLOOKUP(P$4,$A$5:M$24,2,0)-$B19)),\"\"))","v":""},{"$f":"IF(Q18=\"\",\"\",IF(Q$4>$A19,IF($B19=VLOOKUP(Q$4,$A$5:$C$24,2,0),\"\",(VLOOKUP(Q$4,$A$5:N$24,3,0)-$C19)/(VLOOKUP(Q$4,$A$5:N$24,2,0)-$B19)),\"\"))","v":""},{"$f":"IF(R18=\"\",\"\",IF(R$4>$A19,IF($B19=VLOOKUP(R$4,$A$5:$C$24,2,0),\"\",(VLOOKUP(R$4,$A$5:O$24,3,0)-$C19)/(VLOOKUP(R$4,$A$5:O$24,2,0)-$B19)),\"\"))","v":""},{"$f":"IF(S18=\"\",\"\",IF(S$4>$A19,IF($B19=VLOOKUP(S$4,$A$5:$C$24,2,0),\"\",(VLOOKUP(S$4,$A$5:P$24,3,0)-$C19)/(VLOOKUP(S$4,$A$5:P$24,2,0)-$B19)),\"\"))","v":""},{"$f":"IF(T18=\"\",\"\",IF(T$4>$A19,IF($B19=VLOOKUP(T$4,$A$5:$C$24,2,0),\"\",(VLOOKUP(T$4,$A$5:Q$24,3,0)-$C19)/(VLOOKUP(T$4,$A$5:Q$24,2,0)-$B19)),\"\"))","v":""},{"$f":"IF(U18=\"\",\"\",IF(U$4>$A19,IF($B19=VLOOKUP(U$4,$A$5:$C$24,2,0),\"\",(VLOOKUP(U$4,$A$5:R$24,3,0)-$C19)/(VLOOKUP(U$4,$A$5:R$24,2,0)-$B19)),\"\"))","v":""},{"$f":"IF(V18=\"\",\"\",IF(V$4>$A19,IF($B19=VLOOKUP(V$4,$A$5:$C$24,2,0),\"\",(VLOOKUP(V$4,$A$5:S$24,3,0)-$C19)/(VLOOKUP(V$4,$A$5:S$24,2,0)-$B19)),\"\"))","v":""},{"$f":"IF(W18=\"\",\"\",IF(W$4>$A19,IF($B19=VLOOKUP(W$4,$A$5:$C$24,2,0),\"\",(VLOOKUP(W$4,$A$5:T$24,3,0)-$C19)/(VLOOKUP(W$4,$A$5:T$24,2,0)-$B19)),\"\"))","v":""},{"$f":"IF(X18=\"\",\"\",IF(X$4>$A19,IF($B19=VLOOKUP(X$4,$A$5:$C$24,2,0),\"\",(VLOOKUP(X$4,$A$5:U$24,3,0)-$C19)/(VLOOKUP(X$4,$A$5:U$24,2,0)-$B19)),\"\"))","v":""},"",""]
["",null,null,null,{"$f":"COUNTIF(C21:C$24,\">\"&C20)-COUNTIF(C21:C$24,\"<\"&C20)","v":0},{"$f":"IF(F19=\"\",\"\",IF(F$4>$A20,IF($B20=VLOOKUP(F$4,$A$5:$C$24,2,0),\"\",(VLOOKUP(F$4,$A$5:C$24,3,0)-$C20)/(VLOOKUP(F$4,$A$5:C$24,2,0)-$B20)),\"\"))","v":""},{"$f":"IF(G19=\"\",\"\",IF(G$4>$A20,IF($B20=VLOOKUP(G$4,$A$5:$C$24,2,0),\"\",(VLOOKUP(G$4,$A$5:D$24,3,0)-$C20)/(VLOOKUP(G$4,$A$5:D$24,2,0)-$B20)),\"\"))","v":""},{"$f":"IF(H19=\"\",\"\",IF(H$4>$A20,IF($B20=VLOOKUP(H$4,$A$5:$C$24,2,0),\"\",(VLOOKUP(H$4,$A$5:E$24,3,0)-$C20)/(VLOOKUP(H$4,$A$5:E$24,2,0)-$B20)),\"\"))","v":""},{"$f":"IF(I19=\"\",\"\",IF(I$4>$A20,IF($B20=VLOOKUP(I$4,$A$5:$C$24,2,0),\"\",(VLOOKUP(I$4,$A$5:F$24,3,0)-$C20)/(VLOOKUP(I$4,$A$5:F$24,2,0)-$B20)),\"\"))","v":""},{"$f":"IF(J19=\"\",\"\",IF(J$4>$A20,IF($B20=VLOOKUP(J$4,$A$5:$C$24,2,0),\"\",(VLOOKUP(J$4,$A$5:G$24,3,0)-$C20)/(VLOOKUP(J$4,$A$5:G$24,2,0)-$B20)),\"\"))","v":""},{"$f":"IF(K19=\"\",\"\",IF(K$4>$A20,IF($B20=VLOOKUP(K$4,$A$5:$C$24,2,0),\"\",(VLOOKUP(K$4,$A$5:H$24,3,0)-$C20)/(VLOOKUP(K$4,$A$5:H$24,2,0)-$B20)),\"\"))","v":""},{"$f":"IF(L19=\"\",\"\",IF(L$4>$A20,IF($B20=VLOOKUP(L$4,$A$5:$C$24,2,0),\"\",(VLOOKUP(L$4,$A$5:I$24,3,0)-$C20)/(VLOOKUP(L$4,$A$5:I$24,2,0)-$B20)),\"\"))","v":""},{"$f":"IF(M19=\"\",\"\",IF(M$4>$A20,IF($B20=VLOOKUP(M$4,$A$5:$C$24,2,0),\"\",(VLOOKUP(M$4,$A$5:J$24,3,0)-$C20)/(VLOOKUP(M$4,$A$5:J$24,2,0)-$B20)),\"\"))","v":""},{"$f":"IF(N19=\"\",\"\",IF(N$4>$A20,IF($B20=VLOOKUP(N$4,$A$5:$C$24,2,0),\"\",(VLOOKUP(N$4,$A$5:K$24,3,0)-$C20)/(VLOOKUP(N$4,$A$5:K$24,2,0)-$B20)),\"\"))","v":""},{"$f":"IF(O19=\"\",\"\",IF(O$4>$A20,IF($B20=VLOOKUP(O$4,$A$5:$C$24,2,0),\"\",(VLOOKUP(O$4,$A$5:L$24,3,0)-$C20)/(VLOOKUP(O$4,$A$5:L$24,2,0)-$B20)),\"\"))","v":""},{"$f":"IF(P19=\"\",\"\",IF(P$4>$A20,IF($B20=VLOOKUP(P$4,$A$5:$C$24,2,0),\"\",(VLOOKUP(P$4,$A$5:M$24,3,0)-$C20)/(VLOOKUP(P$4,$A$5:M$24,2,0)-$B20)),\"\"))","v":""},{"$f":"IF(Q19=\"\",\"\",IF(Q$4>$A20,IF($B20=VLOOKUP(Q$4,$A$5:$C$24,2,0),\"\",(VLOOKUP(Q$4,$A$5:N$24,3,0)-$C20)/(VLOOKUP(Q$4,$A$5:N$24,2,0)-$B20)),\"\"))","v":""},{"$f":"IF(R19=\"\",\"\",IF(R$4>$A20,IF($B20=VLOOKUP(R$4,$A$5:$C$24,2,0),\"\",(VLOOKUP(R$4,$A$5:O$24,3,0)-$C20)/(VLOOKUP(R$4,$A$5:O$24,2,0)-$B20)),\"\"))","v":""},{"$f":"IF(S19=\"\",\"\",IF(S$4>$A20,IF($B20=VLOOKUP(S$4,$A$5:$C$24,2,0),\"\",(VLOOKUP(S$4,$A$5:P$24,3,0)-$C20)/(VLOOKUP(S$4,$A$5:P$24,2,0)-$B20)),\"\"))","v":""},{"$f":"IF(T19=\"\",\"\",IF(T$4>$A20,IF($B20=VLOOKUP(T$4,$A$5:$C$24,2,0),\"\",(VLOOKUP(T$4,$A$5:Q$24,3,0)-$C20)/(VLOOKUP(T$4,$A$5:Q$24,2,0)-$B20)),\"\"))","v":""},{"$f":"IF(U19=\"\",\"\",IF(U$4>$A20,IF($B20=VLOOKUP(U$4,$A$5:$C$24,2,0),\"\",(VLOOKUP(U$4,$A$5:R$24,3,0)-$C20)/(VLOOKUP(U$4,$A$5:R$24,2,0)-$B20)),\"\"))","v":""},{"$f":"IF(V19=\"\",\"\",IF(V$4>$A20,IF($B20=VLOOKUP(V$4,$A$5:$C$24,2,0),\"\",(VLOOKUP(V$4,$A$5:S$24,3,0)-$C20)/(VLOOKUP(V$4,$A$5:S$24,2,0)-$B20)),\"\"))","v":""},{"$f":"IF(W19=\"\",\"\",IF(W$4>$A20,IF($B20=VLOOKUP(W$4,$A$5:$C$24,2,0),\"\",(VLOOKUP(W$4,$A$5:T$24,3,0)-$C20)/(VLOOKUP(W$4,$A$5:T$24,2,0)-$B20)),\"\"))","v":""},{"$f":"IF(X19=\"\",\"\",IF(X$4>$A20,IF($B20=VLOOKUP(X$4,$A$5:$C$24,2,0),\"\",(VLOOKUP(X$4,$A$5:U$24,3,0)-$C20)/(VLOOKUP(X$4,$A$5:U$24,2,0)-$B20)),\"\"))","v":""},"",""]
["",null,null,null,{"$f":"COUNTIF(C22:C$24,\">\"&C21)-COUNTIF(C22:C$24,\"<\"&C21)","v":0},{"$f":"IF(F20=\"\",\"\",IF(F$4>$A21,IF($B21=VLOOKUP(F$4,$A$5:$C$24,2,0),\"\",(VLOOKUP(F$4,$A$5:C$24,3,0)-$C21)/(VLOOKUP(F$4,$A$5:C$24,2,0)-$B21)),\"\"))","v":""},{"$f":"IF(G20=\"\",\"\",IF(G$4>$A21,IF($B21=VLOOKUP(G$4,$A$5:$C$24,2,0),\"\",(VLOOKUP(G$4,$A$5:D$24,3,0)-$C21)/(VLOOKUP(G$4,$A$5:D$24,2,0)-$B21)),\"\"))","v":""},{"$f":"IF(H20=\"\",\"\",IF(H$4>$A21,IF($B21=VLOOKUP(H$4,$A$5:$C$24,2,0),\"\",(VLOOKUP(H$4,$A$5:E$24,3,0)-$C21)/(VLOOKUP(H$4,$A$5:E$24,2,0)-$B21)),\"\"))","v":""},{"$f":"IF(I20=\"\",\"\",IF(I$4>$A21,IF($B21=VLOOKUP(I$4,$A$5:$C$24,2,0),\"\",(VLOOKUP(I$4,$A$5:F$24,3,0)-$C21)/(VLOOKUP(I$4,$A$5:F$24,2,0)-$B21)),\"\"))","v":""},{"$f":"IF(J20=\"\",\"\",IF(J$4>$A21,IF($B21=VLOOKUP(J$4,$A$5:$C$24,2,0),\"\",(VLOOKUP(J$4,$A$5:G$24,3,0)-$C21)/(VLOOKUP(J$4,$A$5:G$24,2,0)-$B21)),\"\"))","v":""},{"$f":"IF(K20=\"\",\"\",IF(K$4>$A21,IF($B21=VLOOKUP(K$4,$A$5:$C$24,2,0),\"\",(VLOOKUP(K$4,$A$5:H$24,3,0)-$C21)/(VLOOKUP(K$4,$A$5:H$24,2,0)-$B21)),\"\"))","v":""},{"$f":"IF(L20=\"\",\"\",IF(L$4>$A21,IF($B21=VLOOKUP(L$4,$A$5:$C$24,2,0),\"\",(VLOOKUP(L$4,$A$5:I$24,3,0)-$C21)/(VLOOKUP(L$4,$A$5:I$24,2,0)-$B21)),\"\"))","v":""},{"$f":"IF(M20=\"\",\"\",IF(M$4>$A21,IF($B21=VLOOKUP(M$4,$A$5:$C$24,2,0),\"\",(VLOOKUP(M$4,$A$5:J$24,3,0)-$C21)/(VLOOKUP(M$4,$A$5:J$24,2,0)-$B21)),\"\"))","v":""},{"$f":"IF(N20=\"\",\"\",IF(N$4>$A21,IF($B21=VLOOKUP(N$4,$A$5:$C$24,2,0),\"\",(VLOOKUP(N$4,$A$5:K$24,3,0)-$C21)/(VLOOKUP(N$4,$A$5:K$24,2,0)-$B21)),\"\"))","v":""},{"$f":"IF(O20=\"\",\"\",IF(O$4>$A21,IF($B21=VLOOKUP(O$4,$A$5:$C$24,2,0),\"\",(VLOOKUP(O$4,$A$5:L$24,3,0)-$C21)/(VLOOKUP(O$4,$A$5:L$24,2,0)-$B21)),\"\"))","v":""},{"$f":"IF(P20=\"\",\"\",IF(P$4>$A21,IF($B21=VLOOKUP(P$4,$A$5:$C$24,2,0),\"\",(VLOOKUP(P$4,$A$5:M$24,3,0)-$C21)/(VLOOKUP(P$4,$A$5:M$24,2,0)-$B21)),\"\"))","v":""},{"$f":"IF(Q20=\"\",\"\",IF(Q$4>$A21,IF($B21=VLOOKUP(Q$4,$A$5:$C$24,2,0),\"\",(VLOOKUP(Q$4,$A$5:N$24,3,0)-$C21)/(VLOOKUP(Q$4,$A$5:N$24,2,0)-$B21)),\"\"))","v":""},{"$f":"IF(R20=\"\",\"\",IF(R$4>$A21,IF($B21=VLOOKUP(R$4,$A$5:$C$24,2,0),\"\",(VLOOKUP(R$4,$A$5:O$24,3,0)-$C21)/(VLOOKUP(R$4,$A$5:O$24,2,0)-$B21)),\"\"))","v":""},{"$f":"IF(S20=\"\",\"\",IF(S$4>$A21,IF($B21=VLOOKUP(S$4,$A$5:$C$24,2,0),\"\",(VLOOKUP(S$4,$A$5:P$24,3,0)-$C21)/(VLOOKUP(S$4,$A$5:P$24,2,0)-$B21)),\"\"))","v":""},{"$f":"IF(T20=\"\",\"\",IF(T$4>$A21,IF($B21=VLOOKUP(T$4,$A$5:$C$24,2,0),\"\",(VLOOKUP(T$4,$A$5:Q$24,3,0)-$C21)/(VLOOKUP(T$4,$A$5:Q$24,2,0)-$B21)),\"\"))","v":""},{"$f":"IF(U20=\"\",\"\",IF(U$4>$A21,IF($B21=VLOOKUP(U$4,$A$5:$C$24,2,0),\"\",(VLOOKUP(U$4,$A$5:R$24,3,0)-$C21)/(VLOOKUP(U$4,$A$5:R$24,2,0)-$B21)),\"\"))","v":""},{"$f":"IF(V20=\"\",\"\",IF(V$4>$A21,IF($B21=VLOOKUP(V$4,$A$5:$C$24,2,0),\"\",(VLOOKUP(V$4,$A$5:S$24,3,0)-$C21)/(VLOOKUP(V$4,$A$5:S$24,2,0)-$B21)),\"\"))","v":""},{"$f":"IF(W20=\"\",\"\",IF(W$4>$A21,IF($B21=VLOOKUP(W$4,$A$5:$C$24,2,0),\"\",(VLOOKUP(W$4,$A$5:T$24,3,0)-$C21)/(VLOOKUP(W$4,$A$5:T$24,2,0)-$B21)),\"\"))","v":""},{"$f":"IF(X20=\"\",\"\",IF(X$4>$A21,IF($B21=VLOOKUP(X$4,$A$5:$C$24,2,0),\"\",(VLOOKUP(X$4,$A$5:U$24,3,0)-$C21)/(VLOOKUP(X$4,$A$5:U$24,2,0)-$B21)),\"\"))","v":""},"",""]
["",null,null,null,{"$f":"COUNTIF(C23:C$24,\">\"&C22)-COUNTIF(C23:C$24,\"<\"&C22)","v":0},{"$f":"IF(F21=\"\",\"\",IF(F$4>$A22,IF($B22=VLOOKUP(F$4,$A$5:$C$24,2,0),\"\",(VLOOKUP(F$4,$A$5:C$24,3,0)-$C22)/(VLOOKUP(F$4,$A$5:C$24,2,0)-$B22)),\"\"))","v":""},{"$f":"IF(G21=\"\",\"\",IF(G$4>$A22,IF($B22=VLOOKUP(G$4,$A$5:$C$24,2,0),\"\",(VLOOKUP(G$4,$A$5:D$24,3,0)-$C22)/(VLOOKUP(G$4,$A$5:D$24,2,0)-$B22)),\"\"))","v":""},{"$f":"IF(H21=\"\",\"\",IF(H$4>$A22,IF($B22=VLOOKUP(H$4,$A$5:$C$24,2,0),\"\",(VLOOKUP(H$4,$A$5:E$24,3,0)-$C22)/(VLOOKUP(H$4,$A$5:E$24,2,0)-$B22)),\"\"))","v":""},{"$f":"IF(I21=\"\",\"\",IF(I$4>$A22,IF($B22=VLOOKUP(I$4,$A$5:$C$24,2,0),\"\",(VLOOKUP(I$4,$A$5:F$24,3,0)-$C22)/(VLOOKUP(I$4,$A$5:F$24,2,0)-$B22)),\"\"))","v":""},{"$f":"IF(J21=\"\",\"\",IF(J$4>$A22,IF($B22=VLOOKUP(J$4,$A$5:$C$24,2,0),\"\",(VLOOKUP(J$4,$A$5:G$24,3,0)-$C22)/(VLOOKUP(J$4,$A$5:G$24,2,0)-$B22)),\"\"))","v":""},{"$f":"IF(K21=\"\",\"\",IF(K$4>$A22,IF($B22=VLOOKUP(K$4,$A$5:$C$24,2,0),\"\",(VLOOKUP(K$4,$A$5:H$24,3,0)-$C22)/(VLOOKUP(K$4,$A$5:H$24,2,0)-$B22)),\"\"))","v":""},{"$f":"IF(L21=\"\",\"\",IF(L$4>$A22,IF($B22=VLOOKUP(L$4,$A$5:$C$24,2,0),\"\",(VLOOKUP(L$4,$A$5:I$24,3,0)-$C22)/(VLOOKUP(L$4,$A$5:I$24,2,0)-$B22)),\"\"))","v":""},{"$f":"IF(M21=\"\",\"\",IF(M$4>$A22,IF($B22=VLOOKUP(M$4,$A$5:$C$24,2,0),\"\",(VLOOKUP(M$4,$A$5:J$24,3,0)-$C22)/(VLOOKUP(M$4,$A$5:J$24,2,0)-$B22)),\"\"))","v":""},{"$f":"IF(N21=\"\",\"\",IF(N$4>$A22,IF($B22=VLOOKUP(N$4,$A$5:$C$24,2,0),\"\",(VLOOKUP(N$4,$A$5:K$24,3,0)-$C22)/(VLOOKUP(N$4,$A$5:K$24,2,0)-$B22)),\"\"))","v":""},{"$f":"IF(O21=\"\",\"\",IF(O$4>$A22,IF($B22=VLOOKUP(O$4,$A$5:$C$24,2,0),\"\",(VLOOKUP(O$4,$A$5:L$24,3,0)-$C22)/(VLOOKUP(O$4,$A$5:L$24,2,0)-$B22)),\"\"))","v":""},{"$f":"IF(P21=\"\",\"\",IF(P$4>$A22,IF($B22=VLOOKUP(P$4,$A$5:$C$24,2,0),\"\",(VLOOKUP(P$4,$A$5:M$24,3,0)-$C22)/(VLOOKUP(P$4,$A$5:M$24,2,0)-$B22)),\"\"))","v":""},{"$f":"IF(Q21=\"\",\"\",IF(Q$4>$A22,IF($B22=VLOOKUP(Q$4,$A$5:$C$24,2,0),\"\",(VLOOKUP(Q$4,$A$5:N$24,3,0)-$C22)/(VLOOKUP(Q$4,$A$5:N$24,2,0)-$B22)),\"\"))","v":""},{"$f":"IF(R21=\"\",\"\",IF(R$4>$A22,IF($B22=VLOOKUP(R$4,$A$5:$C$24,2,0),\"\",(VLOOKUP(R$4,$A$5:O$24,3,0)-$C22)/(VLOOKUP(R$4,$A$5:O$24,2,0)-$B22)),\"\"))","v":""},{"$f":"IF(S21=\"\",\"\",IF(S$4>$A22,IF($B22=VLOOKUP(S$4,$A$5:$C$24,2,0),\"\",(VLOOKUP(S$4,$A$5:P$24,3,0)-$C22)/(VLOOKUP(S$4,$A$5:P$24,2,0)-$B22)),\"\"))","v":""},{"$f":"IF(T21=\"\",\"\",IF(T$4>$A22,IF($B22=VLOOKUP(T$4,$A$5:$C$24,2,0),\"\",(VLOOKUP(T$4,$A$5:Q$24,3,0)-$C22)/(VLOOKUP(T$4,$A$5:Q$24,2,0)-$B22)),\"\"))","v":""},{"$f":"IF(U21=\"\",\"\",IF(U$4>$A22,IF($B22=VLOOKUP(U$4,$A$5:$C$24,2,0),\"\",(VLOOKUP(U$4,$A$5:R$24,3,0)-$C22)/(VLOOKUP(U$4,$A$5:R$24,2,0)-$B22)),\"\"))","v":""},{"$f":"IF(V21=\"\",\"\",IF(V$4>$A22,IF($B22=VLOOKUP(V$4,$A$5:$C$24,2,0),\"\",(VLOOKUP(V$4,$A$5:S$24,3,0)-$C22)/(VLOOKUP(V$4,$A$5:S$24,2,0)-$B22)),\"\"))","v":""},{"$f":"IF(W21=\"\",\"\",IF(W$4>$A22,IF($B22=VLOOKUP(W$4,$A$5:$C$24,2,0),\"\",(VLOOKUP(W$4,$A$5:T$24,3,0)-$C22)/(VLOOKUP(W$4,$A$5:T$24,2,0)-$B22)),\"\"))","v":""},{"$f":"IF(X21=\"\",\"\",IF(X$4>$A22,IF($B22=VLOOKUP(X$4,$A$5:$C$24,2,0),\"\",(VLOOKUP(X$4,$A$5:U$24,3,0)-$C22)/(VLOOKUP(X$4,$A$5:U$24,2,0)-$B22)),\"\"))","v":""},"",""]
["",null,null,null,{"$f":"COUNTIF(C24:C$24,\">\"&C23)-COUNTIF(C24:C$24,\"<\"&C23)","v":0},{"$f":"IF(F22=\"\",\"\",IF(F$4>$A23,IF($B23=VLOOKUP(F$4,$A$5:$C$24,2,0),\"\",(VLOOKUP(F$4,$A$5:C$24,3,0)-$C23)/(VLOOKUP(F$4,$A$5:C$24,2,0)-$B23)),\"\"))","v":""},{"$f":"IF(G22=\"\",\"\",IF(G$4>$A23,IF($B23=VLOOKUP(G$4,$A$5:$C$24,2,0),\"\",(VLOOKUP(G$4,$A$5:D$24,3,0)-$C23)/(VLOOKUP(G$4,$A$5:D$24,2,0)-$B23)),\"\"))","v":""},{"$f":"IF(H22=\"\",\"\",IF(H$4>$A23,IF($B23=VLOOKUP(H$4,$A$5:$C$24,2,0),\"\",(VLOOKUP(H$4,$A$5:E$24,3,0)-$C23)/(VLOOKUP(H$4,$A$5:E$24,2,0)-$B23)),\"\"))","v":""},{"$f":"IF(I22=\"\",\"\",IF(I$4>$A23,IF($B23=VLOOKUP(I$4,$A$5:$C$24,2,0),\"\",(VLOOKUP(I$4,$A$5:F$24,3,0)-$C23)/(VLOOKUP(I$4,$A$5:F$24,2,0)-$B23)),\"\"))","v":""},{"$f":"IF(J22=\"\",\"\",IF(J$4>$A23,IF($B23=VLOOKUP(J$4,$A$5:$C$24,2,0),\"\",(VLOOKUP(J$4,$A$5:G$24,3,0)-$C23)/(VLOOKUP(J$4,$A$5:G$24,2,0)-$B23)),\"\"))","v":""},{"$f":"IF(K22=\"\",\"\",IF(K$4>$A23,IF($B23=VLOOKUP(K$4,$A$5:$C$24,2,0),\"\",(VLOOKUP(K$4,$A$5:H$24,3,0)-$C23)/(VLOOKUP(K$4,$A$5:H$24,2,0)-$B23)),\"\"))","v":""},{"$f":"IF(L22=\"\",\"\",IF(L$4>$A23,IF($B23=VLOOKUP(L$4,$A$5:$C$24,2,0),\"\",(VLOOKUP(L$4,$A$5:I$24,3,0)-$C23)/(VLOOKUP(L$4,$A$5:I$24,2,0)-$B23)),\"\"))","v":""},{"$f":"IF(M22=\"\",\"\",IF(M$4>$A23,IF($B23=VLOOKUP(M$4,$A$5:$C$24,2,0),\"\",(VLOOKUP(M$4,$A$5:J$24,3,0)-$C23)/(VLOOKUP(M$4,$A$5:J$24,2,0)-$B23)),\"\"))","v":""},{"$f":"IF(N22=\"\",\"\",IF(N$4>$A23,IF($B23=VLOOKUP(N$4,$A$5:$C$24,2,0),\"\",(VLOOKUP(N$4,$A$5:K$24,3,0)-$C23)/(VLOOKUP(N$4,$A$5:K$24,2,0)-$B23)),\"\"))","v":""},{"$f":"IF(O22=\"\",\"\",IF(O$4>$A23,IF($B23=VLOOKUP(O$4,$A$5:$C$24,2,0),\"\",(VLOOKUP(O$4,$A$5:L$24,3,0)-$C23)/(VLOOKUP(O$4,$A$5:L$24,2,0)-$B23)),\"\"))","v":""},{"$f":"IF(P22=\"\",\"\",IF(P$4>$A23,IF($B23=VLOOKUP(P$4,$A$5:$C$24,2,0),\"\",(VLOOKUP(P$4,$A$5:M$24,3,0)-$C23)/(VLOOKUP(P$4,$A$5:M$24,2,0)-$B23)),\"\"))","v":""},{"$f":"IF(Q22=\"\",\"\",IF(Q$4>$A23,IF($B23=VLOOKUP(Q$4,$A$5:$C$24,2,0),\"\",(VLOOKUP(Q$4,$A$5:N$24,3,0)-$C23)/(VLOOKUP(Q$4,$A$5:N$24,2,0)-$B23)),\"\"))","v":""},{"$f":"IF(R22=\"\",\"\",IF(R$4>$A23,IF($B23=VLOOKUP(R$4,$A$5:$C$24,2,0),\"\",(VLOOKUP(R$4,$A$5:O$24,3,0)-$C23)/(VLOOKUP(R$4,$A$5:O$24,2,0)-$B23)),\"\"))","v":""},{"$f":"IF(S22=\"\",\"\",IF(S$4>$A23,IF($B23=VLOOKUP(S$4,$A$5:$C$24,2,0),\"\",(VLOOKUP(S$4,$A$5:P$24,3,0)-$C23)/(VLOOKUP(S$4,$A$5:P$24,2,0)-$B23)),\"\"))","v":""},{"$f":"IF(T22=\"\",\"\",IF(T$4>$A23,IF($B23=VLOOKUP(T$4,$A$5:$C$24,2,0),\"\",(VLOOKUP(T$4,$A$5:Q$24,3,0)-$C23)/(VLOOKUP(T$4,$A$5:Q$24,2,0)-$B23)),\"\"))","v":""},{"$f":"IF(U22=\"\",\"\",IF(U$4>$A23,IF($B23=VLOOKUP(U$4,$A$5:$C$24,2,0),\"\",(VLOOKUP(U$4,$A$5:R$24,3,0)-$C23)/(VLOOKUP(U$4,$A$5:R$24,2,0)-$B23)),\"\"))","v":""},{"$f":"IF(V22=\"\",\"\",IF(V$4>$A23,IF($B23=VLOOKUP(V$4,$A$5:$C$24,2,0),\"\",(VLOOKUP(V$4,$A$5:S$24,3,0)-$C23)/(VLOOKUP(V$4,$A$5:S$24,2,0)-$B23)),\"\"))","v":""},{"$f":"IF(W22=\"\",\"\",IF(W$4>$A23,IF($B23=VLOOKUP(W$4,$A$5:$C$24,2,0),\"\",(VLOOKUP(W$4,$A$5:T$24,3,0)-$C23)/(VLOOKUP(W$4,$A$5:T$24,2,0)-$B23)),\"\"))","v":""},{"$f":"IF(X22=\"\",\"\",IF(X$4>$A23,IF($B23=VLOOKUP(X$4,$A$5:$C$24,2,0),\"\",(VLOOKUP(X$4,$A$5:U$24,3,0)-$C23)/(VLOOKUP(X$4,$A$5:U$24,2,0)-$B23)),\"\"))","v":""},"",""]
["",null,null,null,{"$f":"COUNTIF(C$24:C25,\">\"&C24)-COUNTIF(C$24:C25,\"<\"&C24)","v":0},{"$f":"IF(F23=\"\",\"\",IF(F$4>$A24,IF($B24=VLOOKUP(F$4,$A$5:$C$24,2,0),\"\",(VLOOKUP(F$4,$A$5:C$24,3,0)-$C24)/(VLOOKUP(F$4,$A$5:C$24,2,0)-$B24)),\"\"))","v":""},{"$f":"IF(G23=\"\",\"\",IF(G$4>$A24,IF($B24=VLOOKUP(G$4,$A$5:$C$24,2,0),\"\",(VLOOKUP(G$4,$A$5:D$24,3,0)-$C24)/(VLOOKUP(G$4,$A$5:D$24,2,0)-$B24)),\"\"))","v":""},{"$f":"IF(H23=\"\",\"\",IF(H$4>$A24,IF($B24=VLOOKUP(H$4,$A$5:$C$24,2,0),\"\",(VLOOKUP(H$4,$A$5:E$24,3,0)-$C24)/(VLOOKUP(H$4,$A$5:E$24,2,0)-$B24)),\"\"))","v":""},{"$f":"IF(I23=\"\",\"\",IF(I$4>$A24,IF($B24=VLOOKUP(I$4,$A$5:$C$24,2,0),\"\",(VLOOKUP(I$4,$A$5:F$24,3,0)-$C24)/(VLOOKUP(I$4,$A$5:F$24,2,0)-$B24)),\"\"))","v":""},{"$f":"IF(J23=\"\",\"\",IF(J$4>$A24,IF($B24=VLOOKUP(J$4,$A$5:$C$24,2,0),\"\",(VLOOKUP(J$4,$A$5:G$24,3,0)-$C24)/(VLOOKUP(J$4,$A$5:G$24,2,0)-$B24)),\"\"))","v":""},{"$f":"IF(K23=\"\",\"\",IF(K$4>$A24,IF($B24=VLOOKUP(K$4,$A$5:$C$24,2,0),\"\",(VLOOKUP(K$4,$A$5:H$24,3,0)-$C24)/(VLOOKUP(K$4,$A$5:H$24,2,0)-$B24)),\"\"))","v":""},{"$f":"IF(L23=\"\",\"\",IF(L$4>$A24,IF($B24=VLOOKUP(L$4,$A$5:$C$24,2,0),\"\",(VLOOKUP(L$4,$A$5:I$24,3,0)-$C24)/(VLOOKUP(L$4,$A$5:I$24,2,0)-$B24)),\"\"))","v":""},{"$f":"IF(M23=\"\",\"\",IF(M$4>$A24,IF($B24=VLOOKUP(M$4,$A$5:$C$24,2,0),\"\",(VLOOKUP(M$4,$A$5:J$24,3,0)-$C24)/(VLOOKUP(M$4,$A$5:J$24,2,0)-$B24)),\"\"))","v":""},{"$f":"IF(N23=\"\",\"\",IF(N$4>$A24,IF($B24=VLOOKUP(N$4,$A$5:$C$24,2,0),\"\",(VLOOKUP(N$4,$A$5:K$24,3,0)-$C24)/(VLOOKUP(N$4,$A$5:K$24,2,0)-$B24)),\"\"))","v":""},{"$f":"IF(O23=\"\",\"\",IF(O$4>$A24,IF($B24=VLOOKUP(O$4,$A$5:$C$24,2,0),\"\",(VLOOKUP(O$4,$A$5:L$24,3,0)-$C24)/(VLOOKUP(O$4,$A$5:L$24,2,0)-$B24)),\"\"))","v":""},{"$f":"IF(P23=\"\",\"\",IF(P$4>$A24,IF($B24=VLOOKUP(P$4,$A$5:$C$24,2,0),\"\",(VLOOKUP(P$4,$A$5:M$24,3,0)-$C24)/(VLOOKUP(P$4,$A$5:M$24,2,0)-$B24)),\"\"))","v":""},{"$f":"IF(Q23=\"\",\"\",IF(Q$4>$A24,IF($B24=VLOOKUP(Q$4,$A$5:$C$24,2,0),\"\",(VLOOKUP(Q$4,$A$5:N$24,3,0)-$C24)/(VLOOKUP(Q$4,$A$5:N$24,2,0)-$B24)),\"\"))","v":""},{"$f":"IF(R23=\"\",\"\",IF(R$4>$A24,IF($B24=VLOOKUP(R$4,$A$5:$C$24,2,0),\"\",(VLOOKUP(R$4,$A$5:O$24,3,0)-$C24)/(VLOOKUP(R$4,$A$5:O$24,2,0)-$B24)),\"\"))","v":""},{"$f":"IF(S23=\"\",\"\",IF(S$4>$A24,IF($B24=VLOOKUP(S$4,$A$5:$C$24,2,0),\"\",(VLOOKUP(S$4,$A$5:P$24,3,0)-$C24)/(VLOOKUP(S$4,$A$5:P$24,2,0)-$B24)),\"\"))","v":""},{"$f":"IF(T23=\"\",\"\",IF(T$4>$A24,IF($B24=VLOOKUP(T$4,$A$5:$C$24,2,0),\"\",(VLOOKUP(T$4,$A$5:Q$24,3,0)-$C24)/(VLOOKUP(T$4,$A$5:Q$24,2,0)-$B24)),\"\"))","v":""},{"$f":"IF(U23=\"\",\"\",IF(U$4>$A24,IF($B24=VLOOKUP(U$4,$A$5:$C$24,2,0),\"\",(VLOOKUP(U$4,$A$5:R$24,3,0)-$C24)/(VLOOKUP(U$4,$A$5:R$24,2,0)-$B24)),\"\"))","v":""},{"$f":"IF(V23=\"\",\"\",IF(V$4>$A24,IF($B24=VLOOKUP(V$4,$A$5:$C$24,2,0),\"\",(VLOOKUP(V$4,$A$5:S$24,3,0)-$C24)/(VLOOKUP(V$4,$A$5:S$24,2,0)-$B24)),\"\"))","v":""},{"$f":"IF(W23=\"\",\"\",IF(W$4>$A24,IF($B24=VLOOKUP(W$4,$A$5:$C$24,2,0),\"\",(VLOOKUP(W$4,$A$5:T$24,3,0)-$C24)/(VLOOKUP(W$4,$A$5:T$24,2,0)-$B24)),\"\"))","v":""},{"$f":"IF(X23=\"\",\"\",IF(X$4>$A24,IF($B24=VLOOKUP(X$4,$A$5:$C$24,2,0),\"\",(VLOOKUP(X$4,$A$5:U$24,3,0)-$C24)/(VLOOKUP(X$4,$A$5:U$24,2,0)-$B24)),\"\"))","v":""},"",""]
[null,null,null,null,{"$f":"SUM(E5:E24)","v":-5},null,null,null,null,null,null,null,null,null,null,null,null,null,null,null,null,null,null,null,null,{"$f":"SUM(Z5:Z24)","v":528}]
[null,null,null,null,null,null,null,{"$f":"COUNT(F5:X24)","v":41},{"$f":"COUNTIF(F5:X24,\">-0.04427083\")","v":41},{"$f":"COUNTIF(F5:X24,\"<-0.04427083\")-K26","v":-9},9]
["Median Slope:",null,null,null,{"$f":"MEDIAN(F5:X24)","v":0}]
["Median Y:",null,null,null,{"$f":"MEDIAN(C5:C24)","v":1}]
["Median X:",null,null,null,{"$f":"MEDIAN(B5:B24)","v":42963.5}]
["Theil-Sen Intercept:",null,null,null,{"$f":"E28-(E27*E29)","v":1}]
["sd[S]",null,null,null,{"$f":"SQRT(((NPoints*(NPoints-1)*(2*NPoints+5))-Z25)/18)","v":3.872983346207417}]
["Normalized Mann-Kendall Statistic",null,null,null,{"$f":"(E25-SIGN(E25))/E31","v":-1.0327955589886444}]
[]
["Chart variables"]
[null,"OLS","TS"]
["Min X",{"$f":"MIN($B5:$B24)","v":42887},{"$f":"MIN($B5:$B24)","v":42887}]
["Max X",{"$f":"MAX($B5:$B24)","v":43070},{"$f":"MAX($B5:$B24)","v":43070}]
["Min Y",{"$f":"B36*'Trend-Normal'!I7+'Trend-Normal'!I8","v":6.5524599999999964},{"$f":"C36*E$27+E$30","v":1}]
["Max Y",{"$f":"B37*'Trend-Normal'!I7+'Trend-Normal'!I8","v":5.5605999999999938},{"$f":"C37*E$27+E$30","v":1}]

{"sheet":"HiddenTSBootstrap","index":19,"n_rows":1003,"n_cols":113,"rows_kept":562,"cut":true,"hidden":true,"merged":[[3,67,3,86]],"bounds":{"rows_first":250,"rows_last":62,"rows_between":250,"halvings":3}}
["Updated?","No",null,null,null,null,null,null,null,null,null,null,null,null,null,null,null,null,null,null,null,null,{"$f":"VLOOKUP(W3,DataTransforms!$A$3:$B$22,2,0)","v":43101},{"$f":"VLOOKUP(X3,DataTransforms!$A$3:$B$22,2,0)","v":43132},{"$f":"VLOOKUP(Y3,DataTransforms!$A$3:$B$22,2,0)","v":43160},{"$f":"VLOOKUP(Z3,DataTransforms!$A$3:$B$22,2,0)","v":43191},{"$f":"VLOOKUP(AA3,DataTransforms!$A$3:$B$22,2,0)","v":43221},{"$f":"VLOOKUP(AB3,DataTransforms!$A$3:$B$22,2,0)","v":43252},{"$f":"VLOOKUP(AC3,DataTransforms!$A$3:$B$22,2,0)","v":43282},{"$f":"VLOOKUP(AD3,DataTransforms!$A$3:$B$22,2,0)","v":""},{"$f":"VLOOKUP(AE3,DataTransforms!$A$3:$B$22,2,0)","v":""},{"$f":"VLOOKUP(AF3,DataTransforms!$A$3:$B$22,2,0)","v":""},{"$f":"VLOOKUP(AG3,DataTransforms!$A$3:$B$22,2,0)","v":""},{"$f":"VLOOKUP(AH3,DataTransforms!$A$3:$B$22,2,0)","v":""},{"$f":"VLOOKUP(AI3,DataTransforms!$A$3:$B$22,2,0)","v":""},{"$f":"VLOOKUP(AJ3,DataTransforms!$A$3:$B$22,2,0)","v":""},{"$f":"VLOOKUP(AK3,DataTransforms!$A$3:$B$22,2,0)","v":""},{"$f":"VLOOKUP(AL3,DataTransforms!$A$3:$B$22,2,0)","v":""},{"$f":"VLOOKUP(AM3,DataTransforms!$A$3:$B$22,2,0)","v":""},{"$f":"VLOOKUP(AN3,DataTransforms!$A$3:$B$22,2,0)","v":""},{"$f":"VLOOKUP(AO3,DataTransforms!$A$3:$B$22,2,0)","v":""},{"$f":"VLOOKUP(AP3,DataTransforms!$A$3:$B$22,2,0)","v":""},null,null,null,"Est times",{"$f":"VLOOKUP(AU3,DataTransforms!$A$3:$B$22,2,0)","v":43101},{"$f":"VLOOKUP(AV3,DataTransforms!$A$3:$B$22,2,0)","v":43132},{"$f":"VLOOKUP(AW3,DataTransforms!$A$3:$B$22,2,0)","v":43160},{"$f":"VLOOKUP(AX3,DataTransforms!$A$3:$B$22,2,0)","v":43191},{"$f":"VLOOKUP(AY3,DataTransforms!$A$3:$B$22,2,0)","v":43221},{"$f":"VLOOKUP(AZ3,DataTransforms!$A$3:$B$22,2,0)","v":43252},{"$f":"VLOOKUP(BA3,DataTransforms!$A$3:$B$22,2,0)","v":43282},{"$f":"VLOOKUP(BB3,DataTransforms!$A$3:$B$22,2,0)","v":""},{"$f":"VLOOKUP(BC3,DataTransforms!$A$3:$B$22,2,0)","v":""},{"$f":"VLOOKUP(BD3,DataTransforms!$A$3:$B$22,2,0)","v":""},{"$f":"VLOOKUP(BE3,DataTransforms!$A$3:$B$22,2,0)","v":""},{"$f":"VLOOKUP(BF3,DataTransforms!$A$3:$B$22,2,0)","v":""},{"$f":"VLOOKUP(BG3,DataTransforms!$A$3:$B$22,2,0)","v":""},{"$f":"VLOOKUP(BH3,DataTransforms!$A$3:$B$22,2,0)","v":""},{"$f":"VLOOKUP(BI3,DataTransforms!$A$3:$B$22,2,0)","v":""},{"$f":"VLOOKUP(BJ3,DataTransforms!$A$3:$B$22,2,0)","v":""},{"$f":"VLOOKUP(BK3,DataTransforms!$A$3:$B$22,2,0)","v":""},{"$f":"VLOOKUP(BL3,DataTransforms!$A$3:$B$22,2,0)","v":""},{"$f":"VLOOKUP(BM3,DataTransforms!$A$3:$B$22,2,0)","v":""},{"$f":"VLOOKUP(BN3,DataTransforms!$A$3:$B$22,2,0)","v":""},null,null,null,null,null,null,null,null,null,null,null,null,null,null,null,null,null,null,null,null,null,null,null,null,null,null,null,null,null,null,null,null,null,null,null,null,null,null,null,null,null,null,null,{"$f":"1001*(1-(1-Data_Input!B15)/2)","v":975.97500000000002},{"$f":"INT(DF1)","v":975},{"$f":"DG1+1","v":976},"Bounding locations of Upper Percentile"]
[null,"Sampled times",null,null,null,null,null,null,null,null,null,null,null,null,null,null,null,null,null,null,null,null,"Sampled bootstrap concentrations",null,null,null,null,null,null,null,null,null,null,null,null,null,null,null,null,null,null,null,null,"Theil-Sen terms",null,null,"Estimated concentrations for actual time points",null,null,null,null,null,null,null,null,null,null,null,null,null,null,null,null,null,null,null,null,"Ranks",null,null,null,null,null,null,null,null,null,null,null,null,null,null,null,null,null,null,null,null,null,"Upper Percentiles"]
["i",1,2,3,4,5,6,7,8,9,10,11,12,13,14,15,16,17,18,19,20,null,1,2,3,4,5,6,7,8,9,10,11,12,13,14,15,16,17,18,19,20,null,"TS Slope","TS Intercept",null,1,2,3,4,5,6,7,8,9,10,11,12,13,14,15,16,17,18,19,20,null,1,2,3,4,5,6,7,8,9,10,11,12,13,14,15,16,17,18,19,20,null,"i",1,2,3,4,5,6,7,8,9,10,11,12,13,14,15,16,17,18,19,20,null,"Sort area"]
[1,42979,43070,43009,42856,43009,43070,42948,43009,42917,43009,null,null,null,null,null,null,null,null,null,null,null,0.4,1,0.3,0.5,0.3,1,1,0.3,1,0.3,null,null,null,null,null,null,null,null,null,null,null,-4.065040650406503E-4,17.933333333333326,null,0.52439024390243816,0.51219512195121908,0.49959349593495617,0.48739837398373709,0.47479674796747773,0.46219512195121837,0.44999999999999929,0.43739837398373638,0.4252032520325173,0.41260162601625794,14.801851851851852,15,15.203703703703704,15.333333333333334,15.435185185185185,15.646296296296295,15.790740740740741,15.985185185185186,16.127777777777776,3.4390000000000001,null,"No longer needed",null,null,null,null,null,null,null,null,null,null,null,null,null,null,null,null,null,null,null,null,"Time",{"$f":"IF(AU1=\"\",NA(),AU1)","v":43101},{"$f":"IF(AV1=\"\",NA(),AV1)","v":43132},43160,43191,43221,43252,43282,{"$error":"#N/A"},{"$error":"#N/A"},{"$error":"#N/A"},{"$error":"#N/A"},{"$error":"#N/A"},{"$error":"#N/A"},{"$error":"#N/A"},{"$error":"#N/A"},{"$error":"#N/A"},{"$error":"#N/A"},{"$error":"#N/A"},{"$error":"#N/A"},{"$error":"#N/A"},null,-0.69999999999998863]
[2,43070,42856,42917,42887,42887,43070,42979,42948,43070,42887,null,null,null,null,null,null,null,null,null,null,null,1,0.5,1,0.5,0.5,1,0.4,1,1,0.5,null,null,null,null,null,null,null,null,null,null,null,2.7322404371584699E-3,-116.55191256830601,null,0.45901639344262435,0.54098360655737565,0.62568306010929575,0.70765027322404706,0.79234972677595294,0.87704918032787305,0.95901639344262435,1.0437158469945444,1.1256830601092958,1.2103825136612016,15.315467075038285,15.643185298621745,15.980091883614088,16.194486983154668,16.362940275650843,16.71209800918836,16.950995405819295,17.272588055130168,17.50842266462481,3.7545000000000002,null,null,null,null,null,null,null,null,null,null,null,null,null,null,null,null,null,null,null,null,null,null,"95PCT",1.3209918478260789,1.2462141798418855,1.1501797385620876,1.0835597826086882,1,1,1,1,1,1.0430327868852416,{"$f":"NA()","v":{"$error":"#N/A"}},{"$f":"NA()","v":{"$error":"#N/A"}},{"$f":"NA()","v":{"$error":"#N/A"}},{"$f":"NA()","v":{"$error":"#N/A"}},{"$f":"NA()","v":{"$error":"#N/A"}},{"$f":"NA()","v":{"$error":"#N/A"}},{"$f":"NA()","v":{"$error":"#N/A"}},{"$f":"NA()","v":{"$error":"#N/A"}},{"$f":"NA()","v":{"$error":"#N/A"}},{"$f":"NA()","v":{"$error":"#N/A"}},null,-0.36413043478262352]
[3,42917,43101,42856,42856,42856,42979,43040,42826,43040,43101,null,null,null,null,null,null,null,null,null,null,null,1,0.5,0.5,0.5,0.5,0.4,1,1,1,0.5,null,null,null,null,null,null,null,null,null,null,null,0,0.5,null,0.5,0.5,0.5,0.5,0.5,0.5,0.5,0.5,0.5,0.5,15,15.281578947368422,15.571052631578947,15.755263157894737,15.9,16.2,16.405263157894737,16.681578947368422,16.88421052631579,3.6273181818181826,null,null,null,null,null,null,null,null,null,null,null,null,null,null,null,null,null,null,null,null,null,null,"Rounded",{"$f":"IF(AU1=\"\",\"\",ROUND(CL5,2-INT(LOG(ABS(CL5)))))","v":1.32},{"$f":"IF(AV1=\"\",\"\",ROUND(CM5,2-INT(LOG(ABS(CM5)))))","v":1.25},1.1499999999999999,1.08,1,1,1,"","","","","","","","","","","","","",null,-0.22826086956519021]
[4,42948,43009,42948,42948,42979,43070,42979,42948,43009,43009,null,null,null,null,null,null,null,null,null,null,null,1,0.3,1,1,0.4,1,0.4,1,0.3,0.3,null,null,null,null,null,null,null,null,null,null,null,-1.1475409836065573E-2,493.90163934426226,null,2.4557377049180218,2.1114754098360322,1.7557377049180332,1.4114754098360436,1.0557377049180445,0.69999999999998863,0.35573770491799905,0,-0.34426229508198958,-0.69999999999998863,13.135375191424195,13.463093415007657,13.8,14.014395099540582,14.182848392036753,14.532006125574274,14.770903522205206,15.09249617151608,15.32833078101072,3.8115714285714288,null,null,null,null,null,null,null,null,null,null,null,null,null,null,null,null,null,null,null,null,null,null,"The 95th percentiles are entered by them macro TheilsSenBS.",null,null,null,null,null,null,null,null,null,null,null,null,null,null,null,null,null,null,null,null,null,-0.20191256830599968]
[5,42856,42856,42948,43009,42979,42979,42887,43101,42826,42917,null,null,null,null,null,null,null,null,null,null,null,0.5,0.5,1,0.3,0.4,0.4,0.5,0.5,1,1,null,null,null,null,null,null,null,null,null,null,null,-1.0869565217391302E-3,47.165760869565212,null,0.61576086956522147,0.58315217391304941,0.54945652173913118,0.51684782608695912,0.48315217391304799,0.44945652173913686,0.4168478260869577,0.38315217391304657,0.35054347826087451,0.31684782608695627,16.603549571603427,16.996450428396571,17.400367197062423,17.657405140758875,17.859363525091801,18.277968176254589,18.564381884944922,18.949938800489598,19.232680538555691,3.6317222222222219,null,null,null,null,null,null,null,null,null,null,null,null,null,null,null,null,null,null,null,null,null,null,null,null,null,null,null,null,null,null,null,null,null,null,null,null,null,null,null,null,null,null,null,null,-0.12786885245898816]
[6,42826,43070,43040,42856,42979,43070,42979,42948,43070,43009,null,null,null,null,null,null,null,null,null,null,null,1,1,1,0.5,0.4,1,0.4,1,1,0.3,null,null,null,null,null,null,null,null,null,null,null,0,1,null,1,1,1,1,1,1,1,1,1,1,13.807692307692308,14.013461538461538,14.225000000000001,14.359615384615385,14.465384615384616,14.684615384615384,14.834615384615384,15.036538461538463,15.184615384615384,3.9654999999999996,null,null,null,null,null,null,null,null,null,null,null,null,null,null,null,null,null,null,null,null,null,null,null,null,null,null,null,null,null,null,null,null,null,null,null,null,null,null,null,null,null,null,null,null,-0.11166666666667879]
[7,43040,43040,42856,42948,42979,42979,42826,42948,43009,43101,null,null,null,null,null,null,null,null,null,null,null,1,1,0.5,1,0.4,0.4,1,1,0.3,0.5,null,null,null,null,null,null,null,null,null,null,null,0,0.75,null,0.75,0.75,0.75,0.75,0.75,0.75,0.75,0.75,0.75,0.75,13.877662337662336,14.1,14.328571428571427,14.474025974025974,14.588311688311688,14.825194805194805,14.987272727272726,15.205454545454545,15.365454545454543,3.9840714285714283,null,null,null,null,null,null,null,null,null,null,null,null,null,null,null,null,null,null,null,null,null,null,null,null,null,null,null,null,null,null,null,null,null,null,null,null,null,null,null,null,null,null,null,null,-6.857923497267393E-2]
[8,43009,42887,43070,43040,43040,42826,42979,42887,42887,42887,null,null,null,null,null,null,null,null,null,null,null,0.3,0.5,1,1,1,1,0.4,0.5,0.5,0.5,null,null,null,null,null,null,null,null,null,null,null,0,0.5,null,0.5,0.5,0.5,0.5,0.5,0.5,0.5,0.5,0.5,0.5,14.499065420560749,14.782398753894082,15.07367601246106,15.259034267912774,15.404672897196264,15.706542056074767,15.913084112149534,16.191121495327103,16.395015576323988,3.3214999999999986,null,null,null,null,null,null,null,null,null,null,null,null,null,null,null,null,null,null,null,null,null,null,null,null,null,null,null,null,null,null,null,null,null,null,null,null,null,null,null,null,null,null,null,null,-6.0000000000002274E-2]
[9,42887,42887,43009,42887,42887,43070,43040,43101,42917,42887,null,null,null,null,null,null,null,null,null,null,null,0.5,0.5,0.3,0.5,0.5,1,1,0.5,1,0.5,null,null,null,null,null,null,null,null,null,null,null,2.1739130434782609E-3,-92.765217391304347,null,0.33478260869564735,0.40000000000000568,0.46739130434782794,0.53260869565217206,0.60000000000000853,0.66739130434783078,0.7326086956521749,0.79999999999999716,0.86521739130435549,0.93260869565217774,14.543589743589743,14.817948717948717,15.1,15.279487179487178,15.420512820512819,15.712820512820512,15.912820512820513,16.182051282051283,16.379487179487178,3.8905000000000003,null,null,null,null,null,null,null,null,null,null,null,null,null,null,null,null,null,null,null,null,null,null,null,null,null,null,null,null,null,null,null,null,null,null,null,null,null,null,null,null,null,null,null,null,-4.2144808743188378E-2]
[10,43070,42979,43101,42917,42948,43009,42856,42948,42826,42917,null,null,null,null,null,null,null,null,null,null,null,1,0.4,0.5,1,1,0.3,0.5,1,1,1,null,null,null,null,null,null,null,null,null,null,null,0,1,null,1,1,1,1,1,1,1,1,1,1,14.16860119047619,14.375595238095238,14.588392857142857,14.723809523809523,14.830208333333333,15.050744047619046,15.201636904761903,15.404761904761903,15.553720238095236,3.5634285714285712,null,null,null,null,null,null,null,null,null,null,null,null,null,null,null,null,null,null,null,null,null,null,null,null,null,null,null,null,null,null,null,null,null,null,null,null,null,null,null,null,null,null,null,null,-2.8431372549050593E-2]
[11,42917,42826,43101,43070,42826,42948,43009,42948,42948,42948,null,null,null,null,null,null,null,null,null,null,null,1,1,0.5,1,1,1,0.3,1,1,1,null,null,null,null,null,null,null,null,null,null,null,0,1,null,1,1,1,1,1,1,1,1,1,1,14.284766353956446,14.611724100078529,14.947848885811513,15.161746476732501,15.329808869598994,15.678156374813176,15.916499404696564,16.237345791078049,16.472633141091137,3.6067499999999999,null,null,null,null,null,null,null,null,null,null,null,null,null,null,null,null,null,null,null,null,null,null,null,null,null,null,null,null,null,null,null,null,null,null,null,null,null,null,null,null,null,null,null,null,-9.9999999999909051E-3]
[12,42887,42917,42917,42948,42948,42917,43040,42979,42826,42948,null,null,null,null,null,null,null,null,null,null,null,0.5,1,1,1,1,1,1,0.4,1,1,null,null,null,null,null,null,null,null,null,null,null,0,1,null,1,1,1,1,1,1,1,1,1,1,13.975960170697014,14.249928876244667,14.531578947368423,14.710810810810813,14.851635846372691,15.143527738264583,15.343243243243245,15.612091038406831,15.809246088193458,3.591499999999999,null,null,null,null,null,null,null,null,null,null,null,null,null,null,null,null,null,null,null,null,null,null,null,null,null,null,null,null,null,null,null,null,null,null,null,null,null,null,null,null,null,null,null,null,-8.3333333333541759E-3]
[13,42948,43009,42856,43009,43040,42856,42887,43040,43009,43009,null,null,null,null,null,null,null,null,null,null,null,1,0.3,0.5,0.3,1,0.5,0.5,1,0.3,0.3,null,null,null,null,null,null,null,null,null,null,null,0,0.5,null,0.5,0.5,0.5,0.5,0.5,0.5,0.5,0.5,0.5,0.5,13.409574468085106,13.523404255319148,13.640425531914893,13.714893617021275,13.773404255319148,13.894680851063828,13.977659574468083,14.089361702127658,14.171276595744679,3.3363166666666677,null,null,null,null,null,null,null,null,null,null,null,null,null,null,null,null,null,null,null,null,null,null,null,null,null,null,null,null,null,null,null,null,null,null,null,null,null,null,null,null,null,null,null,null,-6.6666666666606034E-3]
[14,43070,42856,43009,43070,42856,42979,42826,42826,42979,43070,null,null,null,null,null,null,null,null,null,null,null,1,0.5,0.3,1,0.5,0.4,1,1,0.4,1,null,null,null,null,null,null,null,null,null,null,null,0,0.75,null,0.75,0.75,0.75,0.75,0.75,0.75,0.75,0.75,0.75,0.75,13.562678271243424,13.759665961715742,13.962176671547095,14.091047123257956,14.192302478173634,14.402177213817037,14.545775717151997,14.739081394718291,14.880838891600238,3.6096249999999994,null,null,null,null,null,null,null,null,null,null,null,null,null,null,null,null,null,null,null,null,null,null,null,null,null,null,null,null,null,null,null,null,null,null,null,null,null,null,null,null,null,null,null,null,-6.6666666666606034E-3]
[15,42917,42979,42826,43040,42917,42948,42826,42856,42856,42917,null,null,null,null,null,null,null,null,null,null,null,1,0.4,1,1,1,1,1,0.5,0.5,1,null,null,null,null,null,null,null,null,null,null,null,0,1,null,1,1,1,1,1,1,1,1,1,1,15.2,15.561690140845069,15.933521126760564,16.170140845070421,16.356056338028168,16.741408450704228,17.005070422535212,17.36,17.620281690140846,3.6883181818181825,null,null,null,null,null,null,null,null,null,null,null,null,null,null,null,null,null,null,null,null,null,null,null,null,null,null,null,null,null,null,null,null,null,null,null,null,null,null,null,null,null,null,null,null,4.3333333333322344E-2]
[16,43009,42948,43101,43070,43101,42979,43040,43009,42826,43070,null,null,null,null,null,null,null,null,null,null,null,0.3,1,0.5,1,0.5,0.4,1,0.3,1,1,null,null,null,null,null,null,null,null,null,null,null,0,0.75,null,0.75,0.75,0.75,0.75,0.75,0.75,0.75,0.75,0.75,0.75,14.648571428571429,14.870909090909091,15.099480519480519,15.244935064935065,15.359220779220779,15.596103896103896,15.758181818181818,15.976363636363637,16.136363636363637,3.4620454545454553,null,null,null,null,null,null,null,null,null,null,null,null,null,null,null,null,null,null,null,null,null,null,null,null,null,null,null,null,null,null,null,null,null,null,null,null,null,null,null,null,null,null,null,null,4.3333333333322344E-2]
[17,42887,42917,43040,42856,42917,43040,42917,43040,43101,42856,null,null,null,null,null,null,null,null,null,null,null,0.5,1,1,0.5,1,1,1,1,0.5,0.5,null,null,null,null,null,null,null,null,null,null,null,0,1,null,1,1,1,1,1,1,1,1,1,1,13.989338235294118,14.186029411764705,14.388235294117647,14.516911764705883,14.618014705882352,14.827573529411765,14.970955882352941,15.163970588235294,15.305514705882352,3.7223846153846161,null,null,null,null,null,null,null,null,null,null,null,null,null,null,null,null,null,null,null,null,null,null,null,null,null,null,null,null,null,null,null,null,null,null,null,null,null,null,null,null,null,null,null,null,4.3333333333350765E-2]
[18,43009,42948,42826,42887,43070,42887,42948,42856,42917,42948,null,null,null,null,null,null,null,null,null,null,null,0.3,1,1,0.5,1,0.5,1,0.5,1,1,null,null,null,null,null,null,null,null,null,null,null,0,1,null,1,1,1,1,1,1,1,1,1,1,12.95376421888672,13.3,13.655943326378139,13.8824527158915,14.060424379080569,14.429311099145185,14.681707276031499,15.02147136030154,15.270631688766237,4.0640000000000001,null,null,null,null,null,null,null,null,null,null,null,null,null,null,null,null,null,null,null,null,null,null,null,null,null,null,null,null,null,null,null,null,null,null,null,null,null,null,null,null,null,null,null,null,0.10546448087433191]
[19,42917,42979,42856,42826,42887,42856,42826,42979,42856,43070,null,null,null,null,null,null,null,null,null,null,null,1,0.4,0.5,1,0.5,0.5,1,0.4,0.5,1,null,null,null,null,null,null,null,null,null,null,null,-8.130081300813006E-4,35.354878048780478,null,0.53699186991870107,0.51260162601626291,0.48739837398373709,0.46300813008129893,0.43780487804878021,0.41260162601626149,0.38821138211382333,0.36300813008129751,0.33861788617885935,0.31341463414634063,14.1,14.554575163398692,15.0218954248366,15.319281045751634,15.552941176470588,16.037254901960786,16.368627450980391,16.814705882352939,17.141830065359478,4.1039999999999992,null,null,null,null,null,null,null,null,null,null,null,null,null,null,null,null,null,null,null,null,null,null,null,null,null,null,null,null,null,null,null,null,null,null,null,null,null,null,null,null,null,null,null,null,0.11847826086956559]
[20,42948,42856,43070,42826,42826,43101,42826,42948,42948,42826,null,null,null,null,null,null,null,null,null,null,null,1,0.5,1,1,1,0.5,1,1,1,1,null,null,null,null,null,null,null,null,null,null,null,0,1,null,1,1,1,1,1,1,1,1,1,1,14.1,14.389189189189189,14.686486486486485,14.875675675675675,15.024324324324324,15.332432432432432,15.543243243243243,15.827027027027025,16.035135135135135,3.5969999999999995,null,null,null,null,null,null,null,null,null,null,null,null,null,null,null,null,null,null,null,null,null,null,null,null,null,null,null,null,null,null,null,null,null,null,null,null,null,null,null,null,null,null,null,null,0.12635869565217206]
[21,42887,43101,42917,42887,42917,42948,42887,43009,43040,42826,null,null,null,null,null,null,null,null,null,null,null,0.5,0.5,1,0.5,1,1,0.5,0.3,1,1,null,null,null,null,null,null,null,null,null,null,null,0,0.75,null,0.75,0.75,0.75,0.75,0.75,0.75,0.75,0.75,0.75,0.75,15.2,15.558659217877093,15.927374301675975,16.162011173184357,16.346368715083798,16.728491620111729,16.989944134078211,17.341899441340779,17.599999999999998,3.5970000000000004,null,null,null,null,null,null,null,null,null,null,null,null,null,null,null,null,null,null,null,null,null,null,null,null,null,null,null,null,null,null,null,null,null,null,null,null,null,null,null,null,null,null,null,null,0.14633986928103582]
[22,42856,43101,42917,43040,42826,43009,42856,43040,43101,42917,null,null,null,null,null,null,null,null,null,null,null,0.5,0.5,1,1,1,0.3,0.5,1,0.5,1,null,null,null,null,null,null,null,null,null,null,null,0,0.75,null,0.75,0.75,0.75,0.75,0.75,0.75,0.75,0.75,0.75,0.75,14.165701383479842,14.545604762434628,14.936159637995624,15.184694558807166,15.379971996587665,15.784728867623606,16.06166777938504,16.434470160602352,16.707858573495049,3.7258333333333322,null,null,null,null,null,null,null,null,null,null,null,null,null,null,null,null,null,null,null,null,null,null,null,null,null,null,null,null,null,null,null,null,null,null,null,null,null,null,null,null,null,null,null,null,0.14666666666667538]
[23,42979,42887,42948,42826,42917,42917,42979,43070,43040,42856,null,null,null,null,null,null,null,null,null,null,null,0.4,0.5,1,1,1,1,0.4,1,1,0.5,null,null,null,null,null,null,null,null,null,null,null,0,1,null,1,1,1,1,1,1,1,1,1,1,14.159016393442624,14.50983606557377,14.870491803278689,15.1,15.280327868852458,15.654098360655738,15.909836065573769,16.254098360655735,16.506557377049177,4.1742499999999998,null,null,null,null,null,null,null,null,null,null,null,null,null,null,null,null,null,null,null,null,null,null,null,null,null,null,null,null,null,null,null,null,null,null,null,null,null,null,null,null,null,null,null,null,0.14918032786884794]
[24,43101,42948,42917,42887,42979,43101,43070,42979,43040,42979,null,null,null,null,null,null,null,null,null,null,null,0.5,1,1,0.5,0.4,0.5,1,0.4,1,0.4,null,null,null,null,null,null,null,null,null,null,null,0,0.5,null,0.5,0.5,0.5,0.5,0.5,0.5,0.5,0.5,0.5,0.5,14.240408958130477,14.386270691333984,14.536222005842259,14.631645569620254,14.706621226874391,14.862025316455696,14.968354430379748,15.111489776046739,15.21645569620253,4.0879999999999992,null,null,null,null,null,null,null,null,null,null,null,null,null,null,null,null,null,null,null,null,null,null,null,null,null,null,null,null,null,null,null,null,null,null,null,null,null,null,null,null,null,null,null,null,0.14918032786884794]
[25,43040,43009,42887,42948,42887,42948,42826,42917,42887,42979,null,null,null,null,null,null,null,null,null,null,null,1,0.3,0.5,1,0.5,1,1,1,0.5,0.4,null,null,null,null,null,null,null,null,null,null,null,0,0.75,null,0.75,0.75,0.75,0.75,0.75,0.75,0.75,0.75,0.75,0.75,14.125524044389644,14.257459926017264,14.393094944512947,14.47940813810111,14.547225647348952,14.687792848335389,14.783970406905057,14.913440197287301,15.00838471023428,4.0031249999999989,null,null,null,null,null,null,null,null,null,null,null,null,null,null,null,null,null,null,null,null,null,null,null,null,null,null,null,null,null,null,null,null,null,null,null,null,null,null,null,null,null,null,null,null,0.15032679738561683]
[26,42948,43040,42856,42826,42979,42948,42948,43040,42826,42948,null,null,null,null,null,null,null,null,null,null,null,1,1,0.5,1,0.4,1,1,1,1,1,null,null,null,null,null,null,null,null,null,null,null,0,1,null,1,1,1,1,1,1,1,1,1,1,13.999275362318841,14.542028985507248,15.100000000000001,15.455072463768117,15.734057971014494,16.31231884057971,16.707971014492756,17.240579710144928,17.631159420289855,3.1853000000000016,null,null,null,null,null,null,null,null,null,null,null,null,null,null,null,null,null,null,null,null,null,null,null,null,null,null,null,null,null,null,null,null,null,null,null,null,null,null,null,null,null,null,null,null,0.1530286561264802]
[27,43040,42948,43101,43009,42887,43040,42826,42826,42826,43070,null,null,null,null,null,null,null,null,null,null,null,1,1,0.5,0.3,0.5,1,1,1,1,1,null,null,null,null,null,null,null,null,null,null,null,0,1,null,1,1,1,1,1,1,1,1,1,1,13.538582677165355,13.815410573678291,14.1,14.281102362204724,14.423397075365578,14.718335208098988,14.92013498312711,15.191788526434195,15.391001124859393,3.32775,null,null,null,null,null,null,null,null,null,null,null,null,null,null,null,null,null,null,null,null,null,null,null,null,null,null,null,null,null,null,null,null,null,null,null,null,null,null,null,null,null,null,null,null,0.15882352941176237]
[28,43040,43009,42917,42856,42887,42917,42856,43009,43009,42979,null,null,null,null,null,null,null,null,null,null,null,1,0.3,1,0.5,0.5,1,0.5,0.3,0.3,0.4,null,null,null,null,null,null,null,null,null,null,null,-1.1970730321113952E-3,51.911892583120206,null,0.64604290991759683,0.61013071895425242,0.57302145495879842,0.537109263995454,0.5,0.4628907360045531,0.42697854504120869,0.38986928104575469,0.35395709008241028,0.31684782608696338,15.263221601489757,15.611918063314711,15.970391061452514,16.198510242085661,16.377746741154564,16.749255121042829,17.003445065176908,17.345623836126631,17.596554934823093,3.6114999999999995,null,null,null,null,null,null,null,null,null,null,null,null,null,null,null,null,null,null,null,null,null,null,null,null,null,null,null,null,null,null,null,null,null,null,null,null,null,null,null,null,null,null,null,null,0.16475409836067456]
[29,43070,42979,42856,43101,43101,42917,42948,42826,42979,42917,null,null,null,null,null,null,null,null,null,null,null,1,0.4,0.5,0.5,0.5,1,1,1,0.4,1,null,null,null,null,null,null,null,null,null,null,null,-4.065040650406503E-4,18.21483739837398,null,0.80589430894309189,0.79369918699187281,0.78109756097560989,0.76890243902439082,0.75630081300813146,0.7436991869918721,0.73150406504065302,0.71890243902439011,0.70670731707317103,0.69410569105691167,15,15.196259204633538,15.398021003789511,15.526414875979675,15.627295775557661,15.836394367410215,15.979461824993541,16.172052633278788,16.313285892687968,3.9956666666666667,null,null,null,null,null,null,null,null,null,null,null,null,null,null,null,null,null,null,null,null,null,null,null,null,null,null,null,null,null,null,null,null,null,null,null,null,null,null,null,null,null,null,null,null,0.16475409836067456]
[30,42856,43009,43009,42917,42917,42917,42979,43009,42887,43070,null,null,null,null,null,null,null,null,null,null,null,0.5,0.3,0.3,1,1,1,0.4,0.3,0.5,1,null,null,null,null,null,null,null,null,null,null,null,-1.3071895424836603E-3,56.641176470588242,null,0.65947712418300597,0.6202614379084963,0.57973856209150654,0.54052287581699687,0.5,0.45947712418301023,0.42026143790850057,0.3797385620915037,0.34052287581699403,0.30000000000000426,14.543589743589743,14.817948717948717,15.1,15.279487179487178,15.420512820512819,15.712820512820512,15.912820512820513,16.182051282051283,16.379487179487178,3.2775000000000007,null,null,null,null,null,null,null,null,null,null,null,null,null,null,null,null,null,null,null,null,null,null,null,null,null,null,null,null,null,null,null,null,null,null,null,null,null,null,null,null,null,null,null,null,0.16545454545455129]
[31,42826,42948,42826,43070,42948,42826,43040,43070,42917,42826,null,null,null,null,null,null,null,null,null,null,null,1,1,1,1,1,1,1,1,1,1,null,null,null,null,null,null,null,null,null,null,null,0,1,null,1,1,1,1,1,1,1,1,1,1,13.557500000000001,13.825000000000001,14.100000000000001,14.275,14.412500000000001,14.6975,14.8925,15.155000000000001,15.3475,3.3730312500000004,null,null,null,null,null,null,null,null,null,null,null,null,null,null,null,null,null,null,null,null,null,null,null,null,null,null,null,null,null,null,null,null,null,null,null,null,null,null,null,null,null,null,null,null,0.16847826086956275]
[32,42979,42979,42948,42856,42887,43070,43009,42856,42979,43101,null,null,null,null,null,null,null,null,null,null,null,0.4,0.4,1,0.5,0.5,1,0.3,0.5,0.4,0.5,null,null,null,null,null,null,null,null,null,null,null,-8.130081300813006E-4,35.442276422764216,null,0.62439024390243958,0.60000000000000142,0.5747967479674756,0.55040650406503744,0.52520325203251872,0.5,0.47560975609756184,0.45040650406503602,0.42601626016259786,0.40081300813007914,15.1,15.450819672131146,15.811475409836063,16.040983606557376,16.221311475409834,16.595081967213112,16.850819672131145,17.195081967213113,17.447540983606554,3.5030124999999988,null,null,null,null,null,null,null,null,null,null,null,null,null,null,null,null,null,null,null,null,null,null,null,null,null,null,null,null,null,null,null,null,null,null,null,null,null,null,null,null,null,null,null,null,0.17377049180328186]
[33,42948,42979,43040,43101,43009,43070,42948,42917,42887,42948,null,null,null,null,null,null,null,null,null,null,null,1,0.4,1,0.5,0.3,1,1,1,0.5,1,null,null,null,null,null,null,null,null,null,null,null,0,1,null,1,1,1,1,1,1,1,1,1,1,15.1,15.383333333333333,15.674610591900311,15.859968847352025,16.005607476635515,16.307476635514018,16.514018691588785,16.792056074766357,16.995950155763239,3.5155909090909097,null,null,null,null,null,null,null,null,null,null,null,null,null,null,null,null,null,null,null,null,null,null,null,null,null,null,null,null,null,null,null,null,null,null,null,null,null,null,null,null,null,null,null,null,0.17973856209150796]
[34,42979,42826,42826,43040,42948,43009,42917,43101,43101,43070,null,null,null,null,null,null,null,null,null,null,null,0.4,1,1,1,1,0.3,1,0.5,0.5,1,null,null,null,null,null,null,null,null,null,null,null,0,1,null,1,1,1,1,1,1,1,1,1,1,12.602811244979922,12.946586345381528,13.3,13.524899598393574,13.701606425702813,14.067871485943776,14.318473895582329,14.655823293172691,14.903212851405623,3.643625000000001,null,null,null,null,null,null,null,null,null,null,null,null,null,null,null,null,null,null,null,null,null,null,null,null,null,null,null,null,null,null,null,null,null,null,null,null,null,null,null,null,null,null,null,null,0.18472088288867639]
[35,43040,43040,43040,42917,42948,43101,43009,42948,43101,42917,null,null,null,null,null,null,null,null,null,null,null,1,1,1,1,1,0.5,0.3,1,0.5,1,null,null,null,null,null,null,null,null,null,null,null,0,1,null,1,1,1,1,1,1,1,1,1,1,14.7325,15,15.274999999999999,15.45,15.587499999999999,15.872499999999999,16.067499999999999,16.329999999999998,16.522500000000001,3.7052142857142858,null,null,null,null,null,null,null,null,null,null,null,null,null,null,null,null,null,null,null,null,null,null,null,null,null,null,null,null,null,null,null,null,null,null,null,null,null,null,null,null,null,null,null,null,0.18472088288867639]
[36,42948,42917,42826,42917,42979,42979,42979,42979,42979,43101,null,null,null,null,null,null,null,null,null,null,null,1,1,1,1,0.4,0.4,0.4,0.4,0.4,0.5,null,null,null,null,null,null,null,null,null,null,null,-3.9215686274509803E-3,168.99509803921566,null,1.0499999999999829,0.93235294117644685,0.81078431372546333,0.69313725490192724,0.57156862745097214,0.44999999999998863,0.33235294117645253,0.21078431372546902,9.313725490193292E-2,-2.8431372549050593E-2,15,15.362687646451159,15.735544105419638,15.97281639749049,16.159244626974729,16.545659502632972,16.810048628083351,17.165957066189627,17.426956587467561,4.1470769230769235,null,null,null,null,null,null,null,null,null,null,null,null,null,null,null,null,null,null,null,null,null,null,null,null,null,null,null,null,null,null,null,null,null,null,null,null,null,null,null,null,null,null,null,null,0.19454545454546235]
[37,42948,43070,43040,42948,43070,43101,42826,42979,43101,42979,null,null,null,null,null,null,null,null,null,null,null,1,1,1,1,1,0.5,1,0.4,0.5,0.4,null,null,null,null,null,null,null,null,null,null,null,0,1,null,1,1,1,1,1,1,1,1,1,1,14.665573770491804,15.016393442622951,15.377049180327869,15.60655737704918,15.786885245901638,16.160655737704918,16.416393442622947,16.760655737704916,17.01311475409836,3.5428571428571427,null,null,null,null,null,null,null,null,null,null,null,null,null,null,null,null,null,null,null,null,null,null,null,null,null,null,null,null,null,null,null,null,null,null,null,null,null,null,null,null,null,null,null,null,0.19454545454546235]
[38,42887,43040,42948,43009,42856,42856,42979,43101,42826,42917,null,null,null,null,null,null,null,null,null,null,null,0.5,1,1,0.3,0.5,0.5,0.4,0.5,1,1,null,null,null,null,null,null,null,null,null,null,null,0,0.5,null,0.5,0.5,0.5,0.5,0.5,0.5,0.5,0.5,0.5,0.5,15.430923694779116,15.774698795180722,16.128112449799197,16.35301204819277,16.529718875502006,16.895983935742969,17.146586345381525,17.483935742971887,17.731325301204816,4.3101249999999993,null,null,null,null,null,null,null,null,null,null,null,null,null,null,null,null,null,null,null,null,null,null,null,null,null,null,null,null,null,null,null,null,null,null,null,null,null,null,null,null,null,null,null,null,0.20000000000000284]
[39,42887,43040,42826,42826,42979,42887,43101,42856,42979,42979,null,null,null,null,null,null,null,null,null,null,null,0.5,1,1,1,0.4,0.5,0.5,0.5,0.4,0.4,null,null,null,null,null,null,null,null,null,null,null,-1.0869565217391302E-3,47.166304347826078,null,0.61630434782608745,0.58369565217391539,0.54999999999999716,0.5173913043478251,0.48369565217391397,0.45000000000000284,0.41739130434782368,0.38369565217391255,0.35108695652174049,0.31739130434782226,14.24750982961992,14.52096985583224,14.802096985583223,14.980996068152031,15.121559633027521,15.412909567496722,15.612254259501963,15.880602883355175,16.077391874180861,3.3272750000000002,null,null,null,null,null,null,null,null,null,null,null,null,null,null,null,null,null,null,null,null,null,null,null,null,null,null,null,null,null,null,null,null,null,null,null,null,null,null,null,null,null,null,null,null,0.22377049180327901]
[40,42887,42826,43070,42979,43040,43101,43009,42979,42979,42826,null,null,null,null,null,null,null,null,null,null,null,0.5,1,1,0.4,1,0.5,0.3,0.4,0.4,1,null,null,null,null,null,null,null,null,null,null,null,-1.0869565217391302E-3,47.216304347826075,null,0.66630434782608461,0.63369565217391255,0.59999999999999432,0.56739130434782226,0.53369565217391113,0.5,0.46739130434782084,0.43369565217390971,0.40108695652173765,0.36739130434781941,15.275355054302423,15.561403508771932,15.855472013366752,16.042606516290729,16.189640768588138,16.494402673350045,16.70292397660819,16.983625730994156,17.189473684210526,3.3992944444444442,null,null,null,null,null,null,null,null,null,null,null,null,null,null,null,null,null,null,null,null,null,null,null,null,null,null,null,null,null,null,null,null,null,null,null,null,null,null,null,null,null,null,null,null,0.2295429841897203]
[41,42948,43101,42979,42979,42826,42948,43009,42948,42856,43040,null,null,null,null,null,null,null,null,null,null,null,1,0.5,0.4,0.4,1,1,0.3,1,0.5,1,null,null,null,null,null,null,null,null,null,null,null,-1.3071895424836603E-3,56.911437908496737,null,0.92973856209150085,0.89052287581699119,0.85000000000000142,0.81078431372549176,0.77026143790849488,0.72973856209150512,0.69052287581699545,0.64999999999999858,0.61078431372548891,0.57026143790849915,13.402662037037036,13.613194444444444,13.829629629629629,13.96736111111111,14.075578703703703,14.299884259259258,14.45335648148148,14.659953703703703,14.811458333333333,3.5599090909090911,null,null,null,null,null,null,null,null,null,null,null,null,null,null,null,null,null,null,null,null,null,null,null,null,null,null,null,null,null,null,null,null,null,null,null,null,null,null,null,null,null,null,null,null,0.23333333333334849]
[42,42826,42887,42979,42887,43009,43101,42856,43009,43101,42856,null,null,null,null,null,null,null,null,null,null,null,1,0.5,0.4,0.5,0.3,0.5,0.5,0.3,0.5,0.5,null,null,null,null,null,null,null,null,null,null,null,-1.0869565217391302E-3,47.166304347826078,null,0.61630434782608745,0.58369565217391539,0.54999999999999716,0.5173913043478251,0.48369565217391397,0.45000000000000284,0.41739130434782368,0.38369565217391255,0.35108695652174049,0.31739130434782226,13.3876993166287,13.58268792710706,13.783143507972664,13.910706150341683,14.010933940774486,14.218678815489746,14.360820045558084,14.552164009111614,14.692482915717537,3.1346000000000007,null,null,null,null,null,null,null,null,null,null,null,null,null,null,null,null,null,null,null,null,null,null,null,null,null,null,null,null,null,null,null,null,null,null,null,null,null,null,null,null,null,null,null,null,0.23986928104575611]
[43,43070,43040,43070,43040,43070,43070,43040,43009,42979,42856,null,null,null,null,null,null,null,null,null,null,null,1,1,1,1,1,1,1,0.3,0.4,0.5,null,null,null,null,null,null,null,null,null,null,null,2.3364485981308409E-3,-99.560747663551396,null,0.5,0.5700934579439263,0.64252336448598157,0.71261682242990787,0.78504672897196315,0.85747663551401843,0.92757009345794472,1,1.0700934579439263,1.1425233644859816,14.130923694779117,14.474698795180723,14.828112449799196,15.05301204819277,15.229718875502009,15.595983935742971,15.846586345381525,16.183935742971887,16.431325301204819,3.663666666666666,null,null,null,null,null,null,null,null,null,null,null,null,null,null,null,null,null,null,null,null,null,null,null,null,null,null,null,null,null,null,null,null,null,null,null,null,null,null,null,null,null,null,null,null,0.24000000000000909]
[44,43070,43009,42917,42948,42826,42948,43101,42917,43040,42917,null,null,null,null,null,null,null,null,null,null,null,1,0.3,1,1,1,1,0.5,1,1,1,null,null,null,null,null,null,null,null,null,null,null,0,1,null,1,1,1,1,1,1,1,1,1,1,15.2,15.569544740973313,15.94945054945055,16.191208791208791,16.38116169544741,16.774882260596545,17.044270015698586,17.406907378335951,17.672841444270016,3.9309866071428559,null,null,null,null,null,null,null,null,null,null,null,null,null,null,null,null,null,null,null,null,null,null,null,null,null,null,null,null,null,null,null,null,null,null,null,null,null,null,null,null,null,null,null,null,0.24918032786885647]
[45,43040,43070,42887,43009,43040,42979,43070,42887,43040,42979,null,null,null,null,null,null,null,null,null,null,null,1,1,0.5,0.3,1,0.4,1,0.5,1,0.4,null,null,null,null,null,null,null,null,null,null,null,3.2679738562091504E-3,-139.85294117647058,null,0.10130718954249573,0.19934640522876634,0.30065359477126208,0.39869281045753269,0.5,0.60130718954249573,0.69934640522876634,0.80065359477126208,0.89869281045753269,1,15.748571428571427,15.970909090909091,16.19948051948052,16.344935064935065,16.459220779220779,16.696103896103896,16.858181818181819,17.076363636363634,17.236363636363635,3.8360000000000003,null,null,null,null,null,null,null,null,null,null,null,null,null,null,null,null,null,null,null,null,null,null,null,null,null,null,null,null,null,null,null,null,null,null,null,null,null,null,null,null,null,null,null,null,0.25]
[46,42917,43070,42856,42887,42948,42887,43040,42948,42887,42856,null,null,null,null,null,null,null,null,null,null,null,1,1,0.5,0.5,1,0.5,1,1,0.5,0.5,null,null,null,null,null,null,null,null,null,null,null,2.7322404371584699E-3,-116.46857923497268,null,0.54234972677595294,0.62431693989070425,0.70901639344262435,0.79098360655737565,0.87568306010928154,0.96038251366120164,1.0423497267759529,1.127049180327873,1.2090163934426243,1.2937158469945302,15,15.274358974358973,15.556410256410256,15.735897435897435,15.876923076923077,16.169230769230769,16.369230769230768,16.638461538461538,16.835897435897436,3.6995000000000005,null,null,null,null,null,null,null,null,null,null,null,null,null,null,null,null,null,null,null,null,null,null,null,null,null,null,null,null,null,null,null,null,null,null,null,null,null,null,null,null,null,null,null,null,0.25]
[47,42856,42948,42856,43101,42917,42917,42856,42948,42826,43009,null,null,null,null,null,null,null,null,null,null,null,0.5,1,0.5,0.5,1,1,0.5,1,1,0.3,null,null,null,null,null,null,null,null,null,null,null,0,0.75,null,0.75,0.75,0.75,0.75,0.75,0.75,0.75,0.75,0.75,0.75,15.776441623810046,16.050605463763358,16.332456140350878,16.51181566181566,16.652741000109422,16.944840792209213,17.144698544698546,17.413737826895723,17.611033300506985,3.5473076923076921,null,null,null,null,null,null,null,null,null,null,null,null,null,null,null,null,null,null,null,null,null,null,null,null,null,null,null,null,null,null,null,null,null,null,null,null,null,null,null,null,null,null,null,null,0.25054347826086598]
[48,42917,42917,43070,42917,43070,42856,43009,42948,42948,42826,null,null,null,null,null,null,null,null,null,null,null,1,1,1,1,1,0.5,0.3,1,1,1,null,null,null,null,null,null,null,null,null,null,null,0,1,null,1,1,1,1,1,1,1,1,1,1,14.475960170697014,14.749928876244667,15.031578947368423,15.210810810810813,15.351635846372691,15.643527738264583,15.843243243243245,16.112091038406831,16.309246088193458,3.7807499999999994,null,null,null,null,null,null,null,null,null,null,null,null,null,null,null,null,null,null,null,null,null,null,null,null,null,null,null,null,null,null,null,null,null,null,null,null,null,null,null,null,null,null,null,null,0.26013071895425099]
[49,43009,43040,42979,43040,43009,43101,43101,43101,42948,42856,null,null,null,null,null,null,null,null,null,null,null,0.3,1,0.4,1,0.3,0.5,0.5,0.5,1,0.5,null,null,null,null,null,null,null,null,null,null,null,0,0.5,null,0.5,0.5,0.5,0.5,0.5,0.5,0.5,0.5,0.5,0.5,14.901851851851852,15.1,15.303703703703704,15.433333333333334,15.535185185185185,15.746296296296297,15.890740740740741,16.085185185185185,16.227777777777778,3.7666250000000012,null,null,null,null,null,null,null,null,null,null,null,null,null,null,null,null,null,null,null,null,null,null,null,null,null,null,null,null,null,null,null,null,null,null,null,null,null,null,null,null,null,null,null,null,0.26013071895425099]
[50,42948,43070,43101,43070,42948,43070,43040,43040,43070,42917,null,null,null,null,null,null,null,null,null,null,null,1,1,0.5,1,1,1,1,1,1,1,null,null,null,null,null,null,null,null,null,null,null,0,1,null,1,1,1,1,1,1,1,1,1,1,13.804409672830726,14.078378378378378,14.360028449502135,14.539260312944524,14.680085348506402,14.971977240398294,15.171692745376957,15.440540540540542,15.637695590327169,3.7895624999999997,null,null,null,null,null,null,null,null,null,null,null,null,null,null,null,null,null,null,null,null,null,null,null,null,null,null,null,null,null,null,null,null,null,null,null,null,null,null,null,null,null,null,null,null,0.2673913043478251]
[51,43101,42948,43070,43040,43009,42887,43070,42979,42826,42917,null,null,null,null,null,null,null,null,null,null,null,0.5,1,1,1,0.3,0.5,1,0.4,1,1,null,null,null,null,null,null,null,null,null,null,null,0,1,null,1,1,1,1,1,1,1,1,1,1,14.099999999999998,14.515664160401002,14.942982456140349,15.214912280701753,15.428571428571427,15.871428571428568,16.174436090225562,16.582330827067665,16.881453634085211,3.4647500000000004,null,null,null,null,null,null,null,null,null,null,null,null,null,null,null,null,null,null,null,null,null,null,null,null,null,null,null,null,null,null,null,null,null,null,null,null,null,null,null,null,null,null,null,null,0.27026143790850199]
[52,42917,43070,42948,42917,42917,42856,42826,43101,42887,42826,null,null,null,null,null,null,null,null,null,null,null,1,1,1,1,1,0.5,1,0.5,0.5,1,null,null,null,null,null,null,null,null,null,null,null,0,1,null,1,1,1,1,1,1,1,1,1,1,15,15.282456140350877,15.572831611739629,15.757616002623381,15.902803738317758,16.203738317757008,16.409640924741762,16.686817511067389,16.890080341039514,3.4306000000000001,null,null,null,null,null,null,null,null,null,null,null,null,null,null,null,null,null,null,null,null,null,null,null,null,null,null,null,null,null,null,null,null,null,null,null,null,null,null,null,null,null,null,null,null,0.27099073414112951]
[53,42917,42856,43009,42887,43101,42979,43040,42979,42856,42917,null,null,null,null,null,null,null,null,null,null,null,1,0.5,0.3,0.5,0.5,0.4,1,0.4,0.5,1,null,null,null,null,null,null,null,null,null,null,null,0,0.5,null,0.5,0.5,0.5,0.5,0.5,0.5,0.5,0.5,0.5,0.5,15.1,15.454739445004121,15.81942485575602,16.051497389870867,16.233840095246816,16.611786793662422,16.870381903104679,17.218490704276945,17.473770491803275,2.8942500000000004,null,null,null,null,null,null,null,null,null,null,null,null,null,null,null,null,null,null,null,null,null,null,null,null,null,null,null,null,null,null,null,null,null,null,null,null,null,null,null,null,null,null,null,null,0.27260879961740869]
[54,42887,42856,43070,43101,42979,42856,42917,43009,42979,43070,null,null,null,null,null,null,null,null,null,null,null,0.5,0.5,1,0.5,0.4,0.5,1,0.3,0.4,1,null,null,null,null,null,null,null,null,null,null,null,0,0.5,null,0.5,0.5,0.5,0.5,0.5,0.5,0.5,0.5,0.5,0.5,14.026329110177016,14.305532532117693,14.592564087383812,14.775220531644068,14.918736309277127,15.216205375643831,15.419736842105261,15.693721508495646,15.894643597181929,3.6665714285714293,null,null,null,null,null,null,null,null,null,null,null,null,null,null,null,null,null,null,null,null,null,null,null,null,null,null,null,null,null,null,null,null,null,null,null,null,null,null,null,null,null,null,null,null,0.27459016393443392]
[55,42887,42979,42856,43009,42979,42917,42856,42826,42856,42856,null,null,null,null,null,null,null,null,null,null,null,0.5,0.4,0.5,0.3,0.4,1,0.5,1,0.5,0.5,null,null,null,null,null,null,null,null,null,null,null,-1.0869565217391302E-3,47.099456521739121,null,0.54945652173913118,0.51684782608695912,0.48315217391304088,0.45054347826086882,0.4168478260869577,0.38315217391304657,0.3505434782608674,0.31684782608695627,0.28423913043478422,0.25054347826086598,13.521874999999998,13.856249999999999,14.2,14.418749999999999,14.590624999999999,14.946874999999999,15.190624999999997,15.518749999999997,15.759374999999999,3.7075454545454543,null,null,null,null,null,null,null,null,null,null,null,null,null,null,null,null,null,null,null,null,null,null,null,null,null,null,null,null,null,null,null,null,null,null,null,null,null,null,null,null,null,null,null,null,0.27818181818182097]
[56,43040,43070,43009,43070,42856,43040,42887,42887,43009,43040,null,null,null,null,null,null,null,null,null,null,null,1,1,0.3,1,0.5,1,0.5,0.5,0.3,1,null,null,null,null,null,null,null,null,null,null,null,2.7322404371584699E-3,-116.80327868852459,null,0.20765027322404706,0.28961748633879836,0.37431693989071846,0.45628415300546976,0.54098360655737565,0.62568306010929575,0.70765027322404706,0.79234972677596716,0.87431693989071846,0.95901639344262435,14.472625698324022,14.831284916201117,15.2,15.434636871508378,15.618994413407819,16.001117318435753,16.262569832402232,16.614525139664803,16.872625698324022,2.9904999999999999,null,null,null,null,null,null,null,null,null,null,null,null,null,null,null,null,null,null,null,null,null,null,null,null,null,null,null,null,null,null,null,null,null,null,null,null,null,null,null,null,null,null,null,null,0.27973856209150938]
[57,43009,42979,42979,42826,43040,43101,43070,43070,42856,42856,null,null,null,null,null,null,null,null,null,null,null,0.3,0.4,0.4,1,1,0.5,1,1,0.5,0.5,null,null,null,null,null,null,null,null,null,null,null,0,0.5,null,0.5,0.5,0.5,0.5,0.5,0.5,0.5,0.5,0.5,0.5,13.364102564102565,13.638461538461538,13.920512820512821,14.1,14.24102564102564,14.533333333333333,14.733333333333334,15.002564102564103,15.2,3.0932500000000003,null,null,null,null,null,null,null,null,null,null,null,null,null,null,null,null,null,null,null,null,null,null,null,null,null,null,null,null,null,null,null,null,null,null,null,null,null,null,null,null,null,null,null,null,0.27973856209150938]
[58,43040,42856,42948,42979,42826,43101,42948,42856,43070,42948,null,null,null,null,null,null,null,null,null,null,null,1,0.5,1,0.4,1,0.5,1,0.5,1,1,null,null,null,null,null,null,null,null,null,null,null,0,1,null,1,1,1,1,1,1,1,1,1,1,14.767884750527056,15.038580463808854,15.316865776528461,15.493956430077301,15.633099086437104,15.921503865073788,16.11883345045678,16.384469430780044,16.579269149683768,3.6991249999999987,null,null,null,null,null,null,null,null,null,null,null,null,null,null,null,null,null,null,null,null,null,null,null,null,null,null,null,null,null,null,null,null,null,null,null,null,null,null,null,null,null,null,null,null,0.28369565217391113]
[59,42948,42826,43009,43040,42856,43040,42856,43009,42948,42887,null,null,null,null,null,null,null,null,null,null,null,1,1,0.3,1,0.5,1,0.5,0.3,1,0.5,null,null,null,null,null,null,null,null,null,null,null,0,0.75,null,0.75,0.75,0.75,0.75,0.75,0.75,0.75,0.75,0.75,0.75,14.156064073226544,14.47437070938215,14.801601830663614,15.009839816933638,15.173455377574371,15.51258581235698,15.744622425629291,16.056979405034326,16.28604118993135,3.6037999999999997,null,null,null,null,null,null,null,null,null,null,null,null,null,null,null,null,null,null,null,null,null,null,null,null,null,null,null,null,null,null,null,null,null,null,null,null,null,null,null,null,null,null,null,null,0.28369565217391113]
[60,42979,42979,43070,42887,43070,42887,43040,42887,42917,43101,null,null,null,null,null,null,null,null,null,null,null,0.4,0.4,1,0.5,1,0.5,1,0.5,1,0.5,null,null,null,null,null,null,null,null,null,null,null,4.0983606557377038E-4,-17.114344262295077,null,0.43729508196721412,0.44959016393442752,0.4622950819672127,0.4745901639344261,0.48729508196721483,0.5,0.51229508196721341,0.52499999999999858,0.53729508196721198,0.55000000000000071,15.099999999999998,15.52047569803516,15.952740434332988,16.227817993795242,16.443950361944157,16.89193381592554,17.198448810754911,17.611065149948296,17.913650465356774,3.7030909090909105,null,null,null,null,null,null,null,null,null,null,null,null,null,null,null,null,null,null,null,null,null,null,null,null,null,null,null,null,null,null,null,null,null,null,null,null,null,null,null,null,null,null,null,null,0.28909090909090196]
[61,42917,43101,42887,42826,42856,43040,43070,43070,43040,42856,null,null,null,null,null,null,null,null,null,null,null,1,0.5,0.5,1,0.5,1,1,1,1,0.5,null,null,null,null,null,null,null,null,null,null,null,0,1,null,1,1,1,1,1,1,1,1,1,1,14.436242504996669,14.785542971352431,15.144636908727515,15.373151232511658,15.552698201199199,15.924850099933376,16.17948034643571,16.522251832111923,16.773617588274483,3.7864999999999984,null,null,null,null,null,null,null,null,null,null,null,null,null,null,null,null,null,null,null,null,null,null,null,null,null,null,null,null,null,null,null,null,null,null,null,null,null,null,null,null,null,null,null,null,0.29166666666665719]
[62,43101,43040,43040,43009,42979,42856,42887,42917,43009,43101,null,null,null,null,null,null,null,null,null,null,null,0.5,1,1,0.3,0.4,0.5,0.5,1,0.3,0.5,null,null,null,null,null,null,null,null,null,null,null,0,0.5,null,0.5,0.5,0.5,0.5,0.5,0.5,0.5,0.5,0.5,0.5,15.3,15.658659217877094,16.027374301675977,16.262011173184359,16.4463687150838,16.82849162011173,17.089944134078213,17.44189944134078,17.7,3.8417647058823539,null,null,null,null,null,null,null,null,null,null,null,null,null,null,null,null,null,null,null,null,null,null,null,null,null,null,null,null,null,null,null,null,null,null,null,null,null,null,null,null,null,null,null,null,0.29918032786885362]
[63,43101,42856,42856,42917,42917,42979,43070,42887,43009,42887,null,null,null,null,null,null,null,null,null,null,null,0.5,0.5,0.5,1,1,0.4,1,0.5,0.3,0.5,null,null,null,null,null,null,null,null,null,null,null,0,0.5,null,0.5,0.5,0.5,0.5,0.5,0.5,0.5,0.5,0.5,0.5,13.740106951871658,14.134284016636958,14.539512774806893,14.797385620915033,15,15.419964349376114,15.707308377896613,16.094117647058823,16.37777777777778,3.4466243315508027,null,null,null,null,null,null,null,null,null,null,null,null,null,null,null,null,null,null,null,null,null,null,null,null,null,null,null,null,null,null,null,null,null,null,null,null,null,null,null,null,null,null,null,null,0.29999999999999716]
[64,42887,42917,42979,43101,42887,43040,43101,43101,43040,43009,null,null,null,null,null,null,null,null,null,null,null,0.5,1,0.4,0.5,0.5,1,0.5,0.5,1,0.3,null,null,null,null,null,null,null,null,null,null,null,0,0.5,null,0.5,0.5,0.5,0.5,0.5,0.5,0.5,0.5,0.5,0.5,14.721452148257423,14.957418139669661,15.2,15.35437027475567,15.47566120492084,15.727064223808647,15.899076815679249,16.130632227812754,16.300439530043992,3.8000000000000007,null,null,null,null,null,null,null,null,null,null,null,null,null,null,null,null,null,null,null,null,null,null,null,null,null,null,null,null,null,null,null,null,null,null,null,null,null,null,null,null,null,null,null,null,0.29999999999999716]
[65,43009,42887,43040,43040,43040,42948,43101,43070,43101,43009,null,null,null,null,null,null,null,null,null,null,null,0.3,0.5,1,1,1,1,0.5,1,0.5,0.3,null,null,null,null,null,null,null,null,null,null,null,0,0.75,null,0.75,0.75,0.75,0.75,0.75,0.75,0.75,0.75,0.75,0.75,13.894705127890637,14.217717557760171,14.549786410897076,14.761102953802379,14.92713738037083,15.271281464530894,15.506748469482517,15.823723283840469,16.056171481036301,3.4780000000000015,null,null,null,null,null,null,null,null,null,null,null,null,null,null,null,null,null,null,null,null,null,null,null,null,null,null,null,null,null,null,null,null,null,null,null,null,null,null,null,null,null,null,null,null,0.30000000000000426]
[66,42948,43040,43070,43009,42948,42887,42856,43009,42917,43009,null,null,null,null,null,null,null,null,null,null,null,1,1,1,0.3,1,0.5,0.5,0.3,1,0.3,null,null,null,null,null,null,null,null,null,null,null,0,0.75,null,0.75,0.75,0.75,0.75,0.75,0.75,0.75,0.75,0.75,0.75,15,15.334375000000001,15.678125000000001,15.896875000000001,16.068750000000001,16.425000000000001,16.668749999999999,16.996874999999999,17.237500000000001,3.7990000000000004,null,null,null,null,null,null,null,null,null,null,null,null,null,null,null,null,null,null,null,null,null,null,null,null,null,null,null,null,null,null,null,null,null,null,null,null,null,null,null,null,null,null,null,null,0.30000000000000426]
[67,42979,42826,42887,42948,42917,43009,42948,42979,42948,42917,null,null,null,null,null,null,null,null,null,null,null,0.4,1,0.5,1,1,0.3,1,0.4,1,1,null,null,null,null,null,null,null,null,null,null,null,-3.3333333333333344E-3,144.16000000000005,null,1.4066666666666663,1.306666666666672,1.2033333333333474,1.103333333333353,1,0.89666666666667538,0.79666666666668107,0.69333333333332803,0.59333333333333371,0.49000000000000909,14.274065934065934,14.344615384615384,14.417142857142856,14.463296703296702,14.499560439560438,14.574725274725273,14.626153846153844,14.695384615384613,14.746153846153844,3.1247500000000006,null,null,null,null,null,null,null,null,null,null,null,null,null,null,null,null,null,null,null,null,null,null,null,null,null,null,null,null,null,null,null,null,null,null,null,null,null,null,null,null,null,null,null,null,0.30000000000000426]
[68,42979,43040,42826,42826,43101,43040,42948,42917,43009,42917,null,null,null,null,null,null,null,null,null,null,null,0.4,1,1,1,0.5,1,1,1,0.3,1,null,null,null,null,null,null,null,null,null,null,null,0,1,null,1,1,1,1,1,1,1,1,1,1,14.751001535909642,15.100000000000001,15.458783467756444,15.687100219965089,15.86649195384331,16.238322093154533,16.492732188472736,16.835207316785706,17.086355744215215,4.2999166666666673,null,null,null,null,null,null,null,null,null,null,null,null,null,null,null,null,null,null,null,null,null,null,null,null,null,null,null,null,null,null,null,null,null,null,null,null,null,null,null,null,null,null,null,null,0.30000000000000426]
[69,43070,43070,42856,43009,43101,42887,42856,42887,42917,43101,null,null,null,null,null,null,null,null,null,null,null,1,1,0.5,0.3,0.5,0.5,0.5,0.5,1,0.5,null,null,null,null,null,null,null,null,null,null,null,0,0.5,null,0.5,0.5,0.5,0.5,0.5,0.5,0.5,0.5,0.5,0.5,15,15.374957264957265,15.760427350427349,16.005726495726496,16.198461538461537,16.597948717948718,16.871282051282051,17.239230769230769,17.509059829059829,3.4267272727272733,null,null,null,null,null,null,null,null,null,null,null,null,null,null,null,null,null,null,null,null,null,null,null,null,null,null,null,null,null,null,null,null,null,null,null,null,null,null,null,null,null,null,null,null,0.30054347826086314]
[70,43101,43070,42826,43009,42856,43070,42917,42826,42887,42826,null,null,null,null,null,null,null,null,null,null,null,0.5,1,1,0.3,0.5,1,1,1,0.5,1,null,null,null,null,null,null,null,null,null,null,null,0,1,null,1,1,1,1,1,1,1,1,1,1,15,15.413264331016348,15.838115512435024,16.108475355155999,16.32090094586534,16.761201261153786,17.062459371614302,17.467999135695763,17.765394962688838,3.9222857142857146,null,null,null,null,null,null,null,null,null,null,null,null,null,null,null,null,null,null,null,null,null,null,null,null,null,null,null,null,null,null,null,null,null,null,null,null,null,null,null,null,null,null,null,null,0.30545454545455186]
[71,43009,42979,43040,43040,42887,42948,42917,42948,43101,43101,null,null,null,null,null,null,null,null,null,null,null,0.3,0.4,1,1,0.5,1,1,1,0.5,0.5,null,null,null,null,null,null,null,null,null,null,null,0,0.75,null,0.75,0.75,0.75,0.75,0.75,0.75,0.75,0.75,0.75,0.75,14.478846153846154,14.684615384615384,14.896153846153847,15.030769230769231,15.136538461538462,15.35576923076923,15.50576923076923,15.707692307692309,15.85576923076923,3.8420000000000005,null,null,null,null,null,null,null,null,null,null,null,null,null,null,null,null,null,null,null,null,null,null,null,null,null,null,null,null,null,null,null,null,null,null,null,null,null,null,null,null,null,null,null,null,0.31013071895425526]
[72,42979,43101,43009,43009,42948,43040,42826,42948,42887,42856,null,null,null,null,null,null,null,null,null,null,null,0.4,0.5,0.3,0.3,1,1,1,1,0.5,0.5,null,null,null,null,null,null,null,null,null,null,null,-1.0869565217391302E-3,47.199456521739123,null,0.6494565217391326,0.61684782608696054,0.5831521739130423,0.55054347826087024,0.51684782608695912,0.48315217391304799,0.45054347826086882,0.4168478260869577,0.38423913043478564,0.3505434782608674,13.903369065849926,14.231087289433386,14.56799387442573,14.782388973966311,14.950842266462484,15.3,15.538897396630936,15.860490045941809,16.096324655436447,3.4245999999999999,null,null,null,null,null,null,null,null,null,null,null,null,null,null,null,null,null,null,null,null,null,null,null,null,null,null,null,null,null,null,null,null,null,null,null,null,null,null,null,null,null,null,null,null,0.31256682109765421]
[73,43040,42826,42887,43101,43040,43070,43101,42826,43101,43040,null,null,null,null,null,null,null,null,null,null,null,1,1,0.5,0.5,1,1,0.5,1,0.5,1,null,null,null,null,null,null,null,null,null,null,null,-1.8181818181818182E-3,79.25454545454545,null,1.3890909090909105,1.3345454545454487,1.278181818181821,1.2236363636363592,1.1672727272727172,1.1109090909090895,1.0563636363636277,1,0.94545454545453822,0.88909090909091049,15,15.32771822358346,15.664624808575804,15.879019908116385,16.047473200612558,16.396630934150075,16.63552833078101,16.957120980091883,17.192955589586525,3.5604505494505485,null,null,null,null,null,null,null,null,null,null,null,null,null,null,null,null,null,null,null,null,null,null,null,null,null,null,null,null,null,null,null,null,null,null,null,null,null,null,null,null,null,null,null,null,0.31341463414634063]
[74,42856,42856,42826,42826,42948,42948,42856,42948,42917,42826,null,null,null,null,null,null,null,null,null,null,null,0.5,0.5,1,1,1,1,0.5,1,1,1,null,null,null,null,null,null,null,null,null,null,null,0,1,null,1,1,1,1,1,1,1,1,1,1,13.57944147355912,13.97361853832442,14.378847296494355,14.636720142602496,14.839334521687462,15.259298871063576,15.546642899584075,15.933452168746285,16.217112299465242,4.0230999999999995,null,null,null,null,null,null,null,null,null,null,null,null,null,null,null,null,null,null,null,null,null,null,null,null,null,null,null,null,null,null,null,null,null,null,null,null,null,null,null,null,null,null,null,null,0.31341463414634063]
[75,42887,42856,42979,42856,43101,43070,42979,42917,42948,43070,null,null,null,null,null,null,null,null,null,null,null,0.5,0.5,0.4,0.5,0.5,1,0.4,1,1,1,null,null,null,null,null,null,null,null,null,null,null,0,0.5,null,0.5,0.5,0.5,0.5,0.5,0.5,0.5,0.5,0.5,0.5,14.305128205128206,14.579487179487179,14.861538461538462,15.041025641025641,15.182051282051283,15.474358974358974,15.674358974358974,15.943589743589744,16.141025641025642,4.0247142857142855,null,null,null,null,null,null,null,null,null,null,null,null,null,null,null,null,null,null,null,null,null,null,null,null,null,null,null,null,null,null,null,null,null,null,null,null,null,null,null,null,null,null,null,null,0.31341463414634063]
[76,42917,42948,42887,43040,42826,42979,43101,43009,43040,42948,null,null,null,null,null,null,null,null,null,null,null,1,1,0.5,1,1,0.4,0.5,0.3,1,1,null,null,null,null,null,null,null,null,null,null,null,0,1,null,1,1,1,1,1,1,1,1,1,1,14.331632334581773,14.54710453079484,14.768618003537245,14.909581122555139,15.020337858926341,15.249906367041197,15.406979556803993,15.618424235330835,15.773483666250518,3.5734285714285701,null,null,null,null,null,null,null,null,null,null,null,null,null,null,null,null,null,null,null,null,null,null,null,null,null,null,null,null,null,null,null,null,null,null,null,null,null,null,null,null,null,null,null,null,0.31684782608695627]
[77,43070,43040,42948,42948,42887,43040,42979,42826,43070,42826,null,null,null,null,null,null,null,null,null,null,null,1,1,1,1,0.5,1,0.4,1,1,1,null,null,null,null,null,null,null,null,null,null,null,0,1,null,1,1,1,1,1,1,1,1,1,1,14.664391143911438,15,15.345018450184501,15.564575645756456,15.737084870848708,16.094649446494465,16.339298892988928,16.668634686346863,16.910147601476012,3.5772272727272743,null,null,null,null,null,null,null,null,null,null,null,null,null,null,null,null,null,null,null,null,null,null,null,null,null,null,null,null,null,null,null,null,null,null,null,null,null,null,null,null,null,null,null,null,0.31684782608695627]
[78,42948,42856,42856,43040,42948,43070,43040,42948,42887,42948,null,null,null,null,null,null,null,null,null,null,null,1,0.5,0.5,1,1,1,1,1,0.5,1,null,null,null,null,null,null,null,null,null,null,null,2.717391304347826E-3,-115.70652173913044,null,0.66847826086956275,0.75,0.83423913043478137,0.91576086956521863,1,1.0842391304347814,1.1657608695652186,1.25,1.331521739130423,1.4157608695652186,15.189338235294118,15.386029411764705,15.588235294117647,15.716911764705882,15.818014705882351,16.027573529411764,16.170955882352942,16.363970588235293,16.505514705882351,3.5849583333333337,null,null,null,null,null,null,null,null,null,null,null,null,null,null,null,null,null,null,null,null,null,null,null,null,null,null,null,null,null,null,null,null,null,null,null,null,null,null,null,null,null,null,null,null,0.31684782608695627]
[79,42979,42826,43040,43040,42979,43009,42917,42979,43040,42826,null,null,null,null,null,null,null,null,null,null,null,0.4,1,1,1,0.4,0.3,1,0.4,1,1,null,null,null,null,null,null,null,null,null,null,null,0,1,null,1,1,1,1,1,1,1,1,1,1,15.95945945945946,16.248648648648647,16.545945945945945,16.735135135135135,16.883783783783784,17.191891891891892,17.402702702702705,17.686486486486487,17.894594594594594,3.5514090909090914,null,null,null,null,null,null,null,null,null,null,null,null,null,null,null,null,null,null,null,null,null,null,null,null,null,null,null,null,null,null,null,null,null,null,null,null,null,null,null,null,null,null,null,null,0.31684782608695627]
[80,42979,42856,42887,42856,42826,42887,43101,42979,42856,42887,null,null,null,null,null,null,null,null,null,null,null,0.4,0.5,0.5,0.5,1,0.5,0.5,0.4,0.5,0.5,null,null,null,null,null,null,null,null,null,null,null,-8.130081300813006E-4,35.367479674796741,null,0.54959349593496398,0.52520325203252582,0.5,0.47560975609756184,0.45040650406504312,0.4252032520325244,0.40081300813008625,0.37560975609756042,0.35121951219512226,0.32601626016260354,14.1,14.417472527472526,14.743846153846153,14.951538461538462,15.114725274725274,15.452967032967033,15.684395604395604,15.995934065934065,16.224395604395603,3.5946041666666675,null,null,null,null,null,null,null,null,null,null,null,null,null,null,null,null,null,null,null,null,null,null,null,null,null,null,null,null,null,null,null,null,null,null,null,null,null,null,null,null,null,null,null,null,0.31684782608696338]
[81,43009,42887,43009,43101,42917,42917,43070,42979,42856,42887,null,null,null,null,null,null,null,null,null,null,null,0.3,0.5,0.3,0.5,1,1,1,0.4,0.5,0.5,null,null,null,null,null,null,null,null,null,null,null,0,0.5,null,0.5,0.5,0.5,0.5,0.5,0.5,0.5,0.5,0.5,0.5,13.810989010989012,14.018094405594406,14.231006493506495,14.366496003996005,14.472952047952049,14.693606393606395,14.844580419580421,15.047814685314686,15.196853146853147,3.6165000000000003,null,null,null,null,null,null,null,null,null,null,null,null,null,null,null,null,null,null,null,null,null,null,null,null,null,null,null,null,null,null,null,null,null,null,null,null,null,null,null,null,null,null,null,null,0.31727272727272293]
[82,43009,42979,42826,43009,42917,43040,43070,42856,42887,42887,null,null,null,null,null,null,null,null,null,null,null,0.3,0.4,1,0.3,1,1,1,0.5,0.5,0.5,null,null,null,null,null,null,null,null,null,null,null,0,0.5,null,0.5,0.5,0.5,0.5,0.5,0.5,0.5,0.5,0.5,0.5,15.319135677986608,15.546781479390173,15.780809873356457,15.929737033153181,16.046751230136323,16.289289747519561,16.455237154150197,16.678627893845285,16.842447769621682,3.684687499999999,null,null,null,null,null,null,null,null,null,null,null,null,null,null,null,null,null,null,null,null,null,null,null,null,null,null,null,null,null,null,null,null,null,null,null,null,null,null,null,null,null,null,null,null,0.31739130434782226]
[83,43101,43101,43070,43070,42979,43040,43101,43070,42826,42887,null,null,null,null,null,null,null,null,null,null,null,0.5,0.5,1,1,0.4,1,0.5,1,1,0.5,null,null,null,null,null,null,null,null,null,null,null,0,0.75,null,0.75,0.75,0.75,0.75,0.75,0.75,0.75,0.75,0.75,0.75,13.563726884779518,13.83769559032717,14.119345661450925,14.298577524893316,14.439402560455193,14.731294452347086,14.931009957325749,15.199857752489333,15.397012802275963,3.6864999999999988,null,null,null,null,null,null,null,null,null,null,null,null,null,null,null,null,null,null,null,null,null,null,null,null,null,null,null,null,null,null,null,null,null,null,null,null,null,null,null,null,null,null,null,null,0.31739130434782226]
[84,42887,42917,42948,43009,42979,42917,42948,43101,42917,42979,null,null,null,null,null,null,null,null,null,null,null,0.5,1,1,0.3,0.4,1,1,0.5,1,0.4,null,null,null,null,null,null,null,null,null,null,null,-2.717391304347826E-3,117.45652173913044,null,1.0815217391304373,1,0.91576086956521863,0.83423913043478137,0.75,0.66576086956521863,0.58423913043478137,0.5,0.41847826086957696,0.33423913043478137,13.988922411936956,14.185181616570494,14.386943415726467,14.515337287916632,14.616218187494617,14.825316779347171,14.968384236930497,15.160975045215745,15.302208304624925,3.5966538461538473,null,null,null,null,null,null,null,null,null,null,null,null,null,null,null,null,null,null,null,null,null,null,null,null,null,null,null,null,null,null,null,null,null,null,null,null,null,null,null,null,null,null,null,null,0.31739130434782226]
[85,42887,42826,43070,43009,42917,43040,42917,42917,42856,43101,null,null,null,null,null,null,null,null,null,null,null,0.5,1,1,0.3,1,1,1,1,0.5,0.5,null,null,null,null,null,null,null,null,null,null,null,0,1,null,1,1,1,1,1,1,1,1,1,1,14.28888888888889,14.487037037037037,14.690740740740742,14.820370370370371,14.922222222222222,15.133333333333333,15.277777777777779,15.472222222222223,15.614814814814816,3.6295833333333327,null,null,null,null,null,null,null,null,null,null,null,null,null,null,null,null,null,null,null,null,null,null,null,null,null,null,null,null,null,null,null,null,null,null,null,null,null,null,null,null,null,null,null,null,0.31739130434782226]
[86,43009,42856,42917,42917,43040,42917,43040,43101,42979,42887,null,null,null,null,null,null,null,null,null,null,null,0.3,0.5,1,1,1,1,1,0.5,0.4,0.5,null,null,null,null,null,null,null,null,null,null,null,0,0.75,null,0.75,0.75,0.75,0.75,0.75,0.75,0.75,0.75,0.75,0.75,13.457847341043244,13.8,14.151745724161152,14.375583912263703,14.551456774344281,14.915993252111292,15.165412947425564,15.50117022957939,15.747392236492198,3.6223749999999999,null,null,null,null,null,null,null,null,null,null,null,null,null,null,null,null,null,null,null,null,null,null,null,null,null,null,null,null,null,null,null,null,null,null,null,null,null,null,null,null,null,null,null,null,0.32026143790849915]
[87,43009,43101,42979,42887,42826,42979,42979,42948,43040,42856,null,null,null,null,null,null,null,null,null,null,null,0.3,0.5,0.4,0.5,1,0.4,0.4,1,1,0.5,null,null,null,null,null,null,null,null,null,null,null,-9.4998232591021541E-4,41.329290385295145,null,0.64534729586426209,0.61684782608695343,0.58739837398373851,0.55889890420642985,0.52944945210321492,0.5,0.47150053022269134,0.44205107811947641,0.41355160834216775,0.38410215623895283,13.246629213483146,13.66741573033708,14.100000000000001,14.375280898876404,14.591573033707865,15.039887640449439,15.346629213483146,15.759550561797752,16.062359550561798,3.8669545454545453,null,null,null,null,null,null,null,null,null,null,null,null,null,null,null,null,null,null,null,null,null,null,null,null,null,null,null,null,null,null,null,null,null,null,null,null,null,null,null,null,null,null,null,null,0.32459016393443108]
[88,43040,42948,43070,42856,42826,43009,42856,43101,43009,42917,null,null,null,null,null,null,null,null,null,null,null,1,1,1,0.5,1,0.3,0.5,0.5,0.3,1,null,null,null,null,null,null,null,null,null,null,null,0,0.75,null,0.75,0.75,0.75,0.75,0.75,0.75,0.75,0.75,0.75,0.75,14.049039264828737,14.335087719298246,14.629156223893066,14.816290726817043,14.963324979114454,15.268086883876357,15.476608187134502,15.757309941520468,15.963157894736842,3.4190555555555546,null,null,null,null,null,null,null,null,null,null,null,null,null,null,null,null,null,null,null,null,null,null,null,null,null,null,null,null,null,null,null,null,null,null,null,null,null,null,null,null,null,null,null,null,0.32520325203251588]
[89,42856,42826,43040,43070,42856,43009,42887,42856,43070,43101,null,null,null,null,null,null,null,null,null,null,null,0.5,1,1,1,0.5,0.3,0.5,0.5,1,0.5,null,null,null,null,null,null,null,null,null,null,null,0,0.5,null,0.5,0.5,0.5,0.5,0.5,0.5,0.5,0.5,0.5,0.5,15.705128205128204,15.979487179487178,16.261538461538461,16.441025641025639,16.582051282051282,16.874358974358973,17.074358974358972,17.343589743589742,17.541025641025641,3.6158181818181827,null,null,null,null,null,null,null,null,null,null,null,null,null,null,null,null,null,null,null,null,null,null,null,null,null,null,null,null,null,null,null,null,null,null,null,null,null,null,null,null,null,null,null,null,0.32560975609756326]
[90,42887,42948,42887,42887,42856,42826,42856,42948,42856,42979,null,null,null,null,null,null,null,null,null,null,null,0.5,1,0.5,0.5,0.5,1,0.5,1,0.5,0.4,null,null,null,null,null,null,null,null,null,null,null,0,0.5,null,0.5,0.5,0.5,0.5,0.5,0.5,0.5,0.5,0.5,0.5,14.310714285714285,14.517708333333333,14.730505952380952,14.865922619047618,14.972321428571428,15.192857142857141,15.343749999999998,15.546874999999998,15.695833333333331,3.3268000000000004,null,null,null,null,null,null,null,null,null,null,null,null,null,null,null,null,null,null,null,null,null,null,null,null,null,null,null,null,null,null,null,null,null,null,null,null,null,null,null,null,null,null,null,null,0.32601626016260354]
[91,42948,42826,43009,43040,43009,43101,42948,42826,43009,42948,null,null,null,null,null,null,null,null,null,null,null,1,1,0.3,1,0.3,0.5,1,1,0.3,1,null,null,null,null,null,null,null,null,null,null,null,-2.5430778371954843E-3,110.29767082590612,null,1.3878193701723092,1.311527035056443,1.2326916221033883,1.1563992869875221,1.0775638740344675,0.99872846108139868,0.92243612596554669,0.84360071301247785,0.76730837789661166,0.68847296494355703,14.33957264957265,14.714529914529916,15.100000000000001,15.345299145299146,15.538034188034189,15.937521367521366,16.2108547008547,16.578803418803417,16.848632478632478,3.1866111111111115,null,null,null,null,null,null,null,null,null,null,null,null,null,null,null,null,null,null,null,null,null,null,null,null,null,null,null,null,null,null,null,null,null,null,null,null,null,null,null,null,null,null,null,null,0.33272727272728275]
[92,43101,42917,42856,43070,43101,43070,43009,42979,42917,43040,null,null,null,null,null,null,null,null,null,null,null,0.5,1,0.5,1,0.5,1,0.3,0.4,1,1,null,null,null,null,null,null,null,null,null,null,null,0,0.75,null,0.75,0.75,0.75,0.75,0.75,0.75,0.75,0.75,0.75,0.75,14.66860119047619,14.875595238095238,15.088392857142857,15.223809523809523,15.330208333333333,15.550744047619046,15.701636904761903,15.904761904761903,16.053720238095238,3.6485000000000003,null,null,null,null,null,null,null,null,null,null,null,null,null,null,null,null,null,null,null,null,null,null,null,null,null,null,null,null,null,null,null,null,null,null,null,null,null,null,null,null,null,null,null,null,0.33369565217390829]
[93,42826,43009,42917,42917,43070,42887,42856,42856,42979,43040,null,null,null,null,null,null,null,null,null,null,null,1,0.3,1,1,1,0.5,0.5,0.5,0.4,1,null,null,null,null,null,null,null,null,null,null,null,0,0.75,null,0.75,0.75,0.75,0.75,0.75,0.75,0.75,0.75,0.75,0.75,14.063726884779518,14.33769559032717,14.619345661450925,14.798577524893316,14.939402560455193,15.231294452347086,15.431009957325749,15.699857752489333,15.897012802275963,3.4881111111111123,null,null,null,null,null,null,null,null,null,null,null,null,null,null,null,null,null,null,null,null,null,null,null,null,null,null,null,null,null,null,null,null,null,null,null,null,null,null,null,null,null,null,null,null,0.33369565217390829]
[94,43070,42826,42917,42856,43009,42979,43009,42826,42948,42948,null,null,null,null,null,null,null,null,null,null,null,1,1,1,0.5,0.3,0.4,0.3,1,1,1,null,null,null,null,null,null,null,null,null,null,null,-1.0600988362824805E-3,46.529124820659973,null,1.1293320580264634,1.0975290929379895,1.0646660290132317,1.0328630639247578,1,0.9671369360752422,0.93533397098676829,0.9024709070620105,0.87066794197353659,0.83780487804877879,14.254480922803905,14.501330967169476,14.755102040816327,14.91659272404614,15.043478260869566,15.306477373558121,15.48642413487134,15.72866015971606,15.906299911268857,3.7590000000000003,null,null,null,null,null,null,null,null,null,null,null,null,null,null,null,null,null,null,null,null,null,null,null,null,null,null,null,null,null,null,null,null,null,null,null,null,null,null,null,null,null,null,null,null,0.33369565217390829]
[95,43070,42948,42826,42979,42979,42948,42917,42948,43040,43101,null,null,null,null,null,null,null,null,null,null,null,1,1,1,0.4,0.4,1,1,1,1,0.5,null,null,null,null,null,null,null,null,null,null,null,0,1,null,1,1,1,1,1,1,1,1,1,1,15.2,15.592900856793145,15.996817625458995,16.253855569155448,16.455813953488374,16.874418604651162,17.160832313341494,17.54638922888617,17.829130966952263,3.6749999999999998,null,null,null,null,null,null,null,null,null,null,null,null,null,null,null,null,null,null,null,null,null,null,null,null,null,null,null,null,null,null,null,null,null,null,null,null,null,null,null,null,null,null,null,null,0.33369565217390829]
[96,43101,43040,42979,42979,42979,43070,43070,42887,42948,43070,null,null,null,null,null,null,null,null,null,null,null,0.5,1,0.4,0.4,0.4,1,1,0.5,1,1,null,null,null,null,null,null,null,null,null,null,null,8.1967213114754077E-4,-34.503688524590153,null,0.59959016393442965,0.62418032786885647,0.64959016393442681,0.67418032786885362,0.69959016393443108,0.72500000000000142,0.74959016393442823,0.77499999999999858,0.79959016393442539,0.82500000000000284,15.1,15.38763440860215,15.683333333333332,15.871505376344086,16.019354838709678,16.325806451612902,16.535483870967742,16.81774193548387,17.024731182795698,3.5566999999999993,null,null,null,null,null,null,null,null,null,null,null,null,null,null,null,null,null,null,null,null,null,null,null,null,null,null,null,null,null,null,null,null,null,null,null,null,null,null,null,null,null,null,null,null,0.33369565217391539]
[97,42856,43101,42917,42979,42948,42979,42887,42917,42917,42917,null,null,null,null,null,null,null,null,null,null,null,0.5,0.5,1,0.4,1,0.4,0.5,1,1,1,null,null,null,null,null,null,null,null,null,null,null,-4.065040650406503E-4,18.195934959349589,null,0.78699186991870107,0.77479674796748199,0.76219512195121908,0.75,0.73739837398374064,0.72479674796748128,0.7126016260162622,0.69999999999999929,0.68780487804878021,0.67520325203252085,13.901126656085479,14.006180560950977,14.114179902401487,14.182906756051811,14.236906426777066,14.348833017007596,14.425414368217957,14.528504648693445,14.604104187708803,3.4301250000000003,null,null,null,null,null,null,null,null,null,null,null,null,null,null,null,null,null,null,null,null,null,null,null,null,null,null,null,null,null,null,null,null,null,null,null,null,null,null,null,null,null,null,null,null,0.33423913043478137]
[98,42856,42979,42917,42826,42826,42917,43101,43009,42979,42979,null,null,null,null,null,null,null,null,null,null,null,0.5,0.4,1,1,1,1,0.5,0.3,0.4,0.4,null,null,null,null,null,null,null,null,null,null,null,-3.3333333333333344E-3,143.66000000000005,null,0.90666666666666629,0.80666666666667197,0.70333333333334735,0.60333333333335304,0.5,0.39666666666667538,0.29666666666668107,0.19333333333332803,9.3333333333333712E-2,-9.9999999999909051E-3,14.605822935234698,15,15.405228758169933,15.663101604278074,15.865715983363041,16.285680332739155,16.573024361259655,16.959833630421866,17.243493761140819,3.9788333333333332,null,null,null,null,null,null,null,null,null,null,null,null,null,null,null,null,null,null,null,null,null,null,null,null,null,null,null,null,null,null,null,null,null,null,null,null,null,null,null,null,null,null,null,null,0.33540245808468683]
[99,43070,42826,42826,43009,43040,43040,43009,43009,43070,43009,null,null,null,null,null,null,null,null,null,null,null,1,1,1,0.3,1,1,0.3,0.3,1,0.3,null,null,null,null,null,null,null,null,null,null,null,0,1,null,1,1,1,1,1,1,1,1,1,1,15.099999999999998,15.43560885608856,15.780627306273061,16.000184501845016,16.172693726937268,16.530258302583025,16.774907749077489,17.104243542435423,17.345756457564576,3.7365000000000004,null,null,null,null,null,null,null,null,null,null,null,null,null,null,null,null,null,null,null,null,null,null,null,null,null,null,null,null,null,null,null,null,null,null,null,null,null,null,null,null,null,null,null,null,0.33821138211381907]
[100,43070,42917,43101,43009,42887,42826,42917,42826,42887,42979,null,null,null,null,null,null,null,null,null,null,null,1,1,0.5,0.3,0.5,1,1,1,0.5,0.4,null,null,null,null,null,null,null,null,null,null,null,-1.0869565217391302E-3,47.398913043478252,null,0.84891304347826235,0.81630434782609029,0.78260869565217206,0.75,0.71630434782608887,0.68260869565217774,0.64999999999999858,0.61630434782608745,0.58369565217391539,0.54999999999999716,14.749180327868853,15.1,15.460655737704919,15.690163934426229,15.870491803278687,16.244262295081967,16.5,16.844262295081965,17.096721311475406,3.7015882352941185,null,null,null,null,null,null,null,null,null,null,null,null,null,null,null,null,null,null,null,null,null,null,null,null,null,null,null,null,null,null,null,null,null,null,null,null,null,null,null,null,null,null,null,null,0.33821138211381907]
[101,43101,42979,43009,42917,42826,42826,43040,42948,42826,43009,null,null,null,null,null,null,null,null,null,null,null,0.5,0.4,0.3,1,1,1,1,1,1,0.3,null,null,null,null,null,null,null,null,null,null,null,-1.8181818181818182E-3,79.11545454545454,null,1.25,1.1954545454545382,1.1390909090909105,1.0845454545454487,1.0281818181818068,0.97181818181817903,0.91727272727271725,0.86090909090908951,0.80636363636362773,0.75,14.370588235294116,14.730252100840335,15.099999999999998,15.335294117647058,15.520168067226889,15.903361344537814,16.165546218487393,16.51848739495798,16.777310924369747,2.9746666666666677,null,null,null,null,null,null,null,null,null,null,null,null,null,null,null,null,null,null,null,null,null,null,null,null,null,null,null,null,null,null,null,null,null,null,null,null,null,null,null,null,null,null,null,null,0.33821138211381907]
[102,43040,42826,43009,42979,42856,42917,43040,42917,42948,42856,null,null,null,null,null,null,null,null,null,null,null,1,1,0.3,0.4,0.5,1,1,1,1,0.5,null,null,null,null,null,null,null,null,null,null,null,0,1,null,1,1,1,1,1,1,1,1,1,1,13.572741433021807,13.856074766355141,14.147352024922119,14.332710280373833,14.478348909657322,14.780218068535827,14.986760124610594,15.264797507788163,15.468691588785049,4.1199375000000007,null,null,null,null,null,null,null,null,null,null,null,null,null,null,null,null,null,null,null,null,null,null,null,null,null,null,null,null,null,null,null,null,null,null,null,null,null,null,null,null,null,null,null,null,0.34918032786885078]
[103,42826,42826,43070,42887,42826,42887,42887,43009,42826,42856,null,null,null,null,null,null,null,null,null,null,null,1,1,1,0.5,1,0.5,0.5,0.3,1,0.5,null,null,null,null,null,null,null,null,null,null,null,-3.8251366120218575E-3,164.73934426229508,null,0.92404371584700584,0.80928961748634265,0.69071038251368577,0.57595628415302258,0.45737704918033728,0.33879781420765198,0.22404371584701721,0.10546448087433191,-9.2896174863312808E-3,-0.12786885245898816,14.923919814521318,15.292145135566187,15.670694531032876,15.911589600875313,16.100864298608659,16.493179126637774,16.76160506160506,17.122947666368717,17.387932243195401,2.8494999999999955,null,null,null,null,null,null,null,null,null,null,null,null,null,null,null,null,null,null,null,null,null,null,null,null,null,null,null,null,null,null,null,null,null,null,null,null,null,null,null,null,null,null,null,null,0.3505434782608674]
[104,43070,42826,43040,43040,42979,42979,43101,42979,42887,42826,null,null,null,null,null,null,null,null,null,null,null,1,1,1,1,0.4,0.4,0.5,0.4,0.5,1,null,null,null,null,null,null,null,null,null,null,null,0,0.75,null,0.75,0.75,0.75,0.75,0.75,0.75,0.75,0.75,0.75,0.75,13.647713623294713,14.008930688270777,14.38027533450785,14.616585563931441,14.802257887049977,15.1871059749684,15.450423087754686,15.804888431890074,16.064829684256026,3.1811722222222221,null,null,null,null,null,null,null,null,null,null,null,null,null,null,null,null,null,null,null,null,null,null,null,null,null,null,null,null,null,null,null,null,null,null,null,null,null,null,null,null,null,null,null,null,0.3505434782608674]
[105,42887,43070,42979,43009,42887,43101,42856,42917,42948,42826,null,null,null,null,null,null,null,null,null,null,null,0.5,1,0.4,0.3,0.5,0.5,0.5,1,1,1,null,null,null,null,null,null,null,null,null,null,null,0,0.5,null,0.5,0.5,0.5,0.5,0.5,0.5,0.5,0.5,0.5,0.5,14.521874999999998,14.856249999999999,15.2,15.418749999999999,15.590624999999999,15.946874999999999,16.190624999999997,16.518749999999997,16.759374999999999,3.6543846153846147,null,null,null,null,null,null,null,null,null,null,null,null,null,null,null,null,null,null,null,null,null,null,null,null,null,null,null,null,null,null,null,null,null,null,null,null,null,null,null,null,null,null,null,null,0.3505434782608674]
[106,43009,42979,43070,43070,43070,42887,43009,43009,42887,43101,null,null,null,null,null,null,null,null,null,null,null,0.3,0.4,1,1,1,0.5,0.3,0.3,0.5,0.5,null,null,null,null,null,null,null,null,null,null,null,2.1739130434782609E-3,-92.997826086956522,null,0.10217391304347245,0.16739130434783078,0.23478260869565304,0.29999999999999716,0.36739130434783362,0.43478260869565588,0.5,0.56739130434782226,0.63260869565218059,0.70000000000000284,14.455901116427432,14.822807017543859,15.2,15.440031897926634,15.628628389154706,16.019537480063796,16.287001594896331,16.647049441786283,16.911084529505583,3.6722857142857137,null,null,null,null,null,null,null,null,null,null,null,null,null,null,null,null,null,null,null,null,null,null,null,null,null,null,null,null,null,null,null,null,null,null,null,null,null,null,null,null,null,null,null,null,0.3505434782608674]
[107,42887,43070,43101,42948,43070,42826,43040,43101,43040,42856,null,null,null,null,null,null,null,null,null,null,null,0.5,1,0.5,1,1,1,1,0.5,1,0.5,null,null,null,null,null,null,null,null,null,null,null,0,1,null,1,1,1,1,1,1,1,1,1,1,15.609125619702542,16.034139612985765,16.471069886454501,16.749116424116423,16.967581560850789,17.420400207900204,17.730223492723489,18.147293299216372,18.453144490644487,3.6551818181818181,null,null,null,null,null,null,null,null,null,null,null,null,null,null,null,null,null,null,null,null,null,null,null,null,null,null,null,null,null,null,null,null,null,null,null,null,null,null,null,null,null,null,null,null,0.3505434782608674]
[108,42948,42856,42826,42856,42826,42948,43070,42826,42979,42979,null,null,null,null,null,null,null,null,null,null,null,1,0.5,1,0.5,1,1,1,1,0.4,0.4,null,null,null,null,null,null,null,null,null,null,null,-8.130081300813006E-4,35.879674796747956,null,1.0617886178861795,1.0373983739837414,1.0121951219512155,0.98780487804877737,0.96260162601625865,0.93739837398373993,0.91300813008130177,0.88780487804877595,0.86341463414633779,0.83821138211381907,12.6,12.708535087806874,12.8201132154588,12.891117478510028,12.946906542335991,13.062542056447988,13.141661092419355,13.248167486996195,13.326272176352544,3.5592499999999987,null,null,null,null,null,null,null,null,null,null,null,null,null,null,null,null,null,null,null,null,null,null,null,null,null,null,null,null,null,null,null,null,null,null,null,null,null,null,null,null,null,null,null,null,0.3505434782608674]
[109,43040,42948,43009,42917,43009,42948,43040,42826,42948,42856,null,null,null,null,null,null,null,null,null,null,null,1,1,0.3,1,0.3,1,1,1,1,0.5,null,null,null,null,null,null,null,null,null,null,null,0,1,null,1,1,1,1,1,1,1,1,1,1,13.471052631578946,13.752631578947367,14.042105263157893,14.226315789473682,14.371052631578946,14.671052631578945,14.876315789473683,15.152631578947368,15.355263157894736,3.6575625,null,null,null,null,null,null,null,null,null,null,null,null,null,null,null,null,null,null,null,null,null,null,null,null,null,null,null,null,null,null,null,null,null,null,null,null,null,null,null,null,null,null,null,null,0.35081300813008198]
[110,43070,42979,43101,42826,42917,42979,43070,42887,43101,42856,null,null,null,null,null,null,null,null,null,null,null,1,0.4,0.5,1,1,0.4,1,0.5,0.5,0.5,null,null,null,null,null,null,null,null,null,null,null,0,0.5,null,0.5,0.5,0.5,0.5,0.5,0.5,0.5,0.5,0.5,0.5,15.140408958130475,15.286270691333982,15.436222005842257,15.531645569620252,15.60662122687439,15.762025316455695,15.868354430379746,16.011489776046737,16.116455696202529,3.5855000000000006,null,null,null,null,null,null,null,null,null,null,null,null,null,null,null,null,null,null,null,null,null,null,null,null,null,null,null,null,null,null,null,null,null,null,null,null,null,null,null,null,null,null,null,null,0.35081300813008198]
[111,42887,42856,43101,42826,42887,42826,42979,43070,42887,43101,null,null,null,null,null,null,null,null,null,null,null,0.5,0.5,0.5,1,0.5,1,0.4,1,0.5,0.5,null,null,null,null,null,null,null,null,null,null,null,-4.065040650406503E-4,17.93373983739837,null,0.52479674796748199,0.51260162601626291,0.5,0.48780487804878092,0.47520325203252156,0.4626016260162622,0.45040650406504312,0.43780487804878021,0.42560975609756113,0.41300813008130177,14.20935064935065,14.431688311688312,14.66025974025974,14.805714285714286,14.92,15.156883116883117,15.318961038961039,15.537142857142857,15.697142857142858,3.3825000000000012,null,null,null,null,null,null,null,null,null,null,null,null,null,null,null,null,null,null,null,null,null,null,null,null,null,null,null,null,null,null,null,null,null,null,null,null,null,null,null,null,null,null,null,null,0.35081300813008198]
[112,43009,42917,42948,42826,42826,43040,42887,42826,42887,42917,null,null,null,null,null,null,null,null,null,null,null,0.3,1,1,1,1,1,0.5,1,0.5,1,null,null,null,null,null,null,null,null,null,null,null,0,1,null,1,1,1,1,1,1,1,1,1,1,13.3,13.617472527472529,13.943846153846154,14.151538461538463,14.314725274725276,14.652967032967034,14.884395604395605,15.195934065934068,15.424395604395606,3.6531590909090905,null,null,null,null,null,null,null,null,null,null,null,null,null,null,null,null,null,null,null,null,null,null,null,null,null,null,null,null,null,null,null,null,null,null,null,null,null,null,null,null,null,null,null,null,0.36013071895424886]
[113,42948,43101,42856,43070,43070,43101,43070,43009,42917,42856,null,null,null,null,null,null,null,null,null,null,null,1,0.5,0.5,1,1,0.5,1,0.3,1,0.5,null,null,null,null,null,null,null,null,null,null,null,0,0.75,null,0.75,0.75,0.75,0.75,0.75,0.75,0.75,0.75,0.75,0.75,15.553189792663476,15.920095693779903,16.297288676236043,16.537320574162678,16.72591706539075,17.11682615629984,17.384290271132375,17.744338118022327,18.008373205741627,3.8838333333333335,null,null,null,null,null,null,null,null,null,null,null,null,null,null,null,null,null,null,null,null,null,null,null,null,null,null,null,null,null,null,null,null,null,null,null,null,null,null,null,null,null,null,null,null,0.36013071895425242]
[114,42917,42826,43070,43101,42887,42979,42979,42948,43009,42979,null,null,null,null,null,null,null,null,null,null,null,1,1,1,0.5,0.5,0.4,0.4,1,0.3,0.4,null,null,null,null,null,null,null,null,null,null,null,-1.3631503920171061E-3,59.086840698503202,null,0.70856200997861407,0.66766749821810123,0.62540983606557177,0.58451532430505893,0.54225766215252946,0.5,0.45910548823948716,0.4168478260869577,0.37595331432644485,0.33369565217391539,15.1,15.3675,15.642499999999998,15.817499999999999,15.954999999999998,16.239999999999998,16.434999999999999,16.697499999999998,16.89,3.3527499999999968,null,null,null,null,null,null,null,null,null,null,null,null,null,null,null,null,null,null,null,null,null,null,null,null,null,null,null,null,null,null,null,null,null,null,null,null,null,null,null,null,null,null,null,null,0.36013071895425242]
[115,42826,42917,43101,43009,43070,42856,42917,43070,42948,43070,null,null,null,null,null,null,null,null,null,null,null,1,1,0.5,0.3,1,0.5,1,1,1,1,null,null,null,null,null,null,null,null,null,null,null,0,1,null,1,1,1,1,1,1,1,1,1,1,13.407099143206855,13.8,14.203916768665852,14.460954712362302,14.662913096695227,15.081517747858019,15.367931456548348,15.753488372093024,16.036230110159121,3.9743333333333331,null,null,null,null,null,null,null,null,null,null,null,null,null,null,null,null,null,null,null,null,null,null,null,null,null,null,null,null,null,null,null,null,null,null,null,null,null,null,null,null,null,null,null,null,0.36013071895425242]
[116,43009,42887,43101,42856,42826,43040,42856,42856,43070,42948,null,null,null,null,null,null,null,null,null,null,null,0.3,0.5,0.5,0.5,1,1,0.5,0.5,1,1,null,null,null,null,null,null,null,null,null,null,null,0,0.5,null,0.5,0.5,0.5,0.5,0.5,0.5,0.5,0.5,0.5,0.5,14.472625698324022,14.831284916201117,15.2,15.434636871508378,15.618994413407819,16.001117318435753,16.262569832402232,16.614525139664803,16.872625698324022,3.7600000000000016,null,null,null,null,null,null,null,null,null,null,null,null,null,null,null,null,null,null,null,null,null,null,null,null,null,null,null,null,null,null,null,null,null,null,null,null,null,null,null,null,null,null,null,null,0.36013071895425242]
[117,42948,43040,42887,42979,43009,42826,43070,43070,42856,43040,null,null,null,null,null,null,null,null,null,null,null,1,1,0.5,0.4,0.3,1,1,1,0.5,1,null,null,null,null,null,null,null,null,null,null,null,0,1,null,1,1,1,1,1,1,1,1,1,1,14.36778321987935,14.778138959385846,15.2,15.468457025845368,15.679387546152444,16.116588988243478,16.415726817042604,16.818412355810658,17.113715084240567,4.2512857142857143,null,null,null,null,null,null,null,null,null,null,null,null,null,null,null,null,null,null,null,null,null,null,null,null,null,null,null,null,null,null,null,null,null,null,null,null,null,null,null,null,null,null,null,null,0.36013071895425242]
[118,42917,42856,43070,43040,43101,42826,43101,42979,43070,43040,null,null,null,null,null,null,null,null,null,null,null,1,0.5,1,1,0.5,1,0.5,0.4,1,1,null,null,null,null,null,null,null,null,null,null,null,0,1,null,1,1,1,1,1,1,1,1,1,1,13.676132930513594,13.934743202416918,14.200604229607251,14.369788519637462,14.502719033232628,14.778247734138972,14.966767371601209,15.220543806646527,15.406646525679758,3.6620000000000008,null,null,null,null,null,null,null,null,null,null,null,null,null,null,null,null,null,null,null,null,null,null,null,null,null,null,null,null,null,null,null,null,null,null,null,null,null,null,null,null,null,null,null,null,0.36090909090908951]
[119,43101,43040,43009,42917,43101,43040,42917,43101,42979,43040,null,null,null,null,null,null,null,null,null,null,null,0.5,1,0.3,1,0.5,1,1,0.5,0.4,1,null,null,null,null,null,null,null,null,null,null,null,-2.717391304347826E-3,117.70652173913044,null,1.3315217391304373,1.25,1.1657608695652186,1.0842391304347814,1,0.91576086956521863,0.83423913043478137,0.75,0.66847826086957696,0.58423913043478137,14.28957153648191,14.689183728170555,15.100000000000001,15.361428536618739,15.566836672533462,15.992591717883981,16.28389780154486,16.67604060647297,16.963611996753581,3.4370000000000012,null,null,null,null,null,null,null,null,null,null,null,null,null,null,null,null,null,null,null,null,null,null,null,null,null,null,null,null,null,null,null,null,null,null,null,null,null,null,null,null,null,null,null,null,0.36090909090908951]
[120,42826,43070,43101,43009,43040,42887,42826,42887,43101,43009,null,null,null,null,null,null,null,null,null,null,null,1,1,0.5,0.3,1,0.5,1,0.5,0.5,0.3,null,null,null,null,null,null,null,null,null,null,null,0,0.5,null,0.5,0.5,0.5,0.5,0.5,0.5,0.5,0.5,0.5,0.5,15.1,15.466905901116426,15.844098883572567,16.084130781499201,16.272727272727273,16.663636363636364,16.931100478468899,17.291148325358851,17.555183413078151,3.8339999999999996,null,null,null,null,null,null,null,null,null,null,null,null,null,null,null,null,null,null,null,null,null,null,null,null,null,null,null,null,null,null,null,null,null,null,null,null,null,null,null,null,null,null,null,null,0.36300813008130461]
[121,42887,42826,42948,43009,42948,43040,43040,43040,43009,43101,null,null,null,null,null,null,null,null,null,null,null,0.5,1,1,0.3,1,1,1,1,0.3,0.5,null,null,null,null,null,null,null,null,null,null,null,0,1,null,1,1,1,1,1,1,1,1,1,1,15.290740740740741,15.488888888888889,15.692592592592593,15.822222222222223,15.924074074074074,16.135185185185186,16.279629629629628,16.474074074074075,16.616666666666667,3.9282249999999994,null,null,null,null,null,null,null,null,null,null,null,null,null,null,null,null,null,null,null,null,null,null,null,null,null,null,null,null,null,null,null,null,null,null,null,null,null,null,null,null,null,null,null,null,0.36341463414634489]
[122,42887,42948,42887,42948,43009,43040,43101,43040,43009,42917,null,null,null,null,null,null,null,null,null,null,null,0.5,1,0.5,1,0.3,1,0.5,1,0.3,1,null,null,null,null,null,null,null,null,null,null,null,0,0.75,null,0.75,0.75,0.75,0.75,0.75,0.75,0.75,0.75,0.75,0.75,14.745901639344261,15.096721311475408,15.457377049180327,15.686885245901637,15.867213114754096,16.240983606557375,16.496721311475405,16.840983606557373,17.093442622950818,4.194805555555555,null,null,null,null,null,null,null,null,null,null,null,null,null,null,null,null,null,null,null,null,null,null,null,null,null,null,null,null,null,null,null,null,null,null,null,null,null,null,null,null,null,null,null,null,0.36341463414634489]
[123,42856,42887,43040,42948,43009,42826,42948,42917,42917,43101,null,null,null,null,null,null,null,null,null,null,null,0.5,0.5,1,1,0.3,1,1,1,1,0.5,null,null,null,null,null,null,null,null,null,null,null,0,1,null,1,1,1,1,1,1,1,1,1,1,14.224731182795701,14.512365591397851,14.808064516129033,14.996236559139787,15.144086021505377,15.450537634408605,15.660215053763441,15.942473118279571,16.149462365591397,3.5966538461538473,null,null,null,null,null,null,null,null,null,null,null,null,null,null,null,null,null,null,null,null,null,null,null,null,null,null,null,null,null,null,null,null,null,null,null,null,null,null,null,null,null,null,null,null,0.36341463414634489]
[124,42887,42826,42917,42948,43101,43101,42948,42917,42826,43070,null,null,null,null,null,null,null,null,null,null,null,0.5,1,1,1,0.5,0.5,1,1,1,1,null,null,null,null,null,null,null,null,null,null,null,0,1,null,1,1,1,1,1,1,1,1,1,1,14.815869218500797,15.182775119617224,15.559968102073364,15.8,15.988596491228069,16.37950558213716,16.646969696969698,17.00701754385965,17.271052631578947,3.9695,null,null,null,null,null,null,null,null,null,null,null,null,null,null,null,null,null,null,null,null,null,null,null,null,null,null,null,null,null,null,null,null,null,null,null,null,null,null,null,null,null,null,null,null,0.36636363636364422]
[125,42979,42948,43009,43009,43070,42826,42979,42856,42826,43009,null,null,null,null,null,null,null,null,null,null,null,0.4,1,0.3,0.3,1,1,0.4,0.5,1,0.3,null,null,null,null,null,null,null,null,null,null,null,-3.3333333333333344E-3,143.71333333333337,null,0.95999999999997954,0.85999999999998522,0.7566666666666606,0.65666666666666629,0.55333333333331325,0.44999999999998863,0.34999999999999432,0.24666666666664128,0.14666666666664696,4.3333333333322344E-2,14.840080971659919,15.1,15.367206477732793,15.537246963562751,15.670850202429147,15.947773279352223,16.137246963562749,16.392307692307689,16.579352226720644,3.3972692307692309,null,null,null,null,null,null,null,null,null,null,null,null,null,null,null,null,null,null,null,null,null,null,null,null,null,null,null,null,null,null,null,null,null,null,null,null,null,null,null,null,null,null,null,null,0.36739130434781941]
[126,42917,42917,43101,42979,42887,42917,43070,43040,42979,42917,null,null,null,null,null,null,null,null,null,null,null,1,1,0.5,0.4,0.5,1,1,1,0.4,1,null,null,null,null,null,null,null,null,null,null,null,0,1,null,1,1,1,1,1,1,1,1,1,1,14.099999999999998,14.448696461824952,14.807169459962754,15.035288640595901,15.214525139664804,15.586033519553071,15.840223463687149,16.182402234636871,16.433333333333334,4.0993666666666657,null,null,null,null,null,null,null,null,null,null,null,null,null,null,null,null,null,null,null,null,null,null,null,null,null,null,null,null,null,null,null,null,null,null,null,null,null,null,null,null,null,null,null,null,0.36739130434781941]
[127,42887,42917,42856,43040,42979,42917,42887,43101,42856,42979,null,null,null,null,null,null,null,null,null,null,null,0.5,1,0.5,1,0.4,1,0.5,0.5,0.5,0.4,null,null,null,null,null,null,null,null,null,null,null,0,0.5,null,0.5,0.5,0.5,0.5,0.5,0.5,0.5,0.5,0.5,0.5,14.25701754385965,14.672681704260654,15.100000000000001,15.371929824561406,15.585588972431079,16.028446115288219,16.331453634085214,16.739348370927317,17.038471177944864,4.1443999999999992,null,null,null,null,null,null,null,null,null,null,null,null,null,null,null,null,null,null,null,null,null,null,null,null,null,null,null,null,null,null,null,null,null,null,null,null,null,null,null,null,null,null,null,null,0.36739130434781941]
[128,42826,43040,42887,42979,43009,43070,42826,42979,42887,43040,null,null,null,null,null,null,null,null,null,null,null,1,1,0.5,0.4,0.3,1,1,0.4,0.5,1,null,null,null,null,null,null,null,null,null,null,null,0,0.75,null,0.75,0.75,0.75,0.75,0.75,0.75,0.75,0.75,0.75,0.75,15.366479190101236,15.643307086614172,15.927896512935881,16.108998875140607,16.251293588301461,16.546231721034868,16.748031496062989,17.019685039370078,17.218897637795273,3.4806249999999999,null,null,null,null,null,null,null,null,null,null,null,null,null,null,null,null,null,null,null,null,null,null,null,null,null,null,null,null,null,null,null,null,null,null,null,null,null,null,null,null,null,null,null,null,0.36937743018734892]
[129,43070,42887,43101,43009,43009,43040,42887,42948,42979,42826,null,null,null,null,null,null,null,null,null,null,null,1,0.5,0.5,0.3,0.3,1,0.5,1,0.4,1,null,null,null,null,null,null,null,null,null,null,null,0,0.5,null,0.5,0.5,0.5,0.5,0.5,0.5,0.5,0.5,0.5,0.5,14.528494623655915,14.816129032258065,15.111827956989247,15.3,15.447849462365593,15.754301075268817,15.963978494623657,16.246236559139785,16.453225806451613,3.578333333333334,null,null,null,null,null,null,null,null,null,null,null,null,null,null,null,null,null,null,null,null,null,null,null,null,null,null,null,null,null,null,null,null,null,null,null,null,null,null,null,null,null,null,null,null,0.37066794197353659]
[130,43009,43040,43070,42826,42979,42979,43101,42856,43101,42887,null,null,null,null,null,null,null,null,null,null,null,0.3,1,1,1,0.4,0.4,0.5,0.5,0.5,0.5,null,null,null,null,null,null,null,null,null,null,null,0,0.5,null,0.5,0.5,0.5,0.5,0.5,0.5,0.5,0.5,0.5,0.5,14.240408958130477,14.386270691333984,14.536222005842259,14.631645569620254,14.706621226874391,14.862025316455696,14.968354430379748,15.111489776046739,15.21645569620253,3.3983565340909099,null,null,null,null,null,null,null,null,null,null,null,null,null,null,null,null,null,null,null,null,null,null,null,null,null,null,null,null,null,null,null,null,null,null,null,null,null,null,null,null,null,null,null,null,0.375]
[131,43070,42948,43009,42856,43040,43101,42887,43101,43009,42948,null,null,null,null,null,null,null,null,null,null,null,1,1,0.3,0.5,1,0.5,0.5,0.5,0.3,1,null,null,null,null,null,null,null,null,null,null,null,0,0.5,null,0.5,0.5,0.5,0.5,0.5,0.5,0.5,0.5,0.5,0.5,14.649180327868853,15,15.360655737704917,15.590163934426229,15.770491803278688,16.144262295081965,16.399999999999999,16.744262295081967,16.996721311475408,3.6761818181818198,null,null,null,null,null,null,null,null,null,null,null,null,null,null,null,null,null,null,null,null,null,null,null,null,null,null,null,null,null,null,null,null,null,null,null,null,null,null,null,null,null,null,null,null,0.37560975609756042]
[132,42856,42948,42979,43101,43009,43009,42856,42979,42826,43070,null,null,null,null,null,null,null,null,null,null,null,0.5,1,0.4,0.5,0.3,0.3,0.5,0.4,1,1,null,null,null,null,null,null,null,null,null,null,null,-1.0600988362824805E-3,46.061987884584731,null,0.66219512195122121,0.6303921568627473,0.5975290929379895,0.56572612784951559,0.5328630639247578,0.5,0.46819703491152609,0.43533397098676829,0.40353100589829438,0.37066794197353659,15.530179880079947,15.879480346435709,16.238574283810792,16.467088607594938,16.646635576282478,17.018787475016655,17.273417721518989,17.616189207195202,17.867554963357762,3.429566666666668,null,null,null,null,null,null,null,null,null,null,null,null,null,null,null,null,null,null,null,null,null,null,null,null,null,null,null,null,null,null,null,null,null,null,null,null,null,null,null,null,null,null,null,null,0.3797385620915037]
[133,43009,43101,42948,43101,42887,42948,42856,42948,42979,42979,null,null,null,null,null,null,null,null,null,null,null,0.3,0.5,1,0.5,0.5,1,0.5,1,0.4,0.4,null,null,null,null,null,null,null,null,null,null,null,-1.0869565217391302E-3,47.199456521739123,null,0.6494565217391326,0.61684782608696054,0.5831521739130423,0.55054347826087024,0.51684782608695912,0.48315217391304799,0.45054347826086882,0.4168478260869577,0.38423913043478564,0.3505434782608674,14.288863572370664,14.628555550615747,14.977771603017235,15.2,15.374608026200743,15.736522844144105,15.984148772210613,16.317491367684759,16.561942604365804,3.720604166666666,null,null,null,null,null,null,null,null,null,null,null,null,null,null,null,null,null,null,null,null,null,null,null,null,null,null,null,null,null,null,null,null,null,null,null,null,null,null,null,null,null,null,null,null,0.3797385620915037]
[134,42979,43009,43040,42917,43009,42917,43009,42856,42887,43009,null,null,null,null,null,null,null,null,null,null,null,0.4,0.3,1,1,0.3,1,0.3,0.5,0.5,0.3,null,null,null,null,null,null,null,null,null,null,null,-1.3071895424836603E-3,56.651307189542493,null,0.66960784313725696,0.6303921568627473,0.58986928104575753,0.55065359477124787,0.51013071895425099,0.46960784313726123,0.43039215686275156,0.38986928104575469,0.35065359477124503,0.31013071895425526,14.779524301964837,15.2,15.632264736297827,15.907342295760081,16.123474663908997,16.57145811789038,16.877973112719751,17.290589451913135,17.593174767321614,3.0848750000000011,null,null,null,null,null,null,null,null,null,null,null,null,null,null,null,null,null,null,null,null,null,null,null,null,null,null,null,null,null,null,null,null,null,null,null,null,null,null,null,null,null,null,null,null,0.3797385620915037]
[135,42887,42887,43070,42887,42917,42948,43040,42856,42979,43070,null,null,null,null,null,null,null,null,null,null,null,0.5,0.5,1,0.5,1,1,1,0.5,0.4,1,null,null,null,null,null,null,null,null,null,null,null,2.717391304347826E-3,-115.91440217391305,null,0.46059782608695343,0.54211956521739069,0.62635869565217206,0.70788043478260931,0.79211956521739069,0.87635869565217206,0.95788043478260931,1.0421195652173907,1.1236413043478137,1.2078804347826093,14.641340782122905,15,15.368715083798882,15.603351955307261,15.787709497206702,16.169832402234636,16.431284916201115,16.783240223463686,17.041340782122901,3.8962000000000003,null,null,null,null,null,null,null,null,null,null,null,null,null,null,null,null,null,null,null,null,null,null,null,null,null,null,null,null,null,null,null,null,null,null,null,null,null,null,null,null,null,null,null,null,0.38410215623895283]
[136,42887,43101,43040,42887,42856,42826,42979,42917,43009,42948,null,null,null,null,null,null,null,null,null,null,null,0.5,0.5,1,0.5,0.5,1,0.4,1,0.3,1,null,null,null,null,null,null,null,null,null,null,null,0,0.5,null,0.5,0.5,0.5,0.5,0.5,0.5,0.5,0.5,0.5,0.5,15.8,16.149300466355765,16.508394403730847,16.73690872751499,16.916455696202533,17.28860759493671,17.543237841439041,17.886009327115257,18.137375083277814,3.2355000000000009,null,null,null,null,null,null,null,null,null,null,null,null,null,null,null,null,null,null,null,null,null,null,null,null,null,null,null,null,null,null,null,null,null,null,null,null,null,null,null,null,null,null,null,null,0.38656942451777354]
[137,42948,42948,42887,43101,42917,43040,43101,42948,42887,42856,null,null,null,null,null,null,null,null,null,null,null,1,1,0.5,0.5,1,1,0.5,1,0.5,0.5,null,null,null,null,null,null,null,null,null,null,null,0,0.75,null,0.75,0.75,0.75,0.75,0.75,0.75,0.75,0.75,0.75,0.75,14.446218487394958,14.805882352941175,15.175630252100841,15.410924369747899,15.595798319327731,15.978991596638656,16.241176470588236,16.594117647058823,16.852941176470587,3.6578750000000007,null,null,null,null,null,null,null,null,null,null,null,null,null,null,null,null,null,null,null,null,null,null,null,null,null,null,null,null,null,null,null,null,null,null,null,null,null,null,null,null,null,null,null,null,0.3881818181818204]
[138,43101,42948,42887,43040,42826,42979,42979,43101,42917,42917,null,null,null,null,null,null,null,null,null,null,null,0.5,1,0.5,1,1,0.4,0.4,0.5,1,1,null,null,null,null,null,null,null,null,null,null,null,-5.4347826086956512E-4,24.099728260869561,null,0.8247282608695663,0.80842391304348027,0.79157608695652115,0.77527173913043512,0.75842391304347956,0.74157608695652399,0.72527173913043441,0.70842391304347885,0.69211956521739282,0.6752717391304337,13.947181915019527,14.307858918215173,14.678648360752751,14.91460527873121,15.1,15.484272694993489,15.747196117883773,16.101131494851462,16.360684104627765,3.9055,null,null,null,null,null,null,null,null,null,null,null,null,null,null,null,null,null,null,null,null,null,null,null,null,null,null,null,null,null,null,null,null,null,null,null,null,null,null,null,null,null,null,null,null,0.3881818181818204]
[139,42948,43070,43070,42979,43040,43009,43101,43101,42887,43101,null,null,null,null,null,null,null,null,null,null,null,1,1,1,0.4,1,0.3,0.5,0.5,0.5,0.5,null,null,null,null,null,null,null,null,null,null,null,0,0.5,null,0.5,0.5,0.5,0.5,0.5,0.5,0.5,0.5,0.5,0.5,13.340031152647974,13.623364485981307,13.914641744548286,14.1,14.245638629283489,14.547507788161994,14.754049844236761,15.03208722741433,15.235981308411215,3.8319166666666664,null,null,null,null,null,null,null,null,null,null,null,null,null,null,null,null,null,null,null,null,null,null,null,null,null,null,null,null,null,null,null,null,null,null,null,null,null,null,null,null,null,null,null,null,0.38821138211382333]
[140,42948,42856,43040,42979,43101,42887,42887,42979,42826,42826,null,null,null,null,null,null,null,null,null,null,null,1,0.5,1,0.4,0.5,0.5,0.5,0.4,1,1,null,null,null,null,null,null,null,null,null,null,null,-8.130081300813006E-4,35.392276422764219,null,0.57439024390244242,0.55000000000000426,0.52479674796747844,0.50040650406504028,0.47520325203252156,0.45000000000000284,0.42560975609756468,0.40040650406503886,0.3760162601626007,0.35081300813008198,15.321874999999999,15.65625,16,16.21875,16.390625,16.746874999999999,16.990624999999998,17.318749999999998,17.559374999999999,3.4804615384615385,null,null,null,null,null,null,null,null,null,null,null,null,null,null,null,null,null,null,null,null,null,null,null,null,null,null,null,null,null,null,null,null,null,null,null,null,null,null,null,null,null,null,null,null,0.38821138211382333]
[141,43040,43101,42979,43040,42917,42887,42856,43070,43070,43040,null,null,null,null,null,null,null,null,null,null,null,1,0.5,0.4,1,1,0.5,0.5,1,1,1,null,null,null,null,null,null,null,null,null,null,null,0,1,null,1,1,1,1,1,1,1,1,1,1,15.049039264828737,15.335087719298246,15.629156223893066,15.816290726817043,15.963324979114454,16.268086883876357,16.476608187134502,16.757309941520468,16.963157894736842,3.3531923076923089,null,null,null,null,null,null,null,null,null,null,null,null,null,null,null,null,null,null,null,null,null,null,null,null,null,null,null,null,null,null,null,null,null,null,null,null,null,null,null,null,null,null,null,null,0.38821138211382333]
[142,43009,42887,42856,43101,42826,42826,43009,43040,42826,42948,null,null,null,null,null,null,null,null,null,null,null,0.3,0.5,0.5,0.5,1,1,0.3,1,1,1,null,null,null,null,null,null,null,null,null,null,null,-1.639344262295082E-3,71.106557377049185,null,0.90000000000000568,0.85081967213115206,0.80000000000001137,0.75081967213115774,0.70000000000000284,0.64918032786886215,0.60000000000000853,0.54918032786885362,0.5,0.44918032786885931,13.591991386991388,13.895322245322246,14.207157707157709,14.405598455598456,14.561516186516188,14.884691119691121,15.105810810810812,15.403471933471934,15.621756756756758,3.6022784090909088,null,null,null,null,null,null,null,null,null,null,null,null,null,null,null,null,null,null,null,null,null,null,null,null,null,null,null,null,null,null,null,null,null,null,null,null,null,null,null,null,null,null,null,null,0.38821138211382333]
[143,43070,42948,42856,42856,43070,42856,42887,43101,42917,42856,null,null,null,null,null,null,null,null,null,null,null,1,1,0.5,0.5,1,0.5,0.5,0.5,1,0.5,null,null,null,null,null,null,null,null,null,null,null,2.3364485981308409E-3,-99.738317757009341,null,0.32242990654205528,0.39252336448598157,0.46495327102803685,0.53504672897196315,0.60747663551401843,0.6799065420560737,0.75,0.82242990654205528,0.89252336448598157,0.96495327102803685,14.47944147355912,14.873618538324422,15.278847296494355,15.536720142602496,15.739334521687462,16.159298871063577,16.446642899584077,16.833452168746287,17.117112299465241,3.3719999999999999,null,null,null,null,null,null,null,null,null,null,null,null,null,null,null,null,null,null,null,null,null,null,null,null,null,null,null,null,null,null,null,null,null,null,null,null,null,null,null,null,null,null,null,null,0.40081300813007914]
[144,43009,42948,42979,42917,42979,42917,43009,42826,42887,42948,null,null,null,null,null,null,null,null,null,null,null,0.3,1,0.4,1,0.4,1,0.3,1,0.5,1,null,null,null,null,null,null,null,null,null,null,null,-3.8251366120218575E-3,165.03196721311474,null,1.2166666666666686,1.1019125683060054,0.98333333333334849,0.8685792349726853,0.75,0.6314207650273147,0.51666666666667993,0.39808743169399463,0.28333333333333144,0.16475409836067456,14.582500000000001,14.850000000000001,15.125,15.3,15.4375,15.7225,15.9175,16.18,16.372500000000002,3.9870384615384618,null,null,null,null,null,null,null,null,null,null,null,null,null,null,null,null,null,null,null,null,null,null,null,null,null,null,null,null,null,null,null,null,null,null,null,null,null,null,null,null,null,null,null,null,0.40081300813007914]
[145,42856,43040,43070,42826,43070,42856,42948,43009,42917,42917,null,null,null,null,null,null,null,null,null,null,null,0.5,1,1,1,1,0.5,1,0.3,1,1,null,null,null,null,null,null,null,null,null,null,null,0,1,null,1,1,1,1,1,1,1,1,1,1,14.762184873949581,15.1218487394958,15.491596638655462,15.726890756302522,15.911764705882353,16.294957983193278,16.557142857142857,16.910084033613444,17.168907563025211,3.8855000000000004,null,null,null,null,null,null,null,null,null,null,null,null,null,null,null,null,null,null,null,null,null,null,null,null,null,null,null,null,null,null,null,null,null,null,null,null,null,null,null,null,null,null,null,null,0.40081300813007914]
[146,43009,43101,43009,42917,43009,42948,43101,43101,43009,43040,null,null,null,null,null,null,null,null,null,null,null,0.3,0.5,0.3,1,0.3,1,0.5,0.5,0.3,1,null,null,null,null,null,null,null,null,null,null,null,0,0.5,null,0.5,0.5,0.5,0.5,0.5,0.5,0.5,0.5,0.5,0.5,14.47944147355912,14.873618538324422,15.278847296494355,15.536720142602496,15.739334521687462,16.159298871063577,16.446642899584077,16.833452168746287,17.117112299465241,4.1909999999999989,null,null,null,null,null,null,null,null,null,null,null,null,null,null,null,null,null,null,null,null,null,null,null,null,null,null,null,null,null,null,null,null,null,null,null,null,null,null,null,null,null,null,null,null,0.40081300813007914]
[147,42826,42856,42917,42887,42979,42979,43040,42948,42948,43040,null,null,null,null,null,null,null,null,null,null,null,1,0.5,1,0.5,0.4,0.4,1,1,1,1,null,null,null,null,null,null,null,null,null,null,null,0,1,null,1,1,1,1,1,1,1,1,1,1,14.97524498580456,15.329984430808681,15.694669841560581,15.926742375675426,16.109085081051376,16.487031779466982,16.745626888909239,17.093735690081505,17.349015477607836,3.6760909090909095,null,null,null,null,null,null,null,null,null,null,null,null,null,null,null,null,null,null,null,null,null,null,null,null,null,null,null,null,null,null,null,null,null,null,null,null,null,null,null,null,null,null,null,null,0.40081300813007914]
[148,42887,43009,42979,42948,42917,43070,43101,43009,42917,42887,null,null,null,null,null,null,null,null,null,null,null,0.5,0.3,0.4,1,1,1,0.5,0.3,1,0.5,null,null,null,null,null,null,null,null,null,null,null,-5.4347826086956512E-4,23.849728260869561,null,0.5747282608695663,0.55842391304348027,0.54157608695652115,0.52527173913043512,0.50842391304347956,0.49157608695652399,0.47527173913043441,0.45842391304347885,0.44211956521739282,0.4252717391304337,13.296487119437938,13.396721311475408,13.499765807962527,13.56533957845433,13.616861826697889,13.72365339578454,13.796721311475407,13.895081967213111,13.967213114754095,3.8200333333333338,null,null,null,null,null,null,null,null,null,null,null,null,null,null,null,null,null,null,null,null,null,null,null,null,null,null,null,null,null,null,null,null,null,null,null,null,null,null,null,null,null,null,null,null,0.40081300813007914]
[149,42826,42979,42917,42856,42826,42887,42826,43101,42826,42979,null,null,null,null,null,null,null,null,null,null,null,1,0.4,1,0.5,1,0.5,1,0.5,1,0.4,null,null,null,null,null,null,null,null,null,null,null,-2.2677865612648219E-3,97.973411561264811,null,0.85318428853754824,0.78515069169959872,0.71484930830040128,0.64681571146245176,0.5765143280632401,0.50621294466402844,0.43817934782609314,0.36787796442688148,0.29984436758893196,0.2295429841897203,15,15.303330858330858,15.61516632016632,15.813607068607068,15.9695247995248,16.292699732699731,16.513819423819424,16.811480546480546,17.029765369765371,3.5079999999999991,null,null,null,null,null,null,null,null,null,null,null,null,null,null,null,null,null,null,null,null,null,null,null,null,null,null,null,null,null,null,null,null,null,null,null,null,null,null,null,null,null,null,null,null,0.40081300813007914]
[150,42887,43009,43009,42917,43101,42979,43101,42917,42979,42826,null,null,null,null,null,null,null,null,null,null,null,0.5,0.3,0.3,1,0.5,0.4,0.5,1,0.4,1,null,null,null,null,null,null,null,null,null,null,null,-2.717391304347826E-3,117.29076086956522,null,0.91576086956521863,0.83423913043478137,0.75,0.66847826086956275,0.58423913043478137,0.5,0.41847826086956275,0.33423913043478137,0.25271739130435833,0.16847826086956275,15.3,15.662030075187971,16.034210526315789,16.271052631578947,16.457142857142856,16.842857142857142,17.106766917293232,17.462030075187968,17.722556390977442,3.5380000000000003,null,null,null,null,null,null,null,null,null,null,null,null,null,null,null,null,null,null,null,null,null,null,null,null,null,null,null,null,null,null,null,null,null,null,null,null,null,null,null,null,null,null,null,null,0.40081300813007914]
[151,42917,42856,43009,42948,42917,42979,42917,43040,43101,43070,null,null,null,null,null,null,null,null,null,null,null,1,0.5,0.3,1,1,0.4,1,1,0.5,1,null,null,null,null,null,null,null,null,null,null,null,0,1,null,1,1,1,1,1,1,1,1,1,1,14.502414915794159,14.78710580969558,15.079778691276479,15.266025070464323,15.412361511254774,15.715677043074979,15.923208722741435,16.202578291523203,16.407449308629833,3.9719999999999995,null,null,null,null,null,null,null,null,null,null,null,null,null,null,null,null,null,null,null,null,null,null,null,null,null,null,null,null,null,null,null,null,null,null,null,null,null,null,null,null,null,null,null,null,0.40081300813007914]
[152,42979,43070,42979,42826,42979,42826,43070,42826,43040,42979,null,null,null,null,null,null,null,null,null,null,null,0.4,1,0.4,1,0.4,1,1,1,1,0.4,null,null,null,null,null,null,null,null,null,null,null,0,1,null,1,1,1,1,1,1,1,1,1,1,14.284184943767229,14.547168644189023,14.817525719389,14.989571130879892,15.124749668479879,15.404937910050762,15.596645654283472,15.854713771519812,16.043963724159795,3.5104062499999991,null,null,null,null,null,null,null,null,null,null,null,null,null,null,null,null,null,null,null,null,null,null,null,null,null,null,null,null,null,null,null,null,null,null,null,null,null,null,null,null,null,null,null,null,0.41260162601625794]
[153,42856,42826,42887,43101,42917,43009,42948,42887,42826,43070,null,null,null,null,null,null,null,null,null,null,null,0.5,1,0.5,0.5,1,0.3,1,0.5,1,1,null,null,null,null,null,null,null,null,null,null,null,0,0.75,null,0.75,0.75,0.75,0.75,0.75,0.75,0.75,0.75,0.75,0.75,14.154263983307532,14.500499764420812,14.856443090798951,15.082952480312311,15.260924143501381,15.629810863565996,15.882207040452311,16.221971124722351,16.471131453187049,3.9915946969696972,null,null,null,null,null,null,null,null,null,null,null,null,null,null,null,null,null,null,null,null,null,null,null,null,null,null,null,null,null,null,null,null,null,null,null,null,null,null,null,null,null,null,null,null,0.41300813008130177]
[154,42948,42948,42917,42887,43040,42979,43040,42887,43009,42979,null,null,null,null,null,null,null,null,null,null,null,1,1,1,0.5,1,0.4,1,0.5,0.3,0.4,null,null,null,null,null,null,null,null,null,null,null,0,0.75,null,0.75,0.75,0.75,0.75,0.75,0.75,0.75,0.75,0.75,0.75,13.606005859129429,13.923895440943497,14.250697814771041,14.458662961752207,14.622064148665981,14.960750245178163,15.192482837528605,15.504430558000353,15.733192219679635,3.6396666666666668,null,null,null,null,null,null,null,null,null,null,null,null,null,null,null,null,null,null,null,null,null,null,null,null,null,null,null,null,null,null,null,null,null,null,null,null,null,null,null,null,null,null,null,null,0.41300813008130177]
[155,43101,42887,43009,42979,42917,42917,43101,42887,43101,42887,null,null,null,null,null,null,null,null,null,null,null,0.5,0.5,0.3,0.4,1,1,0.5,0.5,0.5,0.5,null,null,null,null,null,null,null,null,null,null,null,0,0.5,null,0.5,0.5,0.5,0.5,0.5,0.5,0.5,0.5,0.5,0.5,15.3,15.783036935704516,16.279616963064296,16.59562243502052,16.843912448700411,17.35854993160055,17.710670314637483,18.184678522571819,18.532284541723666,3.8163515151515153,null,null,null,null,null,null,null,null,null,null,null,null,null,null,null,null,null,null,null,null,null,null,null,null,null,null,null,null,null,null,null,null,null,null,null,null,null,null,null,null,null,null,null,null,0.41300813008130177]
[156,43040,42887,43101,43101,43070,42979,42856,42917,42979,43009,null,null,null,null,null,null,null,null,null,null,null,1,0.5,0.5,0.5,1,0.4,0.5,1,0.4,0.3,null,null,null,null,null,null,null,null,null,null,null,0,0.5,null,0.5,0.5,0.5,0.5,0.5,0.5,0.5,0.5,0.5,0.5,14.462250879249707,14.826025791324735,15.2,15.437983587338802,15.624970691676435,16.012543962485346,16.277725674091442,16.634701055099647,16.896483001172331,3.6537857142857133,null,null,null,null,null,null,null,null,null,null,null,null,null,null,null,null,null,null,null,null,null,null,null,null,null,null,null,null,null,null,null,null,null,null,null,null,null,null,null,null,null,null,null,null,0.41300813008130177]
[157,42948,42979,42979,43101,42948,42979,42948,43070,43040,42856,null,null,null,null,null,null,null,null,null,null,null,1,0.4,0.4,0.5,1,0.4,1,1,1,0.5,null,null,null,null,null,null,null,null,null,null,null,0,0.75,null,0.75,0.75,0.75,0.75,0.75,0.75,0.75,0.75,0.75,0.75,13.327003699136869,13.458939580764488,13.594574599260172,13.680887792848335,13.748705302096177,13.889272503082614,13.985450061652282,14.114919852034525,14.209864364981504,3.7496666666666663,null,null,null,null,null,null,null,null,null,null,null,null,null,null,null,null,null,null,null,null,null,null,null,null,null,null,null,null,null,null,null,null,null,null,null,null,null,null,null,null,null,null,null,null,0.41636363636364138]
[158,43040,42948,42948,42826,42979,43040,43070,42948,43070,42856,null,null,null,null,null,null,null,null,null,null,null,1,1,1,1,0.4,1,1,1,1,0.5,null,null,null,null,null,null,null,null,null,null,null,0,1,null,1,1,1,1,1,1,1,1,1,1,14.287272727272725,14.481818181818179,14.681818181818178,14.809090909090905,14.909090909090905,15.116363636363632,15.258181818181813,15.449090909090904,15.589090909090903,3.5355333333333334,null,null,null,null,null,null,null,null,null,null,null,null,null,null,null,null,null,null,null,null,null,null,null,null,null,null,null,null,null,null,null,null,null,null,null,null,null,null,null,null,null,null,null,null,0.41636363636364138]
[159,43009,42948,42979,42856,42826,42979,43101,43040,43070,42887,null,null,null,null,null,null,null,null,null,null,null,0.3,1,0.4,0.5,1,0.4,0.5,1,1,0.5,null,null,null,null,null,null,null,null,null,null,null,0,0.5,null,0.5,0.5,0.5,0.5,0.5,0.5,0.5,0.5,0.5,0.5,14.708518549120054,15.076743870164924,15.455293265631614,15.696188335474051,15.885463033207396,16.277777861236508,16.546203796203798,16.907546400967455,17.172530977794136,3.8637999999999986,null,null,null,null,null,null,null,null,null,null,null,null,null,null,null,null,null,null,null,null,null,null,null,null,null,null,null,null,null,null,null,null,null,null,null,null,null,null,null,null,null,null,null,null,0.42520325203252085]
[160,43040,42887,42917,42856,43101,43040,42826,42856,43040,43009,null,null,null,null,null,null,null,null,null,null,null,1,0.5,1,0.5,0.5,1,1,0.5,1,0.3,null,null,null,null,null,null,null,null,null,null,null,0,0.75,null,0.75,0.75,0.75,0.75,0.75,0.75,0.75,0.75,0.75,0.75,13.585690987253486,13.795177970177969,14.010538419913418,14.147585978835977,14.255266203703702,14.478457942520441,14.631168079605578,14.836739417989417,14.98749173280423,3.8329999999999993,null,null,null,null,null,null,null,null,null,null,null,null,null,null,null,null,null,null,null,null,null,null,null,null,null,null,null,null,null,null,null,null,null,null,null,null,null,null,null,null,null,null,null,null,0.4252717391304337]
[161,42856,42917,42917,42917,42887,42826,42948,42948,42979,42948,null,null,null,null,null,null,null,null,null,null,null,0.5,1,1,1,0.5,1,1,1,0.4,1,null,null,null,null,null,null,null,null,null,null,null,0,1,null,1,1,1,1,1,1,1,1,1,1,14.324150524285795,14.608841418187215,14.901514299768113,15.087760678955959,15.234097119746409,15.537412651566614,15.744944331233068,16.024313900014839,16.229184917121465,3.6890000000000009,null,null,null,null,null,null,null,null,null,null,null,null,null,null,null,null,null,null,null,null,null,null,null,null,null,null,null,null,null,null,null,null,null,null,null,null,null,null,null,null,null,null,null,null,0.4252717391304337]
[162,42979,42887,42856,42979,43070,43040,42948,43101,42979,42826,null,null,null,null,null,null,null,null,null,null,null,0.4,0.5,0.5,0.4,1,1,1,0.5,0.4,1,null,null,null,null,null,null,null,null,null,null,null,0,0.5,null,0.5,0.5,0.5,0.5,0.5,0.5,0.5,0.5,0.5,0.5,14.465915492957748,14.827605633802818,15.199436619718313,15.436056338028171,15.621971830985917,16.007323943661973,16.270985915492961,16.625915492957748,16.886197183098595,3.5165000000000006,null,null,null,null,null,null,null,null,null,null,null,null,null,null,null,null,null,null,null,null,null,null,null,null,null,null,null,null,null,null,null,null,null,null,null,null,null,null,null,null,null,null,null,null,0.42540650406504099]
[163,43101,42887,42826,42856,43040,43070,43101,43040,42948,42948,null,null,null,null,null,null,null,null,null,null,null,0.5,0.5,1,0.5,1,1,0.5,1,1,1,null,null,null,null,null,null,null,null,null,null,null,0,1,null,1,1,1,1,1,1,1,1,1,1,14.115467075038286,14.443185298621746,14.780091883614089,14.994486983154671,15.162940275650843,15.51209800918836,15.750995405819296,16.072588055130169,16.308422664624807,3.570333333333334,null,null,null,null,null,null,null,null,null,null,null,null,null,null,null,null,null,null,null,null,null,null,null,null,null,null,null,null,null,null,null,null,null,null,null,null,null,null,null,null,null,null,null,null,0.43170731707317245]
[164,43070,42917,42948,43070,43101,42887,43040,42856,42887,43101,null,null,null,null,null,null,null,null,null,null,null,1,1,1,1,0.5,0.5,1,0.5,0.5,0.5,null,null,null,null,null,null,null,null,null,null,null,0,0.75,null,0.75,0.75,0.75,0.75,0.75,0.75,0.75,0.75,0.75,0.75,15,15.350060069243455,15.709934906783456,15.938946167036182,16.118883585806181,16.49184478107491,16.747028756785092,17.090545647164184,17.342458033442185,3.6761818181818198,null,null,null,null,null,null,null,null,null,null,null,null,null,null,null,null,null,null,null,null,null,null,null,null,null,null,null,null,null,null,null,null,null,null,null,null,null,null,null,null,null,null,null,null,0.43170731707317245]
[165,42917,42917,43040,42856,42856,43101,43101,43101,42887,43101,null,null,null,null,null,null,null,null,null,null,null,1,1,1,0.5,0.5,0.5,0.5,0.5,0.5,0.5,null,null,null,null,null,null,null,null,null,null,null,0,0.5,null,0.5,0.5,0.5,0.5,0.5,0.5,0.5,0.5,0.5,0.5,14.299255952380951,14.50625,14.719047619047618,14.854464285714284,14.960863095238095,15.181398809523808,15.332291666666665,15.535416666666665,15.684374999999998,3.4065000000000012,null,null,null,null,null,null,null,null,null,null,null,null,null,null,null,null,null,null,null,null,null,null,null,null,null,null,null,null,null,null,null,null,null,null,null,null,null,null,null,null,null,null,null,null,0.43833333333333258]
[166,43101,43009,42826,42887,43040,42887,43009,42856,42887,43040,null,null,null,null,null,null,null,null,null,null,null,0.5,0.3,1,0.5,1,0.5,0.3,0.5,0.5,1,null,null,null,null,null,null,null,null,null,null,null,0,0.5,null,0.5,0.5,0.5,0.5,0.5,0.5,0.5,0.5,0.5,0.5,14.677272727272728,14.885714285714286,15.1,15.236363636363636,15.343506493506494,15.565584415584416,15.717532467532468,15.922077922077923,16.072077922077924,3.3650277777777786,null,null,null,null,null,null,null,null,null,null,null,null,null,null,null,null,null,null,null,null,null,null,null,null,null,null,null,null,null,null,null,null,null,null,null,null,null,null,null,null,null,null,null,null,0.43986928104575185]
[167,43009,42887,42917,42887,42979,42887,42826,42917,42826,42948,null,null,null,null,null,null,null,null,null,null,null,0.3,0.5,1,0.5,0.4,0.5,1,1,1,1,null,null,null,null,null,null,null,null,null,null,null,-1.3631503920171061E-3,59.231878118317887,null,0.85359942979329873,0.81270491803278588,0.77044725588025642,0.72955274411974358,0.68729508196721412,0.64503741981468465,0.60414290805417181,0.56188524590164235,0.52099073414112951,0.47873307198860005,14.33957264957265,14.714529914529916,15.100000000000001,15.345299145299146,15.538034188034189,15.937521367521366,16.2108547008547,16.578803418803417,16.848632478632478,3.4995000000000003,null,null,null,null,null,null,null,null,null,null,null,null,null,null,null,null,null,null,null,null,null,null,null,null,null,null,null,null,null,null,null,null,null,null,null,null,null,null,null,null,null,null,null,null,0.44184782608695627]
[168,43009,43040,42948,43009,42979,42917,42826,43101,42917,42948,null,null,null,null,null,null,null,null,null,null,null,0.3,1,1,0.3,0.4,1,1,0.5,1,1,null,null,null,null,null,null,null,null,null,null,null,-2.717391304347826E-3,117.74864130434783,null,1.3736413043478279,1.2921195652173907,1.2078804347826093,1.1263586956521721,1.0421195652173907,0.95788043478260931,0.87635869565217206,0.79211956521739069,0.71059782608696764,0.62635869565217206,13.091605596269154,13.440906062624917,13.8,14.028514323784144,14.208061292471687,14.580213191205864,14.834843437708194,15.177614923384411,15.428980679546967,3.6419999999999995,null,null,null,null,null,null,null,null,null,null,null,null,null,null,null,null,null,null,null,null,null,null,null,null,null,null,null,null,null,null,null,null,null,null,null,null,null,null,null,null,null,null,null,null,0.44211956521738216]
[169,42856,43070,43009,42826,42887,42948,42979,42917,43009,42917,null,null,null,null,null,null,null,null,null,null,null,0.5,1,0.3,1,0.5,1,0.4,1,0.3,1,null,null,null,null,null,null,null,null,null,null,null,-8.130081300813006E-4,35.654471544715435,null,0.83658536585365795,0.81219512195121979,0.78699186991869396,0.76260162601625581,0.73739837398373709,0.71219512195121837,0.68780487804878021,0.66260162601625439,0.63821138211381623,0.61300813008129751,15.532432432432433,15.821621621621622,16.118918918918919,16.308108108108108,16.456756756756757,16.764864864864865,16.975675675675674,17.25945945945946,17.467567567567567,3.5132500000000011,null,null,null,null,null,null,null,null,null,null,null,null,null,null,null,null,null,null,null,null,null,null,null,null,null,null,null,null,null,null,null,null,null,null,null,null,null,null,null,null,null,null,null,null,0.44363636363637227]
[170,43101,42917,43070,42917,42826,42948,43101,42948,43040,42979,null,null,null,null,null,null,null,null,null,null,null,0.5,1,1,1,1,1,0.5,1,1,0.4,null,null,null,null,null,null,null,null,null,null,null,0,1,null,1,1,1,1,1,1,1,1,1,1,14.650699533644238,15,15.359093937375084,15.587608261159227,15.767155229846768,16.139307128580946,16.393937375083276,16.736708860759492,16.988074616922052,3.9731923076923081,null,null,null,null,null,null,null,null,null,null,null,null,null,null,null,null,null,null,null,null,null,null,null,null,null,null,null,null,null,null,null,null,null,null,null,null,null,null,null,null,null,null,null,null,0.44410569105691167]
[171,42856,43070,42917,42887,42917,42856,42948,42856,43101,42948,null,null,null,null,null,null,null,null,null,null,null,0.5,1,1,0.5,1,0.5,1,0.5,0.5,1,null,null,null,null,null,null,null,null,null,null,null,1.1682242990654205E-3,-49.386682242990652,null,0.64369158878504606,0.67873831775700921,0.71495327102803685,0.75,0.78621495327102764,0.82242990654205528,0.85747663551401843,0.89369158878504606,0.92873831775700921,0.96495327102803685,14.1,14.349594320486815,14.606186612576064,14.769472616632859,14.897768762677483,15.163691683569979,15.345638945233265,15.590567951318457,15.770182555780931,3.3833124999999988,null,null,null,null,null,null,null,null,null,null,null,null,null,null,null,null,null,null,null,null,null,null,null,null,null,null,null,null,null,null,null,null,null,null,null,null,null,null,null,null,null,null,null,null,0.44410569105691167]
[172,43101,43040,43070,43009,43101,43040,42826,42887,42826,43009,null,null,null,null,null,null,null,null,null,null,null,0.5,1,1,0.3,0.5,1,1,0.5,1,0.3,null,null,null,null,null,null,null,null,null,null,null,0,0.75,null,0.75,0.75,0.75,0.75,0.75,0.75,0.75,0.75,0.75,0.75,15.643104596935375,15.992405063291137,16.351499000666223,16.580013324450363,16.759560293137906,17.131712191872083,17.386342438374413,17.72911392405063,17.98047968021319,3.6815624999999992,null,null,null,null,null,null,null,null,null,null,null,null,null,null,null,null,null,null,null,null,null,null,null,null,null,null,null,null,null,null,null,null,null,null,null,null,null,null,null,null,null,null,null,null,0.44454545454546235]
[173,42979,42979,42856,42948,43070,43101,43070,43070,42948,42917,null,null,null,null,null,null,null,null,null,null,null,0.4,0.4,0.5,1,1,0.5,1,1,1,1,null,null,null,null,null,null,null,null,null,null,null,0,1,null,1,1,1,1,1,1,1,1,1,1,13.8,14.087634408602151,14.383333333333333,14.571505376344087,14.719354838709677,15.025806451612905,15.235483870967741,15.517741935483871,15.724731182795699,3.5447500000000005,null,null,null,null,null,null,null,null,null,null,null,null,null,null,null,null,null,null,null,null,null,null,null,null,null,null,null,null,null,null,null,null,null,null,null,null,null,null,null,null,null,null,null,null,0.44836065573770156]
[174,42917,42856,42826,43070,42856,43101,42979,42917,43040,43101,null,null,null,null,null,null,null,null,null,null,null,1,0.5,1,1,0.5,0.5,0.4,1,1,0.5,null,null,null,null,null,null,null,null,null,null,null,0,0.75,null,0.75,0.75,0.75,0.75,0.75,0.75,0.75,0.75,0.75,0.75,14.099999999999998,14.38469089390142,14.677363775482318,14.863610154670162,15.009946595460613,15.313262127280819,15.520793806947275,15.800163375729042,16.005034392835672,3.9200769230769241,null,null,null,null,null,null,null,null,null,null,null,null,null,null,null,null,null,null,null,null,null,null,null,null,null,null,null,null,null,null,null,null,null,null,null,null,null,null,null,null,null,null,null,null,0.44918032786885931]
[175,42917,42979,42826,43040,42856,42887,42856,42856,42979,42979,null,null,null,null,null,null,null,null,null,null,null,1,0.4,1,1,0.5,0.5,0.5,0.5,0.4,0.4,null,null,null,null,null,null,null,null,null,null,null,-8.130081300813006E-4,35.379674796747956,null,0.56178861788617951,0.53739837398374135,0.51219512195121553,0.48780487804877737,0.46260162601625865,0.43739837398373993,0.41300813008130177,0.38780487804877595,0.36341463414633779,0.33821138211381907,14.791040021866426,15.07112063678956,15.359053979233904,15.542284288062124,15.686250959284294,15.984654605090252,16.188825520641696,16.463670983884022,16.665224323595066,3.8834999999999997,null,null,null,null,null,null,null,null,null,null,null,null,null,null,null,null,null,null,null,null,null,null,null,null,null,null,null,null,null,null,null,null,null,null,null,null,null,null,null,null,null,null,null,null,0.44918032786885931]
[176,43009,42917,42948,42979,42948,42826,42856,42887,42856,43009,null,null,null,null,null,null,null,null,null,null,null,0.3,1,1,0.4,1,1,0.5,0.5,0.5,0.3,null,null,null,null,null,null,null,null,null,null,null,-1.3071895424836603E-3,56.620915032679747,null,0.63921568627451109,0.60000000000000142,0.55947712418301165,0.52026143790850199,0.47973856209150512,0.43921568627451535,0.40000000000000568,0.35947712418300881,0.32026143790849915,0.27973856209150938,13.45168282130243,13.817023227898158,14.19260682346386,14.431614566096581,14.619406363879431,15.00864754473843,15.274970457957746,15.633482071906826,15.896390588802817,3.7419545454545471,null,null,null,null,null,null,null,null,null,null,null,null,null,null,null,null,null,null,null,null,null,null,null,null,null,null,null,null,null,null,null,null,null,null,null,null,null,null,null,null,null,null,null,null,0.44934640522876634]
[177,42856,43070,42826,42917,42917,43101,42979,42887,43040,42856,null,null,null,null,null,null,null,null,null,null,null,0.5,1,1,1,1,0.5,0.4,0.5,1,0.5,null,null,null,null,null,null,null,null,null,null,null,0,0.75,null,0.75,0.75,0.75,0.75,0.75,0.75,0.75,0.75,0.75,0.75,15.405805243445691,15.626217228464418,15.852808988764043,15.99700374531835,16.110299625468162,16.34513108614232,16.505805243445689,16.722097378277152,16.880711610486888,3.4510000000000005,null,null,null,null,null,null,null,null,null,null,null,null,null,null,null,null,null,null,null,null,null,null,null,null,null,null,null,null,null,null,null,null,null,null,null,null,null,null,null,null,null,null,null,null,0.45]
[178,42948,42948,42948,42917,42948,43009,42948,42887,42887,43101,null,null,null,null,null,null,null,null,null,null,null,1,1,1,1,1,0.3,1,0.5,0.5,0.5,null,null,null,null,null,null,null,null,null,null,null,0,1,null,1,1,1,1,1,1,1,1,1,1,14.190574214517879,14.596316359696644,15.013434452871074,15.278873239436621,15.487432286023836,15.919718309859157,16.215492957746481,16.6136511375948,16.905633802816904,4.0496666666666661,null,null,null,null,null,null,null,null,null,null,null,null,null,null,null,null,null,null,null,null,null,null,null,null,null,null,null,null,null,null,null,null,null,null,null,null,null,null,null,null,null,null,null,null,0.45]
[179,43009,43009,43009,42826,42917,42826,43040,43101,43101,42887,null,null,null,null,null,null,null,null,null,null,null,0.3,0.3,0.3,1,1,1,1,0.5,0.5,0.5,null,null,null,null,null,null,null,null,null,null,null,-1.639344262295082E-3,71.006557377049177,null,0.79999999999999716,0.75081967213114353,0.70000000000000284,0.65081967213114922,0.59999999999999432,0.54918032786885362,0.5,0.4491803278688451,0.39999999999999147,0.34918032786885078,14.467884750527057,14.738580463808855,15.016865776528462,15.193956430077304,15.333099086437105,15.621503865073789,15.818833450456783,16.084469430780043,16.279269149683767,3.7625999999999991,null,null,null,null,null,null,null,null,null,null,null,null,null,null,null,null,null,null,null,null,null,null,null,null,null,null,null,null,null,null,null,null,null,null,null,null,null,null,null,null,null,null,null,null,0.45]
[180,42856,42826,42887,42887,43101,42917,43101,42826,43009,42887,null,null,null,null,null,null,null,null,null,null,null,0.5,1,0.5,0.5,0.5,1,0.5,1,0.3,0.5,null,null,null,null,null,null,null,null,null,null,null,-1.4732669023893711E-3,63.683997642772958,null,0.58986928104575043,0.54567127397407234,0.5,0.4558019929283148,0.41013071895424957,0.36445944498017724,0.32026143790849915,0.27459016393442681,0.23039215686274161,0.18472088288867639,14.00576441102757,14.291812865497079,14.585881370091899,14.773015873015876,14.920050125313285,15.22481203007519,15.433333333333337,15.714035087719301,15.919883040935675,3.7188333333333343,null,null,null,null,null,null,null,null,null,null,null,null,null,null,null,null,null,null,null,null,null,null,null,null,null,null,null,null,null,null,null,null,null,null,null,null,null,null,null,null,null,null,null,null,0.45]
[181,43040,42979,42917,43009,43009,42948,43101,43070,43009,43009,null,null,null,null,null,null,null,null,null,null,null,1,0.4,1,0.3,0.3,1,0.5,1,0.3,0.3,null,null,null,null,null,null,null,null,null,null,null,0,0.45,null,0.45,0.45,0.45,0.45,0.45,0.45,0.45,0.45,0.45,0.45,14.133602174088258,14.456614603957792,14.788683457094697,15,15.166034426568451,15.510178510728515,15.745645515680138,16.06262033003809,16.295068527233923,3.1995000000000005,null,null,null,null,null,null,null,null,null,null,null,null,null,null,null,null,null,null,null,null,null,null,null,null,null,null,null,null,null,null,null,null,null,null,null,null,null,null,null,null,null,null,null,null,0.45040650406503957]
[182,43070,43101,43101,42856,42887,42948,42917,42856,43040,42826,null,null,null,null,null,null,null,null,null,null,null,1,0.5,0.5,0.5,0.5,1,1,0.5,1,1,null,null,null,null,null,null,null,null,null,null,null,0,0.75,null,0.75,0.75,0.75,0.75,0.75,0.75,0.75,0.75,0.75,0.75,13.2,13.420411985018726,13.647003745318351,13.791198501872659,13.90449438202247,14.139325842696628,14.299999999999997,14.516292134831458,14.674906367041196,4.0262499999999992,null,null,null,null,null,null,null,null,null,null,null,null,null,null,null,null,null,null,null,null,null,null,null,null,null,null,null,null,null,null,null,null,null,null,null,null,null,null,null,null,null,null,null,null,0.45650406504065089]
[183,42979,42856,43070,42948,43040,42887,42948,43009,42948,42887,null,null,null,null,null,null,null,null,null,null,null,0.4,0.5,1,1,1,0.5,1,0.3,1,0.5,null,null,null,null,null,null,null,null,null,null,null,0,0.75,null,0.75,0.75,0.75,0.75,0.75,0.75,0.75,0.75,0.75,0.75,13.946633461219179,14.297850620358529,14.658914989567208,14.888683224518186,15.069215409122524,15.443409391756973,15.69943685355949,16.044089205985955,16.296834264432029,3.4862500000000001,null,null,null,null,null,null,null,null,null,null,null,null,null,null,null,null,null,null,null,null,null,null,null,null,null,null,null,null,null,null,null,null,null,null,null,null,null,null,null,null,null,null,null,null,0.45650406504065089]
[184,42887,42917,42856,43101,43101,42948,42917,43009,43070,42826,null,null,null,null,null,null,null,null,null,null,null,0.5,1,0.5,0.5,0.5,1,1,0.3,1,1,null,null,null,null,null,null,null,null,null,null,null,0,0.75,null,0.75,0.75,0.75,0.75,0.75,0.75,0.75,0.75,0.75,0.75,15.2,15.527718223583459,15.864624808575803,16.079019908116386,16.247473200612557,16.596630934150074,16.83552833078101,17.157120980091882,17.392955589586521,4.0879999999999992,null,null,null,null,null,null,null,null,null,null,null,null,null,null,null,null,null,null,null,null,null,null,null,null,null,null,null,null,null,null,null,null,null,null,null,null,null,null,null,null,null,null,null,null,0.45650406504065089]
[185,42979,43040,42948,43101,42826,42948,43101,42917,42887,42979,null,null,null,null,null,null,null,null,null,null,null,0.4,1,1,0.5,1,1,0.5,1,0.5,0.4,null,null,null,null,null,null,null,null,null,null,null,-5.4347826086956512E-4,24.099728260869561,null,0.8247282608695663,0.80842391304348027,0.79157608695652115,0.77527173913043512,0.75842391304347956,0.74157608695652399,0.72527173913043441,0.70842391304347885,0.69211956521739282,0.6752717391304337,14.451018973998595,14.721714687280393,15,15.177090653548841,15.316233309908643,15.604638088545327,15.801967673928321,16.067603654251581,16.262403373155305,4.0526666666666662,null,null,null,null,null,null,null,null,null,null,null,null,null,null,null,null,null,null,null,null,null,null,null,null,null,null,null,null,null,null,null,null,null,null,null,null,null,null,null,null,null,null,null,null,0.45923913043478137]
[186,43070,43070,43009,43070,42948,43101,42948,42979,42979,43070,null,null,null,null,null,null,null,null,null,null,null,1,1,0.3,1,1,0.5,1,0.4,0.4,1,null,null,null,null,null,null,null,null,null,null,null,0,1,null,1,1,1,1,1,1,1,1,1,1,15.278378378378379,15.567567567567568,15.864864864864865,16.054054054054056,16.202702702702702,16.51081081081081,16.721621621621622,17.005405405405405,17.213513513513515,3.4040588235294118,null,null,null,null,null,null,null,null,null,null,null,null,null,null,null,null,null,null,null,null,null,null,null,null,null,null,null,null,null,null,null,null,null,null,null,null,null,null,null,null,null,null,null,null,0.46792349726776195]
[187,42826,42856,43070,42856,42979,42917,43009,42948,42826,42917,null,null,null,null,null,null,null,null,null,null,null,1,0.5,1,0.5,0.4,1,0.3,1,1,1,null,null,null,null,null,null,null,null,null,null,null,0,1,null,1,1,1,1,1,1,1,1,1,1,15.841992551210428,16.190689013035382,16.549162011173184,16.777281191806331,16.956517690875231,17.328026070763499,17.582216014897579,17.924394785847298,18.17532588454376,3.7983750000000001,null,null,null,null,null,null,null,null,null,null,null,null,null,null,null,null,null,null,null,null,null,null,null,null,null,null,null,null,null,null,null,null,null,null,null,null,null,null,null,null,null,null,null,null,0.47181818181819324]
[188,42917,42979,43101,43101,43009,43040,43070,42887,43009,42917,null,null,null,null,null,null,null,null,null,null,null,1,0.4,0.5,0.5,0.3,1,1,0.5,0.3,1,null,null,null,null,null,null,null,null,null,null,null,0,0.5,null,0.5,0.5,0.5,0.5,0.5,0.5,0.5,0.5,0.5,0.5,14.716666666666667,15,15.291277258566979,15.476635514018692,15.622274143302182,15.924143302180685,16.130685358255452,16.408722741433024,16.612616822429906,3.4275000000000002,null,null,null,null,null,null,null,null,null,null,null,null,null,null,null,null,null,null,null,null,null,null,null,null,null,null,null,null,null,null,null,null,null,null,null,null,null,null,null,null,null,null,null,null,0.47181818181819324]
[189,43070,43040,43009,42856,43009,42948,43070,43070,43040,43040,null,null,null,null,null,null,null,null,null,null,null,1,1,0.3,0.5,0.3,1,1,1,1,1,null,null,null,null,null,null,null,null,null,null,null,1.1682242990654205E-3,-49.280373831775698,null,0.75,0.78504672897196315,0.82126168224299079,0.85630841121495394,0.89252336448598157,0.92873831775700921,0.96378504672897236,1,1.0350467289719631,1.0712616822429908,14.53766233766234,14.760000000000002,14.988571428571429,15.134025974025976,15.24831168831169,15.485194805194807,15.647272727272728,15.865454545454547,16.025454545454547,3.4137666666666675,null,null,null,null,null,null,null,null,null,null,null,null,null,null,null,null,null,null,null,null,null,null,null,null,null,null,null,null,null,null,null,null,null,null,null,null,null,null,null,null,null,null,null,null,0.47181818181819324]
[190,42917,42887,42948,43101,42979,42887,43040,42917,42979,43070,null,null,null,null,null,null,null,null,null,null,null,1,0.5,1,0.5,0.4,0.5,1,1,0.4,1,null,null,null,null,null,null,null,null,null,null,null,0,0.75,null,0.75,0.75,0.75,0.75,0.75,0.75,0.75,0.75,0.75,0.75,14.632432432432433,14.921621621621622,15.218918918918918,15.408108108108108,15.556756756756757,15.864864864864865,16.075675675675676,16.359459459459458,16.567567567567568,3.5465000000000009,null,null,null,null,null,null,null,null,null,null,null,null,null,null,null,null,null,null,null,null,null,null,null,null,null,null,null,null,null,null,null,null,null,null,null,null,null,null,null,null,null,null,null,null,0.47181818181819324]
[191,42887,43009,43040,42826,43070,42856,42948,43070,42917,42856,null,null,null,null,null,null,null,null,null,null,null,0.5,0.3,1,1,1,0.5,1,1,1,0.5,null,null,null,null,null,null,null,null,null,null,null,0,1,null,1,1,1,1,1,1,1,1,1,1,14.45899772209567,14.65398633257403,14.854441913439633,14.982004555808654,15.082232346241456,15.289977220956718,15.432118451025055,15.623462414578585,15.763781321184506,3.8115714285714288,null,null,null,null,null,null,null,null,null,null,null,null,null,null,null,null,null,null,null,null,null,null,null,null,null,null,null,null,null,null,null,null,null,null,null,null,null,null,null,null,null,null,null,null,0.47500000000000142]
[192,43101,43009,43101,43101,43040,42826,43040,42948,42948,42917,null,null,null,null,null,null,null,null,null,null,null,0.5,0.3,0.5,0.5,1,1,1,1,1,1,null,null,null,null,null,null,null,null,null,null,null,-1.8181818181818182E-3,79.226363636363629,null,1.3609090909090895,1.3063636363636277,1.25,1.1954545454545382,1.1390909090908963,1.0827272727272685,1.0281818181818068,0.97181818181817903,0.91727272727271725,0.86090909090908951,15.518421052631577,15.799999999999999,16.089473684210525,16.273684210526316,16.418421052631579,16.718421052631577,16.923684210526314,17.2,17.402631578947368,3.7510999999999992,null,null,null,null,null,null,null,null,null,null,null,null,null,null,null,null,null,null,null,null,null,null,null,null,null,null,null,null,null,null,null,null,null,null,null,null,null,null,null,null,null,null,null,null,0.47873307198860005]
[193,43040,42887,43040,42948,42948,42979,42917,42856,43101,42917,null,null,null,null,null,null,null,null,null,null,null,1,0.5,1,1,1,0.4,1,0.5,0.5,1,null,null,null,null,null,null,null,null,null,null,null,0,1,null,1,1,1,1,1,1,1,1,1,1,14.115467075038286,14.443185298621746,14.780091883614089,14.994486983154671,15.162940275650843,15.51209800918836,15.750995405819296,16.072588055130169,16.308422664624807,4.1719999999999997,null,null,null,null,null,null,null,null,null,null,null,null,null,null,null,null,null,null,null,null,null,null,null,null,null,null,null,null,null,null,null,null,null,null,null,null,null,null,null,null,null,null,null,null,0.48770491803278659]
[194,42979,43101,43101,42826,43040,42948,43040,42826,42887,43101,null,null,null,null,null,null,null,null,null,null,null,0.4,0.5,0.5,1,1,1,1,1,0.5,0.5,null,null,null,null,null,null,null,null,null,null,null,-1.4525691699604742E-3,63.224273715415016,null,1.0165464426877477,0.97296936758893082,0.92793972332015784,0.88436264822134802,0.83933300395256794,0.79430335968379495,0.75072628458497803,0.70569664031620505,0.66211956521739523,0.61708992094861514,14.740336134453782,15.100000000000001,15.469747899159664,15.705042016806724,15.889915966386555,16.27310924369748,16.535294117647059,16.888235294117649,17.147058823529413,3.6077500000000002,null,null,null,null,null,null,null,null,null,null,null,null,null,null,null,null,null,null,null,null,null,null,null,null,null,null,null,null,null,null,null,null,null,null,null,null,null,null,null,null,null,null,null,null,0.49000000000000909]
[195,42917,42887,43009,42856,42948,42979,43040,42917,42826,42826,null,null,null,null,null,null,null,null,null,null,null,1,0.5,0.3,0.5,1,0.4,1,1,1,1,null,null,null,null,null,null,null,null,null,null,null,0,1,null,1,1,1,1,1,1,1,1,1,1,14.448332627343007,14.810192735359527,15.182198453881183,15.41892936566769,15.604932224928518,15.990465424123691,16.254251297257227,16.60934766493699,16.86975166790215,3.6972307692307691,null,null,null,null,null,null,null,null,null,null,null,null,null,null,null,null,null,null,null,null,null,null,null,null,null,null,null,null,null,null,null,null,null,null,null,null,null,null,null,null,null,null,null,null,0.49500000000000455]
[196,42826,42887,42856,43101,43040,42856,42856,42917,42979,43101,null,null,null,null,null,null,null,null,null,null,null,1,0.5,0.5,0.5,1,0.5,0.5,1,0.4,0.5,null,null,null,null,null,null,null,null,null,null,null,0,0.5,null,0.5,0.5,0.5,0.5,0.5,0.5,0.5,0.5,0.5,0.5,14.378378378378379,14.667567567567568,14.964864864864865,15.154054054054054,15.302702702702703,15.610810810810811,15.821621621621622,16.105405405405406,16.313513513513513,3.5531923076923082,null,null,null,null,null,null,null,null,null,null,null,null,null,null,null,null,null,null,null,null,null,null,null,null,null,null,null,null,null,null,null,null,null,null,null,null,null,null,null,null,null,null,null,null,0.5]
[197,43101,42948,42856,43040,42948,42826,43040,43040,42917,42856,null,null,null,null,null,null,null,null,null,null,null,0.5,1,0.5,1,1,1,1,1,1,0.5,null,null,null,null,null,null,null,null,null,null,null,0,1,null,1,1,1,1,1,1,1,1,1,1,15.1,15.295827232796487,15.497144948755491,15.625256222547584,15.725915080527086,15.934553440702782,16.077306002928257,16.269472913616397,16.410395314787699,3.5734285714285701,null,null,null,null,null,null,null,null,null,null,null,null,null,null,null,null,null,null,null,null,null,null,null,null,null,null,null,null,null,null,null,null,null,null,null,null,null,null,null,null,null,null,null,null,0.5]
[198,43009,42948,43070,42856,43101,42826,42856,43040,42979,43009,null,null,null,null,null,null,null,null,null,null,null,0.3,1,1,0.5,0.5,1,0.5,1,0.4,0.3,null,null,null,null,null,null,null,null,null,null,null,0,0.5,null,0.5,0.5,0.5,0.5,0.5,0.5,0.5,0.5,0.5,0.5,13.719444444444443,13.929976851851851,14.146412037037036,14.284143518518517,14.392361111111111,14.616666666666665,14.770138888888887,14.97673611111111,15.12824074074074,3.7075454545454543,null,null,null,null,null,null,null,null,null,null,null,null,null,null,null,null,null,null,null,null,null,null,null,null,null,null,null,null,null,null,null,null,null,null,null,null,null,null,null,null,null,null,null,null,0.5]
[199,43101,42856,42826,43040,42826,42948,43009,43070,43070,42979,null,null,null,null,null,null,null,null,null,null,null,0.5,0.5,1,1,1,1,0.3,1,1,0.4,null,null,null,null,null,null,null,null,null,null,null,0,1,null,1,1,1,1,1,1,1,1,1,1,14.713951545530492,15,15.29406850459482,15.481203007518797,15.628237259816206,15.932999164578112,16.141520467836258,16.422222222222224,16.628070175438594,3.8505833333333328,null,null,null,null,null,null,null,null,null,null,null,null,null,null,null,null,null,null,null,null,null,null,null,null,null,null,null,null,null,null,null,null,null,null,null,null,null,null,null,null,null,null,null,null,0.5]
[200,43070,42826,43040,43040,42826,42856,43009,43070,43040,42826,null,null,null,null,null,null,null,null,null,null,null,1,1,1,1,1,0.5,0.3,1,1,1,null,null,null,null,null,null,null,null,null,null,null,0,1,null,1,1,1,1,1,1,1,1,1,1,13.1,13.05069124423963,12.999999999999998,12.967741935483868,12.942396313364053,12.88986175115207,12.853917050691241,12.805529953917047,12.770046082949303,3.9290000000000003,null,null,null,null,null,null,null,null,null,null,null,null,null,null,null,null,null,null,null,null,null,null,null,null,null,null,null,null,null,null,null,null,null,null,null,null,null,null,null,null,null,null,null,null,0.5]
[201,43040,42979,43101,42826,43101,42979,42826,43070,42979,42948,null,null,null,null,null,null,null,null,null,null,null,1,0.4,0.5,1,0.5,0.4,1,1,0.4,1,null,null,null,null,null,null,null,null,null,null,null,0,0.75,null,0.75,0.75,0.75,0.75,0.75,0.75,0.75,0.75,0.75,0.75,14.698102600140549,14.968798313422347,15.247083626141954,15.424174279690796,15.563316936050597,15.851721714687281,16.049051300070275,16.314687280393535,16.509486999297259,3.7590000000000003,null,null,null,null,null,null,null,null,null,null,null,null,null,null,null,null,null,null,null,null,null,null,null,null,null,null,null,null,null,null,null,null,null,null,null,null,null,null,null,null,null,null,null,null,0.5]
[202,43070,43009,42887,43101,42948,43009,42917,43101,42856,43070,null,null,null,null,null,null,null,null,null,null,null,1,0.3,0.5,0.5,1,0.3,1,0.5,0.5,1,null,null,null,null,null,null,null,null,null,null,null,0,0.5,null,0.5,0.5,0.5,0.5,0.5,0.5,0.5,0.5,0.5,0.5,13.604409672830727,13.878378378378379,14.160028449502136,14.339260312944525,14.480085348506403,14.771977240398295,14.971692745376957,15.240540540540543,15.43769559032717,3.5227499999999994,null,null,null,null,null,null,null,null,null,null,null,null,null,null,null,null,null,null,null,null,null,null,null,null,null,null,null,null,null,null,null,null,null,null,null,null,null,null,null,null,null,null,null,null,0.5]
[203,43101,43101,42979,42917,42826,43101,42856,42887,42948,42887,null,null,null,null,null,null,null,null,null,null,null,0.5,0.5,0.4,1,1,0.5,0.5,0.5,1,0.5,null,null,null,null,null,null,null,null,null,null,null,0,0.5,null,0.5,0.5,0.5,0.5,0.5,0.5,0.5,0.5,0.5,0.5,15,15.305525778458398,15.619617700238058,15.819494377734205,15.976540338624035,16.302053784832047,16.524773511184897,16.824588527429121,17.044452872674881,3.613428571428571,null,null,null,null,null,null,null,null,null,null,null,null,null,null,null,null,null,null,null,null,null,null,null,null,null,null,null,null,null,null,null,null,null,null,null,null,null,null,null,null,null,null,null,null,0.5]
[204,42826,43009,43101,42826,42826,43040,42826,42887,43009,42979,null,null,null,null,null,null,null,null,null,null,null,1,0.3,0.5,1,1,1,1,0.5,0.3,0.4,null,null,null,null,null,null,null,null,null,null,null,-2.5757575757575763E-3,111.33500000000002,null,1.0256060606060657,0.94833333333333769,0.86848484848485441,0.79121212121212636,0.71136363636362887,0.63151515151514559,0.55424242424241754,0.47439393939393426,0.39712121212120621,0.31727272727272293,13.965915492957748,14.327605633802818,14.699436619718313,14.936056338028171,15.121971830985917,15.507323943661975,15.770985915492961,16.125915492957748,16.386197183098595,3.8451249999999995,null,null,null,null,null,null,null,null,null,null,null,null,null,null,null,null,null,null,null,null,null,null,null,null,null,null,null,null,null,null,null,null,null,null,null,null,null,null,null,null,null,null,null,null,0.5]
[205,43040,43040,42826,43040,42979,42826,43009,43070,42979,42887,null,null,null,null,null,null,null,null,null,null,null,1,1,1,1,0.4,1,0.3,1,0.4,0.5,null,null,null,null,null,null,null,null,null,null,null,0,1,null,1,1,1,1,1,1,1,1,1,1,13.8,14.225013993283225,14.661944266751959,14.939990804413881,15.158455941148249,15.611274588197666,15.921097873020951,16.338167679513834,16.644018870941949,4.2233076923076922,null,null,null,null,null,null,null,null,null,null,null,null,null,null,null,null,null,null,null,null,null,null,null,null,null,null,null,null,null,null,null,null,null,null,null,null,null,null,null,null,null,null,null,null,0.5]
[206,42979,42826,42826,42917,43070,42826,42826,43009,43009,42948,null,null,null,null,null,null,null,null,null,null,null,0.4,1,1,1,1,1,1,0.3,0.3,1,null,null,null,null,null,null,null,null,null,null,null,-3.3333333333333344E-3,144.10833333333338,null,1.3549999999999898,1.2549999999999955,1.1516666666666708,1.0516666666666765,0.94833333333332348,0.84499999999999886,0.74500000000000455,0.64166666666665151,0.54166666666665719,0.43833333333333258,13.236024844720497,13.169565217391304,13.101242236024843,13.057763975155277,13.023602484472047,12.952795031055896,12.904347826086951,12.839130434782604,12.791304347826081,3.7511333333333328,null,null,null,null,null,null,null,null,null,null,null,null,null,null,null,null,null,null,null,null,null,null,null,null,null,null,null,null,null,null,null,null,null,null,null,null,null,null,null,null,null,null,null,null,0.5]
[207,43040,43009,42887,43070,43070,42856,42948,43070,42826,42826,null,null,null,null,null,null,null,null,null,null,null,1,0.3,0.5,1,1,0.5,1,1,1,1,null,null,null,null,null,null,null,null,null,null,null,0,1,null,1,1,1,1,1,1,1,1,1,1,13.605604395604397,13.923076923076923,14.24945054945055,14.457142857142859,14.620329670329671,14.95857142857143,15.190000000000001,15.501538461538463,15.730000000000002,4.0910000000000002,null,null,null,null,null,null,null,null,null,null,null,null,null,null,null,null,null,null,null,null,null,null,null,null,null,null,null,null,null,null,null,null,null,null,null,null,null,null,null,null,null,null,null,null,0.5]
[208,43009,42948,43009,42979,42887,43040,43009,42979,42948,43009,null,null,null,null,null,null,null,null,null,null,null,0.3,1,0.3,0.4,0.5,1,0.3,0.4,1,0.3,null,null,null,null,null,null,null,null,null,null,null,-3.3333333333333344E-3,143.7133333333334,null,0.96000000000000796,0.86000000000001364,0.75666666666668903,0.65666666666669471,0.55333333333334167,0.45000000000001705,0.35000000000002274,0.2466666666666697,0.14666666666667538,4.3333333333350765E-2,14.332432432432434,14.621621621621623,14.918918918918919,15.108108108108109,15.256756756756758,15.564864864864866,15.775675675675677,16.059459459459461,16.267567567567568,3.6090504807692314,null,null,null,null,null,null,null,null,null,null,null,null,null,null,null,null,null,null,null,null,null,null,null,null,null,null,null,null,null,null,null,null,null,null,null,null,null,null,null,null,null,null,null,null,0.5]
[209,42856,42887,42887,42856,42917,42856,43009,42887,43009,43101,null,null,null,null,null,null,null,null,null,null,null,0.5,0.5,0.5,0.5,1,0.5,0.3,0.5,0.3,0.5,null,null,null,null,null,null,null,null,null,null,null,0,0.5,null,0.5,0.5,0.5,0.5,0.5,0.5,0.5,0.5,0.5,0.5,13.832432432432434,14.121621621621623,14.418918918918919,14.608108108108109,14.756756756756758,15.064864864864866,15.275675675675677,15.559459459459461,15.767567567567568,3.1025000000000027,null,null,null,null,null,null,null,null,null,null,null,null,null,null,null,null,null,null,null,null,null,null,null,null,null,null,null,null,null,null,null,null,null,null,null,null,null,null,null,null,null,null,null,null,0.5]
[210,42979,42979,43009,43101,42948,42948,43070,42856,42856,42856,null,null,null,null,null,null,null,null,null,null,null,0.4,0.4,0.3,0.5,1,1,1,0.5,0.5,0.5,null,null,null,null,null,null,null,null,null,null,null,-4.065040650406503E-4,17.96483739837398,null,0.55589430894309189,0.54369918699187281,0.53109756097560989,0.51890243902439082,0.50630081300813146,0.4936991869918721,0.48150406504065302,0.46890243902439011,0.45670731707317103,0.44410569105691167,14.178846153846154,14.384615384615383,14.596153846153847,14.73076923076923,14.836538461538462,15.055769230769229,15.20576923076923,15.407692307692308,15.555769230769229,3.6585000000000001,null,null,null,null,null,null,null,null,null,null,null,null,null,null,null,null,null,null,null,null,null,null,null,null,null,null,null,null,null,null,null,null,null,null,null,null,null,null,null,null,null,null,null,null,0.5]
[211,42826,42948,43070,42887,42826,43009,43070,42948,42979,43040,null,null,null,null,null,null,null,null,null,null,null,1,1,1,0.5,1,0.3,1,1,0.4,1,null,null,null,null,null,null,null,null,null,null,null,0,1,null,1,1,1,1,1,1,1,1,1,1,14.235910049191849,14.506605762473647,14.784891075193254,14.961981728742096,15.101124385101897,15.389529163738581,15.586858749121575,15.852494729444835,16.047294448348559,3.6800909090909091,null,null,null,null,null,null,null,null,null,null,null,null,null,null,null,null,null,null,null,null,null,null,null,null,null,null,null,null,null,null,null,null,null,null,null,null,null,null,null,null,null,null,null,null,0.5]
[212,43101,42826,42826,42979,42826,42826,43040,42917,42979,42948,null,null,null,null,null,null,null,null,null,null,null,0.5,1,1,0.4,1,1,1,1,0.4,1,null,null,null,null,null,null,null,null,null,null,null,-9.0909090909090909E-4,40.029545454545456,null,1.0968181818181861,1.0695454545454552,1.0413636363636414,1.0140909090909105,0.98590909090908951,0.95772727272727565,0.93045454545454476,0.90227272727273089,0.875,0.84681818181818613,15.1,15.417472527472526,15.743846153846153,15.951538461538462,16.114725274725274,16.452967032967031,16.684395604395604,16.995934065934065,17.224395604395603,3.8108576388888888,null,null,null,null,null,null,null,null,null,null,null,null,null,null,null,null,null,null,null,null,null,null,null,null,null,null,null,null,null,null,null,null,null,null,null,null,null,null,null,null,null,null,null,null,0.5]
[213,42917,42917,42856,43009,42979,43101,43070,43101,43101,43101,null,null,null,null,null,null,null,null,null,null,null,1,1,0.5,0.3,0.4,0.5,1,0.5,0.5,0.5,null,null,null,null,null,null,null,null,null,null,null,-4.065040650406503E-4,17.99573170731707,null,0.58678861788618164,0.57459349593496256,0.56199186991869965,0.54979674796748057,0.53719512195122121,0.52459349593496185,0.51239837398374277,0.49979674796747986,0.48760162601626078,0.47500000000000142,14.319444444444445,14.529976851851853,14.746412037037038,14.884143518518519,14.992361111111112,15.216666666666667,15.370138888888889,15.576736111111112,15.728240740740741,3.7183365384615392,null,null,null,null,null,null,null,null,null,null,null,null,null,null,null,null,null,null,null,null,null,null,null,null,null,null,null,null,null,null,null,null,null,null,null,null,null,null,null,null,null,null,null,null,0.5]
[214,42856,43040,43009,42887,43101,43009,42856,42917,43009,42948,null,null,null,null,null,null,null,null,null,null,null,0.5,1,0.3,0.5,0.5,0.3,0.5,1,0.3,1,null,null,null,null,null,null,null,null,null,null,null,0,0.5,null,0.5,0.5,0.5,0.5,0.5,0.5,0.5,0.5,0.5,0.5,14.625,14.959375000000001,15.303125000000001,15.521875000000001,15.693750000000001,16.05,16.293749999999999,16.621874999999999,16.862500000000001,4.1742499999999998,null,null,null,null,null,null,null,null,null,null,null,null,null,null,null,null,null,null,null,null,null,null,null,null,null,null,null,null,null,null,null,null,null,null,null,null,null,null,null,null,null,null,null,null,0.5]
[215,43101,42948,42826,43009,42948,42948,42826,42979,42917,42979,null,null,null,null,null,null,null,null,null,null,null,0.5,1,1,0.3,1,1,1,0.4,1,0.4,null,null,null,null,null,null,null,null,null,null,null,-3.3006535947712424E-3,142.75647058823532,null,1.4026797385620853,1.3036601307189528,1.2013398692810426,1.1023202614379102,1,0.89767973856208982,0.79866013071895736,0.69633986928104719,0.59732026143791472,0.49500000000000455,15,15.275593435435955,15.558913789622451,15.739208560468402,15.88086873756165,16.174491650082203,16.375391537596261,16.645833693865189,16.844157941795736,3.6627857142857128,null,null,null,null,null,null,null,null,null,null,null,null,null,null,null,null,null,null,null,null,null,null,null,null,null,null,null,null,null,null,null,null,null,null,null,null,null,null,null,null,null,null,null,null,0.5]
[216,42948,43101,42979,42917,43070,42887,42917,43040,42979,43070,null,null,null,null,null,null,null,null,null,null,null,1,0.5,0.4,1,1,0.5,1,1,0.4,1,null,null,null,null,null,null,null,null,null,null,null,0,1,null,1,1,1,1,1,1,1,1,1,1,15.715624999999999,16.05,16.393750000000001,16.612500000000001,16.784375000000001,17.140625,17.384374999999999,17.712499999999999,17.953125,3.4978636363636362,null,null,null,null,null,null,null,null,null,null,null,null,null,null,null,null,null,null,null,null,null,null,null,null,null,null,null,null,null,null,null,null,null,null,null,null,null,null,null,null,null,null,null,null,0.5]
[217,43009,43070,42856,43040,42856,43101,42948,42856,42979,42948,null,null,null,null,null,null,null,null,null,null,null,0.3,1,0.5,1,0.5,0.5,1,0.5,0.4,1,null,null,null,null,null,null,null,null,null,null,null,0,0.5,null,0.5,0.5,0.5,0.5,0.5,0.5,0.5,0.5,0.5,0.5,15.1,15.423146813239622,15.755353817504655,15.966758274764221,16.132861776896739,16.477149035862318,16.712714002522976,17.029820688412325,17.262365591397849,3.1466361111111114,null,null,null,null,null,null,null,null,null,null,null,null,null,null,null,null,null,null,null,null,null,null,null,null,null,null,null,null,null,null,null,null,null,null,null,null,null,null,null,null,null,null,null,null,0.5]
[218,43070,43009,42948,43040,43009,42887,43070,43009,43101,42856,null,null,null,null,null,null,null,null,null,null,null,1,0.3,1,1,0.3,0.5,1,0.3,0.5,0.5,null,null,null,null,null,null,null,null,null,null,null,0,0.5,null,0.5,0.5,0.5,0.5,0.5,0.5,0.5,0.5,0.5,0.5,15.1,15.458659217877095,15.827374301675977,16.062011173184356,16.246368715083797,16.628491620111731,16.88994413407821,17.241899441340781,17.5,3.3666999999999998,null,null,null,null,null,null,null,null,null,null,null,null,null,null,null,null,null,null,null,null,null,null,null,null,null,null,null,null,null,null,null,null,null,null,null,null,null,null,null,null,null,null,null,null,0.5]
[219,43101,42887,43070,42887,42948,42887,43101,43040,42826,42856,null,null,null,null,null,null,null,null,null,null,null,0.5,0.5,1,0.5,1,0.5,0.5,1,1,0.5,null,null,null,null,null,null,null,null,null,null,null,0,0.5,null,0.5,0.5,0.5,0.5,0.5,0.5,0.5,0.5,0.5,0.5,15.071343593907631,15.374314116286511,15.685779139292833,15.883984153933223,16.039716665436384,16.362507689279301,16.583364705592878,16.880672227553458,17.098697743657887,3.6445999999999987,null,null,null,null,null,null,null,null,null,null,null,null,null,null,null,null,null,null,null,null,null,null,null,null,null,null,null,null,null,null,null,null,null,null,null,null,null,null,null,null,null,null,null,null,0.5]
[220,42917,43009,43101,42856,43101,43101,42826,43009,43101,42917,null,null,null,null,null,null,null,null,null,null,null,1,0.3,0.5,0.5,0.5,0.5,1,0.3,0.5,1,null,null,null,null,null,null,null,null,null,null,null,-1.8181818181818182E-3,78.698181818181823,null,0.83272727272728275,0.77818181818182097,0.72181818181819324,0.66727272727273146,0.61090909090908951,0.55454545454546178,0.5,0.44363636363637227,0.38909090909091049,0.33272727272728275,14.34034492596577,14.59002363546419,14.846702682612099,15.010043894433496,15.13838341800745,15.404396248688009,15.58640502757471,15.831416845306803,16.011092178310342,3.2123529411764711,null,null,null,null,null,null,null,null,null,null,null,null,null,null,null,null,null,null,null,null,null,null,null,null,null,null,null,null,null,null,null,null,null,null,null,null,null,null,null,null,null,null,null,null,0.5]
[221,42887,43040,42979,43009,42948,43070,43101,42948,43101,42948,null,null,null,null,null,null,null,null,null,null,null,0.5,1,0.4,0.3,1,1,0.5,1,0.5,1,null,null,null,null,null,null,null,null,null,null,null,0,0.75,null,0.75,0.75,0.75,0.75,0.75,0.75,0.75,0.75,0.75,0.75,15.1,15.349594320486815,15.606186612576064,15.769472616632859,15.897768762677483,16.163691683569979,16.345638945233265,16.590567951318455,16.770182555780931,3.7383124999999993,null,null,null,null,null,null,null,null,null,null,null,null,null,null,null,null,null,null,null,null,null,null,null,null,null,null,null,null,null,null,null,null,null,null,null,null,null,null,null,null,null,null,null,null,0.5]
[222,43101,43101,43009,43040,43009,43040,43070,42979,42979,42856,null,null,null,null,null,null,null,null,null,null,null,0.5,0.5,0.3,1,0.3,1,1,0.4,0.4,0.5,null,null,null,null,null,null,null,null,null,null,null,8.1967213114754077E-4,-34.76598360655737,null,0.3372950819672127,0.36188524590163951,0.38729508196720985,0.41188524590163667,0.43729508196721412,0.46270491803278446,0.48729508196721127,0.51270491803278162,0.53729508196720843,0.56270491803278588,14.772281776416538,15.1,15.436906584992343,15.651301684532925,15.819754977029095,16.168912710566616,16.407810107197548,16.729402756508421,16.965237366003063,3.628166666666667,null,null,null,null,null,null,null,null,null,null,null,null,null,null,null,null,null,null,null,null,null,null,null,null,null,null,null,null,null,null,null,null,null,null,null,null,null,null,null,null,null,null,null,null,0.5]
[223,42856,42856,43101,42979,42826,42856,42948,42948,43009,43009,null,null,null,null,null,null,null,null,null,null,null,0.5,0.5,0.5,0.4,1,0.5,1,1,0.3,0.3,null,null,null,null,null,null,null,null,null,null,null,-1.3071895424836603E-3,56.641176470588242,null,0.65947712418300597,0.6202614379084963,0.57973856209150654,0.54052287581699687,0.5,0.45947712418301023,0.42026143790850057,0.3797385620915037,0.34052287581699403,0.30000000000000426,14.432931726907631,14.776706827309237,15.13012048192771,15.355020080321285,15.531726907630521,15.897991967871485,16.14859437751004,16.485943775100402,16.733333333333331,3.6672272727272741,null,null,null,null,null,null,null,null,null,null,null,null,null,null,null,null,null,null,null,null,null,null,null,null,null,null,null,null,null,null,null,null,null,null,null,null,null,null,null,null,null,null,null,null,0.5]
[224,42887,43101,42948,43101,42948,42856,42948,42948,42826,43040,null,null,null,null,null,null,null,null,null,null,null,0.5,0.5,1,0.5,1,0.5,1,1,1,1,null,null,null,null,null,null,null,null,null,null,null,0,1,null,1,1,1,1,1,1,1,1,1,1,15.723378212974296,16.116279069767444,16.520195838433292,16.777233782129741,16.979192166462667,17.397796817625458,17.684210526315791,18.069767441860463,18.35250917992656,3.2958571428571428,null,null,null,null,null,null,null,null,null,null,null,null,null,null,null,null,null,null,null,null,null,null,null,null,null,null,null,null,null,null,null,null,null,null,null,null,null,null,null,null,null,null,null,null,0.5]
[225,42826,43040,43070,43040,42917,42826,42887,43070,43070,43101,null,null,null,null,null,null,null,null,null,null,null,1,1,1,1,1,1,0.5,1,1,0.5,null,null,null,null,null,null,null,null,null,null,null,0,1,null,1,1,1,1,1,1,1,1,1,1,15.00691676436108,15.37069167643611,15.744665885111372,15.982649472450177,16.169636576787809,16.557209847596717,16.822391559202813,17.179366940211018,17.441148886283706,4.0991647727272742,null,null,null,null,null,null,null,null,null,null,null,null,null,null,null,null,null,null,null,null,null,null,null,null,null,null,null,null,null,null,null,null,null,null,null,null,null,null,null,null,null,null,null,null,0.5]
[226,42917,42917,43070,42948,43101,43101,42948,43009,42856,43040,null,null,null,null,null,null,null,null,null,null,null,1,1,1,1,0.5,0.5,1,0.3,0.5,1,null,null,null,null,null,null,null,null,null,null,null,0,1,null,1,1,1,1,1,1,1,1,1,1,14.373928320449755,14.644624033731553,14.92290934645116,15.100000000000001,15.239142656359803,15.527547434996487,15.724877020379481,15.990513000702741,16.185312719606465,3.8289687499999996,null,null,null,null,null,null,null,null,null,null,null,null,null,null,null,null,null,null,null,null,null,null,null,null,null,null,null,null,null,null,null,null,null,null,null,null,null,null,null,null,null,null,null,null,0.5]
[227,43009,42917,42917,43009,42826,43101,43070,42948,42887,43101,null,null,null,null,null,null,null,null,null,null,null,0.3,1,1,0.3,1,0.5,1,1,0.5,0.5,null,null,null,null,null,null,null,null,null,null,null,-8.1967213114754098E-4,35.97827868852459,null,0.875,0.85040983606557319,0.82500000000000284,0.80040983606557603,0.77499999999999858,0.74959016393442823,0.72500000000000142,0.69959016393442397,0.67499999999999716,0.64959016393442681,12.925042735042735,13.3,13.685470085470087,13.930769230769231,14.123504273504274,14.522991452991452,14.796324786324785,15.164273504273503,15.434102564102563,3.1773529411764718,null,null,null,null,null,null,null,null,null,null,null,null,null,null,null,null,null,null,null,null,null,null,null,null,null,null,null,null,null,null,null,null,null,null,null,null,null,null,null,null,null,null,null,null,0.5]
[228,42856,43009,43070,43101,43009,42826,42948,43040,42948,42979,null,null,null,null,null,null,null,null,null,null,null,0.5,0.3,1,0.5,0.3,1,1,1,1,0.4,null,null,null,null,null,null,null,null,null,null,null,0,0.75,null,0.75,0.75,0.75,0.75,0.75,0.75,0.75,0.75,0.75,0.75,15,15.317472527472528,15.643846153846154,15.851538461538462,16.014725274725276,16.352967032967033,16.584395604395603,16.895934065934068,17.124395604395605,3.7112499999999997,null,null,null,null,null,null,null,null,null,null,null,null,null,null,null,null,null,null,null,null,null,null,null,null,null,null,null,null,null,null,null,null,null,null,null,null,null,null,null,null,null,null,null,null,0.5]
[229,42856,42887,43070,43070,42917,43040,42948,43040,43070,42917,null,null,null,null,null,null,null,null,null,null,null,0.5,0.5,1,1,1,1,1,1,1,1,null,null,null,null,null,null,null,null,null,null,null,0,1,null,1,1,1,1,1,1,1,1,1,1,15,15.407326381400232,15.826073128634112,16.092548331419309,16.30192170503625,16.735895606715001,17.032825118389937,17.432537922567732,17.72566064563145,3.847083333333333,null,null,null,null,null,null,null,null,null,null,null,null,null,null,null,null,null,null,null,null,null,null,null,null,null,null,null,null,null,null,null,null,null,null,null,null,null,null,null,null,null,null,null,null,0.5]
[230,42979,42948,43101,42917,42979,42917,43070,42826,43009,42917,null,null,null,null,null,null,null,null,null,null,null,0.4,1,0.5,1,0.4,1,1,1,0.3,1,null,null,null,null,null,null,null,null,null,null,null,-2.717391304347826E-3,117.74864130434783,null,1.3736413043478279,1.2921195652173907,1.2078804347826093,1.1263586956521721,1.0421195652173907,0.95788043478260931,0.87635869565217206,0.79211956521739069,0.71059782608696764,0.62635869565217206,13.73293172690763,14.076706827309236,14.430120481927709,14.655020080321282,14.831726907630522,15.197991967871484,15.448594377510037,15.785943775100399,16.033333333333331,3.6647142857142843,null,null,null,null,null,null,null,null,null,null,null,null,null,null,null,null,null,null,null,null,null,null,null,null,null,null,null,null,null,null,null,null,null,null,null,null,null,null,null,null,null,null,null,null,0.5]
[231,43070,42948,43070,42856,42979,43101,42826,43101,42856,42856,null,null,null,null,null,null,null,null,null,null,null,1,1,1,0.5,0.4,0.5,1,0.5,0.5,0.5,null,null,null,null,null,null,null,null,null,null,null,0,0.5,null,0.5,0.5,0.5,0.5,0.5,0.5,0.5,0.5,0.5,0.5,14.011700975081256,14.417443120260021,14.834561213434451,15.099999999999998,15.308559046587213,15.740845070422534,16.036619718309858,16.434777898158178,16.726760563380282,3.5771250000000006,null,null,null,null,null,null,null,null,null,null,null,null,null,null,null,null,null,null,null,null,null,null,null,null,null,null,null,null,null,null,null,null,null,null,null,null,null,null,null,null,null,null,null,null,0.5]
[232,43101,43101,42917,42917,42979,43070,42917,42887,42887,42887,null,null,null,null,null,null,null,null,null,null,null,0.5,0.5,1,1,0.4,1,1,0.5,0.5,0.5,null,null,null,null,null,null,null,null,null,null,null,0,0.5,null,0.5,0.5,0.5,0.5,0.5,0.5,0.5,0.5,0.5,0.5,15.293277310924369,15.652941176470588,16.02268907563025,16.257983193277312,16.442857142857143,16.826050420168066,17.088235294117645,17.441176470588232,17.7,3.8757083333333338,null,null,null,null,null,null,null,null,null,null,null,null,null,null,null,null,null,null,null,null,null,null,null,null,null,null,null,null,null,null,null,null,null,null,null,null,null,null,null,null,null,null,null,null,0.5]
[233,42887,42826,42826,43070,42887,42948,42948,43040,42856,42856,null,null,null,null,null,null,null,null,null,null,null,0.5,1,1,1,0.5,1,1,1,0.5,0.5,null,null,null,null,null,null,null,null,null,null,null,0,1,null,1,1,1,1,1,1,1,1,1,1,14.033366689100633,14.314691296801389,14.603903510325528,14.787947646204527,14.932553752966596,15.23228277425525,15.437360525663276,15.713426729481775,15.915875278948672,3.5384659090909087,null,null,null,null,null,null,null,null,null,null,null,null,null,null,null,null,null,null,null,null,null,null,null,null,null,null,null,null,null,null,null,null,null,null,null,null,null,null,null,null,null,null,null,null,0.5]
[234,42948,42826,43009,42856,42917,42826,42826,43070,42979,43070,null,null,null,null,null,null,null,null,null,null,null,1,1,0.3,0.5,1,1,1,1,0.4,1,null,null,null,null,null,null,null,null,null,null,null,0,1,null,1,1,1,1,1,1,1,1,1,1,15.343067846607671,15.595575221238938,15.855162241887907,16.020353982300886,16.150147492625369,16.419174041297936,16.603244837758112,16.85103244837758,17.032743362831859,4.1945000000000006,null,null,null,null,null,null,null,null,null,null,null,null,null,null,null,null,null,null,null,null,null,null,null,null,null,null,null,null,null,null,null,null,null,null,null,null,null,null,null,null,null,null,null,null,0.5]
[235,42917,42826,43009,42826,43101,42856,42979,43009,42856,42917,null,null,null,null,null,null,null,null,null,null,null,1,1,0.3,1,0.5,0.5,0.4,0.3,0.5,1,null,null,null,null,null,null,null,null,null,null,null,-1.8181818181818182E-3,78.530909090909091,null,0.66545454545455129,0.61090909090908951,0.55454545454546178,0.5,0.44363636363635806,0.38727272727273032,0.33272727272726854,0.27636363636364081,0.22181818181817903,0.16545454545455129,14.009677419354841,14.297311827956991,14.593010752688173,14.781182795698927,14.929032258064517,15.235483870967744,15.445161290322581,15.727419354838711,15.934408602150539,3.7726666666666686,null,null,null,null,null,null,null,null,null,null,null,null,null,null,null,null,null,null,null,null,null,null,null,null,null,null,null,null,null,null,null,null,null,null,null,null,null,null,null,null,null,null,null,null,0.5]
[236,43040,43009,43101,43040,43101,43040,42917,43070,42826,42979,null,null,null,null,null,null,null,null,null,null,null,1,0.3,0.5,1,0.5,1,1,1,1,0.4,null,null,null,null,null,null,null,null,null,null,null,0,1,null,1,1,1,1,1,1,1,1,1,1,13.387272727272725,13.581818181818178,13.781818181818178,13.909090909090905,14.009090909090904,14.216363636363631,14.358181818181812,14.549090909090904,14.689090909090902,3.8892857142857151,null,null,null,null,null,null,null,null,null,null,null,null,null,null,null,null,null,null,null,null,null,null,null,null,null,null,null,null,null,null,null,null,null,null,null,null,null,null,null,null,null,null,null,null,0.5]
[237,42887,43070,42979,43009,42917,43070,42948,43070,42887,43009,null,null,null,null,null,null,null,null,null,null,null,0.5,1,0.4,0.3,1,1,1,1,0.5,0.3,null,null,null,null,null,null,null,null,null,null,null,0,0.75,null,0.75,0.75,0.75,0.75,0.75,0.75,0.75,0.75,0.75,0.75,14.303473132372215,14.576933158584534,14.858060288335517,15.036959370904324,15.177522935779816,15.468872870249017,15.668217562254259,15.93656618610747,16.133355176933158,3.7439999999999998,null,null,null,null,null,null,null,null,null,null,null,null,null,null,null,null,null,null,null,null,null,null,null,null,null,null,null,null,null,null,null,null,null,null,null,null,null,null,null,null,null,null,null,null,0.5]
[238,42856,43070,43070,43040,43040,42917,43070,42979,43101,42826,null,null,null,null,null,null,null,null,null,null,null,0.5,1,1,1,1,1,1,0.4,0.5,1,null,null,null,null,null,null,null,null,null,null,null,0,1,null,1,1,1,1,1,1,1,1,1,1,14.059459459459459,14.348648648648648,14.645945945945945,14.835135135135134,14.983783783783784,15.291891891891892,15.502702702702702,15.786486486486485,15.994594594594595,3.8411875000000002,null,null,null,null,null,null,null,null,null,null,null,null,null,null,null,null,null,null,null,null,null,null,null,null,null,null,null,null,null,null,null,null,null,null,null,null,null,null,null,null,null,null,null,null,0.5]
[239,42826,43040,42856,42856,43101,42826,42979,42917,43070,42917,null,null,null,null,null,null,null,null,null,null,null,1,1,0.5,0.5,0.5,1,0.4,1,1,1,null,null,null,null,null,null,null,null,null,null,null,0,1,null,1,1,1,1,1,1,1,1,1,1,14.621651090342679,14.904984423676012,15.196261682242991,15.381619937694705,15.527258566978194,15.829127725856697,16.035669781931464,16.313707165109037,16.517601246105919,3.6189999999999998,null,null,null,null,null,null,null,null,null,null,null,null,null,null,null,null,null,null,null,null,null,null,null,null,null,null,null,null,null,null,null,null,null,null,null,null,null,null,null,null,null,null,null,null,0.5]
[240,43009,43101,43101,43070,43009,42856,42887,43070,43070,43101,null,null,null,null,null,null,null,null,null,null,null,0.3,0.5,0.5,1,0.3,0.5,0.5,1,1,0.5,null,null,null,null,null,null,null,null,null,null,null,0,0.5,null,0.5,0.5,0.5,0.5,0.5,0.5,0.5,0.5,0.5,0.5,15.000334168755222,15.28638262322473,15.580451127819551,15.767585630743527,15.914619883040938,16.219381787802842,16.427903091060987,16.708604845446953,16.914452798663326,3.5734285714285701,null,null,null,null,null,null,null,null,null,null,null,null,null,null,null,null,null,null,null,null,null,null,null,null,null,null,null,null,null,null,null,null,null,null,null,null,null,null,null,null,null,null,null,null,0.5]
[241,43101,42887,42948,43101,42887,43070,43070,42826,42979,43070,null,null,null,null,null,null,null,null,null,null,null,0.5,0.5,1,0.5,0.5,1,1,1,0.4,1,null,null,null,null,null,null,null,null,null,null,null,0,0.75,null,0.75,0.75,0.75,0.75,0.75,0.75,0.75,0.75,0.75,0.75,13.587615740740739,13.798148148148147,14.014583333333333,14.152314814814813,14.260532407407407,14.484837962962962,14.638310185185183,14.844907407407407,14.996412037037036,3.613428571428571,null,null,null,null,null,null,null,null,null,null,null,null,null,null,null,null,null,null,null,null,null,null,null,null,null,null,null,null,null,null,null,null,null,null,null,null,null,null,null,null,null,null,null,null,0.5]
[242,43040,42979,42917,42948,43040,43040,42917,43009,42948,42917,null,null,null,null,null,null,null,null,null,null,null,1,0.4,1,1,1,1,1,0.3,1,1,null,null,null,null,null,null,null,null,null,null,null,0,1,null,1,1,1,1,1,1,1,1,1,1,14.14547437295529,14.285496183206106,14.429443838604143,14.521046892039259,14.593020719738277,14.742202835332606,14.844274809160305,14.981679389312976,15.082442748091603,3.8659999999999997,null,null,null,null,null,null,null,null,null,null,null,null,null,null,null,null,null,null,null,null,null,null,null,null,null,null,null,null,null,null,null,null,null,null,null,null,null,null,null,null,null,null,null,null,0.5]
[243,43070,43009,42917,42948,42856,42979,42948,43070,43101,42856,null,null,null,null,null,null,null,null,null,null,null,1,0.3,1,1,0.5,0.4,1,1,0.5,0.5,null,null,null,null,null,null,null,null,null,null,null,0,0.75,null,0.75,0.75,0.75,0.75,0.75,0.75,0.75,0.75,0.75,0.75,14.439572649572648,14.814529914529913,15.2,15.445299145299144,15.638034188034187,16.037521367521364,16.310854700854698,16.678803418803415,16.948632478632476,3.7552727272727271,null,null,null,null,null,null,null,null,null,null,null,null,null,null,null,null,null,null,null,null,null,null,null,null,null,null,null,null,null,null,null,null,null,null,null,null,null,null,null,null,null,null,null,null,0.5]
[244,43101,42979,43009,43070,42826,43009,42948,43070,42979,42948,null,null,null,null,null,null,null,null,null,null,null,0.5,0.4,0.3,1,1,0.3,1,1,0.4,1,null,null,null,null,null,null,null,null,null,null,null,-1.8181818181818182E-3,78.920909090909092,null,1.0554545454545519,1.0009090909090901,0.94454545454546235,0.89000000000000057,0.83363636363635862,0.77727272727273089,0.72272727272726911,0.66636363636364138,0.6118181818181796,0.55545454545455186,14.769753810082063,15.133528722157092,15.507502930832356,15.745486518171159,15.932473622508791,16.320046893317702,16.585228604923799,16.942203985932004,17.203985932004688,3.2414999999999994,null,null,null,null,null,null,null,null,null,null,null,null,null,null,null,null,null,null,null,null,null,null,null,null,null,null,null,null,null,null,null,null,null,null,null,null,null,null,null,null,null,null,null,null,0.5]
[245,43070,43040,43101,43070,43101,43070,42917,42917,42856,42917,null,null,null,null,null,null,null,null,null,null,null,1,1,0.5,1,0.5,1,1,1,0.5,1,null,null,null,null,null,null,null,null,null,null,null,0,1,null,1,1,1,1,1,1,1,1,1,1,14.754301075268819,15.041935483870969,15.337634408602151,15.525806451612905,15.673655913978497,15.980107526881721,16.189784946236561,16.472043010752689,16.679032258064517,3.3307307692307706,null,null,null,null,null,null,null,null,null,null,null,null,null,null,null,null,null,null,null,null,null,null,null,null,null,null,null,null,null,null,null,null,null,null,null,null,null,null,null,null,null,null,null,null,0.5]
[246,42826,43040,42917,42856,42856,43009,42887,42917,43040,42887,null,null,null,null,null,null,null,null,null,null,null,1,1,1,0.5,0.5,0.3,0.5,1,1,0.5,null,null,null,null,null,null,null,null,null,null,null,0,0.75,null,0.75,0.75,0.75,0.75,0.75,0.75,0.75,0.75,0.75,0.75,13.2,13.535608856088562,13.880627306273063,14.100184501845018,14.27269372693727,14.630258302583027,14.87490774907749,15.204243542435425,15.445756457564576,3.6672272727272741,null,null,null,null,null,null,null,null,null,null,null,null,null,null,null,null,null,null,null,null,null,null,null,null,null,null,null,null,null,null,null,null,null,null,null,null,null,null,null,null,null,null,null,null,0.5]
[247,43009,42917,42948,43070,42887,43009,42979,43040,42887,43009,null,null,null,null,null,null,null,null,null,null,null,0.3,1,1,1,0.5,0.3,0.4,1,0.5,0.3,null,null,null,null,null,null,null,null,null,null,null,0,0.5,null,0.5,0.5,0.5,0.5,0.5,0.5,0.5,0.5,0.5,0.5,15.430923694779116,15.774698795180722,16.128112449799197,16.35301204819277,16.529718875502006,16.895983935742969,17.146586345381525,17.483935742971887,17.731325301204816,4.1443999999999992,null,null,null,null,null,null,null,null,null,null,null,null,null,null,null,null,null,null,null,null,null,null,null,null,null,null,null,null,null,null,null,null,null,null,null,null,null,null,null,null,null,null,null,null,0.5]
[249,42979,42856,43101,43070,42887,42826,43101,43101,42856,42826,null,null,null,null,null,null,null,null,null,null,null,0.4,0.5,0.5,1,0.5,1,0.5,0.5,0.5,1,null,null,null,null,null,null,null,null,null,null,null,-4.065040650406503E-4,17.952439024390241,null,0.54349593495935267,0.53130081300813359,0.51869918699187068,0.5065040650406516,0.49390243902439224,0.48130081300813288,0.4691056910569138,0.45650406504065089,0.44430894308943181,0.43170731707317245,14.371090047393364,14.480963665086886,14.593917851500789,14.665797788309636,14.722274881516586,14.839336492890993,14.919431279620852,15.027251184834121,15.106319115323853,3.7240000000000002,null,null,null,null,null,null,null,null,null,null,null,null,null,null,null,null,null,null,null,null,null,null,null,null,null,null,null,null,null,null,null,null,null,null,null,null,null,null,null,null,null,null,null,null,0.5]
[251,43070,42856,42887,42826,42917,42917,42887,43009,43009,42826,null,null,null,null,null,null,null,null,null,null,null,1,0.5,0.5,1,1,1,0.5,0.3,0.3,1,null,null,null,null,null,null,null,null,null,null,null,0,0.75,null,0.75,0.75,0.75,0.75,0.75,0.75,0.75,0.75,0.75,0.75,17.319172932330826,17.681203007518796,18.053383458646614,18.290225563909775,18.476315789473684,18.86203007518797,19.125939849624061,19.481203007518797,19.74172932330827,3.6053750000000004,null,null,null,null,null,null,null,null,null,null,null,null,null,null,null,null,null,null,null,null,null,null,null,null,null,null,null,null,null,null,null,null,null,null,null,null,null,null,null,null,null,null,null,null,0.5]
[254,43040,42979,43101,43101,42979,42979,42826,43009,43070,43009,null,null,null,null,null,null,null,null,null,null,null,1,0.4,0.5,0.5,0.4,0.4,1,0.3,1,0.3,null,null,null,null,null,null,null,null,null,null,null,4.0983606557377038E-4,-17.176639344262291,null,0.375,0.38729508196721341,0.39999999999999858,0.41229508196721198,0.42500000000000071,0.43770491803278588,0.44999999999999929,0.46270491803278446,0.47499999999999787,0.48770491803278659,13.116680695732155,13.371437370145603,13.633336755056625,13.8,13.930949692455512,14.202372691363298,14.388083164300202,14.638078031715267,14.821407601152984,3.5960000000000001,null,null,null,null,null,null,null,null,null,null,null,null,null,null,null,null,null,null,null,null,null,null,null,null,null,null,null,null,null,null,null,null,null,null,null,null,null,null,null,null,null,null,null,null,0.5]
[258,43101,43070,43070,43040,42856,43101,43070,42826,42826,42856,null,null,null,null,null,null,null,null,null,null,null,0.5,1,1,1,0.5,0.5,1,1,1,0.5,null,null,null,null,null,null,null,null,null,null,null,0,1,null,1,1,1,1,1,1,1,1,1,1,13.659883154819862,13.805744888023369,13.955696202531644,14.05111976630964,14.126095423563777,14.281499513145082,14.387828627069133,14.530963972736124,14.635929892891916,3.9669230769230772,null,null,null,null,null,null,null,null,null,null,null,null,null,null,null,null,null,null,null,null,null,null,null,null,null,null,null,null,null,null,null,null,null,null,null,null,null,null,null,null,null,null,null,null,0.5]
[260,42948,42887,42979,42856,43101,42917,42887,43101,43101,43009,null,null,null,null,null,null,null,null,null,null,null,1,0.5,0.4,0.5,0.5,1,0.5,0.5,0.5,0.3,null,null,null,null,null,null,null,null,null,null,null,0,0.5,null,0.5,0.5,0.5,0.5,0.5,0.5,0.5,0.5,0.5,0.5,15,15.276827896512936,15.561417322834645,15.742519685039369,15.884814398200223,16.179752530933634,16.381552305961755,16.65320584926884,16.852418447694038,3.7810714285714289,null,null,null,null,null,null,null,null,null,null,null,null,null,null,null,null,null,null,null,null,null,null,null,null,null,null,null,null,null,null,null,null,null,null,null,null,null,null,null,null,null,null,null,null,0.5]
[263,43070,42826,42826,43040,43040,42887,43101,42948,42917,42887,null,null,null,null,null,null,null,null,null,null,null,1,1,1,1,1,0.5,0.5,1,1,0.5,null,null,null,null,null,null,null,null,null,null,null,0,1,null,1,1,1,1,1,1,1,1,1,1,14.011700975081256,14.417443120260021,14.834561213434451,15.099999999999998,15.308559046587213,15.740845070422534,16.036619718309858,16.434777898158178,16.726760563380282,3.4945000000000013,null,null,null,null,null,null,null,null,null,null,null,null,null,null,null,null,null,null,null,null,null,null,null,null,null,null,null,null,null,null,null,null,null,null,null,null,null,null,null,null,null,null,null,null,0.5]
[264,43040,42887,42917,43040,43101,43101,42917,43070,43040,42917,null,null,null,null,null,null,null,null,null,null,null,1,0.5,1,1,0.5,0.5,1,1,1,1,null,null,null,null,null,null,null,null,null,null,null,0,1,null,1,1,1,1,1,1,1,1,1,1,15.34815396641662,15.709828475218352,16.081643390808917,16.318252882548368,16.504160340343653,16.889495798319327,17.153146374828999,17.508060612438179,17.768331053351574,4.0746666666666673,null,null,null,null,null,null,null,null,null,null,null,null,null,null,null,null,null,null,null,null,null,null,null,null,null,null,null,null,null,null,null,null,null,null,null,null,null,null,null,null,null,null,null,null,0.5]
[267,42856,42948,43040,42826,42979,42917,42979,42917,43101,42917,null,null,null,null,null,null,null,null,null,null,null,0.5,1,1,1,0.4,1,0.4,1,0.5,1,null,null,null,null,null,null,null,null,null,null,null,0,1,null,1,1,1,1,1,1,1,1,1,1,15.256890130353817,15.605586592178771,15.964059590316573,16.19217877094972,16.371415270018623,16.742923649906892,16.997113594040968,17.33929236499069,17.590223463687153,3.4286153846153837,null,null,null,null,null,null,null,null,null,null,null,null,null,null,null,null,null,null,null,null,null,null,null,null,null,null,null,null,null,null,null,null,null,null,null,null,null,null,null,null,null,null,null,null,0.5]
[271,42826,42856,43101,43009,42856,43040,42887,42826,42856,42856,null,null,null,null,null,null,null,null,null,null,null,1,0.5,0.5,0.3,0.5,1,0.5,1,0.5,0.5,null,null,null,null,null,null,null,null,null,null,null,-1.3071895424836603E-3,56.520915032679746,null,0.53921568627450966,0.5,0.45947712418301023,0.42026143790850057,0.3797385620915037,0.33921568627451393,0.30000000000000426,0.25947712418300739,0.22026143790849773,0.17973856209150796,15.459883154819863,15.605744888023368,15.755696202531643,15.851119766309639,15.926095423563776,16.081499513145079,16.187828627069131,16.330963972736122,16.435929892891917,3.586450000000001,null,null,null,null,null,null,null,null,null,null,null,null,null,null,null,null,null,null,null,null,null,null,null,null,null,null,null,null,null,null,null,null,null,null,null,null,null,null,null,null,null,null,null,null,0.5]
[273,42979,43009,43101,42856,42917,42887,43070,42826,43009,42948,null,null,null,null,null,null,null,null,null,null,null,0.4,0.3,0.5,0.5,1,0.5,1,1,0.3,1,null,null,null,null,null,null,null,null,null,null,null,-9.4998232591021541E-4,41.314565659243542,null,0.63062256981265818,0.60212310003534952,0.5726736479321346,0.54417417815482594,0.51472472605161101,0.48527527394839609,0.45677580417108743,0.42732635206787251,0.39882688229056384,0.36937743018734892,14.307311241106301,14.698176205169093,15.099999999999998,15.35570605125603,15.556617948671484,15.973053517859878,16.257983117830882,16.64154219471493,16.922818851096565,3.7308181818181829,null,null,null,null,null,null,null,null,null,null,null,null,null,null,null,null,null,null,null,null,null,null,null,null,null,null,null,null,null,null,null,null,null,null,null,null,null,null,null,null,null,null,null,null,0.5]
[276,43101,42979,42917,42948,43101,43070,42948,42948,42826,42887,null,null,null,null,null,null,null,null,null,null,null,0.5,0.4,1,1,0.5,1,1,1,1,0.5,null,null,null,null,null,null,null,null,null,null,null,0,1,null,1,1,1,1,1,1,1,1,1,1,14.25640016489958,14.623059991423752,15,15.239870914548524,15.42834091883665,15.818987836815673,16.08627257016974,16.446078941992525,16.709936947995899,3.5531923076923082,null,null,null,null,null,null,null,null,null,null,null,null,null,null,null,null,null,null,null,null,null,null,null,null,null,null,null,null,null,null,null,null,null,null,null,null,null,null,null,null,null,null,null,null,0.5]
[280,43040,42826,42826,42948,43101,42948,42979,42917,43101,42917,null,null,null,null,null,null,null,null,null,null,null,1,1,1,1,0.5,1,0.4,1,0.5,1,null,null,null,null,null,null,null,null,null,null,null,0,1,null,1,1,1,1,1,1,1,1,1,1,15.448496240601504,15.810526315789474,16.182706766917292,16.419548872180449,16.605639097744358,16.991353383458645,17.255263157894735,17.610526315789471,17.871052631578944,4.0993666666666657,null,null,null,null,null,null,null,null,null,null,null,null,null,null,null,null,null,null,null,null,null,null,null,null,null,null,null,null,null,null,null,null,null,null,null,null,null,null,null,null,null,null,null,null,0.5]
[282,42887,43040,42887,42917,42948,43070,43101,43070,42979,43070,null,null,null,null,null,null,null,null,null,null,null,0.5,1,0.5,1,1,1,0.5,1,0.4,1,null,null,null,null,null,null,null,null,null,null,null,0,1,null,1,1,1,1,1,1,1,1,1,1,14.535697940503432,14.854004576659039,15.181235697940505,15.389473684210527,15.553089244851259,15.892219679633868,16.124256292906178,16.436613272311213,16.66567505720824,4.0929411764705881,null,null,null,null,null,null,null,null,null,null,null,null,null,null,null,null,null,null,null,null,null,null,null,null,null,null,null,null,null,null,null,null,null,null,null,null,null,null,null,null,null,null,null,null,0.5]
[285,42917,42979,43040,43101,42887,43009,42826,42856,43101,43070,null,null,null,null,null,null,null,null,null,null,null,1,0.4,1,0.5,0.5,0.3,1,0.5,0.5,1,null,null,null,null,null,null,null,null,null,null,null,0,0.5,null,0.5,0.5,0.5,0.5,0.5,0.5,0.5,0.5,0.5,0.5,14.609135035937209,15,15.401823794830907,15.657529846086938,15.858441743502391,16.274877312690784,16.559806912661792,16.943365989545839,17.224642645927474,3.6995000000000005,null,null,null,null,null,null,null,null,null,null,null,null,null,null,null,null,null,null,null,null,null,null,null,null,null,null,null,null,null,null,null,null,null,null,null,null,null,null,null,null,null,null,null,null,0.5]
[286,42856,42917,43009,43101,42826,42948,42948,42887,43101,43009,null,null,null,null,null,null,null,null,null,null,null,0.5,1,0.3,0.5,1,1,1,0.5,0.5,0.3,null,null,null,null,null,null,null,null,null,null,null,-1.3071895424836603E-3,56.641176470588242,null,0.65947712418300597,0.6202614379084963,0.57973856209150654,0.54052287581699687,0.5,0.45947712418301023,0.42026143790850057,0.3797385620915037,0.34052287581699403,0.30000000000000426,15.265756162558295,15.615056628914058,15.974150566289142,16.202664890073287,16.382211858760826,16.754363757495003,17.008994003997337,17.35176548967355,17.60313124583611,3.8017500000000002,null,null,null,null,null,null,null,null,null,null,null,null,null,null,null,null,null,null,null,null,null,null,null,null,null,null,null,null,null,null,null,null,null,null,null,null,null,null,null,null,null,null,null,null,0.5]
[289,43101,43040,42887,42887,42948,42948,42917,43040,43101,43101,null,null,null,null,null,null,null,null,null,null,null,0.5,1,0.5,0.5,1,1,1,1,0.5,0.5,null,null,null,null,null,null,null,null,null,null,null,0,0.75,null,0.75,0.75,0.75,0.75,0.75,0.75,0.75,0.75,0.75,0.75,14.011428571428574,14.49183673469388,14.985714285714288,15.3,15.546938775510206,16.058775510204082,16.408979591836736,16.880408163265308,17.226122448979595,3.8490000000000002,null,null,null,null,null,null,null,null,null,null,null,null,null,null,null,null,null,null,null,null,null,null,null,null,null,null,null,null,null,null,null,null,null,null,null,null,null,null,null,null,null,null,null,null,0.5]
[293,42979,42826,42826,42856,43101,43101,43009,42979,42948,43009,null,null,null,null,null,null,null,null,null,null,null,0.4,1,1,0.5,0.5,0.5,0.3,0.4,1,0.3,null,null,null,null,null,null,null,null,null,null,null,-1.8181818181818182E-3,78.643636363636361,null,0.77818181818182097,0.72363636363635919,0.66727272727273146,0.61272727272726968,0.55636363636362773,0.5,0.44545454545453822,0.38909090909091049,0.33454545454544871,0.27818181818182097,15,15.249594320486814,15.506186612576064,15.669472616632859,15.797768762677483,16.063691683569978,16.245638945233264,16.490567951318457,16.670182555780933,4.0183750000000007,null,null,null,null,null,null,null,null,null,null,null,null,null,null,null,null,null,null,null,null,null,null,null,null,null,null,null,null,null,null,null,null,null,null,null,null,null,null,null,null,null,null,null,null,0.5]
[295,43101,43070,43070,42948,42948,42856,43101,43101,43070,43101,null,null,null,null,null,null,null,null,null,null,null,0.5,1,1,1,1,0.5,0.5,0.5,1,0.5,null,null,null,null,null,null,null,null,null,null,null,-3.2679738562091504E-3,141.50163398692811,null,1.547385620915037,1.4493464052287663,1.3480392156862706,1.25,1.1486928104575327,1.047385620915037,0.94934640522876634,0.84803921568627061,0.75,0.64869281045753269,14.992394366197184,15.354084507042254,15.725915492957746,15.962535211267607,16.148450704225354,16.53380281690141,16.797464788732398,17.152394366197186,17.412676056338029,3.4067187499999996,null,null,null,null,null,null,null,null,null,null,null,null,null,null,null,null,null,null,null,null,null,null,null,null,null,null,null,null,null,null,null,null,null,null,null,null,null,null,null,null,null,null,null,null,0.5]
[298,42917,43101,42856,42948,42948,43040,42948,42856,42979,42856,null,null,null,null,null,null,null,null,null,null,null,1,0.5,0.5,1,1,1,1,0.5,0.4,0.5,null,null,null,null,null,null,null,null,null,null,null,0,0.75,null,0.75,0.75,0.75,0.75,0.75,0.75,0.75,0.75,0.75,0.75,14.372741433021806,14.65607476635514,14.947352024922118,15.132710280373832,15.278348909657321,15.580218068535824,15.786760124610591,16.064797507788164,16.268691588785046,3.7965,null,null,null,null,null,null,null,null,null,null,null,null,null,null,null,null,null,null,null,null,null,null,null,null,null,null,null,null,null,null,null,null,null,null,null,null,null,null,null,null,null,null,null,null,0.5]
[302,42887,42917,43101,42826,43101,42856,42856,42826,42887,42917,null,null,null,null,null,null,null,null,null,null,null,0.5,1,0.5,1,0.5,0.5,0.5,1,0.5,1,null,null,null,null,null,null,null,null,null,null,null,0,0.5,null,0.5,0.5,0.5,0.5,0.5,0.5,0.5,0.5,0.5,0.5,15,15.286048454469508,15.580116959064329,15.767251461988305,15.914285714285715,16.219047619047622,16.427568922305767,16.708270676691733,16.914118629908103,3.8279615384615386,null,null,null,null,null,null,null,null,null,null,null,null,null,null,null,null,null,null,null,null,null,null,null,null,null,null,null,null,null,null,null,null,null,null,null,null,null,null,null,null,null,null,null,null,0.5]
[305,42826,42948,43009,42917,43101,42826,43040,42917,42856,42979,null,null,null,null,null,null,null,null,null,null,null,1,1,0.3,1,0.5,1,1,1,0.5,0.4,null,null,null,null,null,null,null,null,null,null,null,0,1,null,1,1,1,1,1,1,1,1,1,1,14.230143083124798,14.463774097816948,14.703955514790184,14.856798234682245,14.976888943168865,15.225804229850219,15.396114689158516,15.625378768996605,15.793505760877871,3.6063333333333318,null,null,null,null,null,null,null,null,null,null,null,null,null,null,null,null,null,null,null,null,null,null,null,null,null,null,null,null,null,null,null,null,null,null,null,null,null,null,null,null,null,null,null,null,0.5]
[306,43101,42948,43040,42826,43040,43040,43070,42887,42856,42826,null,null,null,null,null,null,null,null,null,null,null,0.5,1,1,1,1,1,1,0.5,0.5,1,null,null,null,null,null,null,null,null,null,null,null,0,1,null,1,1,1,1,1,1,1,1,1,1,14.362250879249707,14.726025791324737,15.1,15.337983587338805,15.524970691676437,15.912543962485344,16.177725674091441,16.534701055099646,16.796483001172334,3.5730000000000004,null,null,null,null,null,null,null,null,null,null,null,null,null,null,null,null,null,null,null,null,null,null,null,null,null,null,null,null,null,null,null,null,null,null,null,null,null,null,null,null,null,null,null,null,0.5]
[308,42979,42917,42887,43101,42856,42948,42826,43070,43070,42917,null,null,null,null,null,null,null,null,null,null,null,0.4,1,0.5,0.5,0.5,1,1,1,1,1,null,null,null,null,null,null,null,null,null,null,null,0,1,null,1,1,1,1,1,1,1,1,1,1,14.834659593404272,15.2,15.575583595565702,15.814591338198422,16.002383135981272,16.391624316840272,16.657947230059587,17.016458844008667,17.279367360904658,3.4678750000000003,null,null,null,null,null,null,null,null,null,null,null,null,null,null,null,null,null,null,null,null,null,null,null,null,null,null,null,null,null,null,null,null,null,null,null,null,null,null,null,null,null,null,null,null,0.5]
[311,42979,43009,43070,42917,42856,43101,43101,42979,42917,42979,null,null,null,null,null,null,null,null,null,null,null,0.4,0.3,1,1,0.5,0.5,0.5,0.4,1,0.4,null,null,null,null,null,null,null,null,null,null,null,-8.130081300813006E-4,35.442276422764216,null,0.62439024390243958,0.60000000000000142,0.5747967479674756,0.55040650406503744,0.52520325203251872,0.5,0.47560975609756184,0.45040650406503602,0.42601626016259786,0.40081300813007914,13.8,14.162030075187971,14.534210526315789,14.771052631578947,14.957142857142856,15.342857142857142,15.606766917293232,15.962030075187968,16.222556390977442,3.4804615384615385,null,null,null,null,null,null,null,null,null,null,null,null,null,null,null,null,null,null,null,null,null,null,null,null,null,null,null,null,null,null,null,null,null,null,null,null,null,null,null,null,null,null,null,null,0.5]
[315,42917,43009,43101,42856,43009,43040,43009,42917,43101,42948,null,null,null,null,null,null,null,null,null,null,null,1,0.3,0.5,0.5,0.3,1,0.3,1,0.5,1,null,null,null,null,null,null,null,null,null,null,null,-6.5359477124183013E-4,28.610457516339871,null,0.6196078431372527,0.59999999999999787,0.57973856209150298,0.56013071895424815,0.53986928104574972,0.51960784313725483,0.5,0.47973856209150156,0.46013071895424673,0.43986928104575185,14.676025132275132,14.884788359788359,15.099404761904761,15.235978835978834,15.343287037037037,15.565707671957671,15.71789021164021,15.922751322751321,16.072982804232801,3.7166547619047625,null,null,null,null,null,null,null,null,null,null,null,null,null,null,null,null,null,null,null,null,null,null,null,null,null,null,null,null,null,null,null,null,null,null,null,null,null,null,null,null,null,null,null,null,0.5]
[317,42917,43101,42826,42856,43009,43070,43070,43101,42856,43070,null,null,null,null,null,null,null,null,null,null,null,1,0.5,1,0.5,0.3,1,1,0.5,0.5,1,null,null,null,null,null,null,null,null,null,null,null,0,0.75,null,0.75,0.75,0.75,0.75,0.75,0.75,0.75,0.75,0.75,0.75,15,15.369544740973314,15.74945054945055,15.991208791208791,16.181161695447411,16.574882260596546,16.844270015698587,17.206907378335949,17.472841444270017,3.7947777777777771,null,null,null,null,null,null,null,null,null,null,null,null,null,null,null,null,null,null,null,null,null,null,null,null,null,null,null,null,null,null,null,null,null,null,null,null,null,null,null,null,null,null,null,null,0.5]
[320,43040,42856,43040,42917,42887,43070,43070,42826,42979,42917,null,null,null,null,null,null,null,null,null,null,null,1,0.5,1,1,0.5,1,1,1,0.4,1,null,null,null,null,null,null,null,null,null,null,null,0,1,null,1,1,1,1,1,1,1,1,1,1,14.47944147355912,14.873618538324422,15.278847296494355,15.536720142602496,15.739334521687462,16.159298871063577,16.446642899584077,16.833452168746287,17.117112299465241,3.5249000000000006,null,null,null,null,null,null,null,null,null,null,null,null,null,null,null,null,null,null,null,null,null,null,null,null,null,null,null,null,null,null,null,null,null,null,null,null,null,null,null,null,null,null,null,null,0.5]
[324,43009,42856,43009,43101,43040,43009,43070,42826,43040,43009,null,null,null,null,null,null,null,null,null,null,null,0.3,0.5,0.3,0.5,1,0.3,1,1,1,0.3,null,null,null,null,null,null,null,null,null,null,null,1.0869565217391304E-3,-46.248913043478261,null,0.30108695652173623,0.33369565217391539,0.36739130434782652,0.39999999999999858,0.43369565217391681,0.46739130434782794,0.5,0.53369565217391113,0.56630434782609029,0.60000000000000142,14.774638929982157,15,15.231679604691241,15.37911208040385,15.49495188274947,15.735056200338576,15.89933810184691,16.120486815415823,16.282662538699689,3.5374999999999996,null,null,null,null,null,null,null,null,null,null,null,null,null,null,null,null,null,null,null,null,null,null,null,null,null,null,null,null,null,null,null,null,null,null,null,null,null,null,null,null,null,null,null,null,0.5]
[327,42856,42826,42826,42826,42979,42948,42917,42948,42856,42979,null,null,null,null,null,null,null,null,null,null,null,0.5,1,1,1,0.4,1,1,1,0.5,0.4,null,null,null,null,null,null,null,null,null,null,null,-8.130081300813006E-4,35.8670731707317,null,1.0491869918699237,1.0247967479674855,0.99959349593495972,0.97520325203252156,0.95000000000000284,0.92479674796748412,0.90040650406504597,0.87520325203252014,0.85081300813008198,0.82560975609756326,13.648571428571429,13.870909090909091,14.099480519480519,14.244935064935065,14.359220779220779,14.596103896103896,14.758181818181818,14.976363636363637,15.136363636363637,3.8020000000000014,null,null,null,null,null,null,null,null,null,null,null,null,null,null,null,null,null,null,null,null,null,null,null,null,null,null,null,null,null,null,null,null,null,null,null,null,null,null,null,null,null,null,null,null,0.5]
[328,42979,42826,43070,43040,42856,43101,43101,42948,42917,42979,null,null,null,null,null,null,null,null,null,null,null,0.4,1,1,1,0.5,0.5,0.5,1,1,0.4,null,null,null,null,null,null,null,null,null,null,null,0,0.75,null,0.75,0.75,0.75,0.75,0.75,0.75,0.75,0.75,0.75,0.75,12.904375569735643,13.099453053783044,13.3,13.427620783956245,13.527894257064723,13.735733819507749,13.877939835916136,14.069371011850501,14.20975387420237,3.5734285714285701,null,null,null,null,null,null,null,null,null,null,null,null,null,null,null,null,null,null,null,null,null,null,null,null,null,null,null,null,null,null,null,null,null,null,null,null,null,null,null,null,null,null,null,null,0.5]
[330,43070,42917,42917,42826,42826,42917,42948,43040,43040,42979,null,null,null,null,null,null,null,null,null,null,null,1,1,1,1,1,1,1,1,1,0.4,null,null,null,null,null,null,null,null,null,null,null,0,1,null,1,1,1,1,1,1,1,1,1,1,13.59345321696094,13.807156233279827,14.02685092295345,14.166656634563935,14.276503979400747,14.504187566880683,14.659971074103796,14.869679641519525,15.023465924291061,3.663666666666666,null,null,null,null,null,null,null,null,null,null,null,null,null,null,null,null,null,null,null,null,null,null,null,null,null,null,null,null,null,null,null,null,null,null,null,null,null,null,null,null,null,null,null,null,0.5]
[333,42948,42979,43009,42826,42826,43070,42826,42948,42826,42856,null,null,null,null,null,null,null,null,null,null,null,1,0.4,0.3,1,1,1,1,1,1,0.5,null,null,null,null,null,null,null,null,null,null,null,-4.065040650406503E-4,18.439837398373978,null,1.0308943089430898,1.0186991869918707,1.0060975609756078,0.99390243902438868,0.98130081300812932,0.96869918699186996,0.95650406504065089,0.94390243902438797,0.93170731707316889,0.91910569105690954,15.100000000000001,15.427718223583462,15.764624808575805,15.979019908116387,16.147473200612559,16.496630934150076,16.735528330781012,17.057120980091884,17.292955589586526,3.5154999999999994,null,null,null,null,null,null,null,null,null,null,null,null,null,null,null,null,null,null,null,null,null,null,null,null,null,null,null,null,null,null,null,null,null,null,null,null,null,null,null,null,null,null,null,null,0.5]
[337,42979,42979,43070,43040,42979,42979,42948,42948,42887,42856,null,null,null,null,null,null,null,null,null,null,null,0.4,0.4,1,1,0.4,0.4,1,1,0.5,0.5,null,null,null,null,null,null,null,null,null,null,null,0,0.5,null,0.5,0.5,0.5,0.5,0.5,0.5,0.5,0.5,0.5,0.5,14.775065288086557,15.141725114610729,15.518665123186977,15.758536037735501,15.947006042023627,16.33765296000265,16.604937693356717,16.964744065179502,17.228602071182877,2.7937222222222227,null,null,null,null,null,null,null,null,null,null,null,null,null,null,null,null,null,null,null,null,null,null,null,null,null,null,null,null,null,null,null,null,null,null,null,null,null,null,null,null,null,null,null,null,0.5]
[339,43101,43009,42979,42887,42856,42948,43101,43009,42826,42887,null,null,null,null,null,null,null,null,null,null,null,0.5,0.3,0.4,0.5,0.5,1,0.5,0.3,1,0.5,null,null,null,null,null,null,null,null,null,null,null,-1.1970730321113952E-3,51.93044721511793,null,0.66459754191532028,0.62868535095197586,0.59157608695652186,0.55566389599317745,0.51855463199772345,0.48144536800227655,0.44553317703893214,0.40842391304347814,0.37251172208013372,0.33540245808468683,14.267078652753227,14.677781805543109,15.1,15.368684305563475,15.579793402791919,16.017364986138151,16.316756069480309,16.719782527825522,17.015335263945346,3.4406250000000016,null,null,null,null,null,null,null,null,null,null,null,null,null,null,null,null,null,null,null,null,null,null,null,null,null,null,null,null,null,null,null,null,null,null,null,null,null,null,null,null,null,null,null,null,0.5]
[342,43009,42887,42826,42979,43040,42856,42887,42826,43009,42887,null,null,null,null,null,null,null,null,null,null,null,0.3,0.5,1,0.4,1,0.5,0.5,1,0.3,0.5,null,null,null,null,null,null,null,null,null,null,null,-1.639344262295082E-3,70.806557377049174,null,0.59999999999999432,0.55081967213114069,0.5,0.45081967213114638,0.39999999999999147,0.34918032786885078,0.29999999999999716,0.24918032786884226,0.19999999999998863,0.14918032786884794,13.918988464951198,14.165838509316771,14.41960958296362,14.581100266193435,14.707985803016859,14.970984915705412,15.150931677018633,15.393167701863353,15.570807453416148,4.0985833333333321,null,null,null,null,null,null,null,null,null,null,null,null,null,null,null,null,null,null,null,null,null,null,null,null,null,null,null,null,null,null,null,null,null,null,null,null,null,null,null,null,null,null,null,null,0.5]
[346,42948,43040,42979,42979,42948,42887,42979,42979,42887,42979,null,null,null,null,null,null,null,null,null,null,null,1,1,0.4,0.4,1,0.5,0.4,0.4,0.5,0.4,null,null,null,null,null,null,null,null,null,null,null,-1.0869565217391302E-3,47.166304347826078,null,0.61630434782608745,0.58369565217391539,0.54999999999999716,0.5173913043478251,0.48369565217391397,0.45000000000000284,0.41739130434782368,0.38369565217391255,0.35108695652174049,0.31739130434782226,14.542570281124497,14.886345381526104,15.239759036144576,15.46465863453815,15.641365461847389,16.007630522088352,16.258232931726905,16.595582329317267,16.842971887550199,3.8005909090909107,null,null,null,null,null,null,null,null,null,null,null,null,null,null,null,null,null,null,null,null,null,null,null,null,null,null,null,null,null,null,null,null,null,null,null,null,null,null,null,null,null,null,null,null,0.5]
[349,43070,43040,42979,42887,43101,43009,42979,43009,42887,42979,null,null,null,null,null,null,null,null,null,null,null,1,1,0.4,0.5,0.5,0.3,0.4,0.3,0.5,0.4,null,null,null,null,null,null,null,null,null,null,null,0,0.45,null,0.45,0.45,0.45,0.45,0.45,0.45,0.45,0.45,0.45,0.45,15.01025641025641,15.284615384615384,15.566666666666666,15.746153846153845,15.887179487179488,16.179487179487179,16.379487179487178,16.648717948717948,16.846153846153847,3.620571428571429,null,null,null,null,null,null,null,null,null,null,null,null,null,null,null,null,null,null,null,null,null,null,null,null,null,null,null,null,null,null,null,null,null,null,null,null,null,null,null,null,null,null,null,null,0.5]
[350,43070,42948,42856,42948,43101,43070,43040,43040,42979,42826,null,null,null,null,null,null,null,null,null,null,null,1,1,0.5,1,0.5,1,1,1,0.4,1,null,null,null,null,null,null,null,null,null,null,null,0,1,null,1,1,1,1,1,1,1,1,1,1,15.1,15.3675,15.642499999999998,15.817499999999999,15.954999999999998,16.239999999999998,16.434999999999999,16.697499999999998,16.89,3.5771250000000006,null,null,null,null,null,null,null,null,null,null,null,null,null,null,null,null,null,null,null,null,null,null,null,null,null,null,null,null,null,null,null,null,null,null,null,null,null,null,null,null,null,null,null,null,0.5]
[354,43009,42826,43101,43101,42979,42826,43101,43070,42948,43070,null,null,null,null,null,null,null,null,null,null,null,0.3,1,0.5,0.5,0.4,1,0.5,1,1,1,null,null,null,null,null,null,null,null,null,null,null,-1.8181818181818182E-3,79.00363636363636,null,1.1381818181818204,1.0836363636363586,1.0272727272727309,0.97272727272726911,0.91636363636362717,0.85999999999999943,0.80545454545453765,0.74909090909090992,0.69454545454544814,0.6381818181818204,14.674924089068824,14.938633603238864,15.209736842105261,15.382257085020239,15.517808704453438,15.798770242914976,15.991007085020239,16.249787449392706,16.439559716599184,3.4389000000000003,null,null,null,null,null,null,null,null,null,null,null,null,null,null,null,null,null,null,null,null,null,null,null,null,null,null,null,null,null,null,null,null,null,null,null,null,null,null,null,null,null,null,null,null,0.5]
[355,43101,42948,42826,42887,43040,43009,43009,42826,42826,42948,null,null,null,null,null,null,null,null,null,null,null,0.5,1,1,0.5,1,0.3,0.3,1,1,1,null,null,null,null,null,null,null,null,null,null,null,-1.639344262295082E-3,71.406557377049182,null,1.2000000000000028,1.1508196721311492,1.1000000000000085,1.0508196721311549,1,0.94918032786885931,0.90000000000000568,0.84918032786885078,0.79999999999999716,0.74918032786885647,14.491343743975323,14.771547458389563,15.059607351712614,15.242918192918193,15.386948139579719,15.685482938114518,15.88974358974359,16.164709851551958,16.366351776878091,3.5164999999999997,null,null,null,null,null,null,null,null,null,null,null,null,null,null,null,null,null,null,null,null,null,null,null,null,null,null,null,null,null,null,null,null,null,null,null,null,null,null,null,null,null,null,null,null,0.5]
[359,43040,42887,43040,43040,42887,42948,43101,42856,42887,42917,null,null,null,null,null,null,null,null,null,null,null,1,0.5,1,1,0.5,1,0.5,0.5,0.5,1,null,null,null,null,null,null,null,null,null,null,null,2.717391304347826E-3,-115.91440217391305,null,0.46059782608695343,0.54211956521739069,0.62635869565217206,0.70788043478260931,0.79211956521739069,0.87635869565217206,0.95788043478260931,1.0421195652173907,1.1236413043478137,1.2078804347826093,13.366513761467889,13.639973787680209,13.921100917431191,14.099999999999998,14.24056356487549,14.531913499344691,14.731258191349934,14.999606815203144,15.196395806028832,3.7223846153846161,null,null,null,null,null,null,null,null,null,null,null,null,null,null,null,null,null,null,null,null,null,null,null,null,null,null,null,null,null,null,null,null,null,null,null,null,null,null,null,null,null,null,null,null,0.5]
[362,43040,42887,43009,43040,42887,42887,43040,43070,42948,43070,null,null,null,null,null,null,null,null,null,null,null,1,0.5,0.3,1,0.5,0.5,1,1,1,1,null,null,null,null,null,null,null,null,null,null,null,2.7322404371584699E-3,-116.55327868852459,null,0.45765027322404706,0.53961748633879836,0.62431693989071846,0.70628415300546976,0.79098360655737565,0.87568306010929575,0.95765027322404706,1.0423497267759672,1.1243169398907185,1.2090163934426243,15.3,15.650819672131147,16.011475409836066,16.240983606557378,16.421311475409837,16.795081967213115,17.050819672131148,17.395081967213113,17.647540983606554,3.3510000000000009,null,null,null,null,null,null,null,null,null,null,null,null,null,null,null,null,null,null,null,null,null,null,null,null,null,null,null,null,null,null,null,null,null,null,null,null,null,null,null,null,null,null,null,null,0.5]
[365,43070,43040,42887,42917,43040,43009,42887,43070,42826,43101,null,null,null,null,null,null,null,null,null,null,null,1,1,0.5,1,1,0.3,0.5,1,1,0.5,null,null,null,null,null,null,null,null,null,null,null,0,1,null,1,1,1,1,1,1,1,1,1,1,15.24026369168357,15.489858012170384,15.746450304259634,15.909736308316429,16.038032454361055,16.303955375253548,16.485902636916833,16.730831643002027,16.910446247464503,3.538333333333334,null,null,null,null,null,null,null,null,null,null,null,null,null,null,null,null,null,null,null,null,null,null,null,null,null,null,null,null,null,null,null,null,null,null,null,null,null,null,null,null,null,null,null,null,0.5]
[368,43009,43070,43040,42887,42887,43040,43101,42979,42856,42917,null,null,null,null,null,null,null,null,null,null,null,0.3,1,1,0.5,0.5,1,0.5,0.4,0.5,1,null,null,null,null,null,null,null,null,null,null,null,0,0.5,null,0.5,0.5,0.5,0.5,0.5,0.5,0.5,0.5,0.5,0.5,14.534934640522874,15,15.478104575163398,15.78235294117647,16.021405228758169,16.516895424836601,16.855915032679739,17.312287581699344,17.646960784313727,3.763799999999998,null,null,null,null,null,null,null,null,null,null,null,null,null,null,null,null,null,null,null,null,null,null,null,null,null,null,null,null,null,null,null,null,null,null,null,null,null,null,null,null,null,null,null,null,0.5]
[371,43070,43101,42948,42856,42917,42979,43101,42917,43040,42887,null,null,null,null,null,null,null,null,null,null,null,1,0.5,1,0.5,1,0.4,0.5,1,1,0.5,null,null,null,null,null,null,null,null,null,null,null,0,0.75,null,0.75,0.75,0.75,0.75,0.75,0.75,0.75,0.75,0.75,0.75,13.876923076923076,14.151282051282049,14.433333333333332,14.612820512820511,14.753846153846151,15.046153846153844,15.246153846153845,15.515384615384614,15.71282051282051,4.4127142857142863,null,null,null,null,null,null,null,null,null,null,null,null,null,null,null,null,null,null,null,null,null,null,null,null,null,null,null,null,null,null,null,null,null,null,null,null,null,null,null,null,null,null,null,null,0.5]
[372,42856,42948,42948,43101,42979,43101,42887,42948,42887,42917,null,null,null,null,null,null,null,null,null,null,null,0.5,1,1,0.5,0.4,0.5,0.5,1,0.5,1,null,null,null,null,null,null,null,null,null,null,null,0,0.5,null,0.5,0.5,0.5,0.5,0.5,0.5,0.5,0.5,0.5,0.5,14.672874493927125,14.932793522267206,15.2,15.370040485829957,15.503643724696353,15.780566801619429,15.970040485829955,16.225101214574892,16.412145748987847,3.2221666666666664,null,null,null,null,null,null,null,null,null,null,null,null,null,null,null,null,null,null,null,null,null,null,null,null,null,null,null,null,null,null,null,null,null,null,null,null,null,null,null,null,null,null,null,null,0.5]
[376,43070,42979,42979,42948,42979,42826,42887,42887,42948,42979,null,null,null,null,null,null,null,null,null,null,null,1,0.4,0.4,1,0.4,1,0.5,0.5,1,0.4,null,null,null,null,null,null,null,null,null,null,null,-1.0869565217391302E-3,47.199456521739123,null,0.6494565217391326,0.61684782608696054,0.5831521739130423,0.55054347826087024,0.51684782608695912,0.48315217391304799,0.45054347826086882,0.4168478260869577,0.38423913043478564,0.3505434782608674,14.518274853801168,14.805116285336997,15.1,15.287653272967365,15.435095130298865,15.740701889131429,15.949801250437922,16.231281159888969,16.43769976015307,3.8477307692307701,null,null,null,null,null,null,null,null,null,null,null,null,null,null,null,null,null,null,null,null,null,null,null,null,null,null,null,null,null,null,null,null,null,null,null,null,null,null,null,null,null,null,null,null,0.5]
[377,42856,42826,42887,43040,42826,43101,43040,42887,43009,42826,null,null,null,null,null,null,null,null,null,null,null,0.5,1,0.5,1,1,0.5,1,0.5,0.3,1,null,null,null,null,null,null,null,null,null,null,null,-6.5359477124183013E-4,28.780718954248368,null,0.78986928104574972,0.77026143790849488,0.75,0.73039215686274517,0.71013071895424673,0.68986928104575185,0.67026143790849702,0.64999999999999858,0.63039215686274375,0.61013071895424886,14.564558342420938,14.704580152671754,14.848527808069791,14.940130861504906,15.012104689203925,15.161286804798253,15.263358778625953,15.400763358778624,15.501526717557251,4.2089999999999979,null,null,null,null,null,null,null,null,null,null,null,null,null,null,null,null,null,null,null,null,null,null,null,null,null,null,null,null,null,null,null,null,null,null,null,null,null,null,null,null,null,null,null,null,0.5]
[381,42887,43009,43070,42917,42826,43040,43070,42917,42856,43040,null,null,null,null,null,null,null,null,null,null,null,0.5,0.3,1,1,1,1,1,1,0.5,1,null,null,null,null,null,null,null,null,null,null,null,0,1,null,1,1,1,1,1,1,1,1,1,1,15,15.450629818899049,15.913894118701808,16.208698673121749,16.440330823023128,16.920441097364172,17.248937600860675,17.691144432490585,18.015429442352517,3.9089375000000004,null,null,null,null,null,null,null,null,null,null,null,null,null,null,null,null,null,null,null,null,null,null,null,null,null,null,null,null,null,null,null,null,null,null,null,null,null,null,null,null,null,null,null,null,0.5]
[384,42826,42887,42826,43009,42979,42917,42979,42856,43009,43101,null,null,null,null,null,null,null,null,null,null,null,1,0.5,1,0.3,0.4,1,0.4,0.5,0.3,0.5,null,null,null,null,null,null,null,null,null,null,null,-2.2677865612648219E-3,97.896897233201571,null,0.77666996047430814,0.70863636363635862,0.63833498023716118,0.57030138339921166,0.5,0.42969861660078834,0.36166501976285303,0.29136363636364138,0.22333003952569186,0.1530286561264802,14.355901116427432,14.722807017543859,15.1,15.340031897926636,15.528628389154704,15.919537480063795,16.18700159489633,16.547049441786285,16.811084529505582,3.1171666666666678,null,null,null,null,null,null,null,null,null,null,null,null,null,null,null,null,null,null,null,null,null,null,null,null,null,null,null,null,null,null,null,null,null,null,null,null,null,null,null,null,null,null,null,null,0.5]
[387,43070,42948,42826,42917,42856,42948,42887,43040,42887,43070,null,null,null,null,null,null,null,null,null,null,null,1,1,1,1,0.5,1,0.5,1,0.5,1,null,null,null,null,null,null,null,null,null,null,null,0,1,null,1,1,1,1,1,1,1,1,1,1,15,15.163268577671172,15.331114779015365,15.437925998052581,15.521849098724676,15.69579879829957,15.81481701379818,15.975033842354001,16.092526183294936,3.3879999999999999,null,null,null,null,null,null,null,null,null,null,null,null,null,null,null,null,null,null,null,null,null,null,null,null,null,null,null,null,null,null,null,null,null,null,null,null,null,null,null,null,null,null,null,null,0.5]
[390,43040,43070,42856,43009,43040,42917,43009,42979,42979,42979,null,null,null,null,null,null,null,null,null,null,null,1,1,0.5,0.3,1,1,0.3,0.4,0.4,0.4,null,null,null,null,null,null,null,null,null,null,null,0,0.45,null,0.45,0.45,0.45,0.45,0.45,0.45,0.45,0.45,0.45,0.45,13.635661080074488,13.984357541899442,14.342830540037244,14.570949720670392,14.750186219739295,15.121694599627562,15.375884543761639,15.718063314711362,15.968994413407824,3.8612500000000001,null,null,null,null,null,null,null,null,null,null,null,null,null,null,null,null,null,null,null,null,null,null,null,null,null,null,null,null,null,null,null,null,null,null,null,null,null,null,null,null,null,null,null,null,0.5]
[393,43101,42917,43040,42856,43101,42826,42917,42917,42948,42979,null,null,null,null,null,null,null,null,null,null,null,0.5,1,1,0.5,0.5,1,1,1,1,0.4,null,null,null,null,null,null,null,null,null,null,null,0,1,null,1,1,1,1,1,1,1,1,1,1,13.988506588579796,14.184333821376281,14.385651537335287,14.51376281112738,14.614421669106882,14.823060029282578,14.965812591508055,15.157979502196195,15.298901903367497,3.6270000000000007,null,null,null,null,null,null,null,null,null,null,null,null,null,null,null,null,null,null,null,null,null,null,null,null,null,null,null,null,null,null,null,null,null,null,null,null,null,null,null,null,null,null,null,null,0.5]
[394,42979,43009,42948,42826,42856,43040,42979,43070,43009,42826,null,null,null,null,null,null,null,null,null,null,null,0.4,0.3,1,1,0.5,1,0.4,1,0.3,1,null,null,null,null,null,null,null,null,null,null,null,-8.130081300813006E-4,35.692276422764216,null,0.87439024390243958,0.85000000000000142,0.8247967479674756,0.80040650406503744,0.77520325203251872,0.75,0.72560975609756184,0.70040650406503602,0.67601626016259786,0.65081300813007914,13.568549172346643,13.714410905550148,13.864362220058423,13.959785783836418,14.034761441090556,14.190165530671861,14.29649464459591,14.439629990262901,14.544595910418696,3.8115714285714288,null,null,null,null,null,null,null,null,null,null,null,null,null,null,null,null,null,null,null,null,null,null,null,null,null,null,null,null,null,null,null,null,null,null,null,null,null,null,null,null,null,null,null,null,0.5]
[397,42826,43070,43070,42856,43070,43070,42826,43101,43101,42826,null,null,null,null,null,null,null,null,null,null,null,1,1,1,0.5,1,1,1,0.5,0.5,1,null,null,null,null,null,null,null,null,null,null,null,0,1,null,1,1,1,1,1,1,1,1,1,1,13.478378378378379,13.767567567567568,14.064864864864864,14.254054054054054,14.402702702702703,14.710810810810811,14.921621621621622,15.205405405405404,15.413513513513514,3.32775,null,null,null,null,null,null,null,null,null,null,null,null,null,null,null,null,null,null,null,null,null,null,null,null,null,null,null,null,null,null,null,null,null,null,null,null,null,null,null,null,null,null,null,null,0.51013071895425099]
[400,43070,42826,43101,42887,42887,42979,42826,42826,43009,42826,null,null,null,null,null,null,null,null,null,null,null,1,1,0.5,0.5,0.5,0.4,1,1,0.3,1,null,null,null,null,null,null,null,null,null,null,null,-1.8181818181818182E-3,78.726363636363629,null,0.86090909090908951,0.80636363636362773,0.75,0.69545454545453822,0.63909090909089628,0.58272727272726854,0.52818181818180676,0.47181818181817903,0.41727272727271725,0.36090909090908951,14.404022291954975,14.766924785586475,15.140002115488016,15.377414961788997,15.563953626739767,15.950597405001364,16.215143148022456,16.571262417473928,16.832416548405007,3.7188333333333343,null,null,null,null,null,null,null,null,null,null,null,null,null,null,null,null,null,null,null,null,null,null,null,null,null,null,null,null,null,null,null,null,null,null,null,null,null,null,null,null,null,null,null,null,0.52727272727273089]
[403,43070,43101,42856,42887,43040,42826,42979,43070,42856,42917,null,null,null,null,null,null,null,null,null,null,null,1,0.5,0.5,0.5,1,1,0.4,1,0.5,1,null,null,null,null,null,null,null,null,null,null,null,0,0.75,null,0.75,0.75,0.75,0.75,0.75,0.75,0.75,0.75,0.75,0.75,13.8,14.086048454469509,14.380116959064329,14.567251461988306,14.714285714285715,15.019047619047621,15.227568922305768,15.508270676691732,15.714118629908105,3.4185000000000008,null,null,null,null,null,null,null,null,null,null,null,null,null,null,null,null,null,null,null,null,null,null,null,null,null,null,null,null,null,null,null,null,null,null,null,null,null,null,null,null,null,null,null,null,0.53135245901639294]
[406,42948,42856,42856,42979,43009,43101,43009,42856,42856,42856,null,null,null,null,null,null,null,null,null,null,null,1,0.5,0.5,0.4,0.3,0.5,0.3,0.5,0.5,0.5,null,null,null,null,null,null,null,null,null,null,null,-8.130081300813006E-4,35.379674796747956,null,0.56178861788617951,0.53739837398374135,0.51219512195121553,0.48780487804877737,0.46260162601625865,0.43739837398373993,0.41300813008130177,0.38780487804877595,0.36341463414633779,0.33821138211381907,13.443067846607669,13.695575221238936,13.955162241887905,14.120353982300884,14.250147492625366,14.519174041297934,14.703244837758112,14.95103244837758,15.132743362831857,3.551499999999999,null,null,null,null,null,null,null,null,null,null,null,null,null,null,null,null,null,null,null,null,null,null,null,null,null,null,null,null,null,null,null,null,null,null,null,null,null,null,null,null,null,null,null,null,0.55000000000000071]
[410,42887,43040,42917,42856,43009,43101,42826,43009,43070,42826,null,null,null,null,null,null,null,null,null,null,null,0.5,1,1,0.5,0.3,0.5,1,0.3,1,1,null,null,null,null,null,null,null,null,null,null,null,0,0.75,null,0.75,0.75,0.75,0.75,0.75,0.75,0.75,0.75,0.75,0.75,14.47160696680907,14.830768508520727,15.2,15.434965494577717,15.619581240317356,16.002239331486784,16.264058025444815,16.616506267311394,16.874968311346883,3.5447272727272727,null,null,null,null,null,null,null,null,null,null,null,null,null,null,null,null,null,null,null,null,null,null,null,null,null,null,null,null,null,null,null,null,null,null,null,null,null,null,null,null,null,null,null,null,0.55000000000000426]
[411,43101,43101,42948,42948,42979,42979,42856,43101,43009,43101,null,null,null,null,null,null,null,null,null,null,null,0.5,0.5,1,1,0.4,0.4,0.5,0.5,0.3,0.5,null,null,null,null,null,null,null,null,null,null,null,-8.130081300813006E-4,35.454471544715439,null,0.63658536585366221,0.61219512195122405,0.58699186991869823,0.56260162601626007,0.53739837398374135,0.51219512195122263,0.48780487804878447,0.46260162601625865,0.43821138211382049,0.41300813008130177,14.382884748102139,14.98840579710145,15.610904071773637,16.007039337474119,16.318288474810213,16.963423050379575,17.404830917874396,17.999033816425118,18.434782608695652,3.5902500000000002,null,null,null,null,null,null,null,null,null,null,null,null,null,null,null,null,null,null,null,null,null,null,null,null,null,null,null,null,null,null,null,null,null,null,null,null,null,null,null,null,null,null,null,null,0.55000000000000426]
[415,42887,42979,42887,43070,42856,42826,43101,42856,43009,42887,null,null,null,null,null,null,null,null,null,null,null,0.5,0.4,0.5,1,0.5,1,0.5,0.5,0.3,0.5,null,null,null,null,null,null,null,null,null,null,null,0,0.5,null,0.5,0.5,0.5,0.5,0.5,0.5,0.5,0.5,0.5,0.5,15.326059654631081,15.695604395604395,16.075510204081631,16.317268445839872,16.507221350078492,16.900941915227627,17.170329670329668,17.532967032967029,17.798901098901098,3.5482500000000003,null,null,null,null,null,null,null,null,null,null,null,null,null,null,null,null,null,null,null,null,null,null,null,null,null,null,null,null,null,null,null,null,null,null,null,null,null,null,null,null,null,null,null,null,0.56270491803278588]
[416,42856,43101,43070,42856,43101,42856,42856,42917,42917,42948,null,null,null,null,null,null,null,null,null,null,null,0.5,0.5,1,0.5,0.5,0.5,0.5,1,1,1,null,null,null,null,null,null,null,null,null,null,null,0,0.5,null,0.5,0.5,0.5,0.5,0.5,0.5,0.5,0.5,0.5,0.5,14.571631147985467,14.768618838457785,14.971129548289138,15.1,15.201255354915677,15.41113009055908,15.554728593894041,15.748034271460334,15.889791768342281,3.7510999999999992,null,null,null,null,null,null,null,null,null,null,null,null,null,null,null,null,null,null,null,null,null,null,null,null,null,null,null,null,null,null,null,null,null,null,null,null,null,null,null,null,null,null,null,null,0.57026143790849915]
[419,42887,42826,42887,42979,42979,42887,43009,43040,43040,43009,null,null,null,null,null,null,null,null,null,null,null,0.5,1,0.5,0.4,0.4,0.5,0.3,1,1,0.3,null,null,null,null,null,null,null,null,null,null,null,-1.0869565217391302E-3,47.216304347826075,null,0.66630434782608461,0.63369565217391255,0.59999999999999432,0.56739130434782226,0.53369565217391113,0.5,0.46739130434782084,0.43369565217390971,0.40108695652173765,0.36739130434781941,14.034210526315789,14.315789473684211,14.605263157894736,14.789473684210526,14.934210526315789,15.234210526315788,15.439473684210526,15.715789473684211,15.918421052631579,3.3420555555555547,null,null,null,null,null,null,null,null,null,null,null,null,null,null,null,null,null,null,null,null,null,null,null,null,null,null,null,null,null,null,null,null,null,null,null,null,null,null,null,null,null,null,null,null,0.58423913043478137]
[422,43009,43040,42826,43070,42948,43040,43070,43040,42826,42856,null,null,null,null,null,null,null,null,null,null,null,0.3,1,1,1,1,1,1,1,1,0.5,null,null,null,null,null,null,null,null,null,null,null,0,1,null,1,1,1,1,1,1,1,1,1,1,14.369610311561521,14.649690926484656,14.937624268929,15.120854577757218,15.264821248979391,15.563224894785346,15.76739581033679,16.042241273579119,16.243794613290159,3.6861249999999997,null,null,null,null,null,null,null,null,null,null,null,null,null,null,null,null,null,null,null,null,null,null,null,null,null,null,null,null,null,null,null,null,null,null,null,null,null,null,null,null,null,null,null,null,0.60000000000000142]
[425,43101,42948,42887,43009,42917,43009,42917,42917,42887,42917,null,null,null,null,null,null,null,null,null,null,null,0.5,1,0.5,0.3,1,0.3,1,1,0.5,1,null,null,null,null,null,null,null,null,null,null,null,-1.639344262295082E-3,71.105737704918027,null,0.89918032786884794,0.84999999999999432,0.79918032786885362,0.75,0.6991803278688451,0.64836065573770441,0.59918032786885078,0.54836065573769588,0.49918032786884226,0.44836065573770156,15.156064073226544,15.47437070938215,15.801601830663614,16.009839816933638,16.173455377574371,16.512585812356981,16.744622425629291,17.056979405034326,17.28604118993135,3.4120000000000008,null,null,null,null,null,null,null,null,null,null,null,null,null,null,null,null,null,null,null,null,null,null,null,null,null,null,null,null,null,null,null,null,null,null,null,null,null,null,null,null,null,null,null,null,0.6005434782608674]
[428,42826,43101,42887,43101,42948,42887,43040,42826,43009,42979,null,null,null,null,null,null,null,null,null,null,null,1,0.5,0.5,0.5,1,0.5,1,1,0.3,0.4,null,null,null,null,null,null,null,null,null,null,null,-1.3631503920171061E-3,59.065711867426941,null,0.68743317890235289,0.64653866714184005,0.60428100498931059,0.56338649322879775,0.52112883107626828,0.47887116892373882,0.43797665716322598,0.39571899501069652,0.35482448325018368,0.31256682109765421,13.464814814814815,13.662962962962963,13.866666666666667,13.996296296296297,14.098148148148148,14.30925925925926,14.453703703703704,14.648148148148149,14.790740740740741,3.2103888888888887,null,null,null,null,null,null,null,null,null,null,null,null,null,null,null,null,null,null,null,null,null,null,null,null,null,null,null,null,null,null,null,null,null,null,null,null,null,null,null,null,null,null,null,null,0.61300813008129751]
[432,43070,42826,42856,42979,42887,42826,42979,43009,43009,42979,null,null,null,null,null,null,null,null,null,null,null,1,1,0.5,0.4,0.5,1,0.4,0.3,0.3,0.4,null,null,null,null,null,null,null,null,null,null,null,-2.4863387978142082E-3,107.31035519125686,null,0.83040983606558427,0.7558196721311532,0.67874316939891344,0.60415300546448236,0.5270765027322426,0.45000000000000284,0.37540983606558598,0.29833333333334622,0.22374316939891514,0.14666666666667538,15.383766233766234,15.592207792207793,15.806493506493506,15.942857142857143,16.05,16.272077922077923,16.424025974025973,16.62857142857143,16.778571428571428,2.613900000000001,null,null,null,null,null,null,null,null,null,null,null,null,null,null,null,null,null,null,null,null,null,null,null,null,null,null,null,null,null,null,null,null,null,null,null,null,null,null,null,null,null,null,null,null,0.625]
[433,42948,43070,42856,42856,42979,42856,43040,43101,43101,43101,null,null,null,null,null,null,null,null,null,null,null,1,1,0.5,0.5,0.4,0.5,1,0.5,0.5,0.5,null,null,null,null,null,null,null,null,null,null,null,0,0.5,null,0.5,0.5,0.5,0.5,0.5,0.5,0.5,0.5,0.5,0.5,14.465789473684211,14.827819548872181,15.2,15.436842105263157,15.622932330827066,16.008646616541352,16.272556390977442,16.627819548872179,16.888345864661652,3.9639999999999986,null,null,null,null,null,null,null,null,null,null,null,null,null,null,null,null,null,null,null,null,null,null,null,null,null,null,null,null,null,null,null,null,null,null,null,null,null,null,null,null,null,null,null,null,0.62560975609756042]
[437,42887,42979,42948,43009,42856,43009,43009,42826,42826,43009,null,null,null,null,null,null,null,null,null,null,null,0.5,0.4,1,0.3,0.5,0.3,0.3,1,1,0.3,null,null,null,null,null,null,null,null,null,null,null,-3.5792349726775962E-3,154.22646174863388,null,0.94214480874313722,0.83476775956282268,0.72381147540980351,0.61643442622948896,0.50547814207646979,0.39452185792347905,0.28714480874313608,0.17618852459014533,6.881147540980237E-2,-4.2144808743188378E-2,14.1,14.458659217877095,14.827374301675977,15.062011173184356,15.246368715083797,15.628491620111731,15.88994413407821,16.241899441340781,16.5,3.6212499999999999,null,null,null,null,null,null,null,null,null,null,null,null,null,null,null,null,null,null,null,null,null,null,null,null,null,null,null,null,null,null,null,null,null,null,null,null,null,null,null,null,null,null,null,null,0.62635869565217206]
[438,43101,43101,43070,42979,42948,43040,42826,42856,43009,43040,null,null,null,null,null,null,null,null,null,null,null,0.5,0.5,1,0.4,1,1,1,0.5,0.3,1,null,null,null,null,null,null,null,null,null,null,null,0,0.75,null,0.75,0.75,0.75,0.75,0.75,0.75,0.75,0.75,0.75,0.75,15.508073756447992,15.931995037418233,16.367801961780167,16.645133640919575,16.863037103100542,17.314691551984726,17.623718280168642,18.039715798877758,18.34478064593111,3.1606250000000014,null,null,null,null,null,null,null,null,null,null,null,null,null,null,null,null,null,null,null,null,null,null,null,null,null,null,null,null,null,null,null,null,null,null,null,null,null,null,null,null,null,null,null,null,0.62635869565217206]
[441,43101,42856,43009,42917,43070,43009,42856,43070,42917,43009,null,null,null,null,null,null,null,null,null,null,null,0.5,0.5,0.3,1,1,0.3,0.5,1,1,0.3,null,null,null,null,null,null,null,null,null,null,null,0,0.5,null,0.5,0.5,0.5,0.5,0.5,0.5,0.5,0.5,0.5,0.5,14.446218487394958,14.805882352941175,15.175630252100841,15.410924369747899,15.595798319327731,15.978991596638656,16.241176470588236,16.594117647058823,16.852941176470587,3.4389000000000003,null,null,null,null,null,null,null,null,null,null,null,null,null,null,null,null,null,null,null,null,null,null,null,null,null,null,null,null,null,null,null,null,null,null,null,null,null,null,null,null,null,null,null,null,0.6381818181818204]
[445,43070,42826,42979,43070,42826,43101,42856,43040,42917,42948,null,null,null,null,null,null,null,null,null,null,null,1,1,0.4,1,1,0.5,0.5,1,1,1,null,null,null,null,null,null,null,null,null,null,null,0,1,null,1,1,1,1,1,1,1,1,1,1,14.712860806390028,14.988004767752654,15.270863045789001,15.450863768175767,15.59229290719394,15.885436940795245,16.086009174311926,16.356010257892073,16.554011052517517,4.1920000000000002,null,null,null,null,null,null,null,null,null,null,null,null,null,null,null,null,null,null,null,null,null,null,null,null,null,null,null,null,null,null,null,null,null,null,null,null,null,null,null,null,null,null,null,null,0.65000000000000568]
[448,43009,42948,42856,42979,42887,42917,42979,42887,42948,42887,null,null,null,null,null,null,null,null,null,null,null,0.3,1,0.5,0.4,0.5,1,0.4,0.5,1,0.5,null,null,null,null,null,null,null,null,null,null,null,-1.0869565217391302E-3,47.165760869565212,null,0.61576086956522147,0.58315217391304941,0.54945652173913118,0.51684782608695912,0.48315217391304799,0.44945652173913686,0.4168478260869577,0.38315217391304657,0.35054347826087451,0.31684782608695627,14.630455259026686,15,15.379905808477236,15.621664050235477,15.811616954474097,16.205337519623232,16.474725274725273,16.837362637362638,17.103296703296703,3.7136428571428572,null,null,null,null,null,null,null,null,null,null,null,null,null,null,null,null,null,null,null,null,null,null,null,null,null,null,null,null,null,null,null,null,null,null,null,null,null,null,null,null,null,null,null,null,0.66545454545455129]
[450,43040,42917,42917,43101,43070,43040,42856,43040,42826,42917,null,null,null,null,null,null,null,null,null,null,null,1,1,1,0.5,1,1,0.5,1,1,1,null,null,null,null,null,null,null,null,null,null,null,0,1,null,1,1,1,1,1,1,1,1,1,1,14.525389408099688,14.808722741433021,15.1,15.285358255451714,15.430996884735203,15.732866043613708,15.939408099688475,16.217445482866044,16.421339563862929,4.0866249999999997,null,null,null,null,null,null,null,null,null,null,null,null,null,null,null,null,null,null,null,null,null,null,null,null,null,null,null,null,null,null,null,null,null,null,null,null,null,null,null,null,null,null,null,null,0.67520325203252085]
[454,43009,42917,43040,43009,42948,42917,43040,43070,42917,42948,null,null,null,null,null,null,null,null,null,null,null,0.3,1,1,0.3,1,1,1,1,1,1,null,null,null,null,null,null,null,null,null,null,null,0,1,null,1,1,1,1,1,1,1,1,1,1,13.563482053136811,13.837196419016797,14.118585019454166,14.297650492459764,14.43834479267845,14.729965705858996,14.92949580435095,15.198094013859347,15.395066034165506,3.5320454545454538,null,null,null,null,null,null,null,null,null,null,null,null,null,null,null,null,null,null,null,null,null,null,null,null,null,null,null,null,null,null,null,null,null,null,null,null,null,null,null,null,null,null,null,null,0.68817934782607892]
[457,42979,42979,42948,42948,43040,42826,42917,42826,43009,42917,null,null,null,null,null,null,null,null,null,null,null,0.4,0.4,1,1,1,1,1,1,0.3,1,null,null,null,null,null,null,null,null,null,null,null,0,1,null,1,1,1,1,1,1,1,1,1,1,14.645412844036697,14.918872870249016,15.2,15.378899082568807,15.519462647444298,15.810812581913499,16.01015727391874,16.27850589777195,16.475294888597638,3.6420000000000012,null,null,null,null,null,null,null,null,null,null,null,null,null,null,null,null,null,null,null,null,null,null,null,null,null,null,null,null,null,null,null,null,null,null,null,null,null,null,null,null,null,null,null,null,0.70000000000000284]
[459,42887,42887,42979,42887,42887,43040,42856,43070,43040,42917,null,null,null,null,null,null,null,null,null,null,null,0.5,0.5,0.4,0.5,0.5,1,0.5,1,1,1,null,null,null,null,null,null,null,null,null,null,null,2.7322404371584699E-3,-116.71857923497268,null,0.29234972677595294,0.37431693989070425,0.45901639344262435,0.54098360655737565,0.62568306010928154,0.71038251366120164,0.79234972677595294,0.87704918032787305,0.95901639344262435,1.0437158469945302,13.388524590163934,13.739344262295081,14.099999999999998,14.32950819672131,14.509836065573769,14.883606557377046,15.139344262295079,15.483606557377048,15.736065573770489,4.2237857142857136,null,null,null,null,null,null,null,null,null,null,null,null,null,null,null,null,null,null,null,null,null,null,null,null,null,null,null,null,null,null,null,null,null,null,null,null,null,null,null,null,null,null,null,null,0.74918032786885647]
[460,43009,42948,42979,42856,42826,42826,43009,42979,42856,43009,null,null,null,null,null,null,null,null,null,null,null,0.3,1,0.4,0.5,1,1,0.3,0.4,0.5,0.3,null,null,null,null,null,null,null,null,null,null,null,-3.3333333333333344E-3,143.66166666666669,null,0.90833333333330302,0.8083333333333087,0.70499999999998408,0.60499999999998977,0.50166666666663673,0.39833333333331211,0.2983333333333178,0.19499999999996476,9.4999999999970441E-2,-8.3333333333541759E-3,14.057500000000001,14.325000000000001,14.600000000000001,14.775,14.912500000000001,15.1975,15.3925,15.655000000000001,15.8475,3.0932500000000003,null,null,null,null,null,null,null,null,null,null,null,null,null,null,null,null,null,null,null,null,null,null,null,null,null,null,null,null,null,null,null,null,null,null,null,null,null,null,null,null,null,null,null,null,0.75]
[463,42887,43070,42887,43040,43009,43070,42887,42948,42979,42917,null,null,null,null,null,null,null,null,null,null,null,0.5,1,0.5,1,0.3,1,0.5,1,0.4,1,null,null,null,null,null,null,null,null,null,null,null,2.7322404371584699E-3,-116.63661202185793,null,0.37431693989070425,0.45628415300545555,0.54098360655737565,0.62295081967212695,0.70765027322403284,0.79234972677595294,0.87431693989070425,0.95901639344262435,1.0409836065573757,1.1256830601092815,13.871348314606742,14.292134831460675,14.724719101123597,15,15.216292134831461,15.664606741573035,15.971348314606741,16.384269662921348,16.687078651685393,3.8444240196078425,null,null,null,null,null,null,null,null,null,null,null,null,null,null,null,null,null,null,null,null,null,null,null,null,null,null,null,null,null,null,null,null,null,null,null,null,null,null,null,null,null,null,null,null,0.75]
[467,42979,42887,42856,43040,43040,42979,43009,42856,42979,42856,null,null,null,null,null,null,null,null,null,null,null,0.4,0.5,0.5,1,1,0.4,0.3,0.5,0.4,0.5,null,null,null,null,null,null,null,null,null,null,null,-4.065040650406503E-4,17.971138211382108,null,0.56219512195121979,0.55000000000000071,0.5373983739837378,0.52520325203251872,0.51260162601625936,0.5,0.48780487804878092,0.47520325203251801,0.46300813008129893,0.45040650406503957,13.975332641049686,14.249047006929672,14.530435607367041,14.70950108037264,14.850195380591325,15.141816293771871,15.341346392263823,15.60994460177222,15.806916622078379,3.5399166666666666,null,null,null,null,null,null,null,null,null,null,null,null,null,null,null,null,null,null,null,null,null,null,null,null,null,null,null,null,null,null,null,null,null,null,null,null,null,null,null,null,null,null,null,null,0.75]
[470,42887,42887,42979,43070,43040,42887,43070,43009,43009,42917,null,null,null,null,null,null,null,null,null,null,null,0.5,0.5,0.4,1,1,0.5,1,0.3,0.3,1,null,null,null,null,null,null,null,null,null,null,null,2.7322404371584699E-3,-116.96994535519126,null,4.0983606557375651E-2,0.12295081967212695,0.20765027322404706,0.28961748633879836,0.37431693989070425,0.45901639344262435,0.54098360655737565,0.62568306010929575,0.70765027322404706,0.79234972677595294,14.1,14.462030075187968,14.834210526315788,15.071052631578947,15.257142857142856,15.642857142857142,15.906766917293231,16.262030075187969,16.522556390977442,3.4357272727272736,null,null,null,null,null,null,null,null,null,null,null,null,null,null,null,null,null,null,null,null,null,null,null,null,null,null,null,null,null,null,null,null,null,null,null,null,null,null,null,null,null,null,null,null,0.75]
[472,42979,43101,42917,43070,42917,43070,43070,43040,42979,43009,null,null,null,null,null,null,null,null,null,null,null,0.4,0.5,1,1,1,1,1,1,0.4,0.3,null,null,null,null,null,null,null,null,null,null,null,0,1,null,1,1,1,1,1,1,1,1,1,1,13.718421052631577,13.999999999999998,14.289473684210524,14.473684210526313,14.618421052631577,14.918421052631576,15.123684210526314,15.399999999999999,15.602631578947367,3.4828235294117649,null,null,null,null,null,null,null,null,null,null,null,null,null,null,null,null,null,null,null,null,null,null,null,null,null,null,null,null,null,null,null,null,null,null,null,null,null,null,null,null,null,null,null,null,0.75]
[476,42948,42887,42917,42887,42887,42826,42887,42979,42887,43070,null,null,null,null,null,null,null,null,null,null,null,1,0.5,1,0.5,0.5,1,0.5,0.4,0.5,1,null,null,null,null,null,null,null,null,null,null,null,0,0.5,null,0.5,0.5,0.5,0.5,0.5,0.5,0.5,0.5,0.5,0.5,13.794736842105262,14.076315789473684,14.36578947368421,14.549999999999999,14.694736842105263,14.994736842105262,15.2,15.476315789473684,15.678947368421053,3.5964999999999998,null,null,null,null,null,null,null,null,null,null,null,null,null,null,null,null,null,null,null,null,null,null,null,null,null,null,null,null,null,null,null,null,null,null,null,null,null,null,null,null,null,null,null,null,0.75]
[479,42948,42856,42979,42856,42948,42856,43101,42856,42948,43101,null,null,null,null,null,null,null,null,null,null,null,1,0.5,0.4,0.5,1,0.5,0.5,0.5,1,0.5,null,null,null,null,null,null,null,null,null,null,null,0,0.5,null,0.5,0.5,0.5,0.5,0.5,0.5,0.5,0.5,0.5,0.5,13.645251396648046,14.00391061452514,14.372625698324022,14.607262569832404,14.791620111731845,15.173743016759776,15.435195530726258,15.787150837988825,16.045251396648045,3.0678333333333336,null,null,null,null,null,null,null,null,null,null,null,null,null,null,null,null,null,null,null,null,null,null,null,null,null,null,null,null,null,null,null,null,null,null,null,null,null,null,null,null,null,null,null,null,0.75]
[481,42917,42826,42887,43070,42887,42826,42826,42856,43070,42856,null,null,null,null,null,null,null,null,null,null,null,1,1,0.5,1,0.5,1,1,0.5,1,0.5,null,null,null,null,null,null,null,null,null,null,null,0,1,null,1,1,1,1,1,1,1,1,1,1,14.725641025641027,15,15.282051282051283,15.461538461538462,15.602564102564102,15.894871794871795,16.094871794871796,16.364102564102566,16.561538461538461,3.9531363636363643,null,null,null,null,null,null,null,null,null,null,null,null,null,null,null,null,null,null,null,null,null,null,null,null,null,null,null,null,null,null,null,null,null,null,null,null,null,null,null,null,null,null,null,null,0.75]
[482,42856,42979,42856,43040,42887,43040,43070,43040,42917,43070,null,null,null,null,null,null,null,null,null,null,null,0.5,0.4,0.5,1,0.5,1,1,1,1,1,null,null,null,null,null,null,null,null,null,null,null,2.3364485981308409E-3,-99.489485981308405,null,0.57126168224299079,0.64135514018691708,0.71378504672897236,0.78387850467289866,0.85630841121495394,0.92873831775700921,0.99883177570093551,1.0712616822429908,1.1413551401869171,1.2137850467289724,12.55748031496063,12.834308211473566,13.118897637795275,13.3,13.442294713160855,13.737232845894262,13.939032620922383,14.210686164229472,14.409898762654667,3.5235000000000003,null,null,null,null,null,null,null,null,null,null,null,null,null,null,null,null,null,null,null,null,null,null,null,null,null,null,null,null,null,null,null,null,null,null,null,null,null,null,null,null,null,null,null,null,0.75]
[485,42826,43101,42856,42887,42948,43101,43070,42856,43009,43101,null,null,null,null,null,null,null,null,null,null,null,1,0.5,0.5,0.5,1,0.5,1,0.5,0.3,0.5,null,null,null,null,null,null,null,null,null,null,null,0,0.5,null,0.5,0.5,0.5,0.5,0.5,0.5,0.5,0.5,0.5,0.5,13.505604395604395,13.823076923076922,14.149450549450549,14.357142857142858,14.520329670329669,14.858571428571429,15.09,15.401538461538461,15.63,3.2569999999999997,null,null,null,null,null,null,null,null,null,null,null,null,null,null,null,null,null,null,null,null,null,null,null,null,null,null,null,null,null,null,null,null,null,null,null,null,null,null,null,null,null,null,null,null,0.75]
[489,42948,42887,42856,43040,42917,42826,42979,42856,43009,42887,null,null,null,null,null,null,null,null,null,null,null,1,0.5,0.5,1,1,1,0.4,0.5,0.3,0.5,null,null,null,null,null,null,null,null,null,null,null,0,0.5,null,0.5,0.5,0.5,0.5,0.5,0.5,0.5,0.5,0.5,0.5,14.160541727672035,14.356368960468522,14.557686676427526,14.685797950219619,14.786456808199121,14.995095168374817,15.137847730600292,15.330014641288432,15.470937042459736,3.8368750000000009,null,null,null,null,null,null,null,null,null,null,null,null,null,null,null,null,null,null,null,null,null,null,null,null,null,null,null,null,null,null,null,null,null,null,null,null,null,null,null,null,null,null,null,null,0.75]
[492,43040,43040,42887,43009,42948,42917,43070,43009,42979,43070,null,null,null,null,null,null,null,null,null,null,null,1,1,0.5,0.3,1,1,1,0.3,0.4,1,null,null,null,null,null,null,null,null,null,null,null,0,1,null,1,1,1,1,1,1,1,1,1,1,14.160940170940171,14.535897435897436,14.921367521367522,15.166666666666666,15.359401709401709,15.758888888888887,16.03222222222222,16.400170940170938,16.669999999999998,4.2422499999999994,null,null,null,null,null,null,null,null,null,null,null,null,null,null,null,null,null,null,null,null,null,null,null,null,null,null,null,null,null,null,null,null,null,null,null,null,null,null,null,null,null,null,null,null,0.75]
[494,43009,43009,43070,42917,43101,42887,43070,42826,42948,42917,null,null,null,null,null,null,null,null,null,null,null,0.3,0.3,1,1,0.5,0.5,1,1,1,1,null,null,null,null,null,null,null,null,null,null,null,0,1,null,1,1,1,1,1,1,1,1,1,1,15,15.281578947368422,15.571052631578947,15.755263157894737,15.9,16.2,16.405263157894737,16.681578947368422,16.88421052631579,4.0039999999999996,null,null,null,null,null,null,null,null,null,null,null,null,null,null,null,null,null,null,null,null,null,null,null,null,null,null,null,null,null,null,null,null,null,null,null,null,null,null,null,null,null,null,null,null,0.75]
[498,42979,42856,42826,42917,43101,43009,42856,43101,42979,43070,null,null,null,null,null,null,null,null,null,null,null,0.4,0.5,1,1,0.5,0.3,0.5,0.5,0.4,1,null,null,null,null,null,null,null,null,null,null,null,-8.130081300813006E-4,35.442276422764216,null,0.62439024390243958,0.60000000000000142,0.5747967479674756,0.55040650406503744,0.52520325203251872,0.5,0.47560975609756184,0.45040650406503602,0.42601626016259786,0.40081300813007914,15.768147581732761,16.131050075364261,16.504127405265802,16.741540251566782,16.928078916517553,17.314722694779149,17.579268437800245,17.935387707251714,18.196541838182796,3.3610000000000007,null,null,null,null,null,null,null,null,null,null,null,null,null,null,null,null,null,null,null,null,null,null,null,null,null,null,null,null,null,null,null,null,null,null,null,null,null,null,null,null,null,null,null,null,0.75]
[501,42856,43101,42917,42979,42979,42856,43040,42826,43070,43009,null,null,null,null,null,null,null,null,null,null,null,0.5,0.5,1,0.4,0.4,0.5,1,1,1,0.3,null,null,null,null,null,null,null,null,null,null,null,0,0.5,null,0.5,0.5,0.5,0.5,0.5,0.5,0.5,0.5,0.5,0.5,13.667833199536716,13.921935495731786,14.183162155371576,14.349397302415079,14.480010632234976,14.750736443134395,14.935969892697155,15.185322613262411,15.368181275010265,3.5094375000000007,null,null,null,null,null,null,null,null,null,null,null,null,null,null,null,null,null,null,null,null,null,null,null,null,null,null,null,null,null,null,null,null,null,null,null,null,null,null,null,null,null,null,null,null,0.75]
[502,43101,42948,42917,42826,42979,42887,42917,42826,42826,43009,null,null,null,null,null,null,null,null,null,null,null,0.5,1,1,1,0.4,0.5,1,1,1,0.3,null,null,null,null,null,null,null,null,null,null,null,-1.8181818181818182E-3,79.030909090909091,null,1.1654545454545513,1.1109090909090895,1.0545454545454618,1,0.94363636363635806,0.88727272727273032,0.83272727272726854,0.77636363636364081,0.72181818181817903,0.66545454545455129,14.626649958228905,14.912698412698413,15.206766917293233,15.39390142021721,15.540935672514621,15.845697577276525,16.05421888053467,16.334920634920636,16.540768588137009,3.7197999999999993,null,null,null,null,null,null,null,null,null,null,null,null,null,null,null,null,null,null,null,null,null,null,null,null,null,null,null,null,null,null,null,null,null,null,null,null,null,null,null,null,null,null,null,null,0.75]
[505,42979,42948,42856,43040,43040,42826,42979,43101,42948,43040,null,null,null,null,null,null,null,null,null,null,null,0.4,1,0.5,1,1,1,0.4,0.5,1,1,null,null,null,null,null,null,null,null,null,null,null,0,1,null,1,1,1,1,1,1,1,1,1,1,15,15.296332805257292,15.600974006923664,15.794836589802266,15.947157190635453,16.262876254180604,16.478894560816759,16.769688435134661,16.982937276301122,3.5227499999999994,null,null,null,null,null,null,null,null,null,null,null,null,null,null,null,null,null,null,null,null,null,null,null,null,null,null,null,null,null,null,null,null,null,null,null,null,null,null,null,null,null,null,null,null,0.75]
[507,42856,42826,42826,42887,42979,42856,42917,42856,43101,42979,null,null,null,null,null,null,null,null,null,null,null,0.5,1,1,0.5,0.4,0.5,1,0.5,0.5,0.4,null,null,null,null,null,null,null,null,null,null,null,-8.130081300813006E-4,35.354878048780478,null,0.53699186991870107,0.51260162601626291,0.48739837398373709,0.46300813008129893,0.43780487804878021,0.41260162601626149,0.38821138211382333,0.36300813008129751,0.33861788617885935,0.31341463414634063,15.1,15.494177064765299,15.899405822935234,16.157278669043375,16.359893048128342,16.779857397504458,17.067201426024955,17.454010695187165,17.737670825906122,3.3519999999999994,null,null,null,null,null,null,null,null,null,null,null,null,null,null,null,null,null,null,null,null,null,null,null,null,null,null,null,null,null,null,null,null,null,null,null,null,null,null,null,null,null,null,null,null,0.75]
[511,43070,42826,43040,43070,42979,42856,42979,43101,42856,43070,null,null,null,null,null,null,null,null,null,null,null,1,1,1,1,0.4,0.5,0.4,0.5,0.5,1,null,null,null,null,null,null,null,null,null,null,null,0,0.75,null,0.75,0.75,0.75,0.75,0.75,0.75,0.75,0.75,0.75,0.75,15.443205574912891,15.629616724738677,15.821254355400697,15.943205574912891,16.039024390243902,16.237630662020905,16.373519163763067,16.55644599303136,16.690592334494774,4.0448749999999993,null,null,null,null,null,null,null,null,null,null,null,null,null,null,null,null,null,null,null,null,null,null,null,null,null,null,null,null,null,null,null,null,null,null,null,null,null,null,null,null,null,null,null,null,0.75]
[514,43009,42887,43070,43009,42948,42826,42887,42979,42856,42917,null,null,null,null,null,null,null,null,null,null,null,0.3,0.5,1,0.3,1,1,0.5,0.4,0.5,1,null,null,null,null,null,null,null,null,null,null,null,-1.0869565217391302E-3,47.165760869565212,null,0.61576086956522147,0.58315217391304941,0.54945652173913118,0.51684782608695912,0.48315217391304799,0.44945652173913686,0.4168478260869577,0.38315217391304657,0.35054347826087451,0.31684782608695627,14.462361623616236,14.797970479704798,15.142988929889299,15.362546125461254,15.535055350553506,15.892619926199263,16.137269372693726,16.466605166051661,16.708118081180814,3.4489999999999998,null,null,null,null,null,null,null,null,null,null,null,null,null,null,null,null,null,null,null,null,null,null,null,null,null,null,null,null,null,null,null,null,null,null,null,null,null,null,null,null,null,null,null,null,0.75]
[516,43070,43040,42887,43009,43070,43040,43101,42887,42856,42979,null,null,null,null,null,null,null,null,null,null,null,1,1,0.5,0.3,1,1,0.5,0.5,0.5,0.4,null,null,null,null,null,null,null,null,null,null,null,1.4967925873129008E-3,-63.898752672843898,null,0.20288667141839767,0.24779044903777958,0.29419101924447943,0.33909479686386135,0.3854953670705612,0.43189593727726105,0.47679971489665718,0.52320028510335703,0.56810406272273895,0.6145046329294388,14.063237221494102,14.336697247706422,14.617824377457405,14.796723460026211,14.937287024901703,15.228636959370904,15.427981651376147,15.696330275229357,15.893119266055045,3.5334999999999992,null,null,null,null,null,null,null,null,null,null,null,null,null,null,null,null,null,null,null,null,null,null,null,null,null,null,null,null,null,null,null,null,null,null,null,null,null,null,null,null,null,null,null,null,0.75]
[520,42887,43040,42979,42826,43009,43009,42826,43040,42979,42856,null,null,null,null,null,null,null,null,null,null,null,0.5,1,0.4,1,0.3,0.3,1,1,0.4,0.5,null,null,null,null,null,null,null,null,null,null,null,-1.0869565217391302E-3,47.216304347826075,null,0.66630434782608461,0.63369565217391255,0.59999999999999432,0.56739130434782226,0.53369565217391113,0.5,0.46739130434782084,0.43369565217390971,0.40108695652173765,0.36739130434781941,15,15.358659217877094,15.727374301675976,15.962011173184358,16.146368715083799,16.52849162011173,16.789944134078212,17.141899441340779,17.399999999999999,3.1753333333333345,null,null,null,null,null,null,null,null,null,null,null,null,null,null,null,null,null,null,null,null,null,null,null,null,null,null,null,null,null,null,null,null,null,null,null,null,null,null,null,null,null,null,null,null,0.75]
[523,42948,42979,42887,43101,42887,42856,42826,43040,43101,43070,null,null,null,null,null,null,null,null,null,null,null,1,0.4,0.5,0.5,0.5,0.5,1,1,0.5,1,null,null,null,null,null,null,null,null,null,null,null,0,0.5,null,0.5,0.5,0.5,0.5,0.5,0.5,0.5,0.5,0.5,0.5,15.25046321625269,15.524627056206004,15.806477732793523,15.985837254258307,16.126762592552065,16.41886238465186,16.618720137141189,16.887759419338366,17.085054892949628,3.6460454545454546,null,null,null,null,null,null,null,null,null,null,null,null,null,null,null,null,null,null,null,null,null,null,null,null,null,null,null,null,null,null,null,null,null,null,null,null,null,null,null,null,null,null,null,null,0.75]
[524,42948,42887,43070,43101,42887,42826,43101,43101,43009,43070,null,null,null,null,null,null,null,null,null,null,null,1,0.5,1,0.5,0.5,1,0.5,0.5,0.3,1,null,null,null,null,null,null,null,null,null,null,null,0,0.5,null,0.5,0.5,0.5,0.5,0.5,0.5,0.5,0.5,0.5,0.5,13.665421239775869,13.863898765948548,14.067941082574666,14.197786193154924,14.299807351467983,14.511269388698688,14.655953940488118,14.850721606358503,14.993551227996786,3.8820000000000006,null,null,null,null,null,null,null,null,null,null,null,null,null,null,null,null,null,null,null,null,null,null,null,null,null,null,null,null,null,null,null,null,null,null,null,null,null,null,null,null,null,null,null,null,0.75]
[527,42979,42887,42979,42917,42917,42917,43101,42887,42979,43101,null,null,null,null,null,null,null,null,null,null,null,0.4,0.5,0.4,1,1,1,0.5,0.5,0.4,0.5,null,null,null,null,null,null,null,null,null,null,null,-1.0869565217391302E-3,47.182608695652164,null,0.63260869565217348,0.60000000000000142,0.56630434782608319,0.53369565217391113,0.5,0.46630434782608887,0.43369565217390971,0.39999999999999858,0.36739130434782652,0.33369565217390829,14.609673790776153,14.886501687289089,15.171091113610798,15.352193475815522,15.494488188976376,15.789426321709787,15.991226096737908,16.262879640044993,16.462092238470191,3.9137500000000003,null,null,null,null,null,null,null,null,null,null,null,null,null,null,null,null,null,null,null,null,null,null,null,null,null,null,null,null,null,null,null,null,null,null,null,null,null,null,null,null,null,null,null,null,0.75]
[529,42979,42856,42917,42917,43040,42917,43070,42887,42948,42887,null,null,null,null,null,null,null,null,null,null,null,0.4,0.5,1,1,1,1,1,0.5,1,0.5,null,null,null,null,null,null,null,null,null,null,null,0,1,null,1,1,1,1,1,1,1,1,1,1,15.135697940503434,15.45400457665904,15.781235697940506,15.989473684210529,16.153089244851259,16.49221967963387,16.72425629290618,17.036613272311214,17.265675057208242,3.7497499999999997,null,null,null,null,null,null,null,null,null,null,null,null,null,null,null,null,null,null,null,null,null,null,null,null,null,null,null,null,null,null,null,null,null,null,null,null,null,null,null,null,null,null,null,null,0.75]
[533,43009,42917,42917,42826,42948,43009,43009,42887,42979,42826,null,null,null,null,null,null,null,null,null,null,null,0.3,1,1,1,1,0.3,0.3,0.5,0.4,1,null,null,null,null,null,null,null,null,null,null,null,-3.8251366120218575E-3,164.9726775956284,null,1.1573770491803259,1.0426229508196627,0.92404371584700584,0.80928961748634265,0.69071038251365735,0.57213114754097205,0.45737704918033728,0.33879781420765198,0.22404371584698879,0.10546448087433191,15.518421052631577,15.799999999999999,16.089473684210525,16.273684210526316,16.418421052631579,16.718421052631577,16.923684210526314,17.2,17.402631578947368,3.7418999999999976,null,null,null,null,null,null,null,null,null,null,null,null,null,null,null,null,null,null,null,null,null,null,null,null,null,null,null,null,null,null,null,null,null,null,null,null,null,null,null,null,null,null,null,null,0.75]
[536,42826,42887,43009,42948,43040,42887,42826,42826,42917,42856,null,null,null,null,null,null,null,null,null,null,null,1,0.5,0.3,1,1,0.5,1,1,1,0.5,null,null,null,null,null,null,null,null,null,null,null,0,1,null,1,1,1,1,1,1,1,1,1,1,13.654480922803904,13.901330967169475,14.155102040816326,14.316592724046139,14.443478260869565,14.706477373558119,14.886424134871339,15.128660159716059,15.306299911268855,3.6159479166666673,null,null,null,null,null,null,null,null,null,null,null,null,null,null,null,null,null,null,null,null,null,null,null,null,null,null,null,null,null,null,null,null,null,null,null,null,null,null,null,null,null,null,null,null,0.75]
[538,43009,43101,43040,42887,43009,43040,42856,43070,42948,42948,null,null,null,null,null,null,null,null,null,null,null,0.3,0.5,1,0.5,0.3,1,0.5,1,1,1,null,null,null,null,null,null,null,null,null,null,null,0,0.75,null,0.75,0.75,0.75,0.75,0.75,0.75,0.75,0.75,0.75,0.75,15.213468634686347,15.549077490774907,15.894095940959408,16.113653136531365,16.286162361623617,16.643726937269371,16.888376383763838,17.217712177121768,17.459225092250922,3.5732500000000016,null,null,null,null,null,null,null,null,null,null,null,null,null,null,null,null,null,null,null,null,null,null,null,null,null,null,null,null,null,null,null,null,null,null,null,null,null,null,null,null,null,null,null,null,0.75]
[542,43009,42826,42856,42948,43009,42826,43009,42826,42887,42979,null,null,null,null,null,null,null,null,null,null,null,0.3,1,0.5,1,0.3,1,0.3,1,0.5,0.4,null,null,null,null,null,null,null,null,null,null,null,-3.8251366120218575E-3,164.66530054644807,null,0.84999999999999432,0.73524590163933112,0.61666666666667425,0.50191256830601105,0.38333333333332575,0.26475409836064046,0.15000000000000568,3.1420765027320385E-2,-8.3333333333342807E-2,-0.20191256830599968,14.285196374622357,14.543806646525681,14.809667673716014,14.978851963746225,15.111782477341391,15.387311178247735,15.575830815709972,15.82960725075529,16.015709969788521,3.8892857142857151,null,null,null,null,null,null,null,null,null,null,null,null,null,null,null,null,null,null,null,null,null,null,null,null,null,null,null,null,null,null,null,null,null,null,null,null,null,null,null,null,null,null,null,null,0.75]
[545,43101,42826,42979,43101,42917,42979,42856,43040,42856,42856,null,null,null,null,null,null,null,null,null,null,null,0.5,1,0.4,0.5,1,0.4,0.5,1,0.5,0.5,null,null,null,null,null,null,null,null,null,null,null,0,0.5,null,0.5,0.5,0.5,0.5,0.5,0.5,0.5,0.5,0.5,0.5,14.644758231161317,15,15.36520181843229,15.597602975616475,15.78020388483262,16.15868576938972,16.417647058823526,16.766248794599804,17.021890067502408,3.9476428571428572,null,null,null,null,null,null,null,null,null,null,null,null,null,null,null,null,null,null,null,null,null,null,null,null,null,null,null,null,null,null,null,null,null,null,null,null,null,null,null,null,null,null,null,null,0.75]
[546,42826,42887,42826,43040,43070,42826,42887,43070,42826,43040,null,null,null,null,null,null,null,null,null,null,null,1,0.5,1,1,1,1,0.5,1,1,1,null,null,null,null,null,null,null,null,null,null,null,0,1,null,1,1,1,1,1,1,1,1,1,1,14.298383696416023,14.569079409697821,14.847364722417428,15.024455375966269,15.163598032326071,15.452002810962755,15.649332396345748,15.914968376669009,16.109768095572733,3.3800000000000008,null,null,null,null,null,null,null,null,null,null,null,null,null,null,null,null,null,null,null,null,null,null,null,null,null,null,null,null,null,null,null,null,null,null,null,null,null,null,null,null,null,null,null,null,0.75]
[549,43070,43070,43070,43070,43040,42856,43101,43040,42979,42856,null,null,null,null,null,null,null,null,null,null,null,1,1,1,1,1,0.5,0.5,1,0.4,0.5,null,null,null,null,null,null,null,null,null,null,null,8.1967213114754077E-4,-34.290983606557369,null,0.81229508196721412,0.83688524590164093,0.86229508196721127,0.88688524590163809,0.91229508196721554,0.93770491803278588,0.9622950819672127,0.98770491803278304,1.0122950819672099,1.0377049180327873,13.441747834417789,13.589000439104227,13.740381621492157,13.836715101193565,13.912405692387528,14.06929164504411,14.176634665282823,14.321134884834935,14.427101712506484,3.5831818181818189,null,null,null,null,null,null,null,null,null,null,null,null,null,null,null,null,null,null,null,null,null,null,null,null,null,null,null,null,null,null,null,null,null,null,null,null,null,null,null,null,null,null,null,null,0.75]
[553,42917,43070,43101,42887,42856,42917,43101,43040,43040,42856,null,null,null,null,null,null,null,null,null,null,null,1,1,0.5,0.5,0.5,1,0.5,1,1,0.5,null,null,null,null,null,null,null,null,null,null,null,0,0.75,null,0.75,0.75,0.75,0.75,0.75,0.75,0.75,0.75,0.75,0.75,13.3,13.699612191688644,14.11042846351809,14.371857000136831,14.577265136051555,15.003020181402071,15.294326265062951,15.686469069991059,15.974040460271672,3.3214999999999986,null,null,null,null,null,null,null,null,null,null,null,null,null,null,null,null,null,null,null,null,null,null,null,null,null,null,null,null,null,null,null,null,null,null,null,null,null,null,null,null,null,null,null,null,0.75]
[555,42948,43009,43009,42856,42887,43070,42856,43070,43009,42887,null,null,null,null,null,null,null,null,null,null,null,1,0.3,0.3,0.5,0.5,1,0.5,1,0.3,0.5,null,null,null,null,null,null,null,null,null,null,null,0,0.5,null,0.5,0.5,0.5,0.5,0.5,0.5,0.5,0.5,0.5,0.5,15,15.120904749660571,15.245199352115364,15.324295917313869,15.386443218541265,15.515257624721688,15.603393797371449,15.722038645169206,15.809044866887563,3.8651538461538451,null,null,null,null,null,null,null,null,null,null,null,null,null,null,null,null,null,null,null,null,null,null,null,null,null,null,null,null,null,null,null,null,null,null,null,null,null,null,null,null,null,null,null,null,0.75]
[558,43009,43009,43101,42887,42979,43009,43040,43009,43101,43070,null,null,null,null,null,null,null,null,null,null,null,0.3,0.3,0.5,0.5,0.4,0.3,1,0.3,0.5,1,null,null,null,null,null,null,null,null,null,null,null,2.1739130434782609E-3,-93.047826086956519,null,5.2173913043475295E-2,0.11739130434783362,0.18478260869565588,0.25,0.31739130434783647,0.38478260869565872,0.45000000000000284,0.5173913043478251,0.58260869565218343,0.65000000000000568,13.488729977116705,13.788672768878719,14.097025171624715,14.293249427917619,14.447425629290617,14.766990846681921,14.985640732265447,15.279977116704806,15.495823798627002,3.7115937500000005,null,null,null,null,null,null,null,null,null,null,null,null,null,null,null,null,null,null,null,null,null,null,null,null,null,null,null,null,null,null,null,null,null,null,null,null,null,null,null,null,null,null,null,null,0.75]
[562,43070,42917,42856,42887,42917,43040,42917,42856,42856,43101,null,null,null,null,null,null,null,null,null,null,null,1,1,0.5,0.5,1,1,1,0.5,0.5,0.5,null,null,null,null,null,null,null,null,null,null,null,2.3364485981308409E-3,-99.523364485981304,null,0.53738317757009213,0.60747663551401843,0.6799065420560737,0.75,0.82242990654205528,0.89485981308411056,0.96495327102803685,1.0373831775700921,1.1074766355140184,1.1799065420560737,13.826649958228906,14.112698412698414,14.406766917293234,14.593901420217211,14.74093567251462,15.045697577276526,15.254218880534673,15.534920634920637,15.74076858813701,3.2880000000000003,null,null,null,null,null,null,null,null,null,null,null,null,null,null,null,null,null,null,null,null,null,null,null,null,null,null,null,null,null,null,null,null,null,null,null,null,null,null,null,null,null,null,null,null,0.75]
[564,42887,43101,42826,42979,43070,42979,42856,42856,43070,43040,null,null,null,null,null,null,null,null,null,null,null,0.5,0.5,1,0.4,1,0.4,0.5,0.5,1,1,null,null,null,null,null,null,null,null,null,null,null,0,0.5,null,0.5,0.5,0.5,0.5,0.5,0.5,0.5,0.5,0.5,0.5,13.923008849557522,14.17551622418879,14.435103244837759,14.600294985250738,14.73008849557522,14.999115044247787,15.183185840707965,15.430973451327434,15.61268436578171,3.9179999999999993,null,null,null,null,null,null,null,null,null,null,null,null,null,null,null,null,null,null,null,null,null,null,null,null,null,null,null,null,null,null,null,null,null,null,null,null,null,null,null,null,null,null,null,null,0.75]
[567,43009,43040,42826,42887,43070,43040,43101,42917,42856,43070,null,null,null,null,null,null,null,null,null,null,null,0.3,1,1,0.5,1,1,0.5,1,0.5,1,null,null,null,null,null,null,null,null,null,null,null,0,1,null,1,1,1,1,1,1,1,1,1,1,13.8,14.174957264957266,14.56042735042735,14.805726495726496,14.998461538461537,15.397948717948719,15.671282051282052,16.03923076923077,16.309059829059827,3.4933636363636369,null,null,null,null,null,null,null,null,null,null,null,null,null,null,null,null,null,null,null,null,null,null,null,null,null,null,null,null,null,null,null,null,null,null,null,null,null,null,null,null,null,null,null,null,0.75]
[568,43009,43070,42856,43101,43040,42887,43101,42887,42917,43101,null,null,null,null,null,null,null,null,null,null,null,0.3,1,0.5,0.5,1,0.5,0.5,0.5,1,0.5,null,null,null,null,null,null,null,null,null,null,null,0,0.5,null,0.5,0.5,0.5,0.5,0.5,0.5,0.5,0.5,0.5,0.5,13.941992551210429,14.290689013035383,14.649162011173186,14.877281191806333,15.056517690875232,15.428026070763501,15.68221601489758,16.024394785847299,16.275325884543761,4.1289999999999996,null,null,null,null,null,null,null,null,null,null,null,null,null,null,null,null,null,null,null,null,null,null,null,null,null,null,null,null,null,null,null,null,null,null,null,null,null,null,null,null,null,null,null,null,0.75]
[571,42979,43101,42887,42917,43040,42887,42887,42887,42856,42856,null,null,null,null,null,null,null,null,null,null,null,0.4,0.5,0.5,1,1,0.5,0.5,0.5,0.5,0.5,null,null,null,null,null,null,null,null,null,null,null,0,0.5,null,0.5,0.5,0.5,0.5,0.5,0.5,0.5,0.5,0.5,0.5,14.314025974025974,14.536363636363637,14.764935064935065,14.910389610389611,15.024675324675325,15.261558441558442,15.423636363636364,15.641818181818183,15.801818181818181,3.7356562499999999,null,null,null,null,null,null,null,null,null,null,null,null,null,null,null,null,null,null,null,null,null,null,null,null,null,null,null,null,null,null,null,null,null,null,null,null,null,null,null,null,null,null,null,null,0.75]
[575,43040,42979,42887,43070,42948,42917,42887,43009,42887,43040,null,null,null,null,null,null,null,null,null,null,null,1,0.4,0.5,1,1,1,0.5,0.3,0.5,1,null,null,null,null,null,null,null,null,null,null,null,2.7322404371584699E-3,-116.63661202185793,null,0.37431693989070425,0.45628415300545555,0.54098360655737565,0.62295081967212695,0.70765027322403284,0.79234972677595294,0.87431693989070425,0.95901639344262435,1.0409836065573757,1.1256830601092815,14.28529411764706,14.481985294117647,14.684191176470589,14.812867647058825,14.913970588235294,15.123529411764707,15.266911764705883,15.459926470588236,15.601470588235294,4.0173681818181812,null,null,null,null,null,null,null,null,null,null,null,null,null,null,null,null,null,null,null,null,null,null,null,null,null,null,null,null,null,null,null,null,null,null,null,null,null,null,null,null,null,null,null,null,0.75]
[577,43101,43040,42887,42887,43040,43009,43070,43070,42979,43101,null,null,null,null,null,null,null,null,null,null,null,0.5,1,0.5,0.5,1,0.3,1,1,0.4,0.5,null,null,null,null,null,null,null,null,null,null,null,0,0.5,null,0.5,0.5,0.5,0.5,0.5,0.5,0.5,0.5,0.5,0.5,15.1,15.463685152057245,15.837567084078712,16.075491949910553,16.262432915921288,16.649910554561718,16.915026833631487,17.271914132379248,17.533631484794277,3.5545735294117637,null,null,null,null,null,null,null,null,null,null,null,null,null,null,null,null,null,null,null,null,null,null,null,null,null,null,null,null,null,null,null,null,null,null,null,null,null,null,null,null,null,null,null,null,0.75]
[580,42948,43070,42856,43070,42917,43009,43101,42917,42979,43009,null,null,null,null,null,null,null,null,null,null,null,1,1,0.5,1,1,0.3,0.5,1,0.4,0.3,null,null,null,null,null,null,null,null,null,null,null,0,0.75,null,0.75,0.75,0.75,0.75,0.75,0.75,0.75,0.75,0.75,0.75,14.50281124497992,14.846586345381526,15.2,15.424899598393573,15.601606425702812,15.967871485943775,16.218473895582328,16.55582329317269,16.803212851405622,3.1370000000000005,null,null,null,null,null,null,null,null,null,null,null,null,null,null,null,null,null,null,null,null,null,null,null,null,null,null,null,null,null,null,null,null,null,null,null,null,null,null,null,null,null,null,null,null,0.75]
[584,42887,42948,42917,42979,43009,43009,42826,43101,42979,43040,null,null,null,null,null,null,null,null,null,null,null,0.5,1,1,0.4,0.3,0.3,1,0.5,0.4,1,null,null,null,null,null,null,null,null,null,null,null,-1.639344262295082E-3,70.957377049180323,null,0.75081967213114353,0.70163934426228991,0.65081967213114922,0.60163934426229559,0.55081967213114069,0.5,0.45081967213114638,0.39999999999999147,0.35081967213113785,0.29999999999999716,14.446218487394958,14.805882352941175,15.175630252100841,15.410924369747899,15.595798319327731,15.978991596638656,16.241176470588236,16.594117647058823,16.852941176470587,4.1537647058823541,null,null,null,null,null,null,null,null,null,null,null,null,null,null,null,null,null,null,null,null,null,null,null,null,null,null,null,null,null,null,null,null,null,null,null,null,null,null,null,null,null,null,null,null,0.75]
[586,43101,43009,43040,42826,42948,43040,42979,42948,43101,42887,null,null,null,null,null,null,null,null,null,null,null,0.5,0.3,1,1,1,1,0.4,1,0.5,0.5,null,null,null,null,null,null,null,null,null,null,null,0,0.75,null,0.75,0.75,0.75,0.75,0.75,0.75,0.75,0.75,0.75,0.75,14.135294117647058,14.494957983193277,14.86470588235294,15.1,15.284873949579831,15.668067226890756,15.930252100840335,16.283193277310922,16.542016806722689,3.8270000000000017,null,null,null,null,null,null,null,null,null,null,null,null,null,null,null,null,null,null,null,null,null,null,null,null,null,null,null,null,null,null,null,null,null,null,null,null,null,null,null,null,null,null,null,null,0.75]
[589,42948,43040,43040,42979,42948,42917,42917,42979,42826,42887,null,null,null,null,null,null,null,null,null,null,null,1,1,1,0.4,1,1,1,0.4,1,0.5,null,null,null,null,null,null,null,null,null,null,null,0,1,null,1,1,1,1,1,1,1,1,1,1,14.384505494505495,14.701978021978022,15.028351648351649,15.236043956043957,15.399230769230769,15.737472527472528,15.9689010989011,16.280439560439561,16.508901098901099,3.3620000000000001,null,null,null,null,null,null,null,null,null,null,null,null,null,null,null,null,null,null,null,null,null,null,null,null,null,null,null,null,null,null,null,null,null,null,null,null,null,null,null,null,null,null,null,null,0.75]
[590,43009,43040,42948,42887,42887,42917,43101,43101,42887,42948,null,null,null,null,null,null,null,null,null,null,null,0.3,1,1,0.5,0.5,1,0.5,0.5,0.5,1,null,null,null,null,null,null,null,null,null,null,null,0,0.5,null,0.5,0.5,0.5,0.5,0.5,0.5,0.5,0.5,0.5,0.5,13.032500000000001,13.3,13.574999999999999,13.75,13.887499999999999,14.172499999999999,14.3675,14.629999999999999,14.8225,4.0200000000000014,null,null,null,null,null,null,null,null,null,null,null,null,null,null,null,null,null,null,null,null,null,null,null,null,null,null,null,null,null,null,null,null,null,null,null,null,null,null,null,null,null,null,null,null,0.75]
[593,42887,42948,42887,42948,42887,42826,42948,43009,42979,43070,null,null,null,null,null,null,null,null,null,null,null,0.5,1,0.5,1,0.5,1,1,0.3,0.4,1,null,null,null,null,null,null,null,null,null,null,null,0,0.75,null,0.75,0.75,0.75,0.75,0.75,0.75,0.75,0.75,0.75,0.75,14.460335195530726,14.818994413407822,15.187709497206704,15.422346368715083,15.606703910614524,15.988826815642458,16.250279329608937,16.602234636871508,16.860335195530723,3.4641666666666673,null,null,null,null,null,null,null,null,null,null,null,null,null,null,null,null,null,null,null,null,null,null,null,null,null,null,null,null,null,null,null,null,null,null,null,null,null,null,null,null,null,null,null,null,0.75]
[597,42887,43040,42887,42948,43070,42948,42979,42856,43101,42856,null,null,null,null,null,null,null,null,null,null,null,0.5,1,0.5,1,1,1,0.4,0.5,0.5,0.5,null,null,null,null,null,null,null,null,null,null,null,0,0.5,null,0.5,0.5,0.5,0.5,0.5,0.5,0.5,0.5,0.5,0.5,13.535661080074487,13.88435754189944,14.242830540037243,14.47094972067039,14.650186219739293,15.02169459962756,15.275884543761638,15.61806331471136,15.868994413407822,3.5634375,null,null,null,null,null,null,null,null,null,null,null,null,null,null,null,null,null,null,null,null,null,null,null,null,null,null,null,null,null,null,null,null,null,null,null,null,null,null,null,null,null,null,null,null,0.75]
[599,42917,42979,42887,43101,43040,42856,42917,43009,42917,42826,null,null,null,null,null,null,null,null,null,null,null,1,0.4,0.5,0.5,1,0.5,1,0.3,1,1,null,null,null,null,null,null,null,null,null,null,null,0,0.75,null,0.75,0.75,0.75,0.75,0.75,0.75,0.75,0.75,0.75,0.75,13.9978221415608,14.483303085299456,14.982395644283123,15.3,15.549546279491834,16.066787658802177,16.420689655172414,16.897096188747732,17.246460980036296,3.187166666666668,null,null,null,null,null,null,null,null,null,null,null,null,null,null,null,null,null,null,null,null,null,null,null,null,null,null,null,null,null,null,null,null,null,null,null,null,null,null,null,null,null,null,null,null,0.75]
[602,42979,42887,42948,43009,43101,42948,43040,42826,42856,43101,null,null,null,null,null,null,null,null,null,null,null,0.4,0.5,1,0.3,0.5,1,1,1,0.5,0.5,null,null,null,null,null,null,null,null,null,null,null,0,0.5,null,0.5,0.5,0.5,0.5,0.5,0.5,0.5,0.5,0.5,0.5,15.294998346560845,15.497569444444444,15.705820105820106,15.838343253968253,15.942468584656083,16.158291997354496,16.305960648148147,16.504745370370369,16.650520833333331,3.9629999999999992,null,null,null,null,null,null,null,null,null,null,null,null,null,null,null,null,null,null,null,null,null,null,null,null,null,null,null,null,null,null,null,null,null,null,null,null,null,null,null,null,null,null,null,null,0.75]
[606,42826,42887,43009,43009,43040,42887,42856,42917,42948,43009,null,null,null,null,null,null,null,null,null,null,null,1,0.5,0.3,0.3,1,0.5,0.5,1,1,0.3,null,null,null,null,null,null,null,null,null,null,null,-1.3071895424836603E-3,56.620915032679747,null,0.63921568627451109,0.60000000000000142,0.55947712418301165,0.52026143790850199,0.47973856209150512,0.43921568627451535,0.40000000000000568,0.35947712418300881,0.32026143790849915,0.27973856209150938,13.405822935234699,13.8,14.205228758169934,14.463101604278075,14.665715983363041,15.085680332739155,15.373024361259656,15.759833630421866,16.043493761140819,3.7446000000000002,null,null,null,null,null,null,null,null,null,null,null,null,null,null,null,null,null,null,null,null,null,null,null,null,null,null,null,null,null,null,null,null,null,null,null,null,null,null,null,null,null,null,null,null,0.75]
[609,42856,43040,42948,42826,42856,43009,42979,42979,42979,43040,null,null,null,null,null,null,null,null,null,null,null,0.5,1,1,1,0.5,0.3,0.4,0.4,0.4,1,null,null,null,null,null,null,null,null,null,null,null,-8.130081300813006E-4,35.442276422764216,null,0.62439024390243958,0.60000000000000142,0.5747967479674756,0.55040650406503744,0.52520325203251872,0.5,0.47560975609756184,0.45040650406503602,0.42601626016259786,0.40081300813007914,14.840080971659919,15.1,15.367206477732793,15.537246963562751,15.670850202429147,15.947773279352223,16.137246963562749,16.392307692307689,16.579352226720644,3.5960000000000001,null,null,null,null,null,null,null,null,null,null,null,null,null,null,null,null,null,null,null,null,null,null,null,null,null,null,null,null,null,null,null,null,null,null,null,null,null,null,null,null,null,null,null,null,0.75]
[610,42856,42948,43070,43040,43070,42826,43009,43009,43009,43009,null,null,null,null,null,null,null,null,null,null,null,0.5,1,1,1,1,1,0.3,0.3,0.3,0.3,null,null,null,null,null,null,null,null,null,null,null,0,0.75,null,0.75,0.75,0.75,0.75,0.75,0.75,0.75,0.75,0.75,0.75,14.300649350649351,14.50909090909091,14.723376623376623,14.85974025974026,14.966883116883118,15.18896103896104,15.340909090909092,15.545454545454547,15.695454545454545,3.5970000000000004,null,null,null,null,null,null,null,null,null,null,null,null,null,null,null,null,null,null,null,null,null,null,null,null,null,null,null,null,null,null,null,null,null,null,null,null,null,null,null,null,null,null,null,null,0.75]
[612,43009,42826,43070,42826,43009,42826,42856,42979,42856,43070,null,null,null,null,null,null,null,null,null,null,null,0.3,1,1,1,0.3,1,0.5,0.4,0.5,1,null,null,null,null,null,null,null,null,null,null,null,-1.3071895424836603E-3,56.851307189542489,null,0.8696078431372527,0.83039215686274304,0.78986928104575327,0.7506535947712436,0.71013071895424673,0.66960784313725696,0.6303921568627473,0.58986928104575043,0.55065359477124076,0.51013071895425099,14.726539973787681,15,15.281127129750983,15.460026212319789,15.600589777195282,15.891939711664483,16.091284403669725,16.359633027522936,16.556422018348623,3.4499499999999994,null,null,null,null,null,null,null,null,null,null,null,null,null,null,null,null,null,null,null,null,null,null,null,null,null,null,null,null,null,null,null,null,null,null,null,null,null,null,null,null,null,null,null,null,0.75]
[615,43101,43040,42979,42887,42887,43040,43101,42887,43040,43009,null,null,null,null,null,null,null,null,null,null,null,0.5,1,0.4,0.5,0.5,1,0.5,0.5,1,0.3,null,null,null,null,null,null,null,null,null,null,null,4.0983606557377038E-4,-17.132991803278685,null,0.41864754098360635,0.43094262295081975,0.44364754098360493,0.45594262295081833,0.46864754098360706,0.48135245901639223,0.49364754098360564,0.50635245901639081,0.51864754098360422,0.53135245901639294,15,15.317472527472528,15.643846153846154,15.851538461538462,16.014725274725276,16.352967032967033,16.584395604395603,16.895934065934068,17.124395604395605,3.5344000000000015,null,null,null,null,null,null,null,null,null,null,null,null,null,null,null,null,null,null,null,null,null,null,null,null,null,null,null,null,null,null,null,null,null,null,null,null,null,null,null,null,null,null,null,null,0.75]
[619,42826,42979,43040,43009,42887,42979,42979,43040,42887,42979,null,null,null,null,null,null,null,null,null,null,null,1,0.4,1,0.3,0.5,0.4,0.4,1,0.5,0.4,null,null,null,null,null,null,null,null,null,null,null,-1.0869565217391302E-3,47.166304347826078,null,0.61630434782608745,0.58369565217391539,0.54999999999999716,0.5173913043478251,0.48369565217391397,0.45000000000000284,0.41739130434782368,0.38369565217391255,0.35108695652174049,0.31739130434782226,13.238148667601683,13.313183730715288,13.390322580645162,13.439410939691445,13.477980364656382,13.557924263674614,13.612622720897615,13.686255259467041,13.740252454417952,3.4124166666666662,null,null,null,null,null,null,null,null,null,null,null,null,null,null,null,null,null,null,null,null,null,null,null,null,null,null,null,null,null,null,null,null,null,null,null,null,null,null,null,null,null,null,null,null,0.78504672897196315]
[621,42826,42826,42917,42856,42826,43009,42856,43040,42948,43070,null,null,null,null,null,null,null,null,null,null,null,1,1,1,0.5,1,0.3,0.5,1,1,1,null,null,null,null,null,null,null,null,null,null,null,0,1,null,1,1,1,1,1,1,1,1,1,1,13.3,13.617472527472529,13.943846153846154,14.151538461538463,14.314725274725276,14.652967032967034,14.884395604395605,15.195934065934068,15.424395604395606,3.5382499999999997,null,null,null,null,null,null,null,null,null,null,null,null,null,null,null,null,null,null,null,null,null,null,null,null,null,null,null,null,null,null,null,null,null,null,null,null,null,null,null,null,null,null,null,null,0.79999999999999716]
[624,43101,43040,43101,42917,42887,42948,43101,42856,43009,43040,null,null,null,null,null,null,null,null,null,null,null,0.5,1,0.5,1,0.5,1,0.5,0.5,0.3,1,null,null,null,null,null,null,null,null,null,null,null,0,0.5,null,0.5,0.5,0.5,0.5,0.5,0.5,0.5,0.5,0.5,0.5,15.100000000000001,15.469366088516148,15.849088235588823,16.090729601907796,16.280590675444135,16.674120900592179,16.943378423061894,17.305840472540353,17.571645975491226,3.6913,null,null,null,null,null,null,null,null,null,null,null,null,null,null,null,null,null,null,null,null,null,null,null,null,null,null,null,null,null,null,null,null,null,null,null,null,null,null,null,null,null,null,null,null,0.82560975609756326]
[628,43040,43009,42856,42979,42826,42917,42948,42856,43009,43101,null,null,null,null,null,null,null,null,null,null,null,1,0.3,0.5,0.4,1,1,1,0.5,0.3,0.5,null,null,null,null,null,null,null,null,null,null,null,-8.130081300813006E-4,35.42967479674796,null,0.61178861788618377,0.58739837398374561,0.56219512195121979,0.53780487804878163,0.51260162601626291,0.48739837398374419,0.46300813008130604,0.43780487804878021,0.41341463414634205,0.38821138211382333,15.3,15.694177064765302,16.099405822935235,16.357278669043374,16.559893048128345,16.979857397504457,17.267201426024958,17.654010695187168,17.937670825906121,3.9515584415584408,null,null,null,null,null,null,null,null,null,null,null,null,null,null,null,null,null,null,null,null,null,null,null,null,null,null,null,null,null,null,null,null,null,null,null,null,null,null,null,null,null,null,null,null,0.83821138211381907]
[631,42826,42979,42917,42826,43070,42917,42979,43070,42887,42948,null,null,null,null,null,null,null,null,null,null,null,1,0.4,1,1,1,1,0.4,1,0.5,1,null,null,null,null,null,null,null,null,null,null,null,0,1,null,1,1,1,1,1,1,1,1,1,1,13.560801282051283,13.83173076923077,14.110256410256412,14.287500000000001,14.42676282051282,14.715416666666668,14.912916666666668,15.178782051282052,15.373750000000001,4.0871250000000003,null,null,null,null,null,null,null,null,null,null,null,null,null,null,null,null,null,null,null,null,null,null,null,null,null,null,null,null,null,null,null,null,null,null,null,null,null,null,null,null,null,null,null,null,0.86090909090908951]
[632,42979,42979,43101,42826,43070,42826,42979,43101,42917,43070,null,null,null,null,null,null,null,null,null,null,null,0.4,0.4,0.5,1,1,1,0.4,0.5,1,1,null,null,null,null,null,null,null,null,null,null,null,0,0.75,null,0.75,0.75,0.75,0.75,0.75,0.75,0.75,0.75,0.75,0.75,14.400833094965677,14.72717391304348,15.062664473684212,15.276158466819222,15.44390374713959,15.791593964530893,16.029487271167049,16.349728260869568,16.584571653318079,3.7267499999999991,null,null,null,null,null,null,null,null,null,null,null,null,null,null,null,null,null,null,null,null,null,null,null,null,null,null,null,null,null,null,null,null,null,null,null,null,null,null,null,null,null,null,null,null,0.86300813008129751]
[634,43101,43070,43101,43070,43101,42948,43009,42917,42917,43009,null,null,null,null,null,null,null,null,null,null,null,0.5,1,0.5,1,0.5,1,0.3,1,1,0.3,null,null,null,null,null,null,null,null,null,null,null,-2.717391304347826E-3,117.70516304347825,null,1.330163043478251,1.2486413043478137,1.1644021739130324,1.0828804347825951,0.99864130434781373,0.91440217391303236,0.8328804347825951,0.74864130434781373,0.66711956521739069,0.5828804347825951,13.419372693726938,13.754981549815499,14.1,14.319557195571956,14.492066420664207,14.849630996309962,15.094280442804429,15.423616236162362,15.665129151291513,3.974857142857144,null,null,null,null,null,null,null,null,null,null,null,null,null,null,null,null,null,null,null,null,null,null,null,null,null,null,null,null,null,null,null,null,null,null,null,null,null,null,null,null,null,null,null,null,0.87560975609756042]
[637,43040,43101,42948,42856,42917,43101,42887,43009,43070,43040,null,null,null,null,null,null,null,null,null,null,null,1,0.5,1,0.5,1,0.5,0.5,0.3,1,1,null,null,null,null,null,null,null,null,null,null,null,0,0.75,null,0.75,0.75,0.75,0.75,0.75,0.75,0.75,0.75,0.75,0.75,14.150175849941384,14.513950762016414,14.887924970691676,15.125908558030481,15.312895662368113,15.700468933177021,15.965650644783118,16.322626025791322,16.58440797186401,4.0528901098901109,null,null,null,null,null,null,null,null,null,null,null,null,null,null,null,null,null,null,null,null,null,null,null,null,null,null,null,null,null,null,null,null,null,null,null,null,null,null,null,null,null,null,null,null,0.88909090909091049]
[641,42917,42826,43009,42856,42856,42917,43070,43070,42856,43009,null,null,null,null,null,null,null,null,null,null,null,1,1,0.3,0.5,0.5,1,1,1,0.5,0.3,null,null,null,null,null,null,null,null,null,null,null,0,0.75,null,0.75,0.75,0.75,0.75,0.75,0.75,0.75,0.75,0.75,0.75,14.220383036935704,14.703419972640219,15.2,15.516005471956223,15.764295485636115,16.278932968536253,16.631053351573186,17.105061559507522,17.452667578659369,3.7561666666666671,null,null,null,null,null,null,null,null,null,null,null,null,null,null,null,null,null,null,null,null,null,null,null,null,null,null,null,null,null,null,null,null,null,null,null,null,null,null,null,null,null,null,null,null,0.9252717391304337]
[644,42948,42979,43009,42856,42917,43040,43009,43070,42948,42887,null,null,null,null,null,null,null,null,null,null,null,1,0.4,0.3,0.5,1,1,0.3,1,1,0.5,null,null,null,null,null,null,null,null,null,null,null,0,0.75,null,0.75,0.75,0.75,0.75,0.75,0.75,0.75,0.75,0.75,0.75,15.290479724953409,15.592240215924425,15.90246128140865,16.099874686716792,16.254985219458902,16.576487050960736,16.796461988304095,17.092582096266305,17.309736842105263,3.4124166666666662,null,null,null,null,null,null,null,null,null,null,null,null,null,null,null,null,null,null,null,null,null,null,null,null,null,null,null,null,null,null,null,null,null,null,null,null,null,null,null,null,null,null,null,null,0.95901639344262435]
[647,43070,42917,43009,42948,43040,43009,43101,42856,43101,42948,null,null,null,null,null,null,null,null,null,null,null,1,1,0.3,1,1,0.3,0.5,0.5,0.5,1,null,null,null,null,null,null,null,null,null,null,null,0,0.75,null,0.75,0.75,0.75,0.75,0.75,0.75,0.75,0.75,0.75,0.75,14.648192771084338,14.991967871485944,15.345381526104417,15.570281124497992,15.746987951807228,16.11325301204819,16.363855421686747,16.701204819277109,16.948594377510037,3.7700000000000014,null,null,null,null,null,null,null,null,null,null,null,null,null,null,null,null,null,null,null,null,null,null,null,null,null,null,null,null,null,null,null,null,null,null,null,null,null,null,null,null,null,null,null,null,1]
[650,42948,43070,42948,42948,42887,43070,43009,42917,43070,42887,null,null,null,null,null,null,null,null,null,null,null,1,1,1,1,0.5,1,0.3,1,1,0.5,null,null,null,null,null,null,null,null,null,null,null,0,1,null,1,1,1,1,1,1,1,1,1,1,15.1,15.459161541711657,15.828393033190929,16.063358527768649,16.247974273508284,16.630632364677716,16.892451058635743,17.244899300502322,17.503361344537815,3.9131562500000001,null,null,null,null,null,null,null,null,null,null,null,null,null,null,null,null,null,null,null,null,null,null,null,null,null,null,null,null,null,null,null,null,null,null,null,null,null,null,null,null,null,null,null,null,1]
[653,43009,42917,42948,42856,43070,43009,42826,42887,42826,42856,null,null,null,null,null,null,null,null,null,null,null,0.3,1,1,0.5,1,0.3,1,0.5,1,0.5,null,null,null,null,null,null,null,null,null,null,null,0,0.75,null,0.75,0.75,0.75,0.75,0.75,0.75,0.75,0.75,0.75,0.75,14.371137479114454,14.681349206349207,15.000258458646618,15.203200710108607,15.362655336257312,15.693161288638263,15.919296940267337,16.22371031746032,16.446946794068506,3.3268000000000004,null,null,null,null,null,null,null,null,null,null,null,null,null,null,null,null,null,null,null,null,null,null,null,null,null,null,null,null,null,null,null,null,null,null,null,null,null,null,null,null,null,null,null,null,1]
[654,43009,42887,42979,43009,42887,42917,43070,42917,42856,42887,null,null,null,null,null,null,null,null,null,null,null,0.3,0.5,0.4,0.3,0.5,1,1,1,0.5,0.5,null,null,null,null,null,null,null,null,null,null,null,-4.065040650406503E-4,17.945934959349589,null,0.53699186991870107,0.52479674796748199,0.51219512195121908,0.5,0.48739837398374064,0.47479674796748128,0.4626016260162622,0.44999999999999929,0.43780487804878021,0.42520325203252085,14.1,14.3675,14.642499999999998,14.817499999999999,14.954999999999998,15.239999999999998,15.434999999999999,15.697499999999998,15.889999999999999,3.3362999999999996,null,null,null,null,null,null,null,null,null,null,null,null,null,null,null,null,null,null,null,null,null,null,null,null,null,null,null,null,null,null,null,null,null,null,null,null,null,null,null,null,null,null,null,null,1]
[658,42826,43101,43101,42826,42887,43101,42917,42826,42826,43040,null,null,null,null,null,null,null,null,null,null,null,1,0.5,0.5,1,0.5,0.5,1,1,1,1,null,null,null,null,null,null,null,null,null,null,null,-1.8181818181818182E-3,79.00363636363636,null,1.1381818181818204,1.0836363636363586,1.0272727272727309,0.97272727272726911,0.91636363636362717,0.85999999999999943,0.80545454545453765,0.74909090909090992,0.69454545454544814,0.6381818181818204,14.625042735042735,15,15.385470085470086,15.63076923076923,15.823504273504273,16.222991452991451,16.496324786324784,16.864273504273502,17.134102564102562,3.738666666666667,null,null,null,null,null,null,null,null,null,null,null,null,null,null,null,null,null,null,null,null,null,null,null,null,null,null,null,null,null,null,null,null,null,null,null,null,null,null,null,null,null,null,null,null,1]
[659,42887,43009,43070,42917,42979,42887,42917,42979,43070,43101,null,null,null,null,null,null,null,null,null,null,null,0.5,0.3,1,1,0.4,0.5,1,0.4,1,0.5,null,null,null,null,null,null,null,null,null,null,null,0,0.5,null,0.5,0.5,0.5,0.5,0.5,0.5,0.5,0.5,0.5,0.5,14.823378212974296,15.216279069767442,15.620195838433293,15.877233782129743,16.079192166462668,16.49779681762546,16.784210526315789,17.169767441860465,17.452509179926562,3.496306818181818,null,null,null,null,null,null,null,null,null,null,null,null,null,null,null,null,null,null,null,null,null,null,null,null,null,null,null,null,null,null,null,null,null,null,null,null,null,null,null,null,null,null,null,null,1]
[663,42917,43101,42917,42948,42887,43040,42979,43040,42856,42917,null,null,null,null,null,null,null,null,null,null,null,1,0.5,1,1,0.5,1,0.4,1,0.5,1,null,null,null,null,null,null,null,null,null,null,null,0,1,null,1,1,1,1,1,1,1,1,1,1,15.641992551210429,15.990689013035382,16.349162011173185,16.577281191806332,16.756517690875231,17.1280260707635,17.38221601489758,17.724394785847299,17.975325884543761,3.5119000000000007,null,null,null,null,null,null,null,null,null,null,null,null,null,null,null,null,null,null,null,null,null,null,null,null,null,null,null,null,null,null,null,null,null,null,null,null,null,null,null,null,null,null,null,null,1]
[666,43070,42917,42979,43070,43040,42917,43070,43040,42887,43101,null,null,null,null,null,null,null,null,null,null,null,1,1,0.4,1,1,1,1,1,0.5,0.5,null,null,null,null,null,null,null,null,null,null,null,0,1,null,1,1,1,1,1,1,1,1,1,1,15.508302583025831,15.843911439114391,16.188929889298894,16.408487084870849,16.580996309963098,16.938560885608855,17.183210332103322,17.512546125461256,17.754059040590406,3.7267499999999991,null,null,null,null,null,null,null,null,null,null,null,null,null,null,null,null,null,null,null,null,null,null,null,null,null,null,null,null,null,null,null,null,null,null,null,null,null,null,null,null,null,null,null,null,1]
[669,42948,43101,43040,42826,42826,43040,42826,43009,43101,43070,null,null,null,null,null,null,null,null,null,null,null,1,0.5,1,1,1,1,1,0.3,0.5,1,null,null,null,null,null,null,null,null,null,null,null,0,1,null,1,1,1,1,1,1,1,1,1,1,14.882527472527473,15.2,15.526373626373626,15.734065934065935,15.897252747252747,16.235494505494508,16.466923076923077,16.778461538461539,17.00692307692308,3.4489999999999998,null,null,null,null,null,null,null,null,null,null,null,null,null,null,null,null,null,null,null,null,null,null,null,null,null,null,null,null,null,null,null,null,null,null,null,null,null,null,null,null,null,null,null,null,1]
[672,42917,42856,42948,43009,42826,42917,43040,42887,42826,42856,null,null,null,null,null,null,null,null,null,null,null,1,0.5,1,0.3,1,1,1,0.5,1,0.5,null,null,null,null,null,null,null,null,null,null,null,0,1,null,1,1,1,1,1,1,1,1,1,1,13.509574468085106,13.623404255319148,13.740425531914893,13.814893617021275,13.873404255319148,13.994680851063828,14.077659574468083,14.189361702127657,14.271276595744677,3.6665714285714293,null,null,null,null,null,null,null,null,null,null,null,null,null,null,null,null,null,null,null,null,null,null,null,null,null,null,null,null,null,null,null,null,null,null,null,null,null,null,null,null,null,null,null,null,1]
[675,42856,42917,42887,43040,42948,43009,43070,42826,42917,43009,null,null,null,null,null,null,null,null,null,null,null,0.5,1,0.5,1,1,0.3,1,1,1,0.3,null,null,null,null,null,null,null,null,null,null,null,0,1,null,1,1,1,1,1,1,1,1,1,1,14.303473132372215,14.576933158584534,14.858060288335517,15.036959370904324,15.177522935779816,15.468872870249017,15.668217562254259,15.93656618610747,16.133355176933158,3.6270000000000007,null,null,null,null,null,null,null,null,null,null,null,null,null,null,null,null,null,null,null,null,null,null,null,null,null,null,null,null,null,null,null,null,null,null,null,null,null,null,null,null,null,null,null,null,1]
[676,42856,42887,43009,43101,43070,42948,42826,42826,42948,42948,null,null,null,null,null,null,null,null,null,null,null,0.5,0.5,0.3,0.5,1,1,1,1,1,1,null,null,null,null,null,null,null,null,null,null,null,0,1,null,1,1,1,1,1,1,1,1,1,1,14.310714285714285,14.517708333333333,14.730505952380952,14.865922619047618,14.972321428571428,15.192857142857141,15.343749999999998,15.546874999999998,15.695833333333331,3.9214090909090897,null,null,null,null,null,null,null,null,null,null,null,null,null,null,null,null,null,null,null,null,null,null,null,null,null,null,null,null,null,null,null,null,null,null,null,null,null,null,null,null,null,null,null,null,1]
[680,42826,42887,43040,42917,42948,42917,43040,42826,42826,43040,null,null,null,null,null,null,null,null,null,null,null,1,0.5,1,1,1,1,1,1,1,1,null,null,null,null,null,null,null,null,null,null,null,0,1,null,1,1,1,1,1,1,1,1,1,1,14.331632334581773,14.54710453079484,14.768618003537245,14.909581122555139,15.020337858926341,15.249906367041197,15.406979556803993,15.618424235330835,15.773483666250518,3.770999999999999,null,null,null,null,null,null,null,null,null,null,null,null,null,null,null,null,null,null,null,null,null,null,null,null,null,null,null,null,null,null,null,null,null,null,null,null,null,null,null,null,null,null,null,null,1]
[681,42856,43009,43009,43009,42856,42948,43070,43009,42826,43040,null,null,null,null,null,null,null,null,null,null,null,0.5,0.3,0.3,0.3,0.5,1,1,0.3,1,1,null,null,null,null,null,null,null,null,null,null,null,0,0.5,null,0.5,0.5,0.5,0.5,0.5,0.5,0.5,0.5,0.5,0.5,13.563237221494102,13.836697247706422,14.117824377457405,14.296723460026211,14.437287024901703,14.728636959370904,14.927981651376147,15.196330275229357,15.393119266055045,3.6647142857142843,null,null,null,null,null,null,null,null,null,null,null,null,null,null,null,null,null,null,null,null,null,null,null,null,null,null,null,null,null,null,null,null,null,null,null,null,null,null,null,null,null,null,null,null,1]
[685,42887,42948,42948,42887,42887,42948,43101,42948,43040,42917,null,null,null,null,null,null,null,null,null,null,null,0.5,1,1,0.5,0.5,1,0.5,1,1,1,null,null,null,null,null,null,null,null,null,null,null,1.6339869281045752E-3,-69.17647058823529,null,0.80065359477124787,0.84967320261438317,0.90032679738563104,0.94934640522876634,1,1.0506535947712479,1.0996732026143832,1.150326797385631,1.1993464052287663,1.25,14.80967741935484,15.09731182795699,15.393010752688172,15.581182795698926,15.729032258064517,16.035483870967742,16.245161290322581,16.52741935483871,16.734408602150538,3.3705808823529413,null,null,null,null,null,null,null,null,null,null,null,null,null,null,null,null,null,null,null,null,null,null,null,null,null,null,null,null,null,null,null,null,null,null,null,null,null,null,null,null,null,null,null,null,1]
[688,43070,42917,43040,42856,43101,42856,42979,43070,42856,43009,null,null,null,null,null,null,null,null,null,null,null,1,1,1,0.5,0.5,0.5,0.4,1,0.5,0.3,null,null,null,null,null,null,null,null,null,null,null,0,0.5,null,0.5,0.5,0.5,0.5,0.5,0.5,0.5,0.5,0.5,0.5,14.474992770387509,14.678441295546559,14.887593984962407,15.02069115095431,15.125267495662234,15.342025737420474,15.490334008097166,15.689979757085021,15.836386639676114,3.9030000000000005,null,null,null,null,null,null,null,null,null,null,null,null,null,null,null,null,null,null,null,null,null,null,null,null,null,null,null,null,null,null,null,null,null,null,null,null,null,null,null,null,null,null,null,null,1]
[692,42887,43040,42887,43101,42948,43070,42856,42979,42887,42979,null,null,null,null,null,null,null,null,null,null,null,0.5,1,0.5,0.5,1,1,0.5,0.4,0.5,0.4,null,null,null,null,null,null,null,null,null,null,null,0,0.5,null,0.5,0.5,0.5,0.5,0.5,0.5,0.5,0.5,0.5,0.5,15.330923694779116,15.674698795180722,16.028112449799195,16.253012048192769,16.429718875502008,16.795983935742971,17.046586345381524,17.383935742971886,17.631325301204818,3.9366249999999985,null,null,null,null,null,null,null,null,null,null,null,null,null,null,null,null,null,null,null,null,null,null,null,null,null,null,null,null,null,null,null,null,null,null,null,null,null,null,null,null,null,null,null,null,1]
[693,42979,42826,42917,43070,43070,42979,42948,43101,43040,42917,null,null,null,null,null,null,null,null,null,null,null,0.4,1,1,1,1,0.4,1,0.5,1,1,null,null,null,null,null,null,null,null,null,null,null,0,1,null,1,1,1,1,1,1,1,1,1,1,13.660940170940171,14.035897435897436,14.421367521367522,14.666666666666666,14.859401709401709,15.258888888888887,15.53222222222222,15.900170940170938,16.169999999999998,3.586125,null,null,null,null,null,null,null,null,null,null,null,null,null,null,null,null,null,null,null,null,null,null,null,null,null,null,null,null,null,null,null,null,null,null,null,null,null,null,null,null,null,null,null,null,1]
[697,43101,43009,43070,42917,42826,43101,43009,42948,42979,42948,null,null,null,null,null,null,null,null,null,null,null,0.5,0.3,1,1,1,0.5,0.3,1,0.4,1,null,null,null,null,null,null,null,null,null,null,null,-2.717391304347826E-3,117.58152173913044,null,1.2065217391304373,1.125,1.0407608695652186,0.95923913043478137,0.875,0.79076086956521863,0.70923913043478137,0.625,0.54347826086957696,0.45923913043478137,15.1,15.389189189189189,15.686486486486485,15.875675675675675,16.024324324324322,16.332432432432434,16.543243243243243,16.827027027027025,17.035135135135135,3.7089166666666653,null,null,null,null,null,null,null,null,null,null,null,null,null,null,null,null,null,null,null,null,null,null,null,null,null,null,null,null,null,null,null,null,null,null,null,null,null,null,null,null,null,null,null,null,1]
[698,43101,42948,42917,43040,42887,42826,43040,42826,42856,42917,null,null,null,null,null,null,null,null,null,null,null,0.5,1,1,1,0.5,1,1,1,0.5,1,null,null,null,null,null,null,null,null,null,null,null,0,1,null,1,1,1,1,1,1,1,1,1,1,15.099999999999998,15.396332805257289,15.700974006923662,15.894836589802264,16.047157190635449,16.362876254180602,16.578894560816757,16.869688435134659,17.08293727630112,2.972666666666667,null,null,null,null,null,null,null,null,null,null,null,null,null,null,null,null,null,null,null,null,null,null,null,null,null,null,null,null,null,null,null,null,null,null,null,null,null,null,null,null,null,null,null,null,1]
[701,42917,42856,42917,43009,42856,43070,42948,42948,42826,42826,null,null,null,null,null,null,null,null,null,null,null,1,0.5,1,0.3,0.5,1,1,1,1,1,null,null,null,null,null,null,null,null,null,null,null,0,1,null,1,1,1,1,1,1,1,1,1,1,14.439014423076923,14.764938186813186,15.1,15.313221153846154,15.48075206043956,15.82799793956044,16.065587225274726,16.385418956043956,16.619962225274726,3.5325999999999986,null,null,null,null,null,null,null,null,null,null,null,null,null,null,null,null,null,null,null,null,null,null,null,null,null,null,null,null,null,null,null,null,null,null,null,null,null,null,null,null,null,null,null,null,1]
[704,43070,43070,43040,43040,42917,43101,42826,42948,42826,42887,null,null,null,null,null,null,null,null,null,null,null,1,1,1,1,1,0.5,1,1,1,0.5,null,null,null,null,null,null,null,null,null,null,null,0,1,null,1,1,1,1,1,1,1,1,1,1,14.063237221494102,14.336697247706422,14.617824377457405,14.796723460026211,14.937287024901703,15.228636959370904,15.427981651376147,15.696330275229357,15.893119266055045,3.9152812499999996,null,null,null,null,null,null,null,null,null,null,null,null,null,null,null,null,null,null,null,null,null,null,null,null,null,null,null,null,null,null,null,null,null,null,null,null,null,null,null,null,null,null,null,null,1]
[707,43009,43040,42979,43040,43040,43009,43009,42979,42887,42948,null,null,null,null,null,null,null,null,null,null,null,0.3,1,0.4,1,1,0.3,0.3,0.4,0.5,1,null,null,null,null,null,null,null,null,null,null,null,1.6339869281045752E-3,-69.82614379084967,null,0.15098039215686754,0.20000000000000284,0.25065359477125071,0.29967320261438601,0.35032679738561967,0.40098039215686754,0.45000000000000284,0.50065359477125071,0.54967320261438601,0.60032679738561967,14.922499999999999,15.19,15.465,15.639999999999999,15.7775,16.0625,16.2575,16.52,16.712499999999999,3.3067377450980393,null,null,null,null,null,null,null,null,null,null,null,null,null,null,null,null,null,null,null,null,null,null,null,null,null,null,null,null,null,null,null,null,null,null,null,null,null,null,null,null,null,null,null,null,1]
[710,43070,43040,43040,42887,42979,42856,42948,42948,42917,42887,null,null,null,null,null,null,null,null,null,null,null,1,1,1,0.5,0.4,0.5,1,1,1,0.5,null,null,null,null,null,null,null,null,null,null,null,1.1682242990654205E-3,-49.17289719626168,null,0.85747663551401843,0.89252336448598157,0.92873831775700921,0.96378504672897236,1,1.0362149532710276,1.0712616822429908,1.1074766355140184,1.1425233644859816,1.1787383177570092,14.419415175285861,14.670466022844902,14.928555679214011,15.092794551448899,15.221839379633453,15.489314114415983,15.672323143477715,15.918681451830047,16.099344211288422,3.0809999999999995,null,null,null,null,null,null,null,null,null,null,null,null,null,null,null,null,null,null,null,null,null,null,null,null,null,null,null,null,null,null,null,null,null,null,null,null,null,null,null,null,null,null,null,null,1]
[714,42979,42887,43009,43009,43040,43101,43040,43009,42826,42917,null,null,null,null,null,null,null,null,null,null,null,0.4,0.5,0.3,0.3,1,0.5,1,0.3,1,1,null,null,null,null,null,null,null,null,null,null,null,0,0.5,null,0.5,0.5,0.5,0.5,0.5,0.5,0.5,0.5,0.5,0.5,15.3,15.694177064765302,16.099405822935235,16.357278669043374,16.559893048128345,16.979857397504457,17.267201426024958,17.654010695187168,17.937670825906121,3.8849750000000007,null,null,null,null,null,null,null,null,null,null,null,null,null,null,null,null,null,null,null,null,null,null,null,null,null,null,null,null,null,null,null,null,null,null,null,null,null,null,null,null,null,null,null,null,1]
[715,43040,43101,43101,43040,42856,42826,42979,42917,42917,42887,null,null,null,null,null,null,null,null,null,null,null,1,0.5,0.5,1,0.5,1,0.4,1,1,0.5,null,null,null,null,null,null,null,null,null,null,null,0,0.75,null,0.75,0.75,0.75,0.75,0.75,0.75,0.75,0.75,0.75,0.75,14.475107379360745,14.864782035589869,15.265382149470277,15.520309494666899,15.720609551607103,16.135776942355889,16.41983884128927,16.802229859084203,17.082649938800486,3.5785000000000009,null,null,null,null,null,null,null,null,null,null,null,null,null,null,null,null,null,null,null,null,null,null,null,null,null,null,null,null,null,null,null,null,null,null,null,null,null,null,null,null,null,null,null,null,1]
[719,43040,43040,43009,43101,42856,43101,43009,43070,42979,43101,null,null,null,null,null,null,null,null,null,null,null,1,1,0.3,0.5,0.5,0.5,0.3,1,0.4,0.5,null,null,null,null,null,null,null,null,null,null,null,8.1967213114754077E-4,-34.778688524590152,null,0.32459016393443108,0.34918032786885789,0.37459016393442823,0.39918032786885504,0.4245901639344325,0.45000000000000284,0.47459016393442965,0.5,0.52459016393442681,0.55000000000000426,15.371052631578946,15.652631578947368,15.942105263157893,16.126315789473683,16.271052631578947,16.571052631578947,16.776315789473685,17.052631578947366,17.255263157894735,3.9549437500000009,null,null,null,null,null,null,null,null,null,null,null,null,null,null,null,null,null,null,null,null,null,null,null,null,null,null,null,null,null,null,null,null,null,null,null,null,null,null,null,null,null,null,null,null,1]
[720,42826,42887,42826,42948,42917,42856,42856,42856,42887,42856,null,null,null,null,null,null,null,null,null,null,null,1,0.5,1,1,1,0.5,0.5,0.5,0.5,0.5,null,null,null,null,null,null,null,null,null,null,null,0,0.5,null,0.5,0.5,0.5,0.5,0.5,0.5,0.5,0.5,0.5,0.5,15.885354691075515,16.203661327231121,16.530892448512585,16.739130434782609,16.902745995423341,17.241876430205949,17.473913043478262,17.786270022883297,18.015331807780321,3.1179411764705893,null,null,null,null,null,null,null,null,null,null,null,null,null,null,null,null,null,null,null,null,null,null,null,null,null,null,null,null,null,null,null,null,null,null,null,null,null,null,null,null,null,null,null,null,1]
[723,43009,42979,43101,42948,42856,42979,43009,42948,42917,42979,null,null,null,null,null,null,null,null,null,null,null,0.3,0.4,0.5,1,0.5,0.4,0.3,1,1,0.4,null,null,null,null,null,null,null,null,null,null,null,-3.3333333333333344E-3,143.71333333333337,null,0.95999999999997954,0.85999999999998522,0.7566666666666606,0.65666666666666629,0.55333333333331325,0.44999999999998863,0.34999999999999432,0.24666666666664128,0.14666666666664696,4.3333333333322344E-2,15.805177345537757,16.13151816361556,16.467008724256296,16.680502717391306,16.84824799771167,17.195938215102977,17.43383152173913,17.754072511441649,17.98891590389016,3.7043571428571438,null,null,null,null,null,null,null,null,null,null,null,null,null,null,null,null,null,null,null,null,null,null,null,null,null,null,null,null,null,null,null,null,null,null,null,null,null,null,null,null,null,null,null,null,1]
[726,43009,42948,43070,42979,42917,42917,42887,42979,43101,42948,null,null,null,null,null,null,null,null,null,null,null,0.3,1,1,0.4,1,1,0.5,0.4,0.5,1,null,null,null,null,null,null,null,null,null,null,null,-1.0869565217391302E-3,47.449456521739123,null,0.8994565217391326,0.86684782608696054,0.8331521739130423,0.80054347826087024,0.76684782608695912,0.73315217391304799,0.70054347826086882,0.6668478260869577,0.63423913043478564,0.6005434782608674,13.816666666666666,14.1,14.391277258566978,14.576635514018692,14.722274143302181,15.024143302180686,15.230685358255453,15.508722741433022,15.712616822429908,3.6095000000000024,null,null,null,null,null,null,null,null,null,null,null,null,null,null,null,null,null,null,null,null,null,null,null,null,null,null,null,null,null,null,null,null,null,null,null,null,null,null,null,null,null,null,null,null,1]
[729,43009,42826,43040,42826,43070,42856,43070,43009,42826,43070,null,null,null,null,null,null,null,null,null,null,null,0.3,1,1,1,1,0.5,1,0.3,1,1,null,null,null,null,null,null,null,null,null,null,null,0,1,null,1,1,1,1,1,1,1,1,1,1,15.3,15.520411985018727,15.747003745318352,15.89119850187266,16.004494382022472,16.23932584269663,16.399999999999999,16.616292134831461,16.774906367041197,3.627791666666667,null,null,null,null,null,null,null,null,null,null,null,null,null,null,null,null,null,null,null,null,null,null,null,null,null,null,null,null,null,null,null,null,null,null,null,null,null,null,null,null,null,null,null,null,1]
[732,43101,43040,42948,42856,43040,42887,43070,42948,43101,43040,null,null,null,null,null,null,null,null,null,null,null,0.5,1,1,0.5,1,0.5,1,1,0.5,1,null,null,null,null,null,null,null,null,null,null,null,0,1,null,1,1,1,1,1,1,1,1,1,1,14.633094098883573,15,15.37719298245614,15.617224880382775,15.805821371610847,16.196730462519938,16.464194577352472,16.824242424242424,17.088277511961724,3.702,null,null,null,null,null,null,null,null,null,null,null,null,null,null,null,null,null,null,null,null,null,null,null,null,null,null,null,null,null,null,null,null,null,null,null,null,null,null,null,null,null,null,null,null,1]
[736,43009,42979,42917,42948,42887,42979,43040,42979,42917,42826,null,null,null,null,null,null,null,null,null,null,null,0.3,0.4,1,1,0.5,0.4,1,0.4,1,1,null,null,null,null,null,null,null,null,null,null,null,-1.639344262295082E-3,71.18196721311476,null,0.97540983606558029,0.92622950819672667,0.87540983606558598,0.82622950819673235,0.77540983606557745,0.72459016393443676,0.67540983606558314,0.62459016393442823,0.57540983606557461,0.52459016393443392,14.439572649572648,14.814529914529913,15.2,15.445299145299144,15.638034188034187,16.037521367521364,16.310854700854698,16.678803418803415,16.948632478632476,4.1012222222222219,null,null,null,null,null,null,null,null,null,null,null,null,null,null,null,null,null,null,null,null,null,null,null,null,null,null,null,null,null,null,null,null,null,null,null,null,null,null,null,null,null,null,null,null,1]
[737,42887,43070,43009,43101,43040,42948,42826,42948,43070,42887,null,null,null,null,null,null,null,null,null,null,null,0.5,1,0.3,0.5,1,1,1,1,1,0.5,null,null,null,null,null,null,null,null,null,null,null,0,1,null,1,1,1,1,1,1,1,1,1,1,13.532500000000001,13.8,14.074999999999999,14.25,14.387499999999999,14.672499999999999,14.8675,15.129999999999999,15.3225,3.7493461538461546,null,null,null,null,null,null,null,null,null,null,null,null,null,null,null,null,null,null,null,null,null,null,null,null,null,null,null,null,null,null,null,null,null,null,null,null,null,null,null,null,null,null,null,null,1]
[741,42887,42887,43009,43101,43101,42826,43070,42887,42948,43009,null,null,null,null,null,null,null,null,null,null,null,0.5,0.5,0.3,0.5,0.5,1,1,0.5,1,0.3,null,null,null,null,null,null,null,null,null,null,null,0,0.5,null,0.5,0.5,0.5,0.5,0.5,0.5,0.5,0.5,0.5,0.5,15.518421052631577,15.799999999999999,16.089473684210525,16.273684210526316,16.418421052631579,16.718421052631577,16.923684210526314,17.2,17.402631578947368,3.6374999999999993,null,null,null,null,null,null,null,null,null,null,null,null,null,null,null,null,null,null,null,null,null,null,null,null,null,null,null,null,null,null,null,null,null,null,null,null,null,null,null,null,null,null,null,null,1]
[742,42856,43009,43070,43101,42856,42948,42979,43070,42979,42979,null,null,null,null,null,null,null,null,null,null,null,0.5,0.3,1,0.5,0.5,1,0.4,1,0.4,0.4,null,null,null,null,null,null,null,null,null,null,null,0,0.5,null,0.5,0.5,0.5,0.5,0.5,0.5,0.5,0.5,0.5,0.5,15.1,15.386048454469508,15.680116959064328,15.867251461988305,16.014285714285716,16.31904761904762,16.527568922305765,16.80827067669173,17.014118629908104,3.2740000000000009,null,null,null,null,null,null,null,null,null,null,null,null,null,null,null,null,null,null,null,null,null,null,null,null,null,null,null,null,null,null,null,null,null,null,null,null,null,null,null,null,null,null,null,null,1]
[745,42917,42979,42856,42856,43040,42856,42948,43070,42826,43101,null,null,null,null,null,null,null,null,null,null,null,1,0.4,0.5,0.5,1,0.5,1,1,1,0.5,null,null,null,null,null,null,null,null,null,null,null,0,0.75,null,0.75,0.75,0.75,0.75,0.75,0.75,0.75,0.75,0.75,0.75,14.872633136094676,15.3,15.739349112426037,16.018934911242603,16.238609467455621,16.693934911242604,17.005473372781065,17.424852071005915,17.73239644970414,3.5122857142857136,null,null,null,null,null,null,null,null,null,null,null,null,null,null,null,null,null,null,null,null,null,null,null,null,null,null,null,null,null,null,null,null,null,null,null,null,null,null,null,null,null,null,null,null,1]
[749,42917,43009,43070,43070,42856,42826,42917,42979,42948,42948,null,null,null,null,null,null,null,null,null,null,null,1,0.3,1,1,0.5,1,1,0.4,1,1,null,null,null,null,null,null,null,null,null,null,null,0,1,null,1,1,1,1,1,1,1,1,1,1,14.576132930513594,14.834743202416918,15.100604229607251,15.269788519637462,15.402719033232628,15.678247734138974,15.86676737160121,16.120543806646527,16.30664652567976,3.2782857142857136,null,null,null,null,null,null,null,null,null,null,null,null,null,null,null,null,null,null,null,null,null,null,null,null,null,null,null,null,null,null,null,null,null,null,null,null,null,null,null,null,null,null,null,null,1]
[752,42917,42948,42887,43101,42979,43009,43009,42979,43040,42979,null,null,null,null,null,null,null,null,null,null,null,1,1,0.5,0.5,0.4,0.3,0.3,0.4,1,0.4,null,null,null,null,null,null,null,null,null,null,null,-1.639344262295082E-3,70.907377049180326,null,0.70081967213114638,0.65163934426229275,0.60081967213115206,0.55163934426229844,0.50081967213114353,0.45000000000000284,0.40081967213114922,0.34999999999999432,0.30081967213114069,0.25,13.84375,14.512499999999999,15.2,15.637499999999999,15.981249999999999,16.693750000000001,17.181249999999999,17.837499999999999,18.318750000000001,3.6165000000000003,null,null,null,null,null,null,null,null,null,null,null,null,null,null,null,null,null,null,null,null,null,null,null,null,null,null,null,null,null,null,null,null,null,null,null,null,null,null,null,null,null,null,null,null,1]
[754,43009,43040,42826,42917,42948,42826,43101,42826,42826,42826,null,null,null,null,null,null,null,null,null,null,null,0.3,1,1,1,1,1,0.5,1,1,1,null,null,null,null,null,null,null,null,null,null,null,0,1,null,1,1,1,1,1,1,1,1,1,1,14.684505494505494,15.001978021978022,15.328351648351648,15.536043956043956,15.69923076923077,16.037472527472527,16.268901098901097,16.580439560439562,16.808901098901099,4.042769230769232,null,null,null,null,null,null,null,null,null,null,null,null,null,null,null,null,null,null,null,null,null,null,null,null,null,null,null,null,null,null,null,null,null,null,null,null,null,null,null,null,null,null,null,null,1]
[758,43009,43009,42826,43101,42856,42887,42948,43009,43009,42979,null,null,null,null,null,null,null,null,null,null,null,0.3,0.3,1,0.5,0.5,0.5,1,0.3,0.3,0.4,null,null,null,null,null,null,null,null,null,null,null,-1.639344262295082E-3,70.93196721311476,null,0.72540983606558029,0.67622950819672667,0.62540983606558598,0.57622950819673235,0.52540983606557745,0.47459016393443676,0.42540983606558314,0.37459016393442823,0.32540983606557461,0.27459016393443392,14.1,14.522661122661122,14.957172557172555,15.233679833679833,15.450935550935549,15.901247401247399,16.209355509355508,16.624116424116423,16.928274428274424,3.8439750000000004,null,null,null,null,null,null,null,null,null,null,null,null,null,null,null,null,null,null,null,null,null,null,null,null,null,null,null,null,null,null,null,null,null,null,null,null,null,null,null,null,null,null,null,null,1]
[761,43101,42948,42948,43009,42856,42948,43009,43070,43040,42826,null,null,null,null,null,null,null,null,null,null,null,0.5,1,1,0.3,0.5,1,0.3,1,1,1,null,null,null,null,null,null,null,null,null,null,null,0,1,null,1,1,1,1,1,1,1,1,1,1,14.298076923076923,14.503846153846155,14.715384615384615,14.85,14.955769230769231,15.175000000000001,15.324999999999999,15.526923076923076,15.675000000000001,3.5140343137254906,null,null,null,null,null,null,null,null,null,null,null,null,null,null,null,null,null,null,null,null,null,null,null,null,null,null,null,null,null,null,null,null,null,null,null,null,null,null,null,null,null,null,null,null,1]
[763,42979,43101,42948,43009,43009,42948,42948,42856,43040,43101,null,null,null,null,null,null,null,null,null,null,null,0.4,0.5,1,0.3,0.3,1,1,0.5,1,0.5,null,null,null,null,null,null,null,null,null,null,null,-1.3071895424836603E-3,56.70130718954249,null,0.71960784313725412,0.68039215686274446,0.63986928104575469,0.60065359477124503,0.56013071895424815,0.51960784313725839,0.48039215686274872,0.43986928104575185,0.40065359477124218,0.36013071895425242,14.026059654631084,14.395604395604394,14.775510204081632,15.017268445839875,15.207221350078491,15.600941915227629,15.870329670329669,16.232967032967032,16.498901098901097,3.3453999999999997,null,null,null,null,null,null,null,null,null,null,null,null,null,null,null,null,null,null,null,null,null,null,null,null,null,null,null,null,null,null,null,null,null,null,null,null,null,null,null,null,null,null,null,null,1]
[764,42887,43040,43101,42826,42917,43009,42979,42887,42917,42917,null,null,null,null,null,null,null,null,null,null,null,0.5,1,0.5,1,1,0.3,0.4,0.5,1,1,null,null,null,null,null,null,null,null,null,null,null,0,0.75,null,0.75,0.75,0.75,0.75,0.75,0.75,0.75,0.75,0.75,0.75,13.746226415094341,14.250943396226415,14.769811320754716,15.100000000000001,15.359433962264152,15.897169811320754,16.265094339622642,16.760377358490565,17.12358490566038,3.8474999999999993,null,null,null,null,null,null,null,null,null,null,null,null,null,null,null,null,null,null,null,null,null,null,null,null,null,null,null,null,null,null,null,null,null,null,null,null,null,null,null,null,null,null,null,null,1]
[767,43070,42917,43009,42887,43101,42917,42948,42948,43040,42887,null,null,null,null,null,null,null,null,null,null,null,1,1,0.3,0.5,0.5,1,1,1,1,0.5,null,null,null,null,null,null,null,null,null,null,null,0,1,null,1,1,1,1,1,1,1,1,1,1,15.2,15.549300466355762,15.908394403730846,16.136908727514989,16.316455696202532,16.688607594936709,16.943237841439039,17.286009327115256,17.537375083277812,3.7807499999999994,null,null,null,null,null,null,null,null,null,null,null,null,null,null,null,null,null,null,null,null,null,null,null,null,null,null,null,null,null,null,null,null,null,null,null,null,null,null,null,null,null,null,null,null,1]
[771,43009,43101,42856,43040,42856,42887,42887,42856,42917,42979,null,null,null,null,null,null,null,null,null,null,null,0.3,0.5,0.5,1,0.5,0.5,0.5,0.5,1,0.4,null,null,null,null,null,null,null,null,null,null,null,0,0.5,null,0.5,0.5,0.5,0.5,0.5,0.5,0.5,0.5,0.5,0.5,14.1,14.35991902834008,14.627125506072872,14.797165991902832,14.930769230769227,15.207692307692303,15.397165991902829,15.652226720647768,15.839271255060723,3.5655000000000001,null,null,null,null,null,null,null,null,null,null,null,null,null,null,null,null,null,null,null,null,null,null,null,null,null,null,null,null,null,null,null,null,null,null,null,null,null,null,null,null,null,null,null,null,1]
[774,43040,42948,42856,43101,42887,43040,42856,42856,43070,43101,null,null,null,null,null,null,null,null,null,null,null,1,1,0.5,0.5,0.5,1,0.5,0.5,1,0.5,null,null,null,null,null,null,null,null,null,null,null,0,0.5,null,0.5,0.5,0.5,0.5,0.5,0.5,0.5,0.5,0.5,0.5,14.462250879249707,14.826025791324735,15.2,15.437983587338802,15.624970691676435,16.012543962485346,16.277725674091442,16.634701055099647,16.896483001172331,3.6691958333333332,null,null,null,null,null,null,null,null,null,null,null,null,null,null,null,null,null,null,null,null,null,null,null,null,null,null,null,null,null,null,null,null,null,null,null,null,null,null,null,null,null,null,null,null,1]
[776,43009,43040,42979,42917,43101,42979,43070,43040,42979,42948,null,null,null,null,null,null,null,null,null,null,null,0.3,1,0.4,1,0.5,0.4,1,1,0.4,1,null,null,null,null,null,null,null,null,null,null,null,0,0.75,null,0.75,0.75,0.75,0.75,0.75,0.75,0.75,0.75,0.75,0.75,13.843104596935374,14.192405063291137,14.551499000666221,14.780013324450364,14.959560293137905,15.331712191872082,15.586342438374414,15.929113924050629,16.180479680213189,3.5039722222222229,null,null,null,null,null,null,null,null,null,null,null,null,null,null,null,null,null,null,null,null,null,null,null,null,null,null,null,null,null,null,null,null,null,null,null,null,null,null,null,null,null,null,null,null,1]
[780,42948,43101,42917,42948,42856,43070,43101,42948,43009,42826,null,null,null,null,null,null,null,null,null,null,null,1,0.5,1,1,0.5,1,0.5,1,0.3,1,null,null,null,null,null,null,null,null,null,null,null,0,1,null,1,1,1,1,1,1,1,1,1,1,14.885354691075515,15.203661327231121,15.530892448512585,15.739130434782609,15.902745995423341,16.241876430205949,16.473913043478262,16.786270022883297,17.015331807780321,3.3490000000000002,null,null,null,null,null,null,null,null,null,null,null,null,null,null,null,null,null,null,null,null,null,null,null,null,null,null,null,null,null,null,null,null,null,null,null,null,null,null,null,null,null,null,null,null,1]
[783,43040,43009,43101,42979,43009,42979,42917,42917,43101,43040,null,null,null,null,null,null,null,null,null,null,null,1,0.3,0.5,0.4,0.3,0.4,1,1,0.5,1,null,null,null,null,null,null,null,null,null,null,null,-1.358695652173913E-3,58.936141304347828,null,0.74864130434782794,0.70788043478260931,0.66576086956521863,0.625,0.58288043478260931,0.54076086956521863,0.5,0.45788043478260931,0.41711956521739779,0.375,14.626649958228905,14.912698412698413,15.206766917293233,15.39390142021721,15.540935672514621,15.845697577276525,16.05421888053467,16.334920634920636,16.540768588137009,4.2237857142857136,null,null,null,null,null,null,null,null,null,null,null,null,null,null,null,null,null,null,null,null,null,null,null,null,null,null,null,null,null,null,null,null,null,null,null,null,null,null,null,null,null,null,null,null,1]
[785,42948,42887,42887,42979,43040,42856,43040,42948,42979,43070,null,null,null,null,null,null,null,null,null,null,null,1,0.5,0.5,0.4,1,0.5,1,1,0.4,1,null,null,null,null,null,null,null,null,null,null,null,2.3364485981308409E-3,-99.632009345794387,null,0.42873831775700921,0.49883177570093551,0.57126168224299079,0.64135514018691708,0.71378504672897236,0.78621495327102764,0.85630841121495394,0.92873831775700921,0.99883177570093551,1.0712616822429908,13.441665769145619,13.692716616704661,13.95080627307377,14.115045145308656,14.24408997349321,14.511564708275742,14.694573737337473,14.940932045689804,15.121594805148179,3.3396250000000007,null,null,null,null,null,null,null,null,null,null,null,null,null,null,null,null,null,null,null,null,null,null,null,null,null,null,null,null,null,null,null,null,null,null,null,null,null,null,null,null,null,null,null,null,1]
[786,42887,42979,42856,42856,42948,42979,43101,43009,43101,42917,null,null,null,null,null,null,null,null,null,null,null,0.5,0.4,0.5,0.5,1,0.4,0.5,0.3,0.5,1,null,null,null,null,null,null,null,null,null,null,null,-4.065040650406503E-4,17.96483739837398,null,0.55589430894309189,0.54369918699187281,0.53109756097560989,0.51890243902439082,0.50630081300813146,0.4936991869918721,0.48150406504065302,0.46890243902439011,0.45670731707317103,0.44410569105691167,14.301083423618637,14.706825568797402,15.123943661971833,15.389382448537379,15.597941495124594,16.030227518959915,16.326002166847239,16.724160346695559,17.016143011917663,3.5286818181818198,null,null,null,null,null,null,null,null,null,null,null,null,null,null,null,null,null,null,null,null,null,null,null,null,null,null,null,null,null,null,null,null,null,null,null,null,null,null,null,null,null,null,null,null,1]
[789,42917,42917,43009,42979,42917,43040,42887,42887,43040,42979,null,null,null,null,null,null,null,null,null,null,null,1,1,0.3,0.4,1,1,0.5,0.5,1,0.4,null,null,null,null,null,null,null,null,null,null,null,0,0.75,null,0.75,0.75,0.75,0.75,0.75,0.75,0.75,0.75,0.75,0.75,13.399255952380951,13.606249999999999,13.819047619047618,13.954464285714284,14.060863095238094,14.281398809523807,14.432291666666664,14.635416666666664,14.784374999999997,3.7110416666666666,null,null,null,null,null,null,null,null,null,null,null,null,null,null,null,null,null,null,null,null,null,null,null,null,null,null,null,null,null,null,null,null,null,null,null,null,null,null,null,null,null,null,null,null,1]
[793,43101,42917,43040,42948,42948,42979,42826,43040,42887,43070,null,null,null,null,null,null,null,null,null,null,null,0.5,1,1,1,1,0.4,1,1,0.5,1,null,null,null,null,null,null,null,null,null,null,null,0,1,null,1,1,1,1,1,1,1,1,1,1,14.048942598187312,14.307552870090635,14.573413897280968,14.742598187311179,14.875528700906345,15.15105740181269,15.339577039274927,15.593353474320244,15.779456193353475,3.5088750000000006,null,null,null,null,null,null,null,null,null,null,null,null,null,null,null,null,null,null,null,null,null,null,null,null,null,null,null,null,null,null,null,null,null,null,null,null,null,null,null,null,null,null,null,null,1]
[796,43070,42948,42826,42826,43070,42887,42917,42826,42948,43070,null,null,null,null,null,null,null,null,null,null,null,1,1,1,1,1,0.5,1,1,1,1,null,null,null,null,null,null,null,null,null,null,null,0,1,null,1,1,1,1,1,1,1,1,1,1,14.736225087924971,15.100000000000001,15.473974208675264,15.711957796014069,15.898944900351701,16.286518171160608,16.551699882766705,16.90867526377491,17.170457209847598,3.8264545454545456,null,null,null,null,null,null,null,null,null,null,null,null,null,null,null,null,null,null,null,null,null,null,null,null,null,null,null,null,null,null,null,null,null,null,null,null,null,null,null,null,null,null,null,null,1]
[798,42826,42948,43040,42887,43101,43101,42856,43009,42856,43009,null,null,null,null,null,null,null,null,null,null,null,1,1,1,0.5,0.5,0.5,0.5,0.3,0.5,0.3,null,null,null,null,null,null,null,null,null,null,null,0,0.5,null,0.5,0.5,0.5,0.5,0.5,0.5,0.5,0.5,0.5,0.5,16.205263157894738,16.572169059011166,16.949362041467303,17.189393939393941,17.37799043062201,17.7688995215311,18.036363636363639,18.396411483253591,18.660446570972887,3.912374999999999,null,null,null,null,null,null,null,null,null,null,null,null,null,null,null,null,null,null,null,null,null,null,null,null,null,null,null,null,null,null,null,null,null,null,null,null,null,null,null,null,null,null,null,null,1]
[802,42887,43101,42979,42948,42948,42979,42979,42856,43101,42979,null,null,null,null,null,null,null,null,null,null,null,0.5,0.5,0.4,1,1,0.4,0.4,0.5,0.5,0.4,null,null,null,null,null,null,null,null,null,null,null,-8.130081300813006E-4,35.442276422764216,null,0.62439024390243958,0.60000000000000142,0.5747967479674756,0.55040650406503744,0.52520325203251872,0.5,0.47560975609756184,0.45040650406503602,0.42601626016259786,0.40081300813007914,15.295411064670354,15.602294403696838,15.91778194849042,16.1185467497227,16.276290522119488,16.603250341269202,16.826959691213741,17.12810689306216,17.348948174417668,3.591499999999999,null,null,null,null,null,null,null,null,null,null,null,null,null,null,null,null,null,null,null,null,null,null,null,null,null,null,null,null,null,null,null,null,null,null,null,null,null,null,null,null,null,null,null,null,1]
[805,42887,43040,43101,43040,43070,43009,43101,42826,42948,43101,null,null,null,null,null,null,null,null,null,null,null,0.5,1,0.5,1,1,0.3,0.5,1,1,0.5,null,null,null,null,null,null,null,null,null,null,null,0,0.75,null,0.75,0.75,0.75,0.75,0.75,0.75,0.75,0.75,0.75,0.75,15.404756980351603,15.825232678386763,16.257497414684593,16.532574974146847,16.748707342295759,17.196690796277146,17.503205791106517,17.915822130299897,18.218407445708376,3.7118782051282055,null,null,null,null,null,null,null,null,null,null,null,null,null,null,null,null,null,null,null,null,null,null,null,null,null,null,null,null,null,null,null,null,null,null,null,null,null,null,null,null,null,null,null,null,1]
[806,42917,43101,43101,43009,42948,42948,42856,42887,42948,42917,null,null,null,null,null,null,null,null,null,null,null,1,0.5,0.5,0.3,1,1,0.5,0.5,1,1,null,null,null,null,null,null,null,null,null,null,null,0,0.75,null,0.75,0.75,0.75,0.75,0.75,0.75,0.75,0.75,0.75,0.75,15.200649350649352,15.40909090909091,15.623376623376624,15.75974025974026,15.866883116883118,16.088961038961038,16.240909090909092,16.445454545454545,16.595454545454547,3.5755000000000017,null,null,null,null,null,null,null,null,null,null,null,null,null,null,null,null,null,null,null,null,null,null,null,null,null,null,null,null,null,null,null,null,null,null,null,null,null,null,null,null,null,null,null,null,1]
[809,43070,43070,43009,43040,43070,43070,42826,42948,43070,42856,null,null,null,null,null,null,null,null,null,null,null,1,1,0.3,1,1,1,1,1,1,0.5,null,null,null,null,null,null,null,null,null,null,null,0,1,null,1,1,1,1,1,1,1,1,1,1,14.233284023668638,14.660650887573963,15.099999999999998,15.379585798816567,15.599260355029585,16.054585798816568,16.366124260355029,16.78550295857988,17.093047337278104,3.5094375000000007,null,null,null,null,null,null,null,null,null,null,null,null,null,null,null,null,null,null,null,null,null,null,null,null,null,null,null,null,null,null,null,null,null,null,null,null,null,null,null,null,null,null,null,null,1]
[811,42917,42979,43070,42948,42948,42826,42979,42887,42856,42856,null,null,null,null,null,null,null,null,null,null,null,1,0.4,1,1,1,1,0.4,0.5,0.5,0.5,null,null,null,null,null,null,null,null,null,null,null,0,0.75,null,0.75,0.75,0.75,0.75,0.75,0.75,0.75,0.75,0.75,0.75,14.149292843019893,14.512150456642502,14.885181648217145,15.122565133764645,15.309080729551965,15.695676691729323,15.960189718482251,16.316264946803503,16.577386780905751,3.7076666666666673,null,null,null,null,null,null,null,null,null,null,null,null,null,null,null,null,null,null,null,null,null,null,null,null,null,null,null,null,null,null,null,null,null,null,null,null,null,null,null,null,null,null,null,null,1]
[815,43101,42856,42887,43009,42887,43040,42948,42887,42979,42856,null,null,null,null,null,null,null,null,null,null,null,0.5,0.5,0.5,0.3,0.5,1,1,0.5,0.4,0.5,null,null,null,null,null,null,null,null,null,null,null,0,0.5,null,0.5,0.5,0.5,0.5,0.5,0.5,0.5,0.5,0.5,0.5,13.804409672830726,14.078378378378378,14.360028449502135,14.539260312944524,14.680085348506402,14.971977240398294,15.171692745376957,15.440540540540542,15.637695590327169,3.7496666666666663,null,null,null,null,null,null,null,null,null,null,null,null,null,null,null,null,null,null,null,null,null,null,null,null,null,null,null,null,null,null,null,null,null,null,null,null,null,null,null,null,null,null,null,null,1]
[818,42887,43070,43070,42887,42917,42826,42979,42826,43101,43009,null,null,null,null,null,null,null,null,null,null,null,0.5,1,1,0.5,1,1,0.4,1,0.5,0.3,null,null,null,null,null,null,null,null,null,null,null,0,0.75,null,0.75,0.75,0.75,0.75,0.75,0.75,0.75,0.75,0.75,0.75,14.415625000000002,14.75,15.09375,15.3125,15.484375,15.840625000000001,16.084375000000001,16.412500000000001,16.653124999999999,4.2319999999999993,null,null,null,null,null,null,null,null,null,null,null,null,null,null,null,null,null,null,null,null,null,null,null,null,null,null,null,null,null,null,null,null,null,null,null,null,null,null,null,null,null,null,null,null,1]
[820,42948,43040,42917,43070,42948,42917,43040,42917,42948,42856,null,null,null,null,null,null,null,null,null,null,null,1,1,1,1,1,1,1,1,1,0.5,null,null,null,null,null,null,null,null,null,null,null,0,1,null,1,1,1,1,1,1,1,1,1,1,14.234787350054525,14.374809160305341,14.518756815703378,14.610359869138493,14.682333696837512,14.83151581243184,14.93358778625954,15.070992366412211,15.171755725190838,4.042769230769232,null,null,null,null,null,null,null,null,null,null,null,null,null,null,null,null,null,null,null,null,null,null,null,null,null,null,null,null,null,null,null,null,null,null,null,null,null,null,null,null,null,null,null,null,1]
[824,43009,42948,43009,42826,42826,43009,42856,43070,42979,43040,null,null,null,null,null,null,null,null,null,null,null,0.3,1,0.3,1,1,0.3,0.5,1,0.4,1,null,null,null,null,null,null,null,null,null,null,null,-8.130081300813006E-4,35.704471544715439,null,0.88658536585366221,0.86219512195122405,0.83699186991869823,0.81260162601626007,0.78739837398374135,0.76219512195122263,0.73780487804878447,0.71260162601625865,0.68821138211382049,0.66300813008130177,14.479042234754294,14.834537538354711,15.2,15.432567021047001,15.615298251869646,15.994050257574763,16.25319636674142,16.602046898311922,16.857870621463626,3.3125555555555559,null,null,null,null,null,null,null,null,null,null,null,null,null,null,null,null,null,null,null,null,null,null,null,null,null,null,null,null,null,null,null,null,null,null,null,null,null,null,null,null,null,null,null,null,1]
[827,42948,42826,43040,42826,43070,42856,42979,43040,43070,42917,null,null,null,null,null,null,null,null,null,null,null,1,1,1,1,1,0.5,0.4,1,1,1,null,null,null,null,null,null,null,null,null,null,null,0,1,null,1,1,1,1,1,1,1,1,1,1,13.4703007518797,13.671428571428571,13.878195488721804,14.009774436090225,14.113157894736842,14.327443609022556,14.474060150375939,14.671428571428571,14.816165413533835,3.5871818181818185,null,null,null,null,null,null,null,null,null,null,null,null,null,null,null,null,null,null,null,null,null,null,null,null,null,null,null,null,null,null,null,null,null,null,null,null,null,null,null,null,null,null,null,null,1]
[828,43101,43070,43101,42826,43070,42826,42948,43070,42887,43040,null,null,null,null,null,null,null,null,null,null,null,0.5,1,0.5,1,1,1,1,1,0.5,1,null,null,null,null,null,null,null,null,null,null,null,0,1,null,1,1,1,1,1,1,1,1,1,1,13.823008849557521,14.075516224188789,14.335103244837757,14.500294985250736,14.630088495575219,14.899115044247786,15.083185840707964,15.330973451327432,15.512684365781709,3.7517500000000004,null,null,null,null,null,null,null,null,null,null,null,null,null,null,null,null,null,null,null,null,null,null,null,null,null,null,null,null,null,null,null,null,null,null,null,null,null,null,null,null,null,null,null,null,1]
[831,42948,43070,42948,42856,42856,43101,42979,42948,43070,43070,null,null,null,null,null,null,null,null,null,null,null,1,1,1,0.5,0.5,0.5,0.4,1,1,1,null,null,null,null,null,null,null,null,null,null,null,0,1,null,1,1,1,1,1,1,1,1,1,1,15.743104596935376,16.092405063291139,16.451499000666225,16.680013324450364,16.859560293137907,17.231712191872084,17.486342438374415,17.829113924050631,18.080479680213191,3.6758999999999986,null,null,null,null,null,null,null,null,null,null,null,null,null,null,null,null,null,null,null,null,null,null,null,null,null,null,null,null,null,null,null,null,null,null,null,null,null,null,null,null,null,null,null,null,1]
[833,42856,42887,42826,42979,42948,42917,43040,42856,42826,42887,null,null,null,null,null,null,null,null,null,null,null,0.5,0.5,1,0.4,1,1,1,0.5,1,0.5,null,null,null,null,null,null,null,null,null,null,null,0,0.75,null,0.75,0.75,0.75,0.75,0.75,0.75,0.75,0.75,0.75,0.75,14.762184873949581,15.1218487394958,15.491596638655462,15.726890756302522,15.911764705882353,16.294957983193278,16.557142857142857,16.910084033613444,17.168907563025211,3.9214090909090897,null,null,null,null,null,null,null,null,null,null,null,null,null,null,null,null,null,null,null,null,null,null,null,null,null,null,null,null,null,null,null,null,null,null,null,null,null,null,null,null,null,null,null,null,1]
[837,43101,42948,43101,43009,42917,43070,42917,42948,42948,43070,null,null,null,null,null,null,null,null,null,null,null,0.5,1,0.5,0.3,1,1,1,1,1,1,null,null,null,null,null,null,null,null,null,null,null,0,1,null,1,1,1,1,1,1,1,1,1,1,13.570514842837918,13.826073666105213,14.088797690024863,14.255985705246459,14.387347717206284,14.65962534199574,14.845920558956946,15.096702581789341,15.280609398533095,3.836333333333334,null,null,null,null,null,null,null,null,null,null,null,null,null,null,null,null,null,null,null,null,null,null,null,null,null,null,null,null,null,null,null,null,null,null,null,null,null,null,null,null,null,null,null,null,1]
[840,42856,42948,43009,43070,43070,42948,42979,43070,42948,42856,null,null,null,null,null,null,null,null,null,null,null,0.5,1,0.3,1,1,1,0.4,1,1,0.5,null,null,null,null,null,null,null,null,null,null,null,0,1,null,1,1,1,1,1,1,1,1,1,1,14.364102564102565,14.638461538461538,14.920512820512821,15.1,15.24102564102564,15.533333333333333,15.733333333333334,16.002564102564101,16.2,3.8406666666666656,null,null,null,null,null,null,null,null,null,null,null,null,null,null,null,null,null,null,null,null,null,null,null,null,null,null,null,null,null,null,null,null,null,null,null,null,null,null,null,null,null,null,null,null,1]
[844,42887,42887,42979,43040,43040,42856,43101,42826,42856,42948,null,null,null,null,null,null,null,null,null,null,null,0.5,0.5,0.4,1,1,0.5,0.5,1,0.5,1,null,null,null,null,null,null,null,null,null,null,null,0,0.5,null,0.5,0.5,0.5,0.5,0.5,0.5,0.5,0.5,0.5,0.5,14.554480922803904,14.801330967169477,15.055102040816326,15.216592724046141,15.343478260869565,15.606477373558118,15.786424134871339,16.028660159716061,16.206299911268854,2.8938571428571436,null,null,null,null,null,null,null,null,null,null,null,null,null,null,null,null,null,null,null,null,null,null,null,null,null,null,null,null,null,null,null,null,null,null,null,null,null,null,null,null,null,null,null,null,1]
[846,42917,42887,43101,43101,42979,42917,43101,43070,42856,43101,null,null,null,null,null,null,null,null,null,null,null,1,0.5,0.5,0.5,0.4,1,0.5,1,0.5,0.5,null,null,null,null,null,null,null,null,null,null,null,0,0.5,null,0.5,0.5,0.5,0.5,0.5,0.5,0.5,0.5,0.5,0.5,13.707692307692307,13.913461538461537,14.125,14.259615384615383,14.365384615384615,14.584615384615383,14.734615384615383,14.936538461538461,15.084615384615383,3.3287999999999993,null,null,null,null,null,null,null,null,null,null,null,null,null,null,null,null,null,null,null,null,null,null,null,null,null,null,null,null,null,null,null,null,null,null,null,null,null,null,null,null,null,null,null,null,1]
[849,42917,42856,42917,42887,43101,42826,42948,42979,42917,43101,null,null,null,null,null,null,null,null,null,null,null,1,0.5,1,0.5,0.5,1,1,0.4,1,0.5,null,null,null,null,null,null,null,null,null,null,null,0,0.75,null,0.75,0.75,0.75,0.75,0.75,0.75,0.75,0.75,0.75,0.75,14.936928104575163,15.391503267973857,15.858823529411765,16.156209150326795,16.389869281045751,16.874183006535947,17.205555555555556,17.651633986928104,17.97875816993464,3.1582058823529415,null,null,null,null,null,null,null,null,null,null,null,null,null,null,null,null,null,null,null,null,null,null,null,null,null,null,null,null,null,null,null,null,null,null,null,null,null,null,null,null,null,null,null,null,1]
[850,42887,43009,42948,43040,42948,43070,42856,42856,42887,43070,null,null,null,null,null,null,null,null,null,null,null,0.5,0.3,1,1,1,1,0.5,0.5,0.5,1,null,null,null,null,null,null,null,null,null,null,null,2.3364485981308409E-3,-99.595794392523359,null,0.46495327102803685,0.53504672897196315,0.60747663551401843,0.67757009345794472,0.75,0.82242990654205528,0.89252336448598157,0.96495327102803685,1.0350467289719631,1.1074766355140184,14.67228177641654,15,15.336906584992343,15.551301684532925,15.719754977029098,16.068912710566615,16.30781010719755,16.629402756508423,16.865237366003065,4.0714999999999986,null,null,null,null,null,null,null,null,null,null,null,null,null,null,null,null,null,null,null,null,null,null,null,null,null,null,null,null,null,null,null,null,null,null,null,null,null,null,null,null,null,null,null,null,1]
[853,42826,42948,42826,42856,43101,42826,42826,43070,42826,42979,null,null,null,null,null,null,null,null,null,null,null,1,1,1,0.5,0.5,1,1,1,1,0.4,null,null,null,null,null,null,null,null,null,null,null,-1.8181818181818182E-3,78.892727272727271,null,1.0272727272727309,0.97272727272726911,0.91636363636364138,0.8618181818181796,0.80545454545453765,0.74909090909090992,0.69454545454544814,0.6381818181818204,0.58363636363635862,0.52727272727273089,12.857142857142858,12.475,12.082142857142857,11.832142857142857,11.635714285714286,11.228571428571428,10.95,10.574999999999999,10.299999999999999,3.7032333333333343,null,null,null,null,null,null,null,null,null,null,null,null,null,null,null,null,null,null,null,null,null,null,null,null,null,null,null,null,null,null,null,null,null,null,null,null,null,null,null,null,null,null,null,null,1]
[857,42917,43070,43009,42979,43040,43009,42856,43070,43009,42826,null,null,null,null,null,null,null,null,null,null,null,1,1,0.3,0.4,1,0.3,0.5,1,0.3,1,null,null,null,null,null,null,null,null,null,null,null,0,0.75,null,0.75,0.75,0.75,0.75,0.75,0.75,0.75,0.75,0.75,0.75,13.466479190101238,13.743307086614173,14.027896512935882,14.208998875140608,14.351293588301463,14.646231721034869,14.84803149606299,15.119685039370079,15.318897637795274,3.7046274509803911,null,null,null,null,null,null,null,null,null,null,null,null,null,null,null,null,null,null,null,null,null,null,null,null,null,null,null,null,null,null,null,null,null,null,null,null,null,null,null,null,null,null,null,null,1]
[859,42856,42917,42826,43070,43040,42948,42979,43070,42856,42887,null,null,null,null,null,null,null,null,null,null,null,0.5,1,1,1,1,1,0.4,1,0.5,0.5,null,null,null,null,null,null,null,null,null,null,null,0,1,null,1,1,1,1,1,1,1,1,1,1,13.136024844720495,13.069565217391302,13.001242236024842,12.957763975155276,12.923602484472045,12.852795031055894,12.80434782608695,12.739130434782602,12.69130434782608,3.6991249999999987,null,null,null,null,null,null,null,null,null,null,null,null,null,null,null,null,null,null,null,null,null,null,null,null,null,null,null,null,null,null,null,null,null,null,null,null,null,null,null,null,null,null,null,null,1]
[862,43009,42917,42856,42887,43101,43040,42887,43101,42917,43009,null,null,null,null,null,null,null,null,null,null,null,0.3,1,0.5,0.5,0.5,1,0.5,0.5,1,0.3,null,null,null,null,null,null,null,null,null,null,null,0,0.5,null,0.5,0.5,0.5,0.5,0.5,0.5,0.5,0.5,0.5,0.5,14.1,14.352507374631267,14.612094395280236,14.777286135693215,14.907079646017699,15.176106194690265,15.360176991150443,15.607964601769911,15.78967551622419,4.0735000000000001,null,null,null,null,null,null,null,null,null,null,null,null,null,null,null,null,null,null,null,null,null,null,null,null,null,null,null,null,null,null,null,null,null,null,null,null,null,null,null,null,null,null,null,null,1]
[866,42856,42887,42856,43040,42826,42856,43009,42917,43009,42979,null,null,null,null,null,null,null,null,null,null,null,0.5,0.5,0.5,1,1,0.5,0.3,1,0.3,0.4,null,null,null,null,null,null,null,null,null,null,null,-1.0869565217391302E-3,47.132608695652166,null,0.58260869565217632,0.55000000000000426,0.51630434782608603,0.48369565217391397,0.45000000000000284,0.41630434782609171,0.38369565217391255,0.35000000000000142,0.31739130434782936,0.28369565217391113,15.726649958228904,16.012698412698413,16.306766917293231,16.49390142021721,16.640935672514619,16.945697577276526,17.154218880534671,17.434920634920637,17.640768588137007,3.0359999999999978,null,null,null,null,null,null,null,null,null,null,null,null,null,null,null,null,null,null,null,null,null,null,null,null,null,null,null,null,null,null,null,null,null,null,null,null,null,null,null,null,null,null,null,null,1]
[868,43101,43101,43040,42979,42917,43040,42856,42887,42826,43040,null,null,null,null,null,null,null,null,null,null,null,0.5,0.5,1,0.4,1,1,0.5,0.5,1,1,null,null,null,null,null,null,null,null,null,null,null,0,0.75,null,0.75,0.75,0.75,0.75,0.75,0.75,0.75,0.75,0.75,0.75,14.680382299761943,14.985908078220341,15.3,15.499876677496149,15.656922638385979,15.982436084593992,16.205155810946842,16.504970827191062,16.724835172436826,3.7590000000000003,null,null,null,null,null,null,null,null,null,null,null,null,null,null,null,null,null,null,null,null,null,null,null,null,null,null,null,null,null,null,null,null,null,null,null,null,null,null,null,null,null,null,null,null,1]
[871,43040,42948,42856,43040,43101,43070,42917,42917,42917,42856,null,null,null,null,null,null,null,null,null,null,null,1,1,0.5,1,0.5,1,1,1,1,0.5,null,null,null,null,null,null,null,null,null,null,null,0,1,null,1,1,1,1,1,1,1,1,1,1,13.948244213886673,14.308588860419206,14.679036627882557,14.914776116268325,15.100000000000001,15.48391859537111,15.746599739572394,16.100208972151048,16.359522409375394,3.8452000000000002,null,null,null,null,null,null,null,null,null,null,null,null,null,null,null,null,null,null,null,null,null,null,null,null,null,null,null,null,null,null,null,null,null,null,null,null,null,null,null,null,null,null,null,null,1]
[872,43070,43101,42979,42917,43040,43040,43040,43101,42979,43009,null,null,null,null,null,null,null,null,null,null,null,1,0.5,0.4,1,1,1,1,0.5,0.4,0.3,null,null,null,null,null,null,null,null,null,null,null,0,0.75,null,0.75,0.75,0.75,0.75,0.75,0.75,0.75,0.75,0.75,0.75,15.593233082706767,15.955263157894738,16.327443609022556,16.564285714285713,16.750375939849622,17.136090225563908,17.399999999999999,17.755263157894735,18.015789473684208,3.4289318181818178,null,null,null,null,null,null,null,null,null,null,null,null,null,null,null,null,null,null,null,null,null,null,null,null,null,null,null,null,null,null,null,null,null,null,null,null,null,null,null,null,null,null,null,null,1]
[875,43009,42979,42979,42826,42917,42887,43101,43009,43040,43040,null,null,null,null,null,null,null,null,null,null,null,0.3,0.4,0.4,1,1,0.5,0.5,0.3,1,1,null,null,null,null,null,null,null,null,null,null,null,-5.4347826086956512E-4,23.866304347826084,null,0.59130434782608887,0.57500000000000284,0.55815217391304373,0.5418478260869577,0.52500000000000213,0.50815217391304657,0.49184782608695699,0.47500000000000142,0.45869565217391539,0.44184782608695627,13.923008849557522,14.17551622418879,14.435103244837759,14.600294985250738,14.73008849557522,14.999115044247787,15.183185840707965,15.430973451327434,15.61268436578171,3.9672499999999999,null,null,null,null,null,null,null,null,null,null,null,null,null,null,null,null,null,null,null,null,null,null,null,null,null,null,null,null,null,null,null,null,null,null,null,null,null,null,null,null,null,null,null,null,1]
[879,43009,43070,42887,43070,42856,43040,43040,42887,42917,43070,null,null,null,null,null,null,null,null,null,null,null,0.3,1,0.5,1,0.5,1,1,0.5,1,1,null,null,null,null,null,null,null,null,null,null,null,2.5269199512393337E-3,-107.71946744209671,null,0.49840638967899054,0.57421398821617231,0.65254850670459064,0.72835610524177241,0.80669062373019074,0.88502514221860906,0.96083274075579084,1.0391672592442092,1.1149748577813909,1.1933093762698093,14.491605596269153,14.840906062624915,15.2,15.428514323784142,15.608061292471685,15.980213191205863,16.234843437708193,16.577614923384409,16.828980679546966,3.8733124999999999,null,null,null,null,null,null,null,null,null,null,null,null,null,null,null,null,null,null,null,null,null,null,null,null,null,null,null,null,null,null,null,null,null,null,null,null,null,null,null,null,null,null,null,null,1]
[881,43009,42887,43070,42826,42979,43009,43009,42856,42917,43101,null,null,null,null,null,null,null,null,null,null,null,0.3,0.5,1,1,0.4,0.3,0.3,0.5,1,0.5,null,null,null,null,null,null,null,null,null,null,null,-1.3071895424836603E-3,56.70130718954249,null,0.71960784313725412,0.68039215686274446,0.63986928104575469,0.60065359477124503,0.56013071895424815,0.51960784313725839,0.48039215686274872,0.43986928104575185,0.40065359477124218,0.36013071895425242,14.525389408099688,14.808722741433021,15.1,15.285358255451714,15.430996884735203,15.732866043613708,15.939408099688475,16.217445482866044,16.421339563862929,3.7726666666666686,null,null,null,null,null,null,null,null,null,null,null,null,null,null,null,null,null,null,null,null,null,null,null,null,null,null,null,null,null,null,null,null,null,null,null,null,null,null,null,null,null,null,null,null,1]
[884,42856,43040,43070,42917,43101,43101,42856,42856,42826,42887,null,null,null,null,null,null,null,null,null,null,null,0.5,1,1,1,0.5,0.5,0.5,0.5,1,0.5,null,null,null,null,null,null,null,null,null,null,null,0,0.5,null,0.5,0.5,0.5,0.5,0.5,0.5,0.5,0.5,0.5,0.5,13.63624250499667,13.985542971352432,14.344636908727516,14.573151232511659,14.752698201199202,15.124850099933379,15.379480346435709,15.722251832111926,15.973617588274482,3.5094999999999992,null,null,null,null,null,null,null,null,null,null,null,null,null,null,null,null,null,null,null,null,null,null,null,null,null,null,null,null,null,null,null,null,null,null,null,null,null,null,null,null,null,null,null,null,1]
[888,43070,42826,42826,43040,42887,42917,42948,42826,42917,42979,null,null,null,null,null,null,null,null,null,null,null,1,1,1,1,0.5,1,1,1,1,0.4,null,null,null,null,null,null,null,null,null,null,null,0,1,null,1,1,1,1,1,1,1,1,1,1,14.765915492957747,15.127605633802817,15.49943661971831,15.73605633802817,15.921971830985918,16.307323943661974,16.570985915492962,16.925915492957749,17.186197183098592,3.4905000000000008,null,null,null,null,null,null,null,null,null,null,null,null,null,null,null,null,null,null,null,null,null,null,null,null,null,null,null,null,null,null,null,null,null,null,null,null,null,null,null,null,null,null,null,null,1]
[891,43070,43070,42826,42979,43070,42826,42979,42826,42948,43040,null,null,null,null,null,null,null,null,null,null,null,1,1,1,0.4,1,1,0.4,1,1,1,null,null,null,null,null,null,null,null,null,null,null,0,1,null,1,1,1,1,1,1,1,1,1,1,13.413467492260061,13.529411764705882,13.648606811145511,13.724458204334365,13.784055727554179,13.907585139318886,13.992105263157894,14.105882352941176,14.189318885448916,3.7052142857142858,null,null,null,null,null,null,null,null,null,null,null,null,null,null,null,null,null,null,null,null,null,null,null,null,null,null,null,null,null,null,null,null,null,null,null,null,null,null,null,null,null,null,null,null,1]
[892,42856,42887,42979,42887,43009,42948,43040,43009,43040,42917,null,null,null,null,null,null,null,null,null,null,null,0.5,0.5,0.4,0.5,0.3,1,1,0.3,1,1,null,null,null,null,null,null,null,null,null,null,null,0,0.5,null,0.5,0.5,0.5,0.5,0.5,0.5,0.5,0.5,0.5,0.5,14.993277310924372,15.352941176470591,15.722689075630253,15.957983193277313,16.142857142857146,16.526050420168069,16.788235294117648,17.141176470588235,17.400000000000002,3.6686666666666676,null,null,null,null,null,null,null,null,null,null,null,null,null,null,null,null,null,null,null,null,null,null,null,null,null,null,null,null,null,null,null,null,null,null,null,null,null,null,null,null,null,null,null,null,1]
[894,42826,43101,43070,43070,43009,42887,42826,42948,43040,42917,null,null,null,null,null,null,null,null,null,null,null,1,0.5,1,1,0.3,0.5,1,1,1,1,null,null,null,null,null,null,null,null,null,null,null,0,1,null,1,1,1,1,1,1,1,1,1,1,13.829569892473121,14.117204301075271,14.412903225806453,14.601075268817207,14.748924731182797,15.055376344086024,15.265053763440861,15.547311827956991,15.754301075268819,3.8564999999999996,null,null,null,null,null,null,null,null,null,null,null,null,null,null,null,null,null,null,null,null,null,null,null,null,null,null,null,null,null,null,null,null,null,null,null,null,null,null,null,null,null,null,null,null,1]
[897,42948,43070,42979,42887,42826,42917,43101,43070,42856,42887,null,null,null,null,null,null,null,null,null,null,null,1,1,0.4,0.5,1,1,0.5,1,0.5,0.5,null,null,null,null,null,null,null,null,null,null,null,0,0.75,null,0.75,0.75,0.75,0.75,0.75,0.75,0.75,0.75,0.75,0.75,14.637758112094396,14.890265486725664,15.149852507374632,15.315044247787611,15.444837758112094,15.713864306784661,15.897935103244839,16.145722713864309,16.327433628318584,3.847083333333333,null,null,null,null,null,null,null,null,null,null,null,null,null,null,null,null,null,null,null,null,null,null,null,null,null,null,null,null,null,null,null,null,null,null,null,null,null,null,null,null,null,null,null,null,1]
[901,42887,42979,43040,42948,42826,42917,43040,43070,42948,42826,null,null,null,null,null,null,null,null,null,null,null,0.5,0.4,1,1,1,1,1,1,1,1,null,null,null,null,null,null,null,null,null,null,null,0,1,null,1,1,1,1,1,1,1,1,1,1,15.783296703296704,16.100769230769231,16.427142857142858,16.634835164835167,16.798021978021978,17.136263736263736,17.367692307692309,17.67923076923077,17.907692307692308,3.4714374999999995,null,null,null,null,null,null,null,null,null,null,null,null,null,null,null,null,null,null,null,null,null,null,null,null,null,null,null,null,null,null,null,null,null,null,null,null,null,null,null,null,null,null,null,null,1]
[903,42948,42826,43040,43009,42979,42917,42887,42826,42826,42887,null,null,null,null,null,null,null,null,null,null,null,1,1,1,0.3,0.4,1,0.5,1,1,0.5,null,null,null,null,null,null,null,null,null,null,null,-1.0869565217391302E-3,47.632608695652166,null,1.0826086956521763,1.0500000000000043,1.016304347826086,0.98369565217391397,0.95000000000000284,0.91630434782609171,0.88369565217391255,0.85000000000000142,0.81739130434782936,0.78369565217391113,14.766368985307851,15,15.240181416973238,15.393024136865298,15.513114845351918,15.762030132033273,15.932340591341568,16.16160467117966,16.329731663060926,3.7183636363636365,null,null,null,null,null,null,null,null,null,null,null,null,null,null,null,null,null,null,null,null,null,null,null,null,null,null,null,null,null,null,null,null,null,null,null,null,null,null,null,null,null,null,null,null,1]
[906,42979,43009,42826,42917,43040,43101,42887,42826,43040,42948,null,null,null,null,null,null,null,null,null,null,null,0.4,0.3,1,1,1,0.5,0.5,1,1,1,null,null,null,null,null,null,null,null,null,null,null,0,1,null,1,1,1,1,1,1,1,1,1,1,13.717896678966788,14.053505535055351,14.398523985239851,14.618081180811807,14.790590405904059,15.148154981549816,15.392804428044279,15.722140221402213,15.963653136531365,3.6235000000000008,null,null,null,null,null,null,null,null,null,null,null,null,null,null,null,null,null,null,null,null,null,null,null,null,null,null,null,null,null,null,null,null,null,null,null,null,null,null,null,null,null,null,null,null,1]
[910,42826,42979,42856,43101,42979,43070,42887,42979,42856,42826,null,null,null,null,null,null,null,null,null,null,null,1,0.4,0.5,0.5,0.4,1,0.5,0.4,0.5,1,null,null,null,null,null,null,null,null,null,null,null,-8.130081300813006E-4,35.404878048780482,null,0.58699186991870533,0.56260162601626718,0.53739837398374135,0.51300813008130319,0.48780487804878447,0.46260162601626575,0.4382113821138276,0.41300813008130177,0.38861788617886361,0.36341463414634489,13.3,13.618306636155607,13.945537757437073,14.153775743707095,14.317391304347828,14.656521739130437,14.888558352402747,15.200915331807781,15.429977116704809,4.1044750000000008,null,null,null,null,null,null,null,null,null,null,null,null,null,null,null,null,null,null,null,null,null,null,null,null,null,null,null,null,null,null,null,null,null,null,null,null,null,null,null,null,null,null,null,null,1]
[913,42887,42979,43070,43040,42826,42856,42979,43101,42856,42887,null,null,null,null,null,null,null,null,null,null,null,0.5,0.4,1,1,1,0.5,0.4,0.5,0.5,0.5,null,null,null,null,null,null,null,null,null,null,null,0,0.5,null,0.5,0.5,0.5,0.5,0.5,0.5,0.5,0.5,0.5,0.5,14.1,14.36323804008946,14.633856585975821,14.806068387903506,14.941377660846687,15.221836881128915,15.413730031848337,15.672047734739863,15.861480716860317,3.763799999999998,null,null,null,null,null,null,null,null,null,null,null,null,null,null,null,null,null,null,null,null,null,null,null,null,null,null,null,null,null,null,null,null,null,null,null,null,null,null,null,null,null,null,null,null,1]
[914,43040,43070,43009,43101,42948,42887,43040,42979,42826,42887,null,null,null,null,null,null,null,null,null,null,null,1,1,0.3,0.5,1,0.5,1,0.4,1,0.5,null,null,null,null,null,null,null,null,null,null,null,0,0.75,null,0.75,0.75,0.75,0.75,0.75,0.75,0.75,0.75,0.75,0.75,14.790341880341879,15.165299145299144,15.55076923076923,15.796068376068375,15.988803418803418,16.388290598290595,16.661623931623929,17.029572649572646,17.299401709401707,3.6035555555555563,null,null,null,null,null,null,null,null,null,null,null,null,null,null,null,null,null,null,null,null,null,null,null,null,null,null,null,null,null,null,null,null,null,null,null,null,null,null,null,null,null,null,null,null,1]
[916,43101,42917,43040,43070,42887,42917,42979,42917,43009,42826,null,null,null,null,null,null,null,null,null,null,null,0.5,1,1,1,0.5,1,0.4,1,0.3,1,null,null,null,null,null,null,null,null,null,null,null,0,1,null,1,1,1,1,1,1,1,1,1,1,13.606407322654464,13.92471395881007,14.251945080091534,14.460183066361559,14.623798627002291,14.9629290617849,15.194965675057212,15.507322654462246,15.73638443935927,3.0548333333333328,null,null,null,null,null,null,null,null,null,null,null,null,null,null,null,null,null,null,null,null,null,null,null,null,null,null,null,null,null,null,null,null,null,null,null,null,null,null,null,null,null,null,null,null,1]
[919,43040,42856,42917,43070,42856,42826,43009,42826,43040,43070,null,null,null,null,null,null,null,null,null,null,null,1,0.5,1,1,0.5,1,0.3,1,1,1,null,null,null,null,null,null,null,null,null,null,null,0,1,null,1,1,1,1,1,1,1,1,1,1,15,15.474384236453201,15.96206896551724,16.272413793103446,16.516256157635468,17.021674876847289,17.367487684729063,17.833004926108373,18.1743842364532,4.208277777777778,null,null,null,null,null,null,null,null,null,null,null,null,null,null,null,null,null,null,null,null,null,null,null,null,null,null,null,null,null,null,null,null,null,null,null,null,null,null,null,null,null,null,null,null,1]
[923,43040,43040,42948,42948,43009,42948,42917,42948,42948,42979,null,null,null,null,null,null,null,null,null,null,null,1,1,1,1,0.3,1,1,1,1,0.4,null,null,null,null,null,null,null,null,null,null,null,0,1,null,1,1,1,1,1,1,1,1,1,1,14.524444444444445,15,15.488888888888891,15.8,16.044444444444444,16.551111111111112,16.89777777777778,17.364444444444448,17.706666666666671,3.852999999999998,null,null,null,null,null,null,null,null,null,null,null,null,null,null,null,null,null,null,null,null,null,null,null,null,null,null,null,null,null,null,null,null,null,null,null,null,null,null,null,null,null,null,null,null,1]
[925,42887,42979,43040,43101,42979,43040,43101,42887,42856,42826,null,null,null,null,null,null,null,null,null,null,null,0.5,0.4,1,0.5,0.4,1,0.5,0.5,0.5,1,null,null,null,null,null,null,null,null,null,null,null,0,0.5,null,0.5,0.5,0.5,0.5,0.5,0.5,0.5,0.5,0.5,0.5,14.324150524285795,14.608841418187215,14.901514299768113,15.087760678955959,15.234097119746409,15.537412651566614,15.744944331233068,16.024313900014839,16.229184917121465,3.3159375000000004,null,null,null,null,null,null,null,null,null,null,null,null,null,null,null,null,null,null,null,null,null,null,null,null,null,null,null,null,null,null,null,null,null,null,null,null,null,null,null,null,null,null,null,null,1]
[928,42856,43009,42948,42979,42856,42856,43040,42979,42887,42887,null,null,null,null,null,null,null,null,null,null,null,0.5,0.3,1,0.4,0.5,0.5,1,0.4,0.5,0.5,null,null,null,null,null,null,null,null,null,null,null,-4.065040650406503E-4,17.94613821138211,null,0.53719512195122121,0.52500000000000213,0.51239837398373922,0.50020325203252014,0.48760162601626078,0.47500000000000142,0.46280487804878234,0.45020325203251943,0.43800813008130035,0.42540650406504099,14.625389408099688,14.908722741433021,15.2,15.385358255451713,15.530996884735202,15.832866043613706,16.039408099688472,16.317445482866042,16.521339563862927,3.7829999999999995,null,null,null,null,null,null,null,null,null,null,null,null,null,null,null,null,null,null,null,null,null,null,null,null,null,null,null,null,null,null,null,null,null,null,null,null,null,null,null,null,null,null,null,null,1]
[932,42856,42979,42887,43070,43009,43101,42856,42856,42948,42887,null,null,null,null,null,null,null,null,null,null,null,0.5,0.4,0.5,1,0.3,0.5,0.5,0.5,1,0.5,null,null,null,null,null,null,null,null,null,null,null,0,0.5,null,0.5,0.5,0.5,0.5,0.5,0.5,0.5,0.5,0.5,0.5,14.233783844360769,14.684413663259818,15.147677963062577,15.442482517482517,15.674114667383897,16.154224941724941,16.482721445221443,16.924928276851354,17.249213286713285,3.5253999999999976,null,null,null,null,null,null,null,null,null,null,null,null,null,null,null,null,null,null,null,null,null,null,null,null,null,null,null,null,null,null,null,null,null,null,null,null,null,null,null,null,null,null,null,null,1]
[935,42948,42826,42948,42979,43101,42856,43101,43070,42887,43009,null,null,null,null,null,null,null,null,null,null,null,1,1,1,0.4,0.5,0.5,0.5,1,0.5,0.3,null,null,null,null,null,null,null,null,null,null,null,0,0.5,null,0.5,0.5,0.5,0.5,0.5,0.5,0.5,0.5,0.5,0.5,14.288524590163936,14.639344262295083,15,15.229508196721312,15.409836065573771,15.783606557377048,16.039344262295081,16.38360655737705,16.636065573770491,3.708705882352942,null,null,null,null,null,null,null,null,null,null,null,null,null,null,null,null,null,null,null,null,null,null,null,null,null,null,null,null,null,null,null,null,null,null,null,null,null,null,null,null,null,null,null,null,1]
[936,42826,42948,42948,42826,43040,42856,42948,43040,43101,42917,null,null,null,null,null,null,null,null,null,null,null,1,1,1,1,1,0.5,1,1,0.5,1,null,null,null,null,null,null,null,null,null,null,null,0,1,null,1,1,1,1,1,1,1,1,1,1,14.742548574072902,15.091547038163259,15.450330505919704,15.678647258128349,15.85803899200657,16.229869131317791,16.484279226635998,16.826754354948967,17.077902782378477,3.7496666666666663,null,null,null,null,null,null,null,null,null,null,null,null,null,null,null,null,null,null,null,null,null,null,null,null,null,null,null,null,null,null,null,null,null,null,null,null,null,null,null,null,null,null,null,null,1]
[939,42979,42979,42856,43009,42826,42826,43040,42856,42979,42826,null,null,null,null,null,null,null,null,null,null,null,0.4,0.4,0.5,0.3,1,1,1,0.5,0.4,1,null,null,null,null,null,null,null,null,null,null,null,-3.3333333333333344E-3,143.55833333333337,null,0.8049999999999784,0.70499999999998408,0.60166666666665947,0.50166666666666515,0.39833333333331211,0.29499999999998749,0.19499999999999318,9.166666666664014E-2,-8.3333333333541759E-3,-0.11166666666667879,14.592499999999999,14.86,15.134999999999998,15.309999999999999,15.447499999999998,15.732499999999998,15.927499999999998,16.189999999999998,16.3825,3.7496666666666663,null,null,null,null,null,null,null,null,null,null,null,null,null,null,null,null,null,null,null,null,null,null,null,null,null,null,null,null,null,null,null,null,null,null,null,null,null,null,null,null,null,null,null,null,1]
[940,43070,42917,42856,43040,42887,43009,43070,42979,43009,42979,null,null,null,null,null,null,null,null,null,null,null,1,1,0.5,1,0.5,0.3,1,0.4,0.3,0.4,null,null,null,null,null,null,null,null,null,null,null,0,0.5,null,0.5,0.5,0.5,0.5,0.5,0.5,0.5,0.5,0.5,0.5,14.725641025641027,15,15.282051282051283,15.461538461538462,15.602564102564102,15.894871794871795,16.094871794871796,16.364102564102566,16.561538461538461,3.9222499999999991,null,null,null,null,null,null,null,null,null,null,null,null,null,null,null,null,null,null,null,null,null,null,null,null,null,null,null,null,null,null,null,null,null,null,null,null,null,null,null,null,null,null,null,null,1]
[941,43040,43070,42887,42979,42979,42887,42856,42979,43009,43009,null,null,null,null,null,null,null,null,null,null,null,1,1,0.5,0.4,0.4,0.5,0.5,0.4,0.3,0.3,null,null,null,null,null,null,null,null,null,null,null,-8.130081300813006E-4,35.392276422764219,null,0.57439024390244242,0.55000000000000426,0.52479674796747844,0.50040650406504028,0.47520325203252156,0.45000000000000284,0.42560975609756468,0.40040650406503886,0.3760162601626007,0.35081300813008198,15.715624999999999,16.05,16.393750000000001,16.612500000000001,16.784375000000001,17.140625,17.384374999999999,17.712499999999999,17.953125,3.5734999999999992,null,null,null,null,null,null,null,null,null,null,null,null,null,null,null,null,null,null,null,null,null,null,null,null,null,null,null,null,null,null,null,null,null,null,null,null,null,null,null,null,null,null,null,null,1]
[942,42826,43070,43101,43070,43070,42979,43040,43070,42856,43040,null,null,null,null,null,null,null,null,null,null,null,1,1,0.5,1,1,0.4,1,1,0.5,1,null,null,null,null,null,null,null,null,null,null,null,0,1,null,1,1,1,1,1,1,1,1,1,1,14.490574214517876,14.896316359696641,15.313434452871071,15.578873239436618,15.787432286023833,16.219718309859154,16.515492957746478,16.913651137594798,17.205633802816902,3.2927687500000005,null,null,null,null,null,null,null,null,null,null,null,null,null,null,null,null,null,null,null,null,null,null,null,null,null,null,null,null,null,null,null,null,null,null,null,null,null,null,null,null,null,null,null,null,1]
[943,42826,42887,42979,42856,42917,42979,42979,42826,43009,43009,null,null,null,null,null,null,null,null,null,null,null,1,0.5,0.4,0.5,1,0.4,0.4,1,0.3,0.3,null,null,null,null,null,null,null,null,null,null,null,-3.3333333333333344E-3,143.61000000000004,null,0.85666666666665492,0.7566666666666606,0.65333333333333599,0.55333333333334167,0.44999999999998863,0.34666666666666401,0.2466666666666697,0.14333333333331666,4.3333333333322344E-2,-6.0000000000002274E-2,13.799437148217635,13.980112570356471,14.165853658536584,14.284052532833018,14.376923076923074,14.569418386491554,14.701125703564724,14.878424015009378,15.008442776735457,3.9480000000000004,null,null,null,null,null,null,null,null,null,null,null,null,null,null,null,null,null,null,null,null,null,null,null,null,null,null,null,null,null,null,null,null,null,null,null,null,null,null,null,null,null,null,null,null,1]
[944,43070,43101,42948,42887,42826,42948,42826,43070,42917,42917,null,null,null,null,null,null,null,null,null,null,null,1,0.5,1,0.5,1,1,1,1,1,1,null,null,null,null,null,null,null,null,null,null,null,0,1,null,1,1,1,1,1,1,1,1,1,1,15.560982874914172,15.730067854113656,15.903893533664526,16.014509875196897,16.101422714972333,16.281569328325052,16.404827537461124,16.570752049759683,16.692430025445294,3.5132500000000011,null,null,null,null,null,null,null,null,null,null,null,null,null,null,null,null,null,null,null,null,null,null,null,null,null,null,null,null,null,null,null,null,null,null,null,null,null,null,null,null,null,null,null,null,1]
[945,42826,42948,43040,42826,43101,42887,43040,42856,42979,43009,null,null,null,null,null,null,null,null,null,null,null,1,1,1,1,0.5,0.5,1,0.5,0.4,0.3,null,null,null,null,null,null,null,null,null,null,null,0,0.75,null,0.75,0.75,0.75,0.75,0.75,0.75,0.75,0.75,0.75,0.75,13.858468963468965,14.161799821799823,14.473635283635286,14.672076032076033,14.827993762993765,15.151168696168698,15.372288387288389,15.669949509949511,15.888234333234335,3.6522499999999996,null,null,null,null,null,null,null,null,null,null,null,null,null,null,null,null,null,null,null,null,null,null,null,null,null,null,null,null,null,null,null,null,null,null,null,null,null,null,null,null,null,null,null,null,1]
[946,42826,43009,42856,42826,43070,43101,42887,42979,43070,42887,null,null,null,null,null,null,null,null,null,null,null,1,0.3,0.5,1,1,0.5,0.5,0.4,1,0.5,null,null,null,null,null,null,null,null,null,null,null,-4.065040650406503E-4,17.952439024390241,null,0.54349593495935267,0.53130081300813359,0.51869918699187068,0.5065040650406516,0.49390243902439224,0.48130081300813288,0.4691056910569138,0.45650406504065089,0.44430894308943181,0.43170731707317245,14.498495370370371,14.709027777777779,14.925462962962964,15.063194444444445,15.171412037037038,15.395717592592593,15.549189814814815,15.755787037037038,15.907291666666667,3.3460000000000001,null,null,null,null,null,null,null,null,null,null,null,null,null,null,null,null,null,null,null,null,null,null,null,null,null,null,null,null,null,null,null,null,null,null,null,null,null,null,null,null,null,null,null,null,1]
[947,42917,42948,42826,42826,42887,43070,42948,43070,42826,42948,null,null,null,null,null,null,null,null,null,null,null,1,1,1,1,0.5,1,1,1,1,1,null,null,null,null,null,null,null,null,null,null,null,0,1,null,1,1,1,1,1,1,1,1,1,1,13.2,13.449594320486813,13.706186612576063,13.869472616632859,13.997768762677483,14.263691683569977,14.445638945233263,14.690567951318457,14.870182555780932,3.8099999999999978,null,null,null,null,null,null,null,null,null,null,null,null,null,null,null,null,null,null,null,null,null,null,null,null,null,null,null,null,null,null,null,null,null,null,null,null,null,null,null,null,null,null,null,null,1]
[948,42826,42917,42917,43040,42856,42917,43040,42856,42917,42917,null,null,null,null,null,null,null,null,null,null,null,1,1,1,1,0.5,1,1,0.5,1,1,null,null,null,null,null,null,null,null,null,null,null,0,1,null,1,1,1,1,1,1,1,1,1,1,14.891558441558441,15.1,15.314285714285713,15.45064935064935,15.557792207792208,15.77987012987013,15.931818181818182,16.136363636363637,16.286363636363635,3.6913,null,null,null,null,null,null,null,null,null,null,null,null,null,null,null,null,null,null,null,null,null,null,null,null,null,null,null,null,null,null,null,null,null,null,null,null,null,null,null,null,null,null,null,null,1]
[949,42887,43070,42917,42948,42917,43070,42887,42979,43009,42948,null,null,null,null,null,null,null,null,null,null,null,0.5,1,1,1,1,1,0.5,0.4,0.3,1,null,null,null,null,null,null,null,null,null,null,null,0,1,null,1,1,1,1,1,1,1,1,1,1,14.1,14.298148148148147,14.501851851851852,14.631481481481481,14.733333333333333,14.944444444444443,15.088888888888889,15.283333333333333,15.425925925925926,3.6532500000000017,null,null,null,null,null,null,null,null,null,null,null,null,null,null,null,null,null,null,null,null,null,null,null,null,null,null,null,null,null,null,null,null,null,null,null,null,null,null,null,null,null,null,null,null,1]
[950,43040,42856,42979,43070,42887,42856,42887,42856,43070,42826,null,null,null,null,null,null,null,null,null,null,null,1,0.5,0.4,1,0.5,0.5,0.5,0.5,1,1,null,null,null,null,null,null,null,null,null,null,null,0,0.5,null,0.5,0.5,0.5,0.5,0.5,0.5,0.5,0.5,0.5,0.5,14.318421052631578,14.6,14.889473684210525,15.073684210526315,15.218421052631578,15.518421052631577,15.723684210526315,16,16.202631578947368,3.8046294642857141,null,null,null,null,null,null,null,null,null,null,null,null,null,null,null,null,null,null,null,null,null,null,null,null,null,null,null,null,null,null,null,null,null,null,null,null,null,null,null,null,null,null,null,null,1]
[951,43070,42948,43009,43009,42826,42856,42826,42948,42979,42856,null,null,null,null,null,null,null,null,null,null,null,1,1,0.3,0.3,1,0.5,1,1,0.4,0.5,null,null,null,null,null,null,null,null,null,null,null,-1.3071895424836603E-3,56.891176470588242,null,0.90947712418300597,0.8702614379084963,0.82973856209150654,0.79052287581699687,0.75,0.70947712418301023,0.67026143790850057,0.6297385620915037,0.59052287581699403,0.55000000000000426,14.459161349134002,14.654238833181402,14.854785779398359,14.982406563354603,15.082680036463081,15.290519598906107,15.432725615314494,15.624156791248859,15.764539653600728,3.4830000000000005,null,null,null,null,null,null,null,null,null,null,null,null,null,null,null,null,null,null,null,null,null,null,null,null,null,null,null,null,null,null,null,null,null,null,null,null,null,null,null,null,null,null,null,null,1]
[952,43070,42948,42948,42887,42948,42979,42887,42979,42917,42948,null,null,null,null,null,null,null,null,null,null,null,1,1,1,0.5,1,0.4,0.5,0.4,1,1,null,null,null,null,null,null,null,null,null,null,null,0,1,null,1,1,1,1,1,1,1,1,1,1,14.628093306288033,14.877687626774847,15.134279918864097,15.297565922920892,15.425862068965516,15.691784989858011,15.873732251521297,16.11866125760649,16.298275862068966,4.0403750000000009,null,null,null,null,null,null,null,null,null,null,null,null,null,null,null,null,null,null,null,null,null,null,null,null,null,null,null,null,null,null,null,null,null,null,null,null,null,null,null,null,null,null,null,null,1]
[953,43101,42917,42917,43101,43009,43009,42979,42917,43070,42856,null,null,null,null,null,null,null,null,null,null,null,0.5,1,1,0.5,0.3,0.3,0.4,1,1,0.5,null,null,null,null,null,null,null,null,null,null,null,-1.3071895424836603E-3,56.70130718954249,null,0.71960784313725412,0.68039215686274446,0.63986928104575469,0.60065359477124503,0.56013071895424815,0.51960784313725839,0.48039215686274872,0.43986928104575185,0.40065359477124218,0.36013071895425242,14.409050576752442,14.655900621118015,14.909671694764864,15.071162377994678,15.198047914818103,15.461047027506655,15.640993788819877,15.883229813664597,16.060869565217391,3.4206573426573446,null,null,null,null,null,null,null,null,null,null,null,null,null,null,null,null,null,null,null,null,null,null,null,null,null,null,null,null,null,null,null,null,null,null,null,null,null,null,null,null,null,null,null,null,1]
[954,42979,42826,42826,42887,43040,42917,42856,43009,43101,43040,null,null,null,null,null,null,null,null,null,null,null,0.4,1,1,0.5,1,1,0.5,0.3,0.5,1,null,null,null,null,null,null,null,null,null,null,null,0,0.75,null,0.75,0.75,0.75,0.75,0.75,0.75,0.75,0.75,0.75,0.75,14.085354691075516,14.403661327231122,14.730892448512588,14.93913043478261,15.102745995423343,15.441876430205951,15.673913043478262,15.986270022883296,16.215331807780323,3.5503333333333327,null,null,null,null,null,null,null,null,null,null,null,null,null,null,null,null,null,null,null,null,null,null,null,null,null,null,null,null,null,null,null,null,null,null,null,null,null,null,null,null,null,null,null,null,1]
[955,42887,43040,42948,42979,43101,42856,43009,43070,43070,42979,null,null,null,null,null,null,null,null,null,null,null,0.5,1,1,0.4,0.5,0.5,0.3,1,1,0.4,null,null,null,null,null,null,null,null,null,null,null,0,0.5,null,0.5,0.5,0.5,0.5,0.5,0.5,0.5,0.5,0.5,0.5,13.605604395604397,13.923076923076923,14.24945054945055,14.457142857142859,14.620329670329671,14.95857142857143,15.190000000000001,15.501538461538463,15.730000000000002,3.5364267676767689,null,null,null,null,null,null,null,null,null,null,null,null,null,null,null,null,null,null,null,null,null,null,null,null,null,null,null,null,null,null,null,null,null,null,null,null,null,null,null,null,null,null,null,null,1]
[956,43070,42826,43040,42979,43070,43070,42948,42948,42887,43070,null,null,null,null,null,null,null,null,null,null,null,1,1,1,0.4,1,1,1,1,0.5,1,null,null,null,null,null,null,null,null,null,null,null,0,1,null,1,1,1,1,1,1,1,1,1,1,13.506407322654463,13.824713958810069,14.151945080091533,14.360183066361557,14.523798627002289,14.862929061784898,15.09496567505721,15.407322654462245,15.636384439359269,3.7133333333333338,null,null,null,null,null,null,null,null,null,null,null,null,null,null,null,null,null,null,null,null,null,null,null,null,null,null,null,null,null,null,null,null,null,null,null,null,null,null,null,null,null,null,null,null,1]
[957,42948,42887,43101,42856,42856,42917,42887,43009,43101,43070,null,null,null,null,null,null,null,null,null,null,null,1,0.5,0.5,0.5,0.5,1,0.5,0.3,0.5,1,null,null,null,null,null,null,null,null,null,null,null,0,0.5,null,0.5,0.5,0.5,0.5,0.5,0.5,0.5,0.5,0.5,0.5,14.099999999999998,14.448696461824952,14.807169459962754,15.035288640595901,15.214525139664804,15.586033519553071,15.840223463687149,16.182402234636871,16.433333333333334,3.5067499999999985,null,null,null,null,null,null,null,null,null,null,null,null,null,null,null,null,null,null,null,null,null,null,null,null,null,null,null,null,null,null,null,null,null,null,null,null,null,null,null,null,null,null,null,null,1]
[958,42948,42979,43070,43070,42979,43101,42979,42856,43009,43070,null,null,null,null,null,null,null,null,null,null,null,1,0.4,1,1,0.4,0.5,0.4,0.5,0.3,1,null,null,null,null,null,null,null,null,null,null,null,8.1967213114754077E-4,-34.740983606557364,null,0.36229508196721838,0.38688524590164519,0.41229508196721554,0.43688524590164235,0.4622950819672198,0.48770491803279015,0.51229508196721696,0.5377049180327873,0.56229508196721412,0.58770491803279157,14.605128205128205,14.879487179487178,15.161538461538461,15.34102564102564,15.48205128205128,15.774358974358973,15.974358974358974,16.243589743589745,16.441025641025639,3.5286818181818198,null,null,null,null,null,null,null,null,null,null,null,null,null,null,null,null,null,null,null,null,null,null,null,null,null,null,null,null,null,null,null,null,null,null,null,null,null,null,null,null,null,null,null,null,1]
[959,42948,42948,43101,42979,43009,43070,43009,43070,43009,42856,null,null,null,null,null,null,null,null,null,null,null,1,1,0.5,0.4,0.3,1,0.3,1,0.3,0.5,null,null,null,null,null,null,null,null,null,null,null,0,0.5,null,0.5,0.5,0.5,0.5,0.5,0.5,0.5,0.5,0.5,0.5,14.721348980559506,15,15.286463664845368,15.468758724292417,15.611990556715103,15.908871082100301,16.111999862627016,16.385442451797594,16.585967017189351,2.9935000000000009,null,null,null,null,null,null,null,null,null,null,null,null,null,null,null,null,null,null,null,null,null,null,null,null,null,null,null,null,null,null,null,null,null,null,null,null,null,null,null,null,null,null,null,null,1]
[960,43070,42887,42856,42856,42826,42826,43040,42887,42917,42826,null,null,null,null,null,null,null,null,null,null,null,1,0.5,0.5,0.5,1,1,1,0.5,1,1,null,null,null,null,null,null,null,null,null,null,null,0,1,null,1,1,1,1,1,1,1,1,1,1,14.409497032924962,14.740543644716691,15.080871937212864,15.297444486983155,15.46760863323124,15.8203125,16.061636198315469,16.386495022970905,16.624724827718225,3.7215833333333332,null,null,null,null,null,null,null,null,null,null,null,null,null,null,null,null,null,null,null,null,null,null,null,null,null,null,null,null,null,null,null,null,null,null,null,null,null,null,null,null,null,null,null,null,1]
[961,43009,42826,42887,42979,43101,42917,42856,42826,43101,43040,null,null,null,null,null,null,null,null,null,null,null,0.3,1,0.5,0.4,0.5,1,0.5,1,0.5,1,null,null,null,null,null,null,null,null,null,null,null,-1.0869565217391302E-3,47.182608695652164,null,0.63260869565217348,0.60000000000000142,0.56630434782608319,0.53369565217391113,0.5,0.46630434782608887,0.43369565217390971,0.39999999999999858,0.36739130434782652,0.33369565217390829,14.063237221494102,14.336697247706422,14.617824377457405,14.796723460026211,14.937287024901703,15.228636959370904,15.427981651376147,15.696330275229357,15.893119266055045,3.3279999999999976,null,null,null,null,null,null,null,null,null,null,null,null,null,null,null,null,null,null,null,null,null,null,null,null,null,null,null,null,null,null,null,null,null,null,null,null,null,null,null,null,null,null,null,null,1]
[962,42826,42887,42826,42887,42979,43101,42887,43101,43009,43070,null,null,null,null,null,null,null,null,null,null,null,1,0.5,1,0.5,0.4,0.5,0.5,0.5,0.3,1,null,null,null,null,null,null,null,null,null,null,null,-1.3631503920171061E-3,59.024135780470417,null,0.64585709194582819,0.60496258018531535,0.56270491803278588,0.52181040627227304,0.47955274411974358,0.43729508196721412,0.39640057020670127,0.35414290805417181,0.31324839629365897,0.27099073414112951,15.894736842105262,16.176315789473684,16.465789473684211,16.649999999999999,16.794736842105262,17.094736842105263,17.299999999999997,17.576315789473682,17.778947368421051,3.8086666666666673,null,null,null,null,null,null,null,null,null,null,null,null,null,null,null,null,null,null,null,null,null,null,null,null,null,null,null,null,null,null,null,null,null,null,null,null,null,null,null,null,null,null,null,null,1]
[963,43101,42979,42887,42917,42948,43070,42887,43101,42948,43009,null,null,null,null,null,null,null,null,null,null,null,0.5,0.4,0.5,1,1,1,0.5,0.5,1,0.3,null,null,null,null,null,null,null,null,null,null,null,0,0.5,null,0.5,0.5,0.5,0.5,0.5,0.5,0.5,0.5,0.5,0.5,16.544017094017093,16.91897435897436,17.304444444444446,17.549743589743592,17.742478632478633,18.141965811965811,18.415299145299144,18.783247863247862,19.053076923076922,3.9526250000000003,null,null,null,null,null,null,null,null,null,null,null,null,null,null,null,null,null,null,null,null,null,null,null,null,null,null,null,null,null,null,null,null,null,null,null,null,null,null,null,null,null,null,null,null,1]
[964,43101,42826,42826,42917,42856,43040,42948,43101,42979,42826,null,null,null,null,null,null,null,null,null,null,null,0.5,1,1,1,0.5,1,1,0.5,0.4,1,null,null,null,null,null,null,null,null,null,null,null,-8.130081300813006E-4,35.904471544715435,null,1.0865853658536579,1.0621951219512198,1.036991869918694,1.0126016260162558,0.98739837398373709,0.96219512195121837,0.93780487804878021,0.91260162601625439,0.88821138211381623,0.86300813008129751,14.123062730627307,14.458671586715868,14.803690036900369,15.023247232472325,15.195756457564576,15.553321033210331,15.797970479704798,16.127306273062729,16.368819188191882,3.5603437499999995,null,null,null,null,null,null,null,null,null,null,null,null,null,null,null,null,null,null,null,null,null,null,null,null,null,null,null,null,null,null,null,null,null,null,null,null,null,null,null,null,null,null,null,null,1]
[965,43070,42887,42887,43101,42948,42826,42979,43070,42917,43070,null,null,null,null,null,null,null,null,null,null,null,1,0.5,0.5,0.5,1,1,0.4,1,1,1,null,null,null,null,null,null,null,null,null,null,null,0,1,null,1,1,1,1,1,1,1,1,1,1,14.170501459535679,14.517039242914363,14.87329303891114,15.1,15.278126897998389,15.647335377485959,15.899951705556402,16.240012147189692,16.489389804387436,3.7112499999999997,null,null,null,null,null,null,null,null,null,null,null,null,null,null,null,null,null,null,null,null,null,null,null,null,null,null,null,null,null,null,null,null,null,null,null,null,null,null,null,null,null,null,null,null,1]
[966,43040,42979,42979,42979,42948,42826,43070,42917,43040,42979,null,null,null,null,null,null,null,null,null,null,null,1,0.4,0.4,0.4,1,1,1,1,1,0.4,null,null,null,null,null,null,null,null,null,null,null,0,1,null,1,1,1,1,1,1,1,1,1,1,15.2,15.534375000000001,15.878125000000001,16.096875000000001,16.268750000000001,16.625,16.868749999999999,17.196874999999999,17.4375,3.5566999999999993,null,null,null,null,null,null,null,null,null,null,null,null,null,null,null,null,null,null,null,null,null,null,null,null,null,null,null,null,null,null,null,null,null,null,null,null,null,null,null,null,null,null,null,null,1]
[967,42887,42826,42979,42948,42917,42887,42856,42917,42948,43040,null,null,null,null,null,null,null,null,null,null,null,0.5,1,0.4,1,1,0.5,0.5,1,1,1,null,null,null,null,null,null,null,null,null,null,null,0,1,null,1,1,1,1,1,1,1,1,1,1,15.961825449700198,16.311125916055961,16.670219853431043,16.898734177215189,17.078281145902729,17.450433044636906,17.70506329113924,18.047834776815453,18.299200532978013,4.0510769230769235,null,null,null,null,null,null,null,null,null,null,null,null,null,null,null,null,null,null,null,null,null,null,null,null,null,null,null,null,null,null,null,null,null,null,null,null,null,null,null,null,null,null,null,null,1]
[968,42917,42826,42826,43009,43101,42948,42979,42887,42887,42826,null,null,null,null,null,null,null,null,null,null,null,1,1,1,0.3,0.5,1,0.4,0.5,0.5,1,null,null,null,null,null,null,null,null,null,null,null,-1.8181818181818182E-3,78.75363636363636,null,0.8881818181818204,0.83363636363635862,0.77727272727273089,0.72272727272726911,0.66636363636362717,0.60999999999999943,0.55545454545453765,0.49909090909090992,0.44454545454544814,0.3881818181818204,15.337622005323869,15.584472049689442,15.838243123336291,15.999733806566105,16.126619343389528,16.389618456078082,16.569565217391304,16.811801242236026,16.989440993788818,3.8990000000000009,null,null,null,null,null,null,null,null,null,null,null,null,null,null,null,null,null,null,null,null,null,null,null,null,null,null,null,null,null,null,null,null,null,null,null,null,null,null,null,null,null,null,null,null,1]
[969,43040,42856,42917,43070,43101,43009,43101,42979,43101,42887,null,null,null,null,null,null,null,null,null,null,null,1,0.5,1,1,0.5,0.3,0.5,0.4,0.5,0.5,null,null,null,null,null,null,null,null,null,null,null,0,0.5,null,0.5,0.5,0.5,0.5,0.5,0.5,0.5,0.5,0.5,0.5,14.064102564102566,14.338461538461539,14.620512820512822,14.8,14.941025641025643,15.233333333333334,15.433333333333334,15.702564102564104,15.9,3.6913928571428585,null,null,null,null,null,null,null,null,null,null,null,null,null,null,null,null,null,null,null,null,null,null,null,null,null,null,null,null,null,null,null,null,null,null,null,null,null,null,null,null,null,null,null,null,1]
[970,42887,43070,42917,43040,42948,42917,42887,42887,42948,42887,null,null,null,null,null,null,null,null,null,null,null,0.5,1,1,1,1,1,0.5,0.5,1,0.5,null,null,null,null,null,null,null,null,null,null,null,3.2679738562091504E-3,-139.25163398692811,null,0.70261437908496305,0.80065359477123366,0.90196078431372939,1,1.1013071895424673,1.202614379084963,1.3006535947712337,1.4019607843137294,1.5,1.6013071895424673,15,15.388829071332436,15.788559892328399,16.042934051144012,16.242799461641994,16.65706594885599,16.94051144010767,17.322072678331089,17.601884253028263,3.5599090909090911,null,null,null,null,null,null,null,null,null,null,null,null,null,null,null,null,null,null,null,null,null,null,null,null,null,null,null,null,null,null,null,null,null,null,null,null,null,null,null,null,null,null,null,null,1]
[971,43009,42887,42917,42979,43009,42826,42979,42979,42979,42887,null,null,null,null,null,null,null,null,null,null,null,0.3,0.5,1,0.4,0.3,1,0.4,0.4,0.4,0.5,null,null,null,null,null,null,null,null,null,null,null,-3.3333333333333344E-3,143.66333333333338,null,0.90999999999999659,0.81000000000000227,0.70666666666667766,0.60666666666668334,0.5033333333333303,0.40000000000000568,0.30000000000001137,0.19666666666665833,9.6666666666664014E-2,-6.6666666666606034E-3,14.441992551210429,14.790689013035383,15.149162011173186,15.377281191806333,15.556517690875232,15.928026070763501,16.18221601489758,16.524394785847299,16.775325884543761,3.4582919580419578,null,null,null,null,null,null,null,null,null,null,null,null,null,null,null,null,null,null,null,null,null,null,null,null,null,null,null,null,null,null,null,null,null,null,null,null,null,null,null,null,null,null,null,null,1]
[972,42887,42948,43040,42948,43101,42917,42917,42979,42826,43101,null,null,null,null,null,null,null,null,null,null,null,0.5,1,1,1,0.5,1,1,0.4,1,0.5,null,null,null,null,null,null,null,null,null,null,null,0,1,null,1,1,1,1,1,1,1,1,1,1,15.1,15.4629024936315,15.835979823533041,16.073392669834021,16.259931334784792,16.646575113046389,16.911120856067484,17.267240125518953,17.528394256450035,3.6568394607843135,null,null,null,null,null,null,null,null,null,null,null,null,null,null,null,null,null,null,null,null,null,null,null,null,null,null,null,null,null,null,null,null,null,null,null,null,null,null,null,null,null,null,null,null,1]
[973,43040,42826,42948,43009,43070,42887,43070,43070,42979,42887,null,null,null,null,null,null,null,null,null,null,null,1,1,1,0.3,1,0.5,1,1,0.4,0.5,null,null,null,null,null,null,null,null,null,null,null,0,1,null,1,1,1,1,1,1,1,1,1,1,14.123062730627307,14.458671586715868,14.803690036900369,15.023247232472325,15.195756457564576,15.553321033210331,15.797970479704798,16.127306273062729,16.368819188191882,3.6285833333333333,null,null,null,null,null,null,null,null,null,null,null,null,null,null,null,null,null,null,null,null,null,null,null,null,null,null,null,null,null,null,null,null,null,null,null,null,null,null,null,null,null,null,null,null,1]
[974,43070,43009,43070,43070,43101,42856,43040,43101,42948,42887,null,null,null,null,null,null,null,null,null,null,null,1,0.3,1,1,0.5,0.5,1,0.5,1,0.5,null,null,null,null,null,null,null,null,null,null,null,0,0.75,null,0.75,0.75,0.75,0.75,0.75,0.75,0.75,0.75,0.75,0.75,14.298383696416023,14.569079409697821,14.847364722417428,15.024455375966269,15.163598032326071,15.452002810962755,15.649332396345748,15.914968376669009,16.109768095572733,4.5805909090909074,null,null,null,null,null,null,null,null,null,null,null,null,null,null,null,null,null,null,null,null,null,null,null,null,null,null,null,null,null,null,null,null,null,null,null,null,null,null,null,null,null,null,null,null,1.0377049180327873]
[975,43040,43009,42979,42856,42887,42979,42948,42826,42826,42826,null,null,null,null,null,null,null,null,null,null,null,1,0.3,0.4,0.5,0.5,0.4,1,1,1,1,null,null,null,null,null,null,null,null,null,null,null,-1.639344262295082E-3,71.106557377049185,null,0.90000000000000568,0.85081967213115206,0.80000000000001137,0.75081967213115774,0.70000000000000284,0.64918032786886215,0.60000000000000853,0.54918032786885362,0.5,0.44918032786885931,14.82653997378768,15.1,15.381127129750983,15.560026212319791,15.700589777195281,15.991939711664482,16.191284403669723,16.459633027522933,16.656422018348621,4.0670833333333327,null,null,null,null,null,null,null,null,null,null,null,null,null,null,null,null,null,null,null,null,null,null,null,null,null,null,null,null,null,null,null,null,null,null,null,null,null,null,null,null,null,null,null,null,1.0423497267759529]
[976,42948,43101,42887,43040,42887,43009,42856,42948,42887,42826,null,null,null,null,null,null,null,null,null,null,null,1,0.5,0.5,1,0.5,0.3,0.5,1,0.5,1,null,null,null,null,null,null,null,null,null,null,null,0,0.5,null,0.5,0.5,0.5,0.5,0.5,0.5,0.5,0.5,0.5,0.5,13.856064073226547,14.174370709382153,14.501601830663617,14.709839816933641,14.873455377574373,15.212585812356982,15.444622425629294,15.756979405034329,15.986041189931353,3.5668809523809539,null,null,null,null,null,null,null,null,null,null,null,null,null,null,null,null,null,null,null,null,null,null,null,null,null,null,null,null,null,null,null,null,null,null,null,null,null,null,null,null,null,null,null,null,1.0437158469945302]
[977,42856,42979,43070,43009,43101,42826,43040,42887,42979,43009,null,null,null,null,null,null,null,null,null,null,null,0.5,0.4,1,0.3,0.5,1,1,0.5,0.4,0.3,null,null,null,null,null,null,null,null,null,null,null,0,0.5,null,0.5,0.5,0.5,0.5,0.5,0.5,0.5,0.5,0.5,0.5,14.1,14.449300466355762,14.808394403730846,15.036908727514989,15.21645569620253,15.588607594936708,15.84323784143904,16.186009327115254,16.437375083277814,3.5454999999999997,null,null,null,null,null,null,null,null,null,null,null,null,null,null,null,null,null,null,null,null,null,null,null,null,null,null,null,null,null,null,null,null,null,null,null,null,null,null,null,null,null,null,null,null,1.0712616822429908]
[978,42826,42948,43070,43070,43070,43070,43009,43009,43070,43040,null,null,null,null,null,null,null,null,null,null,null,1,1,1,1,1,1,0.3,0.3,1,1,null,null,null,null,null,null,null,null,null,null,null,0,1,null,1,1,1,1,1,1,1,1,1,1,13.284543325526931,13.384777517564402,13.48782201405152,13.553395784543323,13.604918032786882,13.711709601873533,13.7847775175644,13.883138173302104,13.955269320843087,3.7235000000000005,null,null,null,null,null,null,null,null,null,null,null,null,null,null,null,null,null,null,null,null,null,null,null,null,null,null,null,null,null,null,null,null,null,null,null,null,null,null,null,null,null,null,null,null,1.0712616822429908]
[979,42948,42856,42826,42856,43101,42826,42948,43009,42948,43101,null,null,null,null,null,null,null,null,null,null,null,1,0.5,1,0.5,0.5,1,1,0.3,1,0.5,null,null,null,null,null,null,null,null,null,null,null,-1.3071895424836603E-3,56.891176470588242,null,0.90947712418300597,0.8702614379084963,0.82973856209150654,0.79052287581699687,0.75,0.70947712418301023,0.67026143790850057,0.6297385620915037,0.59052287581699403,0.55000000000000426,14.060576247364724,14.331271960646522,14.609557273366129,14.78664792691497,14.925790583274772,15.214195361911456,15.411524947294449,15.67716092761771,15.871960646521433,3.5876428571428569,null,null,null,null,null,null,null,null,null,null,null,null,null,null,null,null,null,null,null,null,null,null,null,null,null,null,null,null,null,null,null,null,null,null,null,null,null,null,null,null,null,null,null,null,1.1068925233644862]
[980,42856,42948,42917,43040,43040,42887,42979,42917,43009,43101,null,null,null,null,null,null,null,null,null,null,null,0.5,1,1,1,1,0.5,0.4,1,0.3,0.5,null,null,null,null,null,null,null,null,null,null,null,0,0.75,null,0.75,0.75,0.75,0.75,0.75,0.75,0.75,0.75,0.75,0.75,14.650699533644238,15,15.359093937375084,15.587608261159227,15.767155229846768,16.139307128580946,16.393937375083276,16.736708860759492,16.988074616922052,3.2174999999999994,null,null,null,null,null,null,null,null,null,null,null,null,null,null,null,null,null,null,null,null,null,null,null,null,null,null,null,null,null,null,null,null,null,null,null,null,null,null,null,null,null,null,null,null,1.1074766355140184]
[981,43040,43070,42887,42856,42826,42826,43040,43070,42887,43101,null,null,null,null,null,null,null,null,null,null,null,1,1,0.5,0.5,1,1,1,1,0.5,0.5,null,null,null,null,null,null,null,null,null,null,null,0,1,null,1,1,1,1,1,1,1,1,1,1,14.717896678966788,15.053505535055351,15.398523985239851,15.618081180811807,15.790590405904059,16.148154981549816,16.392804428044279,16.722140221402213,16.963653136531363,4.2147999999999994,null,null,null,null,null,null,null,null,null,null,null,null,null,null,null,null,null,null,null,null,null,null,null,null,null,null,null,null,null,null,null,null,null,null,null,null,null,null,null,null,null,null,null,null,1.1256830601092815]
[982,42948,43101,42856,42887,42917,42948,43009,42979,43070,43009,null,null,null,null,null,null,null,null,null,null,null,1,0.5,0.5,0.5,1,1,0.3,0.4,1,0.3,null,null,null,null,null,null,null,null,null,null,null,0,0.5,null,0.5,0.5,0.5,0.5,0.5,0.5,0.5,0.5,0.5,0.5,14.378378378378379,14.667567567567568,14.964864864864865,15.154054054054054,15.302702702702703,15.610810810810811,15.821621621621622,16.105405405405406,16.313513513513513,3.3879999999999999,null,null,null,null,null,null,null,null,null,null,null,null,null,null,null,null,null,null,null,null,null,null,null,null,null,null,null,null,null,null,null,null,null,null,null,null,null,null,null,null,null,null,null,null,1.1256830601092815]
[983,43009,43040,43101,42826,43101,42948,43040,42979,43070,42948,null,null,null,null,null,null,null,null,null,null,null,0.3,1,0.5,1,0.5,1,1,0.4,1,1,null,null,null,null,null,null,null,null,null,null,null,0,1,null,1,1,1,1,1,1,1,1,1,1,14.025727866904337,14.419904931669638,14.825133689839571,15.083006535947712,15.285620915032679,15.705585264408793,15.992929292929293,16.379738562091504,16.663398692810457,3.0657500000000004,null,null,null,null,null,null,null,null,null,null,null,null,null,null,null,null,null,null,null,null,null,null,null,null,null,null,null,null,null,null,null,null,null,null,null,null,null,null,null,null,null,null,null,null,1.1425233644859816]
[984,42948,42887,42887,43101,43040,42856,43040,42917,43040,42948,null,null,null,null,null,null,null,null,null,null,null,1,0.5,0.5,0.5,1,0.5,1,1,1,1,null,null,null,null,null,null,null,null,null,null,null,0,1,null,1,1,1,1,1,1,1,1,1,1,14.513513513513514,14.802702702702703,15.1,15.289189189189189,15.437837837837838,15.745945945945946,15.956756756756757,16.24054054054054,16.44864864864865,3.4701666666666675,null,null,null,null,null,null,null,null,null,null,null,null,null,null,null,null,null,null,null,null,null,null,null,null,null,null,null,null,null,null,null,null,null,null,null,null,null,null,null,null,null,null,null,null,1.1787383177570092]
[985,42948,42979,42948,42979,42826,43070,42826,43101,42979,42826,null,null,null,null,null,null,null,null,null,null,null,1,0.4,1,0.4,1,1,1,0.5,0.4,1,null,null,null,null,null,null,null,null,null,null,null,-1.8181818181818182E-3,79.11545454545454,null,1.25,1.1954545454545382,1.1390909090909105,1.0845454545454487,1.0281818181818068,0.97181818181817903,0.91727272727271725,0.86090909090908951,0.80636363636362773,0.75,14.164814814814816,14.362962962962964,14.566666666666668,14.696296296296298,14.798148148148149,15.00925925925926,15.153703703703705,15.34814814814815,15.490740740740742,3.5701999999999998,null,null,null,null,null,null,null,null,null,null,null,null,null,null,null,null,null,null,null,null,null,null,null,null,null,null,null,null,null,null,null,null,null,null,null,null,null,null,null,null,null,null,null,null,1.1799065420560737]
[986,43101,42917,42948,42887,42979,42948,43070,42887,43101,42917,null,null,null,null,null,null,null,null,null,null,null,0.5,1,1,0.5,0.4,1,1,0.5,0.5,1,null,null,null,null,null,null,null,null,null,null,null,0,0.75,null,0.75,0.75,0.75,0.75,0.75,0.75,0.75,0.75,0.75,0.75,13.974705111402359,14.248165137614679,14.529292267365662,14.70819134993447,14.848754914809961,15.140104849279162,15.339449541284402,15.607798165137615,15.804587155963302,3.8613333333333344,null,null,null,null,null,null,null,null,null,null,null,null,null,null,null,null,null,null,null,null,null,null,null,null,null,null,null,null,null,null,null,null,null,null,null,null,null,null,null,null,null,null,null,null,1.1799065420560737]
[987,42917,43040,43101,42826,42979,43040,43040,42826,42979,42856,null,null,null,null,null,null,null,null,null,null,null,1,1,0.5,1,0.4,1,1,1,0.4,0.5,null,null,null,null,null,null,null,null,null,null,null,0,1,null,1,1,1,1,1,1,1,1,1,1,15.1,15.313703016318886,15.53339770599251,15.673203417602995,15.783050762439807,16.010734349919741,16.166517857142857,16.376226424558585,16.530012707330123,3.7131666666666669,null,null,null,null,null,null,null,null,null,null,null,null,null,null,null,null,null,null,null,null,null,null,null,null,null,null,null,null,null,null,null,null,null,null,null,null,null,null,null,null,null,null,null,null,1.1933093762698093]
[988,42979,42826,42979,43070,42948,42826,42887,43101,43070,42826,null,null,null,null,null,null,null,null,null,null,null,0.4,1,0.4,1,1,1,0.5,0.5,1,1,null,null,null,null,null,null,null,null,null,null,null,0,1,null,1,1,1,1,1,1,1,1,1,1,14.1,14.374358974358973,14.656410256410256,14.835897435897435,14.976923076923075,15.269230769230768,15.469230769230769,15.738461538461538,15.935897435897434,3.7789230769230766,null,null,null,null,null,null,null,null,null,null,null,null,null,null,null,null,null,null,null,null,null,null,null,null,null,null,null,null,null,null,null,null,null,null,null,null,null,null,null,null,null,null,null,null,1.2078804347826093]
[989,42856,42887,42826,43040,42887,43040,43070,42917,42979,42856,null,null,null,null,null,null,null,null,null,null,null,0.5,0.5,1,1,0.5,1,1,1,0.4,0.5,null,null,null,null,null,null,null,null,null,null,null,0,0.75,null,0.75,0.75,0.75,0.75,0.75,0.75,0.75,0.75,0.75,0.75,14.446924829157176,14.641913439635536,14.842369020501138,14.96993166287016,15.070159453302962,15.277904328018224,15.42004555808656,15.61138952164009,15.751708428246012,3.5920000000000005,null,null,null,null,null,null,null,null,null,null,null,null,null,null,null,null,null,null,null,null,null,null,null,null,null,null,null,null,null,null,null,null,null,null,null,null,null,null,null,null,null,null,null,null,1.2078804347826093]
[990,42917,42979,42826,42979,42979,43009,42948,42856,43040,42887,null,null,null,null,null,null,null,null,null,null,null,1,0.4,1,0.4,0.4,0.3,1,0.5,1,0.5,null,null,null,null,null,null,null,null,null,null,null,-1.0869565217391302E-3,47.199456521739123,null,0.6494565217391326,0.61684782608696054,0.5831521739130423,0.55054347826087024,0.51684782608695912,0.48315217391304799,0.45054347826086882,0.4168478260869577,0.38423913043478564,0.3505434782608674,14.649180327868853,15,15.360655737704917,15.590163934426229,15.770491803278688,16.144262295081965,16.399999999999999,16.744262295081967,16.996721311475408,3.3307307692307706,null,null,null,null,null,null,null,null,null,null,null,null,null,null,null,null,null,null,null,null,null,null,null,null,null,null,null,null,null,null,null,null,null,null,null,null,null,null,null,null,null,null,null,null,1.2090163934426243]
[991,43040,43009,42979,42856,42826,42856,42887,42948,42856,42887,null,null,null,null,null,null,null,null,null,null,null,1,0.3,0.4,0.5,1,0.5,0.5,1,0.5,0.5,null,null,null,null,null,null,null,null,null,null,null,0,0.5,null,0.5,0.5,0.5,0.5,0.5,0.5,0.5,0.5,0.5,0.5,15.838118525763571,16.177810504008654,16.527026556410142,16.749254953392906,16.92386297959365,17.285777797537012,17.53340372560352,17.866746321077667,18.111197557758707,3.5296250000000002,null,null,null,null,null,null,null,null,null,null,null,null,null,null,null,null,null,null,null,null,null,null,null,null,null,null,null,null,null,null,null,null,null,null,null,null,null,null,null,null,null,null,null,null,1.2103825136612016]
[992,43070,42887,42979,43040,42826,42979,42979,42887,42917,42979,null,null,null,null,null,null,null,null,null,null,null,1,0.5,0.4,1,1,0.4,0.4,0.5,1,0.4,null,null,null,null,null,null,null,null,null,null,null,0,0.5,null,0.5,0.5,0.5,0.5,0.5,0.5,0.5,0.5,0.5,0.5,15.006989247311829,15.294623655913979,15.590322580645161,15.778494623655915,15.926344086021505,16.232795698924733,16.442473118279569,16.724731182795701,16.931720430107525,3.4718461538461529,null,null,null,null,null,null,null,null,null,null,null,null,null,null,null,null,null,null,null,null,null,null,null,null,null,null,null,null,null,null,null,null,null,null,null,null,null,null,null,null,null,null,null,null,1.2137850467289724]
[993,42887,42887,43009,42826,42887,42948,42856,42826,42917,42917,null,null,null,null,null,null,null,null,null,null,null,0.5,0.5,0.3,1,0.5,1,0.5,1,1,1,null,null,null,null,null,null,null,null,null,null,null,0,0.75,null,0.75,0.75,0.75,0.75,0.75,0.75,0.75,0.75,0.75,0.75,13.819444444444445,14.029976851851853,14.246412037037038,14.384143518518519,14.492361111111112,14.716666666666667,14.870138888888889,15.076736111111112,15.228240740740741,2.8847499999999968,null,null,null,null,null,null,null,null,null,null,null,null,null,null,null,null,null,null,null,null,null,null,null,null,null,null,null,null,null,null,null,null,null,null,null,null,null,null,null,null,null,null,null,null,1.2137850467289724]
[994,42826,42826,42979,43070,42826,42826,43070,42826,43101,42887,null,null,null,null,null,null,null,null,null,null,null,1,1,0.4,1,1,1,1,1,0.5,0.5,null,null,null,null,null,null,null,null,null,null,null,-1.4525691699604742E-3,63.252030632411063,null,1.044303359683795,1.000726284584978,0.95569664031620505,0.91211956521739523,0.86708992094861514,0.82206027667984216,0.77848320158102524,0.73345355731225226,0.68987648221344244,0.64484683794466235,15.3,15.658659217877094,16.027374301675977,16.262011173184359,16.4463687150838,16.82849162011173,17.089944134078213,17.44189944134078,17.7,3.8190714285714282,null,null,null,null,null,null,null,null,null,null,null,null,null,null,null,null,null,null,null,null,null,null,null,null,null,null,null,null,null,null,null,null,null,null,null,null,null,null,null,null,null,null,null,null,1.2137850467289724]
[995,42917,42826,42856,43009,43040,42856,42948,43040,42917,43009,null,null,null,null,null,null,null,null,null,null,null,1,1,0.5,0.3,1,0.5,1,1,1,0.3,null,null,null,null,null,null,null,null,null,null,null,0,1,null,1,1,1,1,1,1,1,1,1,1,14.741992551210426,15.09068901303538,15.449162011173183,15.67728119180633,15.856517690875233,16.228026070763498,16.482216014897578,16.8243947858473,17.075325884543762,3.6270000000000007,null,null,null,null,null,null,null,null,null,null,null,null,null,null,null,null,null,null,null,null,null,null,null,null,null,null,null,null,null,null,null,null,null,null,null,null,null,null,null,null,null,null,null,null,1.25]
[996,42917,43009,43040,43070,42826,43009,42887,42887,42826,43101,null,null,null,null,null,null,null,null,null,null,null,1,0.3,1,1,1,0.3,0.5,0.5,1,0.5,null,null,null,null,null,null,null,null,null,null,null,0,0.75,null,0.75,0.75,0.75,0.75,0.75,0.75,0.75,0.75,0.75,0.75,15.1,15.450819672131146,15.811475409836063,16.040983606557376,16.221311475409834,16.595081967213112,16.850819672131145,17.195081967213113,17.447540983606554,3.6858541666666662,null,null,null,null,null,null,null,null,null,null,null,null,null,null,null,null,null,null,null,null,null,null,null,null,null,null,null,null,null,null,null,null,null,null,null,null,null,null,null,null,null,null,null,null,1.2937158469945302]
[997,43070,42979,42856,42856,43040,42826,42826,43070,42979,43101,null,null,null,null,null,null,null,null,null,null,null,1,0.4,0.5,0.5,1,1,1,1,0.4,0.5,null,null,null,null,null,null,null,null,null,null,null,0,0.75,null,0.75,0.75,0.75,0.75,0.75,0.75,0.75,0.75,0.75,0.75,15.329854549807132,15.7288286375097,16.138988914587102,16.399999999999999,16.6050801385387,17.030155334782556,17.320996258528353,17.712512886647694,17.999625080601877,3.4844125874125869,null,null,null,null,null,null,null,null,null,null,null,null,null,null,null,null,null,null,null,null,null,null,null,null,null,null,null,null,null,null,null,null,null,null,null,null,null,null,null,null,null,null,null,null,1.3224299065420553]
[998,42887,43009,42826,42917,42917,42826,42826,42887,43101,43009,null,null,null,null,null,null,null,null,null,null,null,0.5,0.3,1,1,1,1,1,0.5,0.5,0.3,null,null,null,null,null,null,null,null,null,null,null,-1.8181818181818182E-3,78.75363636363636,null,0.8881818181818204,0.83363636363635862,0.77727272727273089,0.72272727272726911,0.66636363636362717,0.60999999999999943,0.55545454545453765,0.49909090909090992,0.44454545454544814,0.3881818181818204,13.394257854821236,13.8,14.217118093174431,14.482556879739978,14.691115926327193,15.123401950162513,15.419176598049837,15.817334777898157,16.109317443120261,3.5909999999999993,null,null,null,null,null,null,null,null,null,null,null,null,null,null,null,null,null,null,null,null,null,null,null,null,null,null,null,null,null,null,null,null,null,null,null,null,null,null,null,null,null,null,null,null,1.4157608695652186]
[999,43040,42979,43070,42979,42887,43070,43101,42948,43070,42826,null,null,null,null,null,null,null,null,null,null,null,1,0.4,1,0.4,0.5,1,0.5,1,1,1,null,null,null,null,null,null,null,null,null,null,null,0,1,null,1,1,1,1,1,1,1,1,1,1,13.605604395604397,13.923076923076923,14.24945054945055,14.457142857142859,14.620329670329671,14.95857142857143,15.190000000000001,15.501538461538463,15.730000000000002,4.1781538461538474,null,null,null,null,null,null,null,null,null,null,null,null,null,null,null,null,null,null,null,null,null,null,null,null,null,null,null,null,null,null,null,null,null,null,null,null,null,null,null,null,null,null,null,null,1.5]
[1000,42917,42948,43070,43009,42948,42979,43009,42887,42917,43070,null,null,null,null,null,null,null,null,null,null,null,1,1,1,0.3,1,0.4,0.3,0.5,1,1,null,null,null,null,null,null,null,null,null,null,null,0,1,null,1,1,1,1,1,1,1,1,1,1,15.403549571603428,15.796450428396573,16.200367197062423,16.457405140758873,16.659363525091798,17.07796817625459,17.364381884944923,17.749938800489595,18.032680538555692,3.8943571428571433,null,null,null,null,null,null,null,null,null,null,null,null,null,null,null,null,null,null,null,null,null,null,null,null,null,null,null,null,null,null,null,null,null,null,null,null,null,null,null,null,null,null,null,null,1.6013071895424673]

{"sheet":"KMStats14","index":20,"n_rows":100,"n_cols":39,"rows_kept":100,"cut":false,"hidden":true,"merged":[]}
["Concentration","# Detects","# Nondetects","Quantiles",null,"KMStats  v 1.4",null,{"$f":"HYPERLINK(\"http://www.practicalstats.com\",\"Practical Stats\")","v":"Practical Stats"},null,null,null,"Updated","No",null,null,"Constant","Flip Conc","rank","ranksum","at risk","partial prob","S",null,"For P50","Max50","Row50","For P25","Max25","Row25","For P75","Max75","Row75","For Mean","Rectangles","DiffC","LagP","Cum Area","Ar","Ar2"]
[54.2,1,0,{"$f":"$V2*SIGN($B2)","v":0.90909090909090906},null,"Input data to the blue cells, then sort from highest to lowest",null,null,null,null,null,null,null,{"$f":"IF(B2=0, ,A2)","v":54.2},{"$f":"N2","v":54.2},{"$f":"MAX($O$2:$O$100)+1","v":55.2},{"$f":"($P$2-$O2)*SIGN($O2)","v":1},{"$f":"B2","v":1},{"$f":"$R2*SIGN($B2)","v":1},{"$f":"(SUM($B$2:$C$100)-$S2+1)*SIGN($S2)","v":11},{"$f":"($T2-$B2)/($T2*SIGN($B2)+(1-SIGN($B2)))","v":0.90909090909090906},{"$f":"(1-B2)+U2","v":0.90909090909090906},null,{"$f":"SIGN(MAX(SIGN($U2)*(0.5-$V2), 0))*(ROW()-$P$9)","v":0},{"$f":"(MAX($T$2:$T$100)-$X2)*SIGN($X2)","v":0},{"$f":"MAX($T$2:$T$100)-(MAX($Y$2:$Y$100))+P9","v":7},{"$f":"SIGN(MAX(SIGN($U2)*(0.25-$V2), 0))*ROW()","v":0},{"$f":"(MAX($T$2:$T$100)-$AA2)*SIGN($AA2)","v":0},{"$f":"MAX($T$2:$T$100)-(MAX($AB$2:$AB$100))+P9","v":10},{"$f":"SIGN(MAX(SIGN($U2)*(0.75-$V2), 0))*(ROW()-$P$9)","v":0},{"$f":"(MAX($T$2:$T$100)-$AD2)*SIGN($AD2)","v":0},{"$f":"(MAX($T$2:$T$100)-(MAX($AE$2:$AE$100)))+P9","v":4},{"$f":"$A2*$B2","v":54.2},{"$f":"$AI2*$AJ2","v":1},{"$f":"$P$2-$A$2","v":1},1,{"$f":"$AH2+$AK3","v":27.272727272727273},{"$f":"$AK3*SIGN($AG2)","v":26.272727272727273},{"$f":"($B2*$AL2^2)/((1-(SIGN($AL2)))+($T2*($T2-$B2)))","v":6.2750563486100672}]
[45.4,1,0,0.81818181818181812,null,"concentration. Concentrations and detection limits in Col A.",null,null,null,null,null,null,null,{"$f":"A3","v":45.4},{"$f":"IF(B3=0,IF(B2=0, ,A3),A3)","v":45.4},null,{"$f":"($P$2-$A3)*SIGN($A3)","v":9.8000000000000043},{"$f":"($R2+$B3+$C2*$B2)","v":2},{"$f":"$R3*SIGN($B3)-($B3-SIGN($B3))","v":2},{"$f":"(MAX($R$2:$R$100)-$S3+1)*SIGN($S3)","v":10},0.9,{"$f":"$U3*$V2+(1-SIGN($B3))*$V2","v":0.81818181818181812},null,{"$f":"SIGN(MAX(SIGN($U3)*(0.5-$V3), 0))*(ROW()-$P$9)","v":0},{"$f":"(MAX($T$2:$T$100)-$X3)*SIGN($X3)","v":0},null,0,{"$f":"(MAX($T$2:$T$100)-$AA3)*SIGN($AA3)","v":0},null,{"$f":"SIGN(MAX(SIGN($U3)*(0.75-$V3), 0))*(ROW()-$P$9)","v":0},{"$f":"(MAX($T$2:$T$100)-$AD3)*SIGN($AD3)","v":0},null,45.4,8.0000000000000036,{"$f":"$A2-$A3","v":8.8000000000000043},{"$f":"$V2","v":0.90909090909090906},26.272727272727273,18.27272727272727,3.7099173553718994]
[44.3,1,0,0.72727272727272718,null,"Number of detects at each concentration in Col B.",null,null,null,null,null,null,null,{"$f":"A4","v":44.3},{"$f":"N4","v":44.3},null,10.900000000000006,{"$f":"($R3+$B4+$C3)","v":3},3,{"$f":"(MAX($R$2:$R$100)-$S4+1)*SIGN($S4)","v":9},0.88888888888888884,0.72727272727272718,null,0,0,null,0,0,null,4,7,null,44.3,0.90000000000000113,1.1000000000000014,0.81818181818181812,18.27272727272727,17.372727272727268,4.1918285123966923]
[38.299999999999997,1,0,0.63636363636363624,null,"Number of nondetects at each DL in Col C.",null,null,null,null,null,null,null,38.299999999999997,{"$f":"N5","v":38.299999999999997},null,16.900000000000006,4,4,8,0.875,0.63636363636363624,null,0,0,null,0,0,null,5,6,null,38.299999999999997,4.3636363636363633,6,0.72727272727272718,17.372727272727268,13.009090909090904,3.0220793978748501]
[30.2,1,0,0.5454545454545453,null,"The example data have 1 <100, 8 <2s, 4 <1s, and 1 <0.9.",null,null,null,null,null,null,null,30.2,30.2,"#Rows with hi NDs",25.000000000000004,5,5,7,0.8571428571428571,0.5454545454545453,null,0,0,null,0,0,null,6,5,null,30.2,5.1545454545454525,8.0999999999999979,0.63636363636363624,13.009090909090904,7.8545454545454518,1.4689020070838243]
[28.3,1,0,0.45454545454545442,null,"Detects start at 3.2, include a detected 0.9, and go",null,null,null,null,null,null,null,28.3,28.3,{"$f":"IF(SIGN(C2-B2)>0,1,0)","v":0},26.900000000000002,6,6,6,0.83333333333333337,0.45454545454545442,null,7,4,null,0,0,null,7,4,null,28.3,1.0363636363636353,1.8999999999999986,0.5454545454545453,7.8545454545454518,6.8181818181818166,1.5495867768595033]
[27.1,1,0,0.36363636363636354,null,"down to the smallest, three detected 0.5s.",null,null,null,null,null,null,null,27.1,27.1,{"$f":"IF(SIGN(C3-B3)>0,1,0)","v":0},28.1,7,7,5,0.8,0.36363636363636354,null,8,3,null,0,0,null,8,3,null,27.1,0.54545454545454497,1.1999999999999993,0.45454545454545442,6.8181818181818166,6.2727272727272716,1.9673553719008257]
[17.600000000000001,1,0,0.27272727272727265,null,null,null,null,null,null,null,null,null,17.600000000000001,17.600000000000001,{"$f":"SUM(P7+P8)","v":0},37.6,8,8,4,0.75,0.27272727272727265,null,9,2,null,0,0,null,9,2,null,17.600000000000001,3.4545454545454537,9.5,0.36363636363636354,6.2727272727272716,2.8181818181818175,0.66184573002754787]
[14.7,1,0,0.18181818181818177,null,"** Efron's bias correction: Always enter the smallest values (the ",null,null,null,null,null,null,null,14.7,14.7,null,40.5,9,9,3,0.66666666666666663,0.18181818181818177,null,10,1,null,10,1,null,10,1,null,14.7,0.79090909090909123,2.9000000000000021,0.27272727272727265,2.8181818181818175,2.0272727272727264,0.68497245179063304]
[4.0999999999999996,1,0,9.0909090909090884E-2,null,"last row) as detects.  If these data had 2 <0.5s and 1 detected",null,null,null,null,null,null,null,4.0999999999999996,4.0999999999999996,null,51.1,10,10,2,0.5,9.0909090909090884E-2,null,11,0,null,11,0,null,11,0,null,4.0999999999999996,1.9272727272727266,10.6,0.18181818181818177,2.0272727272727264,9.9999999999999936E-2,4.999999999999994E-3]
[3,1,0,0,null,"0.5 as the smallest values, they should also be entered as here.",null,null,null,null,null,null,null,3,3,null,52.2,11,11,1,0,0,null,0,0,null,0,0,null,0,0,null,3,9.9999999999999936E-2,1.0999999999999996,9.0909090909090884E-2,9.9999999999999936E-2,0,0]
[null,null,null,0,null,null,null,null,null,null,null,null,null,0,0,null,0,11,0,0,0,0,null,0,0,null,0,0,null,0,0,null,0,0,3,0,0,0,0]
[null,null,null,0,"Mean","Std Error","Std Dev","UCL95 (t)","25th Pctl","Median","75th Pctl","Alt StdDev",null,0,0,null,0,11,0,0,0,0,null,0,0,null,0,0,null,0,0,null,0,0,0,0,0,0,0]
[null,null,null,0,{"$f":"$P$2-SUM($AH$2:$AH$100)","v":27.927272727272729},{"$f":"SQRT(SUM($AM$2:$AM$100)*(SUM($B$2:$B$100))/(SUM($B$2:$B$100)-1))","v":5.0882411840544099},{"$f":"$F$15*SQRT(MAX(T2:T100))","v":16.87578685034217},{"$f":"$E$15+(TINV(0.1,(MAX(T2:T100)-1)) *$F$15)","v":37.149512056860601},{"$f":"INDIRECT(\"A\"&$AC$2)","v":14.7},{"$f":"INDIRECT(\"A\"&$Z$2)","v":28.3},{"$f":"INDIRECT(\"A\"&$AF$2)","v":44.3},{"$f":"SQRT(KMStats14Sqr!E15-E15^2)","v":16.09043142588397},null,0,0,null,0,11,0,0,0,0,null,0,0,null,0,0,null,0,0,null,0,0,0,0,0,0,0]
[null,null,null,0,{"$f":"ROUND(E15,SigFigs-1-INT(LOG(E15)))","v":27.9},null,{"$f":"ROUND(G15,SigFigs-1-INT(LOG(G15)))","v":16.899999999999999},null,null,null,null,{"$f":"ROUND(L15,SigFigs-1-INT(LOG(L15)))","v":16.100000000000001},null,0,0,null,0,11,0,0,0,0,null,0,0,null,0,0,null,0,0,null,0,0,0,0,0,0,0]
[null,null,null,0,null,"Zero for a percentile is a value below the lowest in the data set.",null,null,null,null,null,null,null,0,0,null,0,11,0,0,0,0,null,0,0,null,0,0,null,0,0,null,0,0,0,0,0,0,0]
[null,null,null,0,null,"For the example data, the 25th pctl = < 0.5.",null,null,null,null,null,null,null,0,0,null,0,11,0,0,0,0,null,0,0,null,0,0,null,0,0,null,0,0,0,0,0,0,0]
[null,null,null,0,null,null,null,null,null,null,null,null,null,0,0,null,0,11,0,0,0,0,null,0,0,null,0,0,null,0,0,null,0,0,0,0,0,0,0]
[null,null,null,0,null,"For details on the Kaplan-Meier method, see",null,null,null,null,null,null,null,0,0,null,0,11,0,0,0,0,null,0,0,null,0,0,null,0,0,null,0,0,0,0,0,0,0]
[null,null,null,0,null,"Helsel, D.R. (2005), Nondetects And Data Analysis, Wiley.",null,null,null,null,null,null,null,0,0,null,0,11,0,0,0,0,null,0,0,null,0,0,null,0,0,null,0,0,0,0,0,0,0]
[null,null,null,0,null,"Check for newer versions of this worksheet at ",null,null,null,null,null,null,null,0,0,null,0,11,0,0,0,0,null,0,0,null,0,0,null,0,0,null,0,0,0,0,0,0,0]
[null,null,null,0,null,"www.practicalstats.com/nada",null,null,null,null,null,null,null,0,0,null,0,11,0,0,0,0,null,0,0,null,0,0,null,0,0,null,0,0,0,0,0,0,0]
[null,null,null,0,null,null,null,null,null,null,null,null,null,0,0,null,0,11,0,0,0,0,null,0,0,null,0,0,null,0,0,null,0,0,0,0,0,0,0]
[null,null,null,0,null,null,null,null,null,null,null,null,null,0,0,null,0,11,0,0,0,0,null,0,0,null,0,0,null,0,0,null,0,0,0,0,0,0,0]
[null,null,null,0,null,"Version 1.4 correctly ignores nondetects higher than the highest detect.",null,null,null,null,null,null,null,0,0,null,0,11,0,0,0,0,null,0,0,null,0,0,null,0,0,null,0,0,0,0,0,0,0]
[null,null,null,0,null,"Up to 2 DLs above the highest detect can be accomodated (ignored).",null,null,null,null,null,null,null,0,0,null,0,11,0,0,0,0,null,0,0,null,0,0,null,0,0,null,0,0,0,0,0,0,0]
[null,null,null,0,null,"Here a (very) high DL of 100 is ignored.",null,null,null,null,null,null,null,0,0,null,0,11,0,0,0,0,null,0,0,null,0,0,null,0,0,null,0,0,0,0,0,0,0]
[null,null,null,0,null,null,null,null,null,null,null,null,null,0,0,null,0,11,0,0,0,0,null,0,0,null,0,0,null,0,0,null,0,0,0,0,0,0,0]
[null,null,null,0,null,null,null,null,null,null,null,null,null,0,0,null,0,11,0,0,0,0,null,0,0,null,0,0,null,0,0,null,0,0,0,0,0,0,0]
[null,null,null,0,null,null,null,"Chebyshev95",null,null,null,null,null,0,0,null,0,11,0,0,0,0,null,0,0,null,0,0,null,0,0,null,0,0,0,0,0,0,0]
[null,null,null,0,null,null,null,{"$f":"E15+SQRT(1/(1-Data_Input!B15)-1)*G15/SQRT(NPoints)","v":55.73028246811463},null,null,null,null,null,0,0,null,0,11,0,0,0,0,null,0,0,null,0,0,null,0,0,null,0,0,0,0,0,0,0]
[null,null,null,0,null,null,null,{"$f":"ROUND(H32,SigFigs-1-INT(LOG(H32)))","v":55.7},null,null,null,null,null,0,0,null,0,11,0,0,0,0,null,0,0,null,0,0,null,0,0,null,0,0,0,0,0,0,0]
[null,null,null,0,null,null,null,null,null,null,null,null,null,0,0,null,0,11,0,0,0,0,null,0,0,null,0,0,null,0,0,null,0,0,0,0,0,0,0]
[null,null,null,0,null,null,null,null,null,null,null,null,null,0,0,null,0,11,0,0,0,0,null,0,0,null,0,0,null,0,0,null,0,0,0,0,0,0,0]
[null,null,null,0,null,null,null,null,null,null,null,null,null,0,0,null,0,11,0,0,0,0,null,0,0,null,0,0,null,0,0,null,0,0,0,0,0,0,0]
[null,null,null,0,null,null,null,null,null,null,null,null,null,0,0,null,0,11,0,0,0,0,null,0,0,null,0,0,null,0,0,null,0,0,0,0,0,0,0]
[null,null,null,0,null,null,null,null,null,null,null,null,null,0,0,null,0,11,0,0,0,0,null,0,0,null,0,0,null,0,0,null,0,0,0,0,0,0,0]
[null,null,null,0,null,null,null,null,null,null,null,null,null,0,0,null,0,11,0,0,0,0,null,0,0,null,0,0,null,0,0,null,0,0,0,0,0,0,0]
[null,null,null,0,null,null,null,null,null,null,null,null,null,0,0,null,0,11,0,0,0,0,null,0,0,null,0,0,null,0,0,null,0,0,0,0,0,0,0]
[null,null,null,0,null,null,null,null,null,null,null,null,null,0,0,null,0,11,0,0,0,0,null,0,0,null,0,0,null,0,0,null,0,0,0,0,0,0,0]
[null,null,null,0,null,null,null,null,null,null,null,null,null,0,0,null,0,11,0,0,0,0,null,0,0,null,0,0,null,0,0,null,0,0,0,0,0,0,0]
[null,null,null,0,null,null,null,null,null,null,null,null,null,0,0,null,0,11,0,0,0,0,null,0,0,null,0,0,null,0,0,null,0,0,0,0,0,0,0]
[null,null,null,0,null,null,null,null,null,null,null,null,null,0,0,null,0,11,0,0,0,0,null,0,0,null,0,0,null,0,0,null,0,0,0,0,0,0,0]
[null,null,null,0,null,null,null,null,null,null,null,null,null,0,0,null,0,11,0,0,0,0,null,0,0,null,0,0,null,0,0,null,0,0,0,0,0,0,0]
[null,null,null,0,null,null,null,null,null,null,null,null,null,0,0,null,0,11,0,0,0,0,null,0,0,null,0,0,null,0,0,null,0,0,0,0,0,0,0]
[null,null,null,0,null,null,null,null,null,null,null,null,null,0,0,null,0,11,0,0,0,0,null,0,0,null,0,0,null,0,0,null,0,0,0,0,0,0,0]
[null,null,null,0,null,null,null,null,null,null,null,null,null,0,0,null,0,11,0,0,0,0,null,0,0,null,0,0,null,0,0,null,0,0,0,0,0,0,0]
[null,null,null,0,null,null,null,null,null,null,null,null,null,0,0,null,0,11,0,0,0,0,null,0,0,null,0,0,null,0,0,null,0,0,0,0,0,0,0]
[null,null,null,0,null,null,null,null,null,null,null,null,null,0,0,null,0,11,0,0,0,0,null,0,0,null,0,0,null,0,0,null,0,0,0,0,0,0,0]
[null,null,null,0,null,null,null,null,null,null,null,null,null,0,0,null,0,11,0,0,0,0,null,0,0,null,0,0,null,0,0,null,0,0,0,0,0,0,0]
[null,null,null,0,null,null,null,null,null,null,null,null,null,0,0,null,0,11,0,0,0,0,null,0,0,null,0,0,null,0,0,null,0,0,0,0,0,0,0]
[null,null,null,0,null,null,null,null,null,null,null,null,null,0,0,null,0,11,0,0,0,0,null,0,0,null,0,0,null,0,0,null,0,0,0,0,0,0,0]
[null,null,null,0,null,null,null,null,null,null,null,null,null,0,0,null,0,11,0,0,0,0,null,0,0,null,0,0,null,0,0,null,0,0,0,0,0,0,0]
[null,null,null,0,null,null,null,null,null,null,null,null,null,0,0,null,0,11,0,0,0,0,null,0,0,null,0,0,null,0,0,null,0,0,0,0,0,0,0]
[null,null,null,0,null,null,null,null,null,null,null,null,null,0,0,null,0,11,0,0,0,0,null,0,0,null,0,0,null,0,0,null,0,0,0,0,0,0,0]
[null,null,null,0,null,null,null,null,null,null,null,null,null,0,0,null,0,11,0,0,0,0,null,0,0,null,0,0,null,0,0,null,0,0,0,0,0,0,0]
[null,null,null,0,null,null,null,null,null,null,null,null,null,0,0,null,0,11,0,0,0,0,null,0,0,null,0,0,null,0,0,null,0,0,0,0,0,0,0]
[null,null,null,0,null,null,null,null,null,null,null,null,null,0,0,null,0,11,0,0,0,0,null,0,0,null,0,0,null,0,0,null,0,0,0,0,0,0,0]
[null,null,null,0,null,null,null,null,null,null,null,null,null,0,0,null,0,11,0,0,0,0,null,0,0,null,0,0,null,0,0,null,0,0,0,0,0,0,0]
[null,null,null,0,null,null,null,null,null,null,null,null,null,0,0,null,0,11,0,0,0,0,null,0,0,null,0,0,null,0,0,null,0,0,0,0,0,0,0]
[null,null,null,0,null,null,null,null,null,null,null,null,null,0,0,null,0,11,0,0,0,0,null,0,0,null,0,0,null,0,0,null,0,0,0,0,0,0,0]
[null,null,null,0,null,null,null,null,null,null,null,null,null,0,0,null,0,11,0,0,0,0,null,0,0,null,0,0,null,0,0,null,0,0,0,0,0,0,0]
[null,null,null,0,null,null,null,null,null,null,null,null,null,0,0,null,0,11,0,0,0,0,null,0,0,null,0,0,null,0,0,null,0,0,0,0,0,0,0]
[null,null,null,0,null,null,null,null,null,null,null,null,null,0,0,null,0,11,0,0,0,0,null,0,0,null,0,0,null,0,0,null,0,0,0,0,0,0,0]
[null,null,null,{"$f":"$V66*SIGN($B66)","v":0},null,null,null,null,null,null,null,null,null,0,0,null,0,11,0,0,{"$f":"($T66-$B66)/($T66*SIGN($B66)+(1-SIGN($B66)))","v":0},0,null,0,0,null,{"$f":"SIGN(MAX(SIGN($U66)*(0.25-$V66), 0))*ROW()","v":0},0,null,0,0,null,{"$f":"$A66*$B66","v":0},{"$f":"$AI66*$AJ66","v":0},0,0,{"$f":"$AH66+$AK67","v":0},{"$f":"$AK67*SIGN($AG66)","v":0},{"$f":"($B66*$AL66^2)/((1-(SIGN($AL66)))+($T66*($T66-$B66)))","v":0}]
[null,null,null,0,null,null,null,null,null,null,null,null,null,0,0,null,{"$f":"($P$2-$A67)*SIGN($A67)","v":0},11,{"$f":"$R67*SIGN($B67)-($B67-SIGN($B67))","v":0},0,0,{"$f":"$U67*$V66+(1-SIGN($B67))*$V66","v":0},null,{"$f":"SIGN(MAX(SIGN($U67)*(0.5-$V67), 0))*(ROW()-$P$9)","v":0},{"$f":"(MAX($T$2:$T$100)-$X67)*SIGN($X67)","v":0},null,0,{"$f":"(MAX($T$2:$T$100)-$AA67)*SIGN($AA67)","v":0},null,{"$f":"SIGN(MAX(SIGN($U67)*(0.75-$V67), 0))*(ROW()-$P$9)","v":0},{"$f":"(MAX($T$2:$T$100)-$AD67)*SIGN($AD67)","v":0},null,0,0,{"$f":"$A66-$A67","v":0},{"$f":"$V66","v":0},0,0,0]
[null,null,null,0,null,null,null,null,null,null,null,null,null,{"$f":"A68","v":0},0,null,0,{"$f":"($R67+$B68+$C67)","v":11},0,{"$f":"(MAX($R$2:$R$100)-$S68+1)*SIGN($S68)","v":0},0,0,null,0,0,null,0,0,null,0,0,null,0,0,0,0,0,0,0]
[null,null,null,0,null,null,null,null,null,null,null,null,null,0,{"$f":"N69","v":0},null,0,11,0,0,0,0,null,0,0,null,0,0,null,0,0,null,0,0,0,0,0,0,0]
[null,null,null,0,null,null,null,null,null,null,null,null,null,0,0,null,0,11,0,0,0,0,null,0,0,null,0,0,null,0,0,null,0,0,0,0,0,0,0]
[null,null,null,0,null,null,null,null,null,null,null,null,null,0,0,null,0,11,0,0,0,0,null,0,0,null,0,0,null,0,0,null,0,0,0,0,0,0,0]
[null,null,null,0,null,null,null,null,null,null,null,null,null,0,0,null,0,11,0,0,0,0,null,0,0,null,0,0,null,0,0,null,0,0,0,0,0,0,0]
[null,null,null,0,null,null,null,null,null,null,null,null,null,0,0,null,0,11,0,0,0,0,null,0,0,null,0,0,null,0,0,null,0,0,0,0,0,0,0]
[null,null,null,0,null,null,null,null,null,null,null,null,null,0,0,null,0,11,0,0,0,0,null,0,0,null,0,0,null,0,0,null,0,0,0,0,0,0,0]
[null,null,null,0,null,null,null,null,null,null,null,null,null,0,0,null,0,11,0,0,0,0,null,0,0,null,0,0,null,0,0,null,0,0,0,0,0,0,0]
[null,null,null,0,null,null,null,null,null,null,null,null,null,0,0,null,0,11,0,0,0,0,null,0,0,null,0,0,null,0,0,null,0,0,0,0,0,0,0]
[null,null,null,0,null,null,null,null,null,null,null,null,null,0,0,null,0,11,0,0,0,0,null,0,0,null,0,0,null,0,0,null,0,0,0,0,0,0,0]
[null,null,null,0,null,null,null,null,null,null,null,null,null,0,0,null,0,11,0,0,0,0,null,0,0,null,0,0,null,0,0,null,0,0,0,0,0,0,0]
[null,null,null,0,null,null,null,null,null,null,null,null,null,0,0,null,0,11,0,0,0,0,null,0,0,null,0,0,null,0,0,null,0,0,0,0,0,0,0]
[null,null,null,0,null,null,null,null,null,null,null,null,null,0,0,null,0,11,0,0,0,0,null,0,0,null,0,0,null,0,0,null,0,0,0,0,0,0,0]
[null,null,null,0,null,null,null,null,null,null,null,null,null,0,0,null,0,11,0,0,0,0,null,0,0,null,0,0,null,0,0,null,0,0,0,0,0,0,0]
[null,null,null,0,null,null,null,null,null,null,null,null,null,0,0,null,0,11,0,0,0,0,null,0,0,null,0,0,null,0,0,null,0,0,0,0,0,0,0]
[null,null,null,0,null,null,null,null,null,null,null,null,null,0,0,null,0,11,0,0,0,0,null,0,0,null,0,0,null,0,0,null,0,0,0,0,0,0,0]
[null,null,null,0,null,null,null,null,null,null,null,null,null,0,0,null,0,11,0,0,0,0,null,0,0,null,0,0,null,0,0,null,0,0,0,0,0,0,0]
[null,null,null,0,null,null,null,null,null,null,null,null,null,0,0,null,0,11,0,0,0,0,null,0,0,null,0,0,null,0,0,null,0,0,0,0,0,0,0]
[null,null,null,0,null,null,null,null,null,null,null,null,null,0,0,null,0,11,0,0,0,0,null,0,0,null,0,0,null,0,0,null,0,0,0,0,0,0,0]
[null,null,null,0,null,null,null,null,null,null,null,null,null,0,0,null,0,11,0,0,0,0,null,0,0,null,0,0,null,0,0,null,0,0,0,0,0,0,0]
[null,null,null,0,null,null,null,null,null,null,null,null,null,0,0,null,0,11,0,0,0,0,null,0,0,null,0,0,null,0,0,null,0,0,0,0,0,0,0]
[null,null,null,0,null,null,null,null,null,null,null,null,null,0,0,null,0,11,0,0,0,0,null,0,0,null,0,0,null,0,0,null,0,0,0,0,0,0,0]
[null,null,null,0,null,null,null,null,null,null,null,null,null,0,0,null,0,11,0,0,0,0,null,0,0,null,0,0,null,0,0,null,0,0,0,0,0,0,0]
[null,null,null,0,null,null,null,null,null,null,null,null,null,0,0,null,0,11,0,0,0,0,null,0,0,null,0,0,null,0,0,null,0,0,0,0,0,0,0]
[null,null,null,0,null,null,null,null,null,null,null,null,null,0,0,null,0,11,0,0,0,0,null,0,0,null,0,0,null,0,0,null,0,0,0,0,0,0,0]
[null,null,null,0,null,null,null,null,null,null,null,null,null,0,0,null,0,11,0,0,0,0,null,0,0,null,0,0,null,0,0,null,0,0,0,0,0,0,0]
[null,null,null,0,null,null,null,null,null,null,null,null,null,0,0,null,0,11,0,0,0,0,null,0,0,null,0,0,null,0,0,null,0,0,0,0,0,0,0]
[null,null,null,0,null,null,null,null,null,null,null,null,null,0,0,null,0,11,0,0,0,0,null,0,0,null,0,0,null,0,0,null,0,0,0,0,0,0,0]
[null,null,null,0,null,null,null,null,null,null,null,null,null,0,0,null,0,11,0,0,0,0,null,0,0,null,0,0,null,0,0,null,0,0,0,0,0,0,0]
[null,null,null,0,null,null,null,null,null,null,null,null,null,0,0,null,0,11,0,0,0,0,null,0,0,null,0,0,null,0,0,null,0,0,0,0,0,0,0]
[null,null,null,0,null,null,null,null,null,null,null,null,null,0,0,null,0,11,0,0,0,0,null,0,0,null,0,0,null,0,0,null,0,0,0,0,0,0,0]
[null,null,null,0,null,null,null,null,null,null,null,null,null,0,0,null,0,11,0,0,0,0,null,0,0,null,0,0,null,0,0,null,0,0,0,0,0,0,0]
[null,null,null,0,null,null,null,null,null,null,null,null,null,0,0,null,0,11,0,0,0,0,null,0,0,null,0,0,null,0,0,null,0,0,0,0,0,0,0]

{"sheet":"Sheet2","index":21,"n_rows":0,"n_cols":0,"rows_kept":0,"cut":false,"hidden":true,"merged":[]}

{"sheet":"Sheet3","index":22,"n_rows":0,"n_cols":0,"rows_kept":0,"cut":false,"hidden":true,"merged":[]}

{"sheet":"KMStats14Sqr","index":23,"n_rows":100,"n_cols":39,"rows_kept":100,"cut":false,"hidden":true,"merged":[]}
["Concentration","# Detects","# Nondetects","Quantiles",null,"KMStats  v 1.4",null,{"$f":"HYPERLINK(\"http://www.practicalstats.com\",\"Practical Stats\")","v":"Practical Stats"},null,null,null,"Updated","Yes",null,null,"Constant","Flip Conc","rank","ranksum","at risk","partial prob","S",null,"For P50","Max50","Row50","For P25","Max25","Row25","For P75","Max75","Row75","For Mean","Rectangles","DiffC","LagP","Cum Area","Ar","Ar2"]
[2937.6400000000003,1,0,{"$f":"$V2*SIGN($B2)","v":0.90909090909090906},null,"Input data to the blue cells, then sort from highest to lowest",null,null,null,null,null,null,null,{"$f":"IF(B2=0, ,A2)","v":2937.6400000000003},{"$f":"N2","v":2937.6400000000003},{"$f":"MAX($O$2:$O$100)+1","v":2938.6400000000003},{"$f":"($P$2-$O2)*SIGN($O2)","v":1},{"$f":"B2","v":1},{"$f":"$R2*SIGN($B2)","v":1},{"$f":"(SUM($B$2:$C$100)-$S2+1)*SIGN($S2)","v":11},{"$f":"($T2-$B2)/($T2*SIGN($B2)+(1-SIGN($B2)))","v":0.90909090909090906},{"$f":"(1-B2)+U2","v":0.90909090909090906},null,{"$f":"SIGN(MAX(SIGN($U2)*(0.5-$V2), 0))*(ROW()-$P$9)","v":0},{"$f":"(MAX($T$2:$T$100)-$X2)*SIGN($X2)","v":0},{"$f":"MAX($T$2:$T$100)-(MAX($Y$2:$Y$100))+P9","v":7},{"$f":"SIGN(MAX(SIGN($U2)*(0.25-$V2), 0))*ROW()","v":0},{"$f":"(MAX($T$2:$T$100)-$AA2)*SIGN($AA2)","v":0},{"$f":"MAX($T$2:$T$100)-(MAX($AB$2:$AB$100))+P9","v":10},{"$f":"SIGN(MAX(SIGN($U2)*(0.75-$V2), 0))*(ROW()-$P$9)","v":0},{"$f":"(MAX($T$2:$T$100)-$AD2)*SIGN($AD2)","v":0},{"$f":"(MAX($T$2:$T$100)-(MAX($AE$2:$AE$100)))+P9","v":4},{"$f":"$A2*$B2","v":2937.6400000000003},{"$f":"$AI2*$AJ2","v":1},{"$f":"$P$2-$A$2","v":1},1,{"$f":"$AH2+$AK3","v":1899.8054545454545},{"$f":"$AK3*SIGN($AG2)","v":1898.8054545454545},{"$f":"($B2*$AL2^2)/((1-(SIGN($AL2)))+($T2*($T2-$B2)))","v":32776.928674650633}]
[2061.16,1,0,0.81818181818181812,null,"concentration. Concentrations and detection limits in Col A.",null,null,null,null,null,null,null,{"$f":"A3","v":2061.16},{"$f":"IF(B3=0,IF(B2=0, ,A3),A3)","v":2061.16},null,{"$f":"($P$2-$A3)*SIGN($A3)","v":877.48000000000047},{"$f":"($R2+$B3+$C2*$B2)","v":2},{"$f":"$R3*SIGN($B3)-($B3-SIGN($B3))","v":2},{"$f":"(MAX($R$2:$R$100)-$S3+1)*SIGN($S3)","v":10},0.9,{"$f":"$U3*$V2+(1-SIGN($B3))*$V2","v":0.81818181818181812},null,{"$f":"SIGN(MAX(SIGN($U3)*(0.5-$V3), 0))*(ROW()-$P$9)","v":0},{"$f":"(MAX($T$2:$T$100)-$X3)*SIGN($X3)","v":0},null,0,{"$f":"(MAX($T$2:$T$100)-$AA3)*SIGN($AA3)","v":0},null,{"$f":"SIGN(MAX(SIGN($U3)*(0.75-$V3), 0))*(ROW()-$P$9)","v":0},{"$f":"(MAX($T$2:$T$100)-$AD3)*SIGN($AD3)","v":0},null,2061.16,796.80000000000041,{"$f":"$A2-$A3","v":876.48000000000047},{"$f":"$V2","v":0.90909090909090906},1898.8054545454545,1102.0054545454541,13493.511353865921]
[1962.4899999999998,1,0,0.72727272727272718,null,"Number of detects at each concentration in Col B.",null,null,null,null,null,null,null,{"$f":"A4","v":1962.4899999999998},{"$f":"N4","v":1962.4899999999998},null,976.15000000000055,{"$f":"($R3+$B4+$C3)","v":3},3,{"$f":"(MAX($R$2:$R$100)-$S4+1)*SIGN($S4)","v":9},0.88888888888888884,0.72727272727272718,null,0,0,null,0,0,null,4,7,null,1962.4899999999998,80.730000000000047,98.670000000000073,0.81818181818181812,1102.0054545454541,1021.2754545454541,14486.160473014221]
[1466.8899999999999,1,0,0.63636363636363624,null,"Number of nondetects at each DL in Col C.",null,null,null,null,null,null,null,1466.8899999999999,{"$f":"N5","v":1466.8899999999999},null,1471.7500000000005,4,4,8,0.875,0.63636363636363624,null,0,0,null,0,0,null,5,6,null,1466.8899999999999,360.43636363636352,495.59999999999991,0.72727272727272718,1021.2754545454541,660.8390909090906,7798.3625727420231]
[912.04,1,0,0.5454545454545453,null,"The example data have 1 <100, 8 <2s, 4 <1s, and 1 <0.9.",null,null,null,null,null,null,null,912.04,912.04,"#Rows with hi NDs",2026.6000000000004,5,5,7,0.8571428571428571,0.5454545454545453,null,0,0,null,0,0,null,6,5,null,912.04,353.0863636363635,554.84999999999991,0.63636363636363624,660.8390909090906,307.75272727272716,2255.0414558047996]
[800.89,1,0,0.45454545454545442,null,"Detects start at 3.2, include a detected 0.9, and go",null,null,null,null,null,null,null,800.89,800.89,{"$f":"IF(SIGN(C2-B2)>0,1,0)","v":0},2137.7500000000005,6,6,6,0.83333333333333337,0.45454545454545442,null,7,4,null,0,0,null,7,4,null,800.89,60.627272727272697,111.14999999999998,0.5454545454545453,307.75272727272716,247.12545454545446,2035.6996761432492]
[734.41000000000008,1,0,0.36363636363636354,null,"down to the smallest, three detected 0.5s.",null,null,null,null,null,null,null,734.41000000000008,734.41000000000008,{"$f":"IF(SIGN(C3-B3)>0,1,0)","v":0},2204.2300000000005,7,7,5,0.8,0.36363636363636354,null,8,3,null,0,0,null,8,3,null,734.41000000000008,30.218181818181765,66.479999999999905,0.45454545454545442,247.12545454545446,216.9072727272727,2352.4382480991726]
[309.76000000000005,1,0,0.27272727272727265,null,null,null,null,null,null,null,null,null,309.76000000000005,309.76000000000005,{"$f":"SUM(P7+P8)","v":0},2628.88,8,8,4,0.75,0.27272727272727265,null,9,2,null,0,0,null,9,2,null,309.76000000000005,154.41818181818178,424.65000000000003,0.36363636363636354,216.9072727272727,62.489090909090905,325.40720688705227]
[216.08999999999997,1,0,0.18181818181818177,null,"** Efron's bias correction: Always enter the smallest values (the ",null,null,null,null,null,null,null,216.08999999999997,216.08999999999997,null,2722.55,9,9,3,0.66666666666666663,0.18181818181818177,null,10,1,null,10,1,null,10,1,null,216.08999999999997,25.546363636363647,93.670000000000073,0.27272727272727265,62.489090909090905,36.942727272727261,227.46084972451774]
[16.809999999999999,1,0,9.0909090909090884E-2,null,"last row) as detects.  If these data had 2 <0.5s and 1 detected",null,null,null,null,null,null,null,16.809999999999999,16.809999999999999,null,2921.8300000000004,10,10,2,0.5,9.0909090909090884E-2,null,11,0,null,11,0,null,11,0,null,16.809999999999999,36.23272727272726,199.27999999999997,0.18181818181818177,36.942727272727261,0.70999999999999963,0.25204999999999972]
[9,1,0,0,null,"0.5 as the smallest values, they should also be entered as here.",null,null,null,null,null,null,null,9,9,null,2929.6400000000003,11,11,1,0,0,null,0,0,null,0,0,null,0,0,null,9,0.70999999999999963,7.8099999999999987,9.0909090909090884E-2,0.70999999999999963,0,0]
[null,null,null,0,null,null,null,null,null,null,null,null,null,0,0,null,0,11,0,0,0,0,null,0,0,null,0,0,null,0,0,null,0,0,9,0,0,0,0]
[null,null,null,0,"Mean","Std Error","Std Dev","UCL95 (t)","25th Pctl","Median","75th Pctl",null,null,0,0,null,0,11,0,0,0,0,null,0,0,null,0,0,null,0,0,null,0,0,0,0,0,0,0]
[null,null,null,0,{"$f":"$P$2-SUM($AH$2:$AH$100)","v":1038.8345454545456},{"$f":"SQRT(SUM($AM$2:$AM$100)*(SUM($B$2:$B$100))/(SUM($B$2:$B$100)-1))","v":288.66310608913079},{"$f":"$F$15*SQRT(MAX(T2:T100))","v":957.38721371620193},{"$f":"$E$15+(TINV(0.1,(MAX(T2:T100)-1)) *$F$15)","v":1562.0252028311575},{"$f":"INDIRECT(\"A\"&$AC$2)","v":216.08999999999997},{"$f":"INDIRECT(\"A\"&$Z$2)","v":800.89},{"$f":"INDIRECT(\"A\"&$AF$2)","v":1962.4899999999998},null,null,0,0,null,0,11,0,0,0,0,null,0,0,null,0,0,null,0,0,null,0,0,0,0,0,0,0]
[null,null,null,0,{"$f":"ROUND(E15,SigFigs-1-INT(LOG(E15)))","v":1040},null,{"$f":"ROUND(G15,SigFigs-1-INT(LOG(G15)))","v":957},null,null,null,null,null,null,0,0,null,0,11,0,0,0,0,null,0,0,null,0,0,null,0,0,null,0,0,0,0,0,0,0]
[null,null,null,0,null,"Zero for a percentile is a value below the lowest in the data set.",null,null,null,null,null,null,null,0,0,null,0,11,0,0,0,0,null,0,0,null,0,0,null,0,0,null,0,0,0,0,0,0,0]
[null,null,null,0,null,"For the example data, the 25th pctl = < 0.5.",null,null,null,null,null,null,null,0,0,null,0,11,0,0,0,0,null,0,0,null,0,0,null,0,0,null,0,0,0,0,0,0,0]
[null,null,null,0,null,null,null,null,null,null,null,null,null,0,0,null,0,11,0,0,0,0,null,0,0,null,0,0,null,0,0,null,0,0,0,0,0,0,0]
[null,null,null,0,null,"For details on the Kaplan-Meier method, see",null,null,null,null,null,null,null,0,0,null,0,11,0,0,0,0,null,0,0,null,0,0,null,0,0,null,0,0,0,0,0,0,0]
[null,null,null,0,null,"Helsel, D.R. (2005), Nondetects And Data Analysis, Wiley.",null,null,null,null,null,null,null,0,0,null,0,11,0,0,0,0,null,0,0,null,0,0,null,0,0,null,0,0,0,0,0,0,0]
[null,null,null,0,null,"Check for newer versions of this worksheet at ",null,null,null,null,null,null,null,0,0,null,0,11,0,0,0,0,null,0,0,null,0,0,null,0,0,null,0,0,0,0,0,0,0]
[null,null,null,0,null,"www.practicalstats.com/nada",null,null,null,null,null,null,null,0,0,null,0,11,0,0,0,0,null,0,0,null,0,0,null,0,0,null,0,0,0,0,0,0,0]
[null,null,null,0,null,null,null,null,null,null,null,null,null,0,0,null,0,11,0,0,0,0,null,0,0,null,0,0,null,0,0,null,0,0,0,0,0,0,0]
[null,null,null,0,null,null,null,null,null,null,null,null,null,0,0,null,0,11,0,0,0,0,null,0,0,null,0,0,null,0,0,null,0,0,0,0,0,0,0]
[null,null,null,0,null,"Version 1.4 correctly ignores nondetects higher than the highest detect.",null,null,null,null,null,null,null,0,0,null,0,11,0,0,0,0,null,0,0,null,0,0,null,0,0,null,0,0,0,0,0,0,0]
[null,null,null,0,null,"Up to 2 DLs above the highest detect can be accomodated (ignored).",null,null,null,null,null,null,null,0,0,null,0,11,0,0,0,0,null,0,0,null,0,0,null,0,0,null,0,0,0,0,0,0,0]
[null,null,null,0,null,"Here a (very) high DL of 100 is ignored.",null,null,null,null,null,null,null,0,0,null,0,11,0,0,0,0,null,0,0,null,0,0,null,0,0,null,0,0,0,0,0,0,0]
[null,null,null,0,null,null,null,null,null,null,null,null,null,0,0,null,0,11,0,0,0,0,null,0,0,null,0,0,null,0,0,null,0,0,0,0,0,0,0]
[null,null,null,0,null,null,null,null,null,null,null,null,null,0,0,null,0,11,0,0,0,0,null,0,0,null,0,0,null,0,0,null,0,0,0,0,0,0,0]
[null,null,null,0,null,null,null,"Chebyshev95",null,null,null,null,null,0,0,null,0,11,0,0,0,0,null,0,0,null,0,0,null,0,0,null,0,0,0,0,0,0,0]
[null,null,null,0,null,null,null,{"$f":"E15+SQRT(1/(1-Data_Input!B15)-1)*G15/SQRT(NPoints)","v":2616.138541100197},null,null,null,null,null,0,0,null,0,11,0,0,0,0,null,0,0,null,0,0,null,0,0,null,0,0,0,0,0,0,0]
[null,null,null,0,null,null,null,{"$f":"ROUND(H32,SigFigs-1-INT(LOG(H32)))","v":2620},null,null,null,null,null,0,0,null,0,11,0,0,0,0,null,0,0,null,0,0,null,0,0,null,0,0,0,0,0,0,0]
[null,null,null,0,null,null,null,null,null,null,null,null,null,0,0,null,0,11,0,0,0,0,null,0,0,null,0,0,null,0,0,null,0,0,0,0,0,0,0]
[null,null,null,0,null,null,null,null,null,null,null,null,null,0,0,null,0,11,0,0,0,0,null,0,0,null,0,0,null,0,0,null,0,0,0,0,0,0,0]
[null,null,null,0,null,null,null,null,null,null,null,null,null,0,0,null,0,11,0,0,0,0,null,0,0,null,0,0,null,0,0,null,0,0,0,0,0,0,0]
[null,null,null,0,null,null,null,null,null,null,null,null,null,0,0,null,0,11,0,0,0,0,null,0,0,null,0,0,null,0,0,null,0,0,0,0,0,0,0]
[null,null,null,0,null,null,null,null,null,null,null,null,null,0,0,null,0,11,0,0,0,0,null,0,0,null,0,0,null,0,0,null,0,0,0,0,0,0,0]
[null,null,null,0,null,null,null,null,null,null,null,null,null,0,0,null,0,11,0,0,0,0,null,0,0,null,0,0,null,0,0,null,0,0,0,0,0,0,0]
[null,null,null,0,null,null,null,null,null,null,null,null,null,0,0,null,0,11,0,0,0,0,null,0,0,null,0,0,null,0,0,null,0,0,0,0,0,0,0]
[null,null,null,0,null,null,null,null,null,null,null,null,null,0,0,null,0,11,0,0,0,0,null,0,0,null,0,0,null,0,0,null,0,0,0,0,0,0,0]
[null,null,null,0,null,null,null,null,null,null,null,null,null,0,0,null,0,11,0,0,0,0,null,0,0,null,0,0,null,0,0,null,0,0,0,0,0,0,0]
[null,null,null,0,null,null,null,null,null,null,null,null,null,0,0,null,0,11,0,0,0,0,null,0,0,null,0,0,null,0,0,null,0,0,0,0,0,0,0]
[null,null,null,0,null,null,null,null,null,null,null,null,null,0,0,null,0,11,0,0,0,0,null,0,0,null,0,0,null,0,0,null,0,0,0,0,0,0,0]
[null,null,null,0,null,null,null,null,null,null,null,null,null,0,0,null,0,11,0,0,0,0,null,0,0,null,0,0,null,0,0,null,0,0,0,0,0,0,0]
[null,null,null,0,null,null,null,null,null,null,null,null,null,0,0,null,0,11,0,0,0,0,null,0,0,null,0,0,null,0,0,null,0,0,0,0,0,0,0]
[null,null,null,0,null,null,null,null,null,null,null,null,null,0,0,null,0,11,0,0,0,0,null,0,0,null,0,0,null,0,0,null,0,0,0,0,0,0,0]
[null,null,null,0,null,null,null,null,null,null,null,null,null,0,0,null,0,11,0,0,0,0,null,0,0,null,0,0,null,0,0,null,0,0,0,0,0,0,0]
[null,null,null,0,null,null,null,null,null,null,null,null,null,0,0,null,0,11,0,0,0,0,null,0,0,null,0,0,null,0,0,null,0,0,0,0,0,0,0]
[null,null,null,0,null,null,null,null,null,null,null,null,null,0,0,null,0,11,0,0,0,0,null,0,0,null,0,0,null,0,0,null,0,0,0,0,0,0,0]
[null,null,null,0,null,null,null,null,null,null,null,null,null,0,0,null,0,11,0,0,0,0,null,0,0,null,0,0,null,0,0,null,0,0,0,0,0,0,0]
[null,null,null,0,null,null,null,null,null,null,null,null,null,0,0,null,0,11,0,0,0,0,null,0,0,null,0,0,null,0,0,null,0,0,0,0,0,0,0]
[null,null,null,0,null,null,null,null,null,null,null,null,null,0,0,null,0,11,0,0,0,0,null,0,0,null,0,0,null,0,0,null,0,0,0,0,0,0,0]
[null,null,null,0,null,null,null,null,null,null,null,null,null,0,0,null,0,11,0,0,0,0,null,0,0,null,0,0,null,0,0,null,0,0,0,0,0,0,0]
[null,null,null,0,null,null,null,null,null,null,null,null,null,0,0,null,0,11,0,0,0,0,null,0,0,null,0,0,null,0,0,null,0,0,0,0,0,0,0]
[null,null,null,0,null,null,null,null,null,null,null,null,null,0,0,null,0,11,0,0,0,0,null,0,0,null,0,0,null,0,0,null,0,0,0,0,0,0,0]
[null,null,null,0,null,null,null,null,null,null,null,null,null,0,0,null,0,11,0,0,0,0,null,0,0,null,0,0,null,0,0,null,0,0,0,0,0,0,0]
[null,null,null,0,null,null,null,null,null,null,null,null,null,0,0,null,0,11,0,0,0,0,null,0,0,null,0,0,null,0,0,null,0,0,0,0,0,0,0]
[null,null,null,0,null,null,null,null,null,null,null,null,null,0,0,null,0,11,0,0,0,0,null,0,0,null,0,0,null,0,0,null,0,0,0,0,0,0,0]
[null,null,null,0,null,null,null,null,null,null,null,null,null,0,0,null,0,11,0,0,0,0,null,0,0,null,0,0,null,0,0,null,0,0,0,0,0,0,0]
[null,null,null,0,null,null,null,null,null,null,null,null,null,0,0,null,0,11,0,0,0,0,null,0,0,null,0,0,null,0,0,null,0,0,0,0,0,0,0]
[null,null,null,0,null,null,null,null,null,null,null,null,null,0,0,null,0,11,0,0,0,0,null,0,0,null,0,0,null,0,0,null,0,0,0,0,0,0,0]
[null,null,null,0,null,null,null,null,null,null,null,null,null,0,0,null,0,11,0,0,0,0,null,0,0,null,0,0,null,0,0,null,0,0,0,0,0,0,0]
[null,null,null,0,null,null,null,null,null,null,null,null,null,0,0,null,0,11,0,0,0,0,null,0,0,null,0,0,null,0,0,null,0,0,0,0,0,0,0]
[null,null,null,0,null,null,null,null,null,null,null,null,null,0,0,null,0,11,0,0,0,0,null,0,0,null,0,0,null,0,0,null,0,0,0,0,0,0,0]
[null,null,null,{"$f":"$V66*SIGN($B66)","v":0},null,null,null,null,null,null,null,null,null,0,0,null,0,11,0,0,{"$f":"($T66-$B66)/($T66*SIGN($B66)+(1-SIGN($B66)))","v":0},0,null,0,0,null,{"$f":"SIGN(MAX(SIGN($U66)*(0.25-$V66), 0))*ROW()","v":0},0,null,0,0,null,{"$f":"$A66*$B66","v":0},{"$f":"$AI66*$AJ66","v":0},0,0,{"$f":"$AH66+$AK67","v":0},{"$f":"$AK67*SIGN($AG66)","v":0},{"$f":"($B66*$AL66^2)/((1-(SIGN($AL66)))+($T66*($T66-$B66)))","v":0}]
[null,null,null,0,null,null,null,null,null,null,null,null,null,0,0,null,{"$f":"($P$2-$A67)*SIGN($A67)","v":0},11,{"$f":"$R67*SIGN($B67)-($B67-SIGN($B67))","v":0},0,0,{"$f":"$U67*$V66+(1-SIGN($B67))*$V66","v":0},null,{"$f":"SIGN(MAX(SIGN($U67)*(0.5-$V67), 0))*(ROW()-$P$9)","v":0},{"$f":"(MAX($T$2:$T$100)-$X67)*SIGN($X67)","v":0},null,0,{"$f":"(MAX($T$2:$T$100)-$AA67)*SIGN($AA67)","v":0},null,{"$f":"SIGN(MAX(SIGN($U67)*(0.75-$V67), 0))*(ROW()-$P$9)","v":0},{"$f":"(MAX($T$2:$T$100)-$AD67)*SIGN($AD67)","v":0},null,0,0,{"$f":"$A66-$A67","v":0},{"$f":"$V66","v":0},0,0,0]
[null,null,null,0,null,null,null,null,null,null,null,null,null,{"$f":"A68","v":0},0,null,0,{"$f":"($R67+$B68+$C67)","v":11},0,{"$f":"(MAX($R$2:$R$100)-$S68+1)*SIGN($S68)","v":0},0,0,null,0,0,null,0,0,null,0,0,null,0,0,0,0,0,0,0]
[null,null,null,0,null,null,null,null,null,null,null,null,null,0,{"$f":"N69","v":0},null,0,11,0,0,0,0,null,0,0,null,0,0,null,0,0,null,0,0,0,0,0,0,0]
[null,null,null,0,null,null,null,null,null,null,null,null,null,0,0,null,0,11,0,0,0,0,null,0,0,null,0,0,null,0,0,null,0,0,0,0,0,0,0]
[null,null,null,0,null,null,null,null,null,null,null,null,null,0,0,null,0,11,0,0,0,0,null,0,0,null,0,0,null,0,0,null,0,0,0,0,0,0,0]
[null,null,null,0,null,null,null,null,null,null,null,null,null,0,0,null,0,11,0,0,0,0,null,0,0,null,0,0,null,0,0,null,0,0,0,0,0,0,0]
[null,null,null,0,null,null,null,null,null,null,null,null,null,0,0,null,0,11,0,0,0,0,null,0,0,null,0,0,null,0,0,null,0,0,0,0,0,0,0]
[null,null,null,0,null,null,null,null,null,null,null,null,null,0,0,null,0,11,0,0,0,0,null,0,0,null,0,0,null,0,0,null,0,0,0,0,0,0,0]
[null,null,null,0,null,null,null,null,null,null,null,null,null,0,0,null,0,11,0,0,0,0,null,0,0,null,0,0,null,0,0,null,0,0,0,0,0,0,0]
[null,null,null,0,null,null,null,null,null,null,null,null,null,0,0,null,0,11,0,0,0,0,null,0,0,null,0,0,null,0,0,null,0,0,0,0,0,0,0]
[null,null,null,0,null,null,null,null,null,null,null,null,null,0,0,null,0,11,0,0,0,0,null,0,0,null,0,0,null,0,0,null,0,0,0,0,0,0,0]
[null,null,null,0,null,null,null,null,null,null,null,null,null,0,0,null,0,11,0,0,0,0,null,0,0,null,0,0,null,0,0,null,0,0,0,0,0,0,0]
[null,null,null,0,null,null,null,null,null,null,null,null,null,0,0,null,0,11,0,0,0,0,null,0,0,null,0,0,null,0,0,null,0,0,0,0,0,0,0]
[null,null,null,0,null,null,null,null,null,null,null,null,null,0,0,null,0,11,0,0,0,0,null,0,0,null,0,0,null,0,0,null,0,0,0,0,0,0,0]
[null,null,null,0,null,null,null,null,null,null,null,null,null,0,0,null,0,11,0,0,0,0,null,0,0,null,0,0,null,0,0,null,0,0,0,0,0,0,0]
[null,null,null,0,null,null,null,null,null,null,null,null,null,0,0,null,0,11,0,0,0,0,null,0,0,null,0,0,null,0,0,null,0,0,0,0,0,0,0]
[null,null,null,0,null,null,null,null,null,null,null,null,null,0,0,null,0,11,0,0,0,0,null,0,0,null,0,0,null,0,0,null,0,0,0,0,0,0,0]
[null,null,null,0,null,null,null,null,null,null,null,null,null,0,0,null,0,11,0,0,0,0,null,0,0,null,0,0,null,0,0,null,0,0,0,0,0,0,0]
[null,null,null,0,null,null,null,null,null,null,null,null,null,0,0,null,0,11,0,0,0,0,null,0,0,null,0,0,null,0,0,null,0,0,0,0,0,0,0]
[null,null,null,0,null,null,null,null,null,null,null,null,null,0,0,null,0,11,0,0,0,0,null,0,0,null,0,0,null,0,0,null,0,0,0,0,0,0,0]
[null,null,null,0,null,null,null,null,null,null,null,null,null,0,0,null,0,11,0,0,0,0,null,0,0,null,0,0,null,0,0,null,0,0,0,0,0,0,0]
[null,null,null,0,null,null,null,null,null,null,null,null,null,0,0,null,0,11,0,0,0,0,null,0,0,null,0,0,null,0,0,null,0,0,0,0,0,0,0]
[null,null,null,0,null,null,null,null,null,null,null,null,null,0,0,null,0,11,0,0,0,0,null,0,0,null,0,0,null,0,0,null,0,0,0,0,0,0,0]
[null,null,null,0,null,null,null,null,null,null,null,null,null,0,0,null,0,11,0,0,0,0,null,0,0,null,0,0,null,0,0,null,0,0,0,0,0,0,0]
[null,null,null,0,null,null,null,null,null,null,null,null,null,0,0,null,0,11,0,0,0,0,null,0,0,null,0,0,null,0,0,null,0,0,0,0,0,0,0]
[null,null,null,0,null,null,null,null,null,null,null,null,null,0,0,null,0,11,0,0,0,0,null,0,0,null,0,0,null,0,0,null,0,0,0,0,0,0,0]
[null,null,null,0,null,null,null,null,null,null,null,null,null,0,0,null,0,11,0,0,0,0,null,0,0,null,0,0,null,0,0,null,0,0,0,0,0,0,0]
[null,null,null,0,null,null,null,null,null,null,null,null,null,0,0,null,0,11,0,0,0,0,null,0,0,null,0,0,null,0,0,null,0,0,0,0,0,0,0]
[null,null,null,0,null,null,null,null,null,null,null,null,null,0,0,null,0,11,0,0,0,0,null,0,0,null,0,0,null,0,0,null,0,0,0,0,0,0,0]
[null,null,null,0,null,null,null,null,null,null,null,null,null,0,0,null,0,11,0,0,0,0,null,0,0,null,0,0,null,0,0,null,0,0,0,0,0,0,0]
[null,null,null,0,null,null,null,null,null,null,null,null,null,0,0,null,0,11,0,0,0,0,null,0,0,null,0,0,null,0,0,null,0,0,0,0,0,0,0]
[null,null,null,0,null,null,null,null,null,null,null,null,null,0,0,null,0,11,0,0,0,0,null,0,0,null,0,0,null,0,0,null,0,0,0,0,0,0,0]
[null,null,null,0,null,null,null,null,null,null,null,null,null,0,0,null,0,11,0,0,0,0,null,0,0,null,0,0,null,0,0,null,0,0,0,0,0,0,0]
[null,null,null,0,null,null,null,null,null,null,null,null,null,0,0,null,0,11,0,0,0,0,null,0,0,null,0,0,null,0,0,null,0,0,0,0,0,0,0]

{"sheet":"Summary-UCLNormal-TrendNormal","index":24,"n_rows":38,"n_cols":2,"rows_kept":38,"cut":false,"hidden":true,"merged":[[1,0,2,1],[3,0,3,1]]}
[{"$f":"Data_Input!A1","v":"Groundwater Statistics Tool"}]
["Site & Summary Statistics for Normal Data Sets with Normal Residuals"]
[]
[{"$f":"IF(Data_Input!C31=\"No\",\"Eight data points are recommended for the attainment evaluation\",\"\")","v":"Eight data points are recommended for the attainment evaluation"}]
["General Information"]
["Analyst",{"$f":"Data_Input!B8","v":"DW"}]
["Date of Evaluation",{"$f":"Data_Input!B7","v":"2018-03-26"}]
["Site Name",{"$f":"Data_Input!B4","v":"Test"}]
["Operable Unit",{"$f":"Data_Input!B5","v":"Test"}]
["Type of Evaluation",{"$f":"Data_Input!B6","v":"Attainment"}]
["Well Name/Number",{"$f":"Data_Input!B11","v":1}]
["Chemical of Concern",{"$f":"Data_Input!B10","v":"VC"}]
["Concentration Units",{"$f":"Data_Input!B13","v":"ug/L"}]
["Cleanup Level",{"$f":"Data_Input!B16","v":5}]
["Source of Cleanup Level",{"$f":"Data_Input!B17","v":"MCL"}]
["Confidence Level",{"$f":"Data_Input!B15","v":0.95}]
["Risk of False Outlier Rejection",{"$f":"Data_Input!B19","v":0.01}]
["Number of Results",{"$f":"'UCL-Normal'!B7","v":7}]
["Outliers present?",{"$f":"IF(OR(Outliers!B10=\"Yes\",Outliers!C10=\"Yes\"),\"Yes\",\"No\")","v":"No"}]
["Number of Non-Detects",{"$f":"COUNTIF(DetInput,\"No\")","v":0}]
[]
["Trend Analysis"]
["Trend Type","Normal"]
["Method","Ordinary Least Squares"]
["Is the Upper Confidence Band above the cleanup level?",{"$f":"IF(Data_Input!B6=\"Attainment\",\"NA\",IF(MAX(IF(ISNA('Trend-Normal'!F7:F26),0,'Trend-Normal'!F7:F26)) > Data_Input!B16,\"Yes\",\"No\"))","v":"NA"}]
["Slope",{"$f":"'Trend-Normal'!I7","v":-5.4200000000000003E-3}]
["Intercept",{"$f":"'Trend-Normal'!I8","v":239}]
["R2",{"$f":"'Trend-Normal'!I9","v":0.20465402983180278}]
["Test Result",{"$f":"Normal_Trend","v":"No trend"}]
[{"$f":"'Trend-Normal'!H14","v":"When concentration is predicted to achieve the cleanup level"},{"$f":"'Trend-Normal'!I14","v":"NA"}]
[{"$f":"'Trend-Normal'!H15","v":"When concentration is predicted to exceed the cleanup level"},{"$f":"'Trend-Normal'!I15","v":"NA"}]
[]
["UCL Analysis"]
["Distribution Type","Normal"]
["Test",{"$f":"'UCL-Normal'!B12","v":"Student's t UCL"}]
["Mean",{"$f":"'UCL-Normal'!B14","v":4.67}]
[{"$f":"TEXT(B16,\"0%\") & \" UCL\"","v":"95% UCL"},{"$f":"'UCL-Normal'!B17","v":5.24}]
[{"$f":"\"Is the \" &  TEXT(B16, \"0%\") & \" UCL greater than the cleanup level?\"","v":"Is the 95% UCL greater than the cleanup level?"},{"$f":"IF(B37>B14, \"Yes\", \"No\")","v":"Yes"}]

{"sheet":"Summary-UCLNormal-TrendNP","index":25,"n_rows":37,"n_cols":2,"rows_kept":37,"cut":false,"hidden":true,"merged":[[1,0,2,1],[3,0,3,1]]}
[{"$f":"Data_Input!A1","v":"Groundwater Statistics Tool"}]
["Site & Summary Statistics for Normal Data Sets with Nonparametric Residuals"]
[]
[{"$f":"IF(Data_Input!C31=\"No\",\"Eight data points are recommended for the attainment evaluation\",\"\")","v":"Eight data points are recommended for the attainment evaluation"}]
["General Information"]
["Analyst",{"$f":"Data_Input!B8","v":"DW"}]
["Date of Evaluation",{"$f":"Data_Input!B7","v":"2018-03-26"}]
["Site Name",{"$f":"Data_Input!B4","v":"Test"}]
["Operable Unit",{"$f":"Data_Input!B5","v":"Test"}]
["Type of Evaluation",{"$f":"Data_Input!B6","v":"Attainment"}]
["Well Name/Number",{"$f":"Data_Input!B11","v":1}]
["Chemical of Concern",{"$f":"Data_Input!B10","v":"VC"}]
["Concentration Units",{"$f":"Data_Input!B13","v":"ug/L"}]
["Cleanup Level",{"$f":"Data_Input!B16","v":5}]
["Source of Cleanup Level",{"$f":"Data_Input!B17","v":"MCL"}]
["Confidence Level",{"$f":"Data_Input!B15","v":0.95}]
["Risk of False Outlier Rejection",{"$f":"Data_Input!B19","v":0.01}]
["Number of Results",{"$f":"'UCL-Normal'!B7","v":7}]
["Outliers present?",{"$f":"IF(OR(Outliers!B10=\"Yes\",Outliers!C10=\"Yes\"),\"Yes\",\"No\")","v":"No"}]
["Number of Non-Detects",{"$f":"COUNTIF(DetInput,\"No\")","v":0}]
[]
["Trend Analysis"]
["Trend Type","Nonparametric"]
["Method","Theil-Sen Line, Mann-Kendall Test"]
["Is the Upper Confidence Band above the cleanup level?",{"$f":"IF(Data_Input!B6=\"Attainment\",\"NA\",IF(MAX(IF(ISNA('Trend-NP'!F7:F26),0,'Trend-NP'!F7:F26)) > Data_Input!B16,\"Yes\",\"No\"))","v":"NA"}]
["Slope",{"$f":"'Trend-NP'!L7","v":-4.9199999999999999E-3}]
["Intercept",{"$f":"'Trend-NP'!L8","v":217}]
["Test Result",{"$f":"NP_Trend","v":"No trend"}]
[{"$f":"'Trend-NP'!K9","v":"When concentration is predicted to achieve the cleanup level"},{"$f":"'Trend-NP'!L9","v":"NA"}]
[{"$f":"'Trend-NP'!K10","v":"When concentration is predicted to exceed the cleanup level"},{"$f":"'Trend-NP'!L10","v":"NA"}]
[]
["UCL Analysis"]
["Distribution Type","Normal"]
["Test",{"$f":"'UCL-Normal'!B12","v":"Student's t UCL"}]
["Mean",{"$f":"'UCL-Normal'!B14","v":4.67}]
[{"$f":"TEXT(B16,\"0%\") & \" UCL\"","v":"95% UCL"},{"$f":"'UCL-Normal'!B17","v":5.24}]
[{"$f":"\"Is the \" &  TEXT(B16, \"0%\") & \" UCL greater than the cleanup level?\"","v":"Is the 95% UCL greater than the cleanup level?"},{"$f":"IF(B36>B14, \"Yes\", \"No\")","v":"Yes"}]

{"sheet":"Summary-UCLNormal","index":26,"n_rows":36,"n_cols":2,"rows_kept":36,"cut":false,"hidden":true,"merged":[[1,0,2,1],[3,0,3,1]]}
[{"$f":"Data_Input!A1","v":"Groundwater Statistics Tool"}]
["Site & Summary Statistics for Normal Data Sets with Negative Predictions"]
[]
[{"$f":"IF(Data_Input!C31=\"No\",\"Eight data points are recommended for the attainment evaluation\",\"\")","v":"Eight data points are recommended for the attainment evaluation"}]
["General Information"]
["Analyst",{"$f":"Data_Input!B8","v":"DW"}]
["Date of Evaluation",{"$f":"Data_Input!B7","v":"2018-03-26"}]
["Site Name",{"$f":"Data_Input!B4","v":"Test"}]
["Operable Unit",{"$f":"Data_Input!B5","v":"Test"}]
["Type of Evaluation",{"$f":"Data_Input!B6","v":"Attainment"}]
["Well Name/Number",{"$f":"Data_Input!B11","v":1}]
["Chemical of Concern",{"$f":"Data_Input!B10","v":"VC"}]
["Concentration Units",{"$f":"Data_Input!B13","v":"ug/L"}]
["Cleanup Level",{"$f":"Data_Input!B16","v":5}]
["Source of Cleanup Level",{"$f":"Data_Input!B17","v":"MCL"}]
["Confidence Level",{"$f":"Data_Input!B15","v":0.95}]
["Risk of False Outlier Rejection",{"$f":"Data_Input!B19","v":0.01}]
["Number of Results",{"$f":"'UCL-Normal'!B7","v":7}]
["Outliers present?",{"$f":"IF(OR(Outliers!B10=\"Yes\",Outliers!C10=\"Yes\"),\"Yes\",\"No\")","v":"No"}]
["Number of Non-Detects",{"$f":"COUNTIF(DetInput,\"No\")","v":0}]
[]
["Trend Analysis"]
["Trend Type","Negative Predictions"]
[]
[]
[]
[]
[]
[]
[]
["UCL Analysis"]
["Distribution Type","Normal"]
["Test",{"$f":"'UCL-Normal'!B12","v":"Student's t UCL"}]
["Mean",{"$f":"'UCL-Normal'!B14","v":4.67}]
[{"$f":"TEXT(B16,\"0%\") & \" UCL\"","v":"95% UCL"},{"$f":"'UCL-Normal'!B17","v":5.24}]
[{"$f":"\"Is the \" &  TEXT(B16, \"0%\") & \" UCL greater than the cleanup level?\"","v":"Is the 95% UCL greater than the cleanup level?"},{"$f":"IF(B35>B14, \"Yes\", \"No\")","v":"Yes"}]

{"sheet":"Summary-UCLNP-TrendNormal","index":27,"n_rows":38,"n_cols":2,"rows_kept":38,"cut":false,"hidden":true,"merged":[[1,0,2,1],[3,0,3,1]]}
[{"$f":"Data_Input!A1","v":"Groundwater Statistics Tool"}]
["Site & Summary Statistics for Nonparametric Data Sets with Normal Residuals"]
[]
[{"$f":"IF(Data_Input!C31=\"No\",\"Eight data points are recommended for the attainment evaluation\",\"\")","v":"Eight data points are recommended for the attainment evaluation"}]
["General Information"]
["Analyst",{"$f":"Data_Input!B8","v":"DW"}]
["Date of Evaluation",{"$f":"Data_Input!B7","v":"2018-03-26"}]
["Site Name",{"$f":"Data_Input!B4","v":"Test"}]
["Operable Unit",{"$f":"Data_Input!B5","v":"Test"}]
["Type of Evaluation",{"$f":"Data_Input!B6","v":"Attainment"}]
["Well Name/Number",{"$f":"Data_Input!B11","v":1}]
["Chemical of Concern",{"$f":"Data_Input!B10","v":"VC"}]
["Concentration Units",{"$f":"Data_Input!B13","v":"ug/L"}]
["Cleanup Level",{"$f":"Data_Input!B16","v":5}]
["Source of Cleanup Level",{"$f":"Data_Input!B17","v":"MCL"}]
["Confidence Level",{"$f":"Data_Input!B15","v":0.95}]
["Risk of False Outlier Rejection",{"$f":"Data_Input!B19","v":0.01}]
["Number of Results",{"$f":"'UCL-NP'!B7","v":7}]
["Outliers present?",{"$f":"IF(OR(Outliers!B10=\"Yes\",Outliers!C10=\"Yes\"),\"Yes\",\"No\")","v":"No"}]
["Number of Non-Detects",{"$f":"'UCL-NP'!B9","v":0}]
[]
["Trend Analysis"]
["Trend Type","Normal"]
["Method","Ordinary Least Squares"]
["Is the Upper Confidence Band above the cleanup level?",{"$f":"IF(Data_Input!B6=\"Attainment\",\"NA\",IF(MAX(IF(ISNA('Trend-Normal'!F7:F26),0,'Trend-Normal'!F7:F26)) > Data_Input!B16,\"Yes\",\"No\"))","v":"NA"}]
["Slope",{"$f":"'Trend-Normal'!I7","v":-5.4200000000000003E-3}]
["Intercept",{"$f":"'Trend-Normal'!I8","v":239}]
["R2",{"$f":"'Trend-Normal'!I9","v":0.20465402983180278}]
["Test Result",{"$f":"Normal_Trend","v":"No trend"}]
[{"$f":"'Trend-Normal'!H14","v":"When concentration is predicted to achieve the cleanup level"},{"$f":"'Trend-Normal'!I14","v":"NA"}]
[{"$f":"'Trend-Normal'!H15","v":"When concentration is predicted to exceed the cleanup level"},{"$f":"'Trend-Normal'!I15","v":"NA"}]
[]
["UCL Analysis"]
["Distribution Type","Nonparametric"]
["Test",{"$f":"'UCL-NP'!B12","v":"Chebyshev UCL"}]
["Mean",{"$f":"'UCL-NP'!B14","v":4.67}]
[{"$f":"TEXT(B16,\"0%\") & \" UCL\"","v":"95% UCL"},{"$f":"'UCL-NP'!B16","v":5.96}]
[{"$f":"\"Is the \" &  TEXT(B16, \"0%\") & \" UCL greater than the cleanup level?\"","v":"Is the 95% UCL greater than the cleanup level?"},{"$f":"IF(B37>B14, \"Yes\", \"No\")","v":"Yes"}]

{"sheet":"Summary-UCLNP-TrendNP","index":28,"n_rows":37,"n_cols":2,"rows_kept":37,"cut":false,"hidden":true,"merged":[[1,0,2,1],[3,0,3,1]]}
[{"$f":"Data_Input!A1","v":"Groundwater Statistics Tool"}]
["Site & Summary Statistics for Nonparametric Data Sets with Nonparametric Residuals"]
[]
[{"$f":"IF(Data_Input!C31=\"No\",\"Eight data points are recommended for the attainment evaluation\",\"\")","v":"Eight data points are recommended for the attainment evaluation"}]
["General Information"]
["Analyst",{"$f":"Data_Input!B8","v":"DW"}]
["Date of Evaluation",{"$f":"Data_Input!B7","v":"2018-03-26"}]
["Site Name",{"$f":"Data_Input!B4","v":"Test"}]
["Operable Unit",{"$f":"Data_Input!B5","v":"Test"}]
["Type of Evaluation",{"$f":"Data_Input!B6","v":"Attainment"}]
["Well Name/Number",{"$f":"Data_Input!B11","v":1}]
["Chemical of Concern",{"$f":"Data_Input!B10","v":"VC"}]
["Concentration Units",{"$f":"Data_Input!B13","v":"ug/L"}]
["Cleanup Level",{"$f":"Data_Input!B16","v":5}]
["Source of Cleanup Level",{"$f":"Data_Input!B17","v":"MCL"}]
["Confidence Level",{"$f":"Data_Input!B15","v":0.95}]
["Risk of False Outlier Rejection",{"$f":"Data_Input!B19","v":0.01}]
["Number of Results",{"$f":"'UCL-NP'!B7","v":7}]
["Outliers present?",{"$f":"IF(OR(Outliers!B10=\"Yes\",Outliers!C10=\"Yes\"),\"Yes\",\"No\")","v":"No"}]
["Number of Non-Detects",{"$f":"'UCL-NP'!B9","v":0}]
[]
["Trend Analysis"]
["Trend Type","Nonparametric"]
["Method","Theil-Sen Line, Mann-Kendall Test"]
["Is the Upper Confidence Band above the cleanup level?",{"$f":"IF(Data_Input!B6=\"Attainment\",\"NA\",IF(MAX(IF(ISNA('Trend-NP'!F7:F26),0,'Trend-NP'!F7:F26)) > Data_Input!B16,\"Yes\",\"No\"))","v":"NA"}]
["Slope",{"$f":"'Trend-NP'!L7","v":-4.9199999999999999E-3}]
["Intercept",{"$f":"'Trend-NP'!L8","v":217}]
["Test Result",{"$f":"NP_Trend","v":"No trend"}]
[{"$f":"'Trend-NP'!K9","v":"When concentration is predicted to achieve the cleanup level"},{"$f":"'Trend-NP'!L9","v":"NA"}]
[{"$f":"'Trend-NP'!K10","v":"When concentration is predicted to exceed the cleanup level"},{"$f":"'Trend-NP'!L10","v":"NA"}]
[]
["UCL Analysis"]
["Distribution Type","Nonparametric"]
["Test",{"$f":"'UCL-NP'!B12","v":"Chebyshev UCL"}]
["Mean",{"$f":"'UCL-NP'!B14","v":4.67}]
[{"$f":"TEXT(B16,\"0%\") & \" UCL\"","v":"95% UCL"},{"$f":"'UCL-NP'!B16","v":5.96}]
[{"$f":"\"Is the \" &  TEXT(B16, \"0%\") & \" UCL greater than the cleanup level?\"","v":"Is the 95% UCL greater than the cleanup level?"},{"$f":"IF(B36>B14, \"Yes\", \"No\")","v":"Yes"}]

{"sheet":"Summary-UCLNP","index":29,"n_rows":36,"n_cols":2,"rows_kept":36,"cut":false,"hidden":true,"merged":[[1,0,2,1],[3,0,3,1]]}
[{"$f":"Data_Input!A1","v":"Groundwater Statistics Tool"}]
["Site & Summary Statistics for Nonparametric Data Sets with Negative Predictions"]
[]
[{"$f":"IF(Data_Input!C31=\"No\",\"Eight data points are recommended for the attainment evaluation\",\"\")","v":"Eight data points are recommended for the attainment evaluation"}]
["General Information"]
["Analyst",{"$f":"Data_Input!B8","v":"DW"}]
["Date of Evaluation",{"$f":"Data_Input!B7","v":"2018-03-26"}]
["Site Name",{"$f":"Data_Input!B4","v":"Test"}]
["Operable Unit",{"$f":"Data_Input!B5","v":"Test"}]
["Type of Evaluation",{"$f":"Data_Input!B6","v":"Attainment"}]
["Well Name/Number",{"$f":"Data_Input!B11","v":1}]
["Chemical of Concern",{"$f":"Data_Input!B10","v":"VC"}]
["Concentration Units",{"$f":"Data_Input!B13","v":"ug/L"}]
["Cleanup Level",{"$f":"Data_Input!B16","v":5}]
["Source of Cleanup Level",{"$f":"Data_Input!B17","v":"MCL"}]
["Confidence Level",{"$f":"Data_Input!B15","v":0.95}]
["Risk of False Outlier Rejection",{"$f":"Data_Input!B19","v":0.01}]
["Number of Results",{"$f":"'UCL-NP'!B7","v":7}]
["Outliers present?",{"$f":"IF(OR(Outliers!B10=\"Yes\",Outliers!C10=\"Yes\"),\"Yes\",\"No\")","v":"No"}]
["Number of Non-Detects",{"$f":"'UCL-NP'!B9","v":0}]
[]
["Trend Analysis"]
["Trend Type","Negative Predictions"]
[]
[]
[]
[]
[]
[]
[]
["UCL Analysis"]
["Distribution Type","Nonparametric"]
["Test",{"$f":"'UCL-NP'!B12","v":"Chebyshev UCL"}]
["Mean",{"$f":"'UCL-NP'!B14","v":4.67}]
[{"$f":"TEXT(B16,\"0%\") & \" UCL\"","v":"95% UCL"},{"$f":"'UCL-NP'!B16","v":5.96}]
[{"$f":"\"Is the \" &  TEXT(B16, \"0%\") & \" UCL greater than the cleanup level?\"","v":"Is the 95% UCL greater than the cleanup level?"},{"$f":"IF(B35>B14, \"Yes\", \"No\")","v":"Yes"}]

{"sheet":"Summary-UCLNPND-TrendNormal","index":30,"n_rows":38,"n_cols":2,"rows_kept":38,"cut":false,"hidden":true,"merged":[[1,0,2,1],[3,0,3,1]]}
[{"$f":"Data_Input!A1","v":"Groundwater Statistics Tool"}]
["Site & Summary Statistics for Nonparametric Data Sets with Non-detects and Normal Residuals"]
[]
[{"$f":"IF(Data_Input!C31=\"No\",\"Eight data points are recommended for the attainment evaluation\",\"\")","v":"Eight data points are recommended for the attainment evaluation"}]
["General Information"]
["Analyst",{"$f":"Data_Input!B8","v":"DW"}]
["Date of Evaluation",{"$f":"Data_Input!B7","v":"2018-03-26"}]
["Site Name",{"$f":"Data_Input!B4","v":"Test"}]
["Operable Unit",{"$f":"Data_Input!B5","v":"Test"}]
["Type of Evaluation",{"$f":"Data_Input!B6","v":"Attainment"}]
["Well Name/Number",{"$f":"Data_Input!B11","v":1}]
["Chemical of Concern",{"$f":"Data_Input!B10","v":"VC"}]
["Concentration Units",{"$f":"Data_Input!B13","v":"ug/L"}]
["Cleanup Level",{"$f":"Data_Input!B16","v":5}]
["Source of Cleanup Level",{"$f":"Data_Input!B17","v":"MCL"}]
["Confidence Level",{"$f":"Data_Input!B15","v":0.95}]
["Risk of False Outlier Rejection",{"$f":"Data_Input!B19","v":0.01}]
["Number of Results",{"$f":"'UCL-NP-ND'!B7","v":7}]
["Outliers present?",{"$f":"IF(OR(Outliers!B10=\"Yes\",Outliers!C10=\"Yes\"),\"Yes\",\"No\")","v":"No"}]
["Number of Non-Detects",{"$f":"'UCL-NP-ND'!B9","v":0}]
[]
["Trend Analysis"]
["Trend Type","Normal"]
["Method","Ordinary Least Squares"]
["Is the Upper Confidence Band above the cleanup level?",{"$f":"IF(Data_Input!B6=\"Attainment\",\"NA\",IF(MAX(IF(ISNA('Trend-Normal'!F7:F26),0,'Trend-Normal'!F7:F26)) > Data_Input!B16,\"Yes\",\"No\"))","v":"NA"}]
["Slope",{"$f":"'Trend-Normal'!I7","v":-5.4200000000000003E-3}]
["Intercept",{"$f":"'Trend-Normal'!I8","v":239}]
["R2",{"$f":"'Trend-Normal'!I9","v":0.20465402983180278}]
["Test Result",{"$f":"Normal_Trend","v":"No trend"}]
[{"$f":"'Trend-Normal'!H14","v":"When concentration is predicted to achieve the cleanup level"},{"$f":"'Trend-Normal'!I14","v":"NA"}]
[{"$f":"'Trend-Normal'!H15","v":"When concentration is predicted to exceed the cleanup level"},{"$f":"'Trend-Normal'!I15","v":"NA"}]
[]
["UCL Analysis"]
["Distribution Type","Nonparametric"]
["Test",{"$f":"'UCL-NP-ND'!B14","v":"KM Chebyshev UCL"}]
["Mean",{"$f":"'UCL-NP-ND'!B16","v":27.9}]
[{"$f":"TEXT(B16,\"0%\") & \" UCL\"","v":"95% UCL"},{"$f":"'UCL-NP-ND'!B18","v":55.7}]
[{"$f":"\"Is the \" &  TEXT(B16, \"0%\") & \" UCL greater than the cleanup level?\"","v":"Is the 95% UCL greater than the cleanup level?"},{"$f":"IF(B37>B14, \"Yes\", \"No\")","v":"Yes"}]

{"sheet":"Summary-UCLNPND-TrendNP","index":31,"n_rows":37,"n_cols":2,"rows_kept":37,"cut":false,"hidden":true,"merged":[[1,0,2,1],[3,0,3,1]]}
[{"$f":"Data_Input!A1","v":"Groundwater Statistics Tool"}]
["Site & Summary Statistics for Nonparametric Data Sets with Non-detects and Nonparametric Residuals"]
[]
[{"$f":"IF(Data_Input!C31=\"No\",\"Eight data points are recommended for the attainment evaluation\",\"\")","v":"Eight data points are recommended for the attainment evaluation"}]
["General Information"]
["Analyst",{"$f":"Data_Input!B8","v":"DW"}]
["Date of Evaluation",{"$f":"Data_Input!B7","v":"2018-03-26"}]
["Site Name",{"$f":"Data_Input!B4","v":"Test"}]
["Operable Unit",{"$f":"Data_Input!B5","v":"Test"}]
["Type of Evaluation",{"$f":"Data_Input!B6","v":"Attainment"}]
["Well Name/Number",{"$f":"Data_Input!B11","v":1}]
["Chemical of Concern",{"$f":"Data_Input!B10","v":"VC"}]
["Concentration Units",{"$f":"Data_Input!B13","v":"ug/L"}]
["Cleanup Level",{"$f":"Data_Input!B16","v":5}]
["Source of Cleanup Level",{"$f":"Data_Input!B17","v":"MCL"}]
["Confidence Level",{"$f":"Data_Input!B15","v":0.95}]
["Risk of False Outlier Rejection",{"$f":"Data_Input!B19","v":0.01}]
["Number of Results",{"$f":"'UCL-NP-ND'!B7","v":7}]
["Outliers present?",{"$f":"IF(OR(Outliers!B10=\"Yes\",Outliers!C10=\"Yes\"),\"Yes\",\"No\")","v":"No"}]
["Number of Non-Detects",{"$f":"'UCL-NP-ND'!B9","v":0}]
[]
["Trend Analysis"]
["Trend Type","Nonparametric"]
["Method","Theil-Sen Line, Mann-Kendall Test"]
["Is the Upper Confidence Band above the cleanup level?",{"$f":"IF(Data_Input!B6=\"Attainment\",\"NA\",IF(MAX(IF(ISNA('Trend-NP'!F7:F26),0,'Trend-NP'!F7:F26)) > Data_Input!B16,\"Yes\",\"No\"))","v":"NA"}]
["Slope",{"$f":"'Trend-NP'!L7","v":-4.9199999999999999E-3}]
["Intercept",{"$f":"'Trend-NP'!L8","v":217}]
["Test Result",{"$f":"NP_Trend","v":"No trend"}]
[{"$f":"'Trend-NP'!K9","v":"When concentration is predicted to achieve the cleanup level"},{"$f":"'Trend-NP'!L9","v":"NA"}]
[{"$f":"'Trend-NP'!K10","v":"When concentration is predicted to exceed the cleanup level"},{"$f":"'Trend-NP'!L10","v":"NA"}]
[]
["UCL Analysis"]
["Distribution Type","Nonparametric"]
["Test",{"$f":"'UCL-NP-ND'!B14","v":"KM Chebyshev UCL"}]
["Mean",{"$f":"'UCL-NP-ND'!B16","v":27.9}]
[{"$f":"TEXT(B16,\"0%\") & \" UCL\"","v":"95% UCL"},{"$f":"'UCL-NP-ND'!B18","v":55.7}]
[{"$f":"\"Is the \" &  TEXT(B16, \"0%\") & \" UCL greater than the cleanup level?\"","v":"Is the 95% UCL greater than the cleanup level?"},{"$f":"IF(B36>B14, \"Yes\", \"No\")","v":"Yes"}]

{"sheet":"Summary-UCLNPND","index":32,"n_rows":36,"n_cols":2,"rows_kept":36,"cut":false,"hidden":true,"merged":[[1,0,2,1],[3,0,3,1]]}
[{"$f":"Data_Input!A1","v":"Groundwater Statistics Tool"}]
["Site & Summary Statistics for Nonparametric Data Sets with Non-detects and Negative Predictions"]
[]
[{"$f":"IF(Data_Input!C31=\"No\",\"Eight data points are recommended for the attainment evaluation\",\"\")","v":"Eight data points are recommended for the attainment evaluation"}]
["General Information"]
["Analyst",{"$f":"Data_Input!B8","v":"DW"}]
["Date of Evaluation",{"$f":"Data_Input!B7","v":"2018-03-26"}]
["Site Name",{"$f":"Data_Input!B4","v":"Test"}]
["Operable Unit",{"$f":"Data_Input!B5","v":"Test"}]
["Type of Evaluation",{"$f":"Data_Input!B6","v":"Attainment"}]
["Well Name/Number",{"$f":"Data_Input!B11","v":1}]
["Chemical of Concern",{"$f":"Data_Input!B10","v":"VC"}]
["Concentration Units",{"$f":"Data_Input!B13","v":"ug/L"}]
["Cleanup Level",{"$f":"Data_Input!B16","v":5}]
["Source of Cleanup Level",{"$f":"Data_Input!B17","v":"MCL"}]
["Confidence Level",{"$f":"Data_Input!B15","v":0.95}]
["Risk of False Outlier Rejection",{"$f":"Data_Input!B19","v":0.01}]
["Number of Results",{"$f":"'UCL-NP-ND'!B7","v":7}]
["Outliers present?",{"$f":"IF(OR(Outliers!B10=\"Yes\",Outliers!C10=\"Yes\"),\"Yes\",\"No\")","v":"No"}]
["Number of Non-Detects",{"$f":"'UCL-NP-ND'!B9","v":0}]
[]
["Trend Analysis"]
["Trend Type","Negative Predictions"]
[]
[]
[]
[]
[]
[]
[]
["UCL Analysis"]
["Distribution Type","Nonparametric"]
["Test",{"$f":"'UCL-NP-ND'!B14","v":"KM Chebyshev UCL"}]
["Mean",{"$f":"'UCL-NP-ND'!B16","v":27.9}]
[{"$f":"TEXT(B16,\"0%\") & \" UCL\"","v":"95% UCL"},{"$f":"'UCL-NP-ND'!B18","v":55.7}]
[{"$f":"\"Is the \" &  TEXT(B16, \"0%\") & \" UCL greater than the cleanup level?\"","v":"Is the 95% UCL greater than the cleanup level?"},{"$f":"IF(B35>B14, \"Yes\", \"No\")","v":"Yes"}]

{"sheet":"Sheet4","index":33,"n_rows":0,"n_cols":0,"rows_kept":0,"cut":false,"hidden":true,"merged":[]}

{"sheet":"Sheet1","index":34,"n_rows":0,"n_cols":0,"rows_kept":0,"cut":false,"hidden":true,"merged":[]}